{"text_format":"1","workbook":"xlsx","n_sheets":6,"sheets":["Hoja2","Hoja4","Hoja5","Hoja1","Hoja3","OTRA DIRECCIÓN"],"not_rendered":{"charts":9,"images":5,"macros":1,"external_links":0,"defined_names":0,"comments":1,"pivot_tables":0},"unopened":[],"bounds":{"document_bytes":16777216,"sheet_cells":100000,"rows_first":2000,"rows_last":500,"rows_between":2000,"halvings":0,"cell_chars":16384,"cell_head_chars":4096},"cells_cut":0,"cells_raw":0,"read":"whole","date_system":"1900"}

{"sheet":"Hoja2","index":0,"n_rows":107,"n_cols":13,"rows_kept":107,"cut":false,"hidden":false,"merged":[[14,5,14,6],[8,6,13,6],[27,0,27,14],[70,6,70,19],[71,6,71,19],[25,0,25,13],[15,1,15,7],[22,2,23,7],[17,6,17,7],[21,6,21,7],[17,1,17,5],[21,1,21,5],[19,1,19,6],[14,1,14,4],[2,6,3,14],[18,2,18,5],[20,2,20,7],[16,1,16,5],[6,0,6,13],[10,8,10,11],[13,1,13,4],[10,3,10,4],[11,2,11,4],[12,1,12,4],[8,1,8,4],[9,3,9,4],[7,1,7,6],[7,8,7,11],[8,8,8,11],[9,8,9,11]]}
[]
[]
[null,null,null,null,null,null,"DISEÑO DE COLUMNAS POR FLEXOCOMPRESIÓN"]
[]
[]
[]
["PRESENTADO POR: DANILO SAAVEDRA ORÉ"]
[null,"INSERTE DATOS DE LA COLUMNA:",null,null,null,null,null,null,"Largo (dirección x) (cm))=",null,null,null,25]
[null,"Tipo de Columna=",null,null,null,"C-1",null,null,"Largo (dirección y) (cm)=",null,null,null,40]
[null,null,null,"f'c (kg/cm²) =",null,210,null,null,"Numero de varillas en el eje X=",null,null,null,2]
[null,null,null,"fy (kg/cm²)=",null,4200,null,null,"Numero de varillas en el eje Y=",null,null,null,3]
[null,null,"Recubrimiento (cm)=",null,null,4]
[null,"Acero a utilizar=",null,null,null,"3/4\""]
[null,"Acero de estribo a utilizar=",null,null,null,"3/8\""]
[null,"Módulo Elastico del Acero (kg/cm²)=",null,null,null,2000000]
[null,"CONTROL:"]
[null,"Recubrimiento efectivo (cm)=",null,null,null,null,{"$f":"F12+Hoja1!C39+Hoja1!C37/2","v":5.9049999999999994}]
[null,"Cuantia= ",null,null,null,null,{"$f":"Hoja1!B37*(Hoja2!M10*2+Hoja2!M11*2-4)/(M8*M9)","v":1.7101377419540549E-2}]
[null,null,{"$f":"IF(AND(G18>=0.01,0.06>=G18),\"→ La cuantia cumple.\",\"→ La cuantia no cumple.\")","v":"→ La cuantia cumple."}]
[null,"Distancia libre entre barras de Acero (cm)=",null,null,null,null,null,{"$f":"Hoja1!D3","v":12.19}]
[null,null,{"$f":"IF(H20>=2.54,\"→ La distancia entre barras cumple.\",\"→ La distancia entre barras no cumple.\")","v":"→ La distancia entre barras cumple."}]
[null,"Area de la Columna (cm²)=",null,null,null,null,{"$f":"M8*M9","v":1000}]
[null,null,{"$f":"IF(G22>=1000,\"→ El area minima de la columna cumple para zonas sismicas.\",\"→ El area minima de la columna no cumple para zonas sismicas.\")","v":"→ El area minima de la columna cumple para zonas sismicas."}]
[]
[null,{"$f":"IF(MIN(M8:M9)>=25,\"→ Las dimensiones minimas de la columna cumple\",\"→ Las dimensiones minimas de la columna  no cumple.\")","v":"→ Las dimensiones minimas de la columna cumple"}]
["PRESENTADO POR: DANILO SAAVEDRA ORÉ"]
[]
["RESULTADO:"]
[]
[]
[]
[]
[]
[]
[]
[]
[]
[]
[]
[]
[]
[]
[]
[]
[]
[]
[]
[]
[]
[]
[]
[]
[]
[]
[]
[]
[]
[]
[]
[]
[]
[]
[]
[]
[]
[]
[]
[]
[]
[]
[null,null,null,null,null,null,"PRESENTADO POR: DANILO SAAVEDRA ORÉ"]
[]
[]
[]
[]
[]
[]
[]
[]
[]
[]
[]
[]
[]
[]
[]
[]
[]
[]
[]
[]
[]
[]
[]
[]
[]
[]
[]
[]
[null,"y"]
["x",{"$f":"MAX(A102:A103)","v":40},null,{"$f":"B101","v":40},{"$f":"D101","v":40}]
[{"$f":"M8","v":25}]
[{"$f":"M9","v":40},null,0,0,{"$f":"F12*1.25","v":5},{"$f":"E103","v":5},{"$f":"E103*1.2","v":6},{"$f":"G103","v":6}]
[null,null,{"$f":"A102","v":25},0,{"$f":"C104-E103","v":20},{"$f":"F103","v":5},{"$f":"C104-G103","v":19},{"$f":"H103","v":6}]
[null,null,{"$f":"A102","v":25},{"$f":"A103","v":40},{"$f":"E104","v":20},{"$f":"D105-F104","v":35},{"$f":"G104","v":19},{"$f":"D105-H104","v":34}]
[null,null,{"$f":"C103","v":0},{"$f":"A103","v":40},{"$f":"E103","v":5},{"$f":"F105","v":35},{"$f":"G103","v":6},{"$f":"H105","v":34}]
[null,null,0,0,{"$f":"E103","v":5},{"$f":"F103","v":5},{"$f":"G106","v":6},{"$f":"H103","v":6}]

{"sheet":"Hoja4","index":1,"n_rows":3,"n_cols":5,"rows_kept":3,"cut":false,"hidden":false,"merged":[]}
[]
[null,null,null,"Pu (tn)","Mu (tn.m)"]
[null,"Inserte los puntos aquí:"]

{"sheet":"Hoja5","index":2,"n_rows":3,"n_cols":5,"rows_kept":3,"cut":false,"hidden":false,"merged":[]}
[]
[null,null,null,"Pu (tn)","Mu (tn.m)"]
[null,"Inserte los puntos aquí:"]

{"sheet":"Hoja1","index":3,"n_rows":415,"n_cols":125,"rows_kept":415,"cut":false,"hidden":true,"merged":[]}
[{"$f":"Hoja2!F15*0.003","v":6000},null,null,null,null,null,"c",{"$f":"C5/3","v":1.968333333333333},{"$f":"H1+1","v":2.9683333333333328},{"$f":"I1+1","v":3.9683333333333328},4.9683333333333328,5.9683333333333328,6.9683333333333328,7.9683333333333328,8.9683333333333337,9.9683333333333337,10.968333333333334,11.968333333333334,12.968333333333334,13.968333333333334,14.968333333333334,15.968333333333334,16.968333333333334,17.968333333333334,18.968333333333334,19.968333333333334,20.968333333333334,21.968333333333334,22.968333333333334,23.968333333333334,24.968333333333334,25.968333333333334,26.968333333333334,27.968333333333334,28.968333333333334,29.968333333333334,30.968333333333334,31.968333333333334,32.968333333333334,33.968333333333334,34.968333333333334,35.968333333333334,36.968333333333334,37.968333333333334,38.968333333333334,39.968333333333334,40.968333333333334,41.968333333333334,42.968333333333334,43.968333333333334,44.968333333333334,45.968333333333334,46.968333333333334,47.968333333333334,48.968333333333334,49.968333333333334,50.968333333333334,51.968333333333334,52.968333333333334,53.968333333333334,54.968333333333334,55.968333333333334,56.968333333333334,57.968333333333334,58.968333333333334,59.968333333333334,60.968333333333334,61.968333333333334,62.968333333333334,63.968333333333334,64.968333333333334,65.968333333333334,66.968333333333334,{"$f":"BU1+1","v":67.968333333333334},68.968333333333334,69.968333333333334,70.968333333333334,71.968333333333334,72.968333333333334,73.968333333333334,74.968333333333334,75.968333333333334,76.968333333333334,77.968333333333334,78.968333333333334,79.968333333333334,80.968333333333334,81.968333333333334,82.968333333333334,83.968333333333334,84.968333333333334,85.968333333333334,86.968333333333334,87.968333333333334,88.968333333333334,89.968333333333334,90.968333333333334,91.968333333333334,92.968333333333334,93.968333333333334,94.968333333333334,95.968333333333334,96.968333333333334,97.968333333333334,98.968333333333334,99.968333333333334,100.96833333333333,101.96833333333333,102.96833333333333,103.96833333333333,104.96833333333333,105.96833333333333,106.96833333333333,107.96833333333333,108.96833333333333,109.96833333333333,110.96833333333333]
[null,null,{"$f":"D3*2+3*C37+4+4+2*C39","v":40}]
[null,null,null,{"$f":"D6-C37","v":12.19},null,"CUBICACIÓN DEL ACERO",null,"fs"]
[null,null,null,null,null,{"$f":"C5","v":5.9049999999999994},{"$f":"IF(E$10>=F4,F4,0)","v":5.9049999999999994},{"$f":"IF(H$1>$E$11,0,IF($G4=0,0,(H$1-$G4)*$A$1/H$1))","v":-12000.000000000002},{"$f":"IF(I$1>$E$11,0,IF($G4=0,0,(I$1-$G4)*$A$1/I$1))","v":-5935.9910162829883},-2928.1814363712729,-1131.1640389131164,63.669366098855207,915.57043769433164,1553.6498640451789,2049.4331908567187,2445.7448587192785,2769.791824950616,3039.6880657290076,3267.9604163989211,3463.5485025653265,3633.0030063467325,3781.2336916814534,3911.9929280031429,4028.1977553102679,4132.1500746858801,4225.6906769050993,4310.309196407281,4387.2240345952505,4457.4414048327408,4521.7995966900771,4581.0026032975102,4635.6459790770814,4686.2369445646127,4733.210178177701,4776.940337149761,4817.7520716311665,4855.9280985953392,4891.7157603878841,4925.3323896668517,4956.9697267062456,4986.797578761737,5014.9668690051431,5041.6121906135877,5066.8539572450727,5090.800222402806,5113.5482256786627,0,0,0,0,0,0,0,0,0,0,0,0,0,0,0,0,0,0,0,0,0,0,0,0,0,0,{"$f":"IF(BU$1>$E$11,0,IF($G4=0,0,(BU$1-$G4)*$A$1/BU$1))","v":0},0,0,0,0,0,0,0,0,0,0,0,0,0,0,0,0,0,0,0,0,0,0,0,0,0,0,0,0,0,0,0,0,0,0,0,0,0,0,0,0,0,0,0,0]
[null,"R",{"$f":"Hoja2!G17","v":5.9049999999999994},{"$f":"C10-C5-C5","v":28.189999999999998},null,{"$f":"F4+D$6","v":20},20,{"$f":"IF(H$1>$E$11,0,IF($G5=0,0,(H$1-$G5)*$A$1/H$1))","v":-54965.283657917025},-34426.726558113427,-24239.395212095762,-18152.9688024153,-14106.115610164759,-11220.760583592442,-9059.6109600501986,-7380.4125627206831,-6038.120715599398,-4940.5865370004558,-4026.4587104860047,-3253.309343272073,-2590.8602792029592,-2016.9246186393495,-1514.8731865149773,-1071.9968568902857,-678.41573137927821,-326.33336262191364,-9.5150655204071981,277.0844924886735,537.59198846824984,775.4154270372253,993.39406160906765,1193.9122888992724,1378.9872280341442,1550.3368147827698,1709.4332876467433,1857.545595765491,1995.7733162782938,2125.0740003229103,2246.28538658047,2360.1435721146554,2467.2979736028656,2568.3237214622754,2663.7319864695796,2753.9786303593164,2839.4714893990604,2920.5765365039988,2997.6231183019891,0,0,0,0,0,0,0,0,0,0,0,0,0,0,0,0,0,0,0,0,0,0,0,0,0,0,0,0,0,0,0,0,0,0,0,0,0,0,0,0,0,0,0,0,0,0,0,0,0,0,0,0,0,0,0,0,0,0,0,0,0,0,0,0,0,0,0,0,0,0,0]
[null,"X=",{"$f":"Hoja2!M10","v":2},{"$f":"D5/(C7-1)","v":14.094999999999999},null,{"$f":"F5+D$6","v":34.094999999999999},34.094999999999999,-97930.567315834051,-62917.462099943863,-45550.608987820247,-35174.77356591748,-28275.900586428375,-23357.091604879217,-19672.871784145576,-16810.258316298085,-14521.986289918073,-12650.964898951526,-11092.605486701017,-9774.5791029430657,-8645.2690609712427,-7666.8522436254307,-6810.9800647114071,-6055.9866417837138,-5385.0292180688239,-4784.8167999297066,-4244.7208079459133,-3756.1402114299331,-3312.0400576587504,-2906.6105507582897,-2535.0114734719418,-2193.1780254989649,-1877.6715230087925,-1585.5633149990726,-1314.3436028842141,-1061.8491456187789,-826.20543907457852,-605.78009794951811,-399.14498722694304,-205.04524543754079,-22.373779500514917,149.84986416281424,312.49710393401631,466.34507010504507,612.08902155304872,750.35285060519243,881.698010925316,0,0,0,0,0,0,0,0,0,0,0,0,0,0,0,0,0,0,0,0,0,0,0,0,0,0,0,0,0,0,0,0,0,0,0,0,0,0,0,0,0,0,0,0,0,0,0,0,0,0,0,0,0,0,0,0,0,0,0,0,0,0,0,0,0,0,0,0,0,0,0]
[null,"Y=",{"$f":"Hoja2!M11","v":3},null,null,48.19,0,0,0,0,0,0,0,0,0,0,0,0,0,0,0,0,0,0,0,0,0,0,0,0,0,0,0,0,0,0,0,0,0,0,0,0,0,0,0,0,0,0,0,0,0,0,0,0,0,0,0,0,0,0,0,0,0,0,0,0,0,0,0,0,0,{"$f":"IF(BT$1>$E$11,0,IF($G7=0,0,(BT$1-$G7)*$A$1/BT$1))","v":0},0,0,0,0,0,0,0,0,0,0,0,0,0,0,0,0,0,0,0,0,0,0,0,0,0,0,0,0,0,0,0,0,0,0,0,0,0,0,0,0,0,0,0,0,0]
[null,null,null,null,null,62.284999999999997,0,0,0,0,0,0,0,0,0,0,0,0,0,0,0,0,0,0,0,0,0,0,0,0,0,0,0,0,0,0,0,0,0,0,0,0,0,0,0,0,0,0,0,0,0,0,0,0,0,0,0,0,0,0,0,0,0,0,0,0,0,0,0,0,0,0,0,0,0,0,0,0,0,0,0,0,0,0,0,0,0,0,0,0,0,0,0,0,0,0,0,0,0,0,0,0,0,0,0,0,0,0,0,0,0,0,0,0,0,0,0]
[null,"ANCHO X",{"$f":"Hoja2!M8","v":25},null,null,76.38,{"$f":"IF(E$10>=F9,F9,0)","v":0},0,0,0,0,0,0,0,0,0,0,0,0,0,0,0,0,0,0,0,0,0,0,0,0,0,0,0,0,0,0,0,0,0,0,0,0,0,0,0,0,0,0,0,0,0,0,0,0,0,0,0,0,0,0,0,0,0,0,0,0,0,0,0,0,0,0,0,0,0,0,0,0,0,0,0,0,0,0,0,0,0,0,0,0,0,0,0,0,0,0,0,0,0,0,0,{"$f":"IF(CY$1>$E$11,0,IF($G9=0,0,(CY$1-$G9)*$A$1/CY$1))","v":0},0,0,0,0,0,0,0,0,0,0,0,0,0,0]
[null,"LARGO Y",{"$f":"Hoja2!M9","v":40},"CONCTROL",{"$f":"C10-C5","v":34.094999999999999},90.474999999999994,{"$f":"IF(E$10>=F10,F10,0)","v":0},0,0,0,0,0,0,0,0,0,0,0,0,0,0,0,0,0,0,0,0,0,0,0,0,0,0,0,0,0,0,0,0,0,0,0,0,0,0,0,0,0,0,0,0,0,0,0,0,0,0,0,0,0,0,0,0,0,0,0,0,0,0,0,0,0,{"$f":"IF(BU$1>$E$11,0,IF($G10=0,0,(BU$1-$G10)*$A$1/BU$1))","v":0},0,0,0,0,0,0,0,0,0,0,0,0,0,0,0,{"$f":"IF(CK$1>$E$11,0,IF($G10=0,0,(CK$1-$G10)*$A$1/CK$1))","v":0},0,0,0,0,0,0,0,0,0,0,0,0,0,0,0,0,0,0,0,0,0,0,0,0,0,0,0,0]
[null,null,null,null,{"$f":"C10","v":40},104.57,0,0,0,0,0,0,0,0,0,0,0,0,0,0,0,0,0,0,0,0,0,0,0,0,0,0,0,0,0,0,0,0,0,0,0,0,0,0,0,0,0,0,0,0,0,0,0,0,0,0,0,0,0,0,0,0,0,0,0,0,0,0,0,0,{"$f":"IF(BS$1>$E$11,0,IF($G11=0,0,(BS$1-$G11)*$A$1/BS$1))","v":0},0,0,0,0,0,0,0,0,0,0,0,0,0,0,0,0,0,0,0,0,0,0,0,0,0,0,0,0,0,0,0,0,0,0,0,0,0,0,0,0,0,0,0,0,0,0]
["acero",{"$f":"B37","v":2.8502295699234246},null,null,null,118.66499999999999,0,0,0,0,0,0,0,0,0,0,0,0,0,0,0,0,0,{"$f":"IF(X$1>$E$11,0,IF($G12=0,0,(X$1-$G12)*$A$1/X$1))","v":0},0,0,0,0,0,0,0,0,0,0,0,0,0,0,0,{"$f":"IF(AN$1>$E$11,0,IF($G12=0,0,(AN$1-$G12)*$A$1/AN$1))","v":0},0,0,0,0,0,0,0,0,0,0,0,0,0,0,0,{"$f":"IF(BD$1>$E$11,0,IF($G12=0,0,(BD$1-$G12)*$A$1/BD$1))","v":0},0,0,0,0,0,0,0,0,0,0,0,0,0,0,0,0,0,0,0,0,0,0,0,0,0,0,0,0,0,0,0,0,0,0,0,0,0,0,0,0,0,0,0,0,0,0,0,0,0,0,0,0,0,0,0,0,0,0,0,0,0]
[null,null,{"$f":"IF(OR(B13=$C$5,B13=$E$10),$B$12*$C$6,2*$B$12)","v":5.7004591398468492},null,null,132.76,0,0,0,0,0,0,0,0,0,0,0,0,0,0,0,0,0,0,0,0,0,0,0,0,0,0,0,0,0,0,0,0,0,0,0,0,0,0,0,0,0,0,0,0,0,0,0,0,0,0,0,0,0,0,0,0,0,0,0,0,0,0,0,0,0,0,0,0,0,0,0,0,0,0,0,0,0,0,0,0,0,0,0,0,0,0,0,0,0,0,0,0,0,0,0,0,0,0,0,0,0,0,0,0,0,0,0,0,0,0,0]
[null,null,null,null,null,146.85499999999999,0,0,0,0,0,0,0,0,0,0,0,0,0,0,0,0,0,0,0,0,0,0,0,0,0,0,0,0,0,0,0,0,0,0,0,0,0,0,0,0,0,0,0,0,0,0,0,0,0,0,0,0,0,0,0,0,0,0,0,0,0,0,0,0,0,0,0,0,0,0,0,0,0,0,0,0,0,0,0,0,0,0,0,0,0,0,0,0,0,0,0,0,0,0,0,0,0,0,0,0,0,0,0,0,0,0,0,0,0,0,0]
["f'c=",{"$f":"Hoja2!F10","v":210},null,null,null,160.94999999999999,0,0,0,0,0,0,0,0,0,0,0,0,0,0,0,0,0,0,0,0,0,0,0,0,0,0,0,0,0,0,0,0,0,0,0,0,0,0,0,0,0,0,0,0,0,0,0,0,0,0,0,0,0,0,0,0,0,0,0,0,0,0,0,0,0,0,0,0,0,0,0,0,0,0,0,0,0,0,0,0,0,0,0,0,0,0,0,0,0,0,0,0,0,0,0,0,0,0,0,0,0,0,0,0,0,0,0,0,0,0,0]
["B'1",{"$f":"A19","v":0.85},null,null,null,175.04499999999999,0,0,0,0,0,0,0,0,0,0,0,0,0,0,0,0,0,0,0,0,0,0,0,0,0,0,0,0,0,0,0,0,0,0,0,0,0,0,0,0,0,0,0,0,0,0,0,0,0,0,0,0,0,0,0,0,0,0,0,0,0,0,0,0,0,0,0,0,0,0,0,0,0,0,0,0,0,0,0,0,0,0,0,0,0,0,0,0,0,0,0,0,0,0,0,0,0,0,0,0,0,0,0,0,0,0,0,0,0,0,0]
["fy",{"$f":"Hoja2!F11","v":4200},null,null,null,189.14,0,0,0,0,0,0,0,0,0,0,0,0,0,0,0,0,0,0,0,0,0,0,0,0,0,0,0,0,0,0,0,0,0,0,0,0,0,0,0,0,0,0,0,0,0,0,0,0,0,0,0,0,0,0,0,0,0,0,0,0,0,0,0,0,0,0,0,0,0,0,0,0,0,0,0,0,0,0,0,0,0,0,0,0,0,0,0,0,0,0,0,0,0,0,0,0,0,0,0,0,0,0,0,0,0,0,0,0,0,0,0]
[null,null,null,null,null,203.23499999999999,0,0,0,0,0,0,0,0,0,0,0,0,0,0,0,0,0,0,0,0,0,0,0,0,0,0,0,0,0,0,0,0,0,0,0,0,0,0,0,0,0,0,0,0,0,0,0,0,0,0,0,0,0,0,0,0,0,0,0,0,0,0,0,0,0,0,0,0,0,0,0,0,0,0,0,0,0,0,0,0,0,0,0,0,0,0,0,0,0,0,0,0,0,0,0,0,0,0,0,0,0,0,0,0,0,0,0,0,0,0,0]
[{"$f":"IF(B19>=0.65,B19,0.65)","v":0.85},{"$f":"IF(280>=B15,0.85,0.85-0.05*(B15-280)/70)","v":0.85},null,null,null,217.32999999999998,0,0,0,0,0,0,0,0,0,0,0,0,0,0,0,0,0,0,0,0,0,0,0,0,0,0,0,0,0,0,0,0,0,0,0,0,0,0,0,0,0,0,0,0,0,0,0,0,0,0,0,0,0,0,0,0,0,0,0,0,0,0,0,0,0,0,0,0,0,0,0,0,0,0,0,0,0,0,0,0,0,0,0,0,0,0,0,0,0,0,0,0,0,0,0,0,0,0,0,0,0,0,0,0,0,0,0,0,0,0,0]
[null,null,null,null,null,231.42499999999998,0,0,0,0,0,0,0,0,0,0,0,0,0,0,0,0,0,0,0,0,0,0,0,0,0,0,0,0,0,0,0,0,0,0,0,0,0,0,0,0,0,0,0,0,0,0,0,0,0,0,0,0,0,0,0,0,0,0,0,0,0,0,0,0,0,0,0,0,0,0,0,0,0,0,0,0,0,0,0,0,0,0,0,0,0,0,0,0,0,0,0,0,0,0,0,0,0,0,0,0,0,0,0,0,0,0,0,0,0,0,0]
[null,null,null,null,null,245.51999999999998,0,0,0,0,0,0,0,0,0,0,0,0,0,0,0,0,0,0,0,0,0,0,0,0,0,0,0,0,0,0,0,0,0,0,0,0,0,0,0,0,0,0,0,0,0,0,0,0,0,0,0,0,0,0,0,0,0,0,0,0,0,0,0,0,0,0,0,0,0,0,0,0,0,0,0,0,0,0,0,0,0,0,0,0,0,0,0,0,0,0,0,0,0,0,0,0,0,0,0,0,0,0,0,0,0,0,0,0,0,0,0]
[null,null,null,null,null,259.61500000000001,0,0,0,0,0,0,0,0,0,0,0,0,0,0,0,0,0,0,0,0,0,0,0,0,0,0,0,0,0,0,0,0,0,0,0,0,0,0,0,0,0,0,0,0,0,0,0,0,0,0,0,0,0,0,0,0,0,0,0,0,0,0,0,0,0,0,0,0,0,0,0,0,0,0,0,0,0,0,0,0,0,0,0,0,0,0,0,0,0,0,0,0,0,0,0,0,0,0,0,0,0,0,0,0,0,0,0,0,0,0,0]
[null,null,null,null,null,273.71000000000004,0,0,0,0,0,0,0,0,0,0,0,0,0,0,0,0,0,0,0,0,0,0,0,0,0,0,0,0,0,0,0,0,0,0,0,0,0,0,0,0,0,0,0,0,0,0,0,0,0,0,0,0,0,0,0,0,0,0,0,0,0,0,0,0,0,0,0,0,0,0,0,0,0,0,0,0,0,0,0,0,0,0,0,0,0,0,0,0,0,0,0,0,0,0,0,0,0,0,0,0,0,0,0,0,0,0,0,0,0,0,0]
[null,null,null,null,null,287.80500000000006,0,0,0,0,0,0,0,0,0,0,0,0,0,0,0,0,0,0,0,0,0,0,0,0,0,0,0,0,0,0,0,0,0,0,0,0,0,0,0,0,0,0,0,0,0,0,0,0,0,0,0,0,0,0,0,0,0,0,0,0,0,0,0,0,0,0,0,0,0,0,0,0,0,0,0,0,0,0,0,0,0,0,0,0,0,0,0,0,0,0,0,0,0,0,0,0,0,0,0,0,0,0,0,0,0,0,0,0,0,0,0]
[1,3,"3/8\"",{"$f":"(B25*2.54/8)*(B25*2.54/8)*PI()/4","v":0.71255739248085614},{"$f":"B25*2.54/8","v":0.95250000000000001},301.90000000000009,0,0,0,0,0,0,0,0,0,0,0,0,0,0,0,0,0,0,0,0,0,0,0,0,0,0,0,0,0,0,0,0,0,0,0,0,0,0,0,0,0,0,0,0,0,0,0,0,0,0,0,0,0,0,0,0,0,0,0,0,0,0,0,0,0,0,0,0,0,0,0,0,0,0,0,0,0,0,0,0,0,{"$f":"IF(CJ$1>$E$11,0,IF($G25=0,0,(CJ$1-$G25)*$A$1/CJ$1))","v":0},0,0,0,0,0,0,0,0,0,0,0,0,0,0,0,0,0,0,0,0,0,0,0,0,0,0,0,0,0]
[2,4,"1/2\"",{"$f":"(B26*2.54/8)*(B26*2.54/8)*PI()/4","v":1.2667686977437442},{"$f":"B26*2.54/8","v":1.27},315.99500000000012,0,0,0,0,0,0,0,0,0,0,0,0,0,0,0,0,0,0,0,0,0,0,0,0,0,0,0,0,0,0,0,0,0,0,0,0,0,0,0,0,0,0,0,0,0,0,0,0,0,0,0,0,0,0,0,0,0,0,0,0,0,0,0,0,0,0,0,0,0,0,0,0,0,0,0,0,0,0,0,0,{"$f":"IF(CI$1>$E$11,0,IF($G26=0,0,(CI$1-$G26)*$A$1/CI$1))","v":0},0,0,0,0,0,0,0,0,0,0,0,0,0,0,0,0,0,0,0,0,0,0,0,0,0,0,0,0,0,0]
[3,5,"5/8\"",1.9793260902246004,1.5874999999999999,330.09000000000015,0,0,0,0,0,0,0,0,0,{"$f":"IF(P$1>$E$11,0,IF($G27=0,0,(P$1-$G27)*$A$1/P$1))","v":0},0,0,0,0,0,0,0,0,0,0,0,0,0,0,0,0,0,0,0,0,0,0,0,0,0,0,0,0,0,0,0,0,0,0,0,0,0,0,{"$f":"IF(BC$1>$E$11,0,IF($G27=0,0,(BC$1-$G27)*$A$1/BC$1))","v":0},0,0,0,0,0,0,0,0,0,0,0,0,0,0,0,0,0,0,0,0,0,0,0,0,0,0,0,0,0,0,0,0,0,0,0,0,0,0,0,0,0,0,0,0,0,0,0,0,0,0,0,0,0,0,0,0,0,0,0,0,0,0]
[4,6,"3/4\"",2.8502295699234246,1.905,344.18500000000017,0,{"$f":"IF(H$1>$E$11,0,IF($G28=0,0,(H$1-$G28)*$A$1/H$1))","v":0},0,0,0,0,0,0,0,0,0,0,0,0,0,0,0,0,0,0,0,0,0,0,0,0,0,0,0,0,0,0,{"$f":"IF(AM$1>$E$11,0,IF($G28=0,0,(AM$1-$G28)*$A$1/AM$1))","v":0},0,0,0,0,0,0,0,0,0,0,0,0,0,0,0,0,0,0,0,0,0,0,0,0,0,0,0,0,0,0,0,0,0,0,0,0,0,0,0,0,0,0,0,0,0,0,0,0,0,0,0,0,0,0,0,0,0,0,0,0,0,0,0,0,0,0,0,0,0,0,0,{"$f":"IF(DG$1>$E$11,0,IF($G28=0,0,(DG$1-$G28)*$A$1/DG$1))","v":0},0,0,0,0,0,0]
[5,7,"7/8\"",3.8794791368402177,2.2225000000000001,358.2800000000002,0,0,0,0,0,0,0,0,0,0,0,0,0,0,0,0,0,0,0,0,0,0,0,0,0,{"$f":"IF(AF$1>$E$11,0,IF($G29=0,0,(AF$1-$G29)*$A$1/AF$1))","v":0},0,0,0,0,0,0,0,0,0,0,0,0,0,0,0,0,0,0,0,0,0,0,0,0,0,0,0,0,0,0,0,0,0,0,0,0,0,0,0,0,0,0,0,0,0,0,0,0,0,0,0,0,0,0,0,0,0,0,0,0,0,0,0,0,0,0,0,0,0,0,0,0,{"$f":"IF(DA$1>$E$11,0,IF($G29=0,0,(DA$1-$G29)*$A$1/DA$1))","v":0},0,0,0,0,0,0,0,0,0,0,0,0]
[6,8,"1\"",5.0670747909749769,2.54,372.37500000000023,0,0,0,0,0,0,0,0,0,0,0,0,0,0,0,0,0,0,0,0,0,0,0,0,0,0,0,0,0,0,0,0,0,0,0,0,0,0,0,0,0,0,0,0,0,0,0,0,0,0,0,0,0,0,0,0,0,0,0,0,0,0,0,0,0,0,0,0,0,0,0,0,0,0,0,0,0,0,0,0,0,0,0,0,0,0,0,0,0,0,0,0,0,0,0,0,0,0,0,0,0,0,0,0,0,0,0,0,0,0,0]
[7,9,"1  1/8\"",6.4130165323277062,2.8574999999999999,386.47000000000025,0,0,0,0,0,0,0,0,0,0,0,0,0,0,0,0,0,0,0,0,0,0,0,0,0,0,0,0,0,0,0,0,0,0,0,0,0,0,0,0,0,0,0,0,0,0,0,0,0,0,0,0,0,0,0,0,0,0,0,0,0,0,0,0,0,0,0,0,0,0,0,0,0,0,0,0,0,0,0,0,0,0,0,0,0,0,0,0,0,0,0,0,0,0,0,0,0,0,0,0,0,0,0,0,0,0,0,0,0,0,0]
[8,10,"1  1/4\"",7.9173043608984015,3.1749999999999998,400.56500000000028,0,0,0,0,0,0,0,0,0,0,0,0,0,0,0,0,0,0,0,0,0,0,0,0,0,0,0,0,0,0,0,0,0,0,0,0,0,0,0,0,0,0,0,0,0,0,0,0,0,0,0,0,0,0,0,0,0,0,0,0,0,0,0,0,0,0,0,0,0,0,0,0,0,0,0,0,0,0,0,0,0,0,0,0,0,0,0,0,0,0,0,0,0,0,0,0,0,0,0,0,0,0,0,0,0,0,0,0,0,0,0]
[9,11,"1  3/8\"",9.5799382766870682,3.4925000000000002,414.66000000000031,0,0,0,0,0,0,0,0,0,0,0,0,0,0,0,0,0,0,0,0,0,0,0,0,0,0,0,0,0,0,0,0,0,0,0,0,0,0,0,0,0,0,0,0,0,0,0,0,0,0,0,0,0,0,0,0,0,0,0,0,0,0,0,0,0,0,0,0,0,0,0,0,0,0,0,0,0,0,0,0,0,0,0,0,0,0,0,0,0,0,0,0,0,0,0,0,0,0,0,0,0,0,0,0,0,0,0,0,0,0,0]
[10,12,"1  1/2\"",11.400918279693698,3.81,428.75500000000034,0,0,0,0,0,0,0,0,0,0,0,0,0,0,0,0,0,0,0,0,0,0,0,0,0,0,0,0,0,0,0,0,0,0,0,0,0,0,0,0,0,0,0,0,0,0,0,0,0,0,0,0,0,0,0,0,0,0,0,0,0,0,0,0,0,0,0,0,0,0,0,0,0,0,0,0,0,0,0,0,0,0,0,0,0,0,0,0,0,0,0,0,0,0,0,0,0,0,0,0,0,0,0,0,0,0,0,0,0,0,0]
[null,null,null,null,null,442.85000000000036,0,0,0,0,0,0,0,0,0,0,0,0,0,0,0,0,0,0,0,0,0,0,0,0,0,0,0,0,0,0,0,0,0,0,0,0,0,0,0,0,0,0,0,0,0,0,0,0,0,0,0,0,0,0,0,0,0,0,0,0,0,0,0,0,0,0,0,0,0,0,0,0,0,0,0,0,0,0,0,0,0,0,0,0,0,0,0,0,0,0,0,0,0,0,0,0,0,0,0,0,0,0,0,0,0,0,0,0,0,0,0]
[null,"area","diametro",null,null,456.94500000000039,0,0,0,0,0,0,0,0,0,0,0,0,0,0,0,0,0,0,0,0,0,0,0,0,0,0,0,0,0,0,0,0,0,0,0,0,0,0,0,0,0,0,0,0,0,0,0,0,0,0,0,0,0,0,0,0,0,0,0,0,0,0,0,0,0,0,0,0,0,0,0,0,0,0,0,0,0,0,0,0,0,0,0,0,0,0,0,0,0,0,0,0,0,0,0,0,0,0,0,0,0,0,0,0,0,0,0,0,0,0,0]
[null,{"$f":"VLOOKUP(Hoja2!F13,Hoja1!C25:E34,2,0)","v":2.8502295699234246},{"$f":"VLOOKUP(Hoja2!F13,Hoja1!C25:E34,3,0)","v":1.905},null,null,471.04000000000042,0,0,0,0,0,0,0,0,0,0,0,0,0,0,0,0,0,0,0,0,0,0,0,0,0,0,0,0,0,0,0,0,0,0,0,0,0,0,0,0,0,0,0,0,0,0,0,0,0,0,0,0,0,0,0,0,0,0,0,0,0,0,0,0,0,0,0,0,0,0,0,0,0,0,0,0,0,0,0,0,0,0,0,0,0,0,0,0,0,0,0,0,0,0,0,0,0,0,0,0,0,0,0,0,0,0,0,0,0,0,0]
[null,"estribo:",null,null,null,485.13500000000045,0,0,0,0,0,0,0,0,0,0,0,0,0,0,0,0,0,0,0,0,0,0,0,0,0,0,0,0,0,0,0,0,0,0,0,0,0,0,0,0,0,0,0,0,0,0,0,0,0,0,0,0,0,0,0,0,0,0,0,0,0,0,0,0,0,0,0,0,0,0,0,0,0,0,0,0,0,0,0,0,0,0,0,0,0,0,0,0,0,0,0,0,0,0,0,0,0,0,0,0,0,0,0,0,0,0,0,0,0,0,0]
[null,{"$f":"VLOOKUP(Hoja2!F14,Hoja1!C25:E34,2,0)","v":0.71255739248085614},{"$f":"VLOOKUP(Hoja2!F14,Hoja1!C25:E34,3,0)","v":0.95250000000000001},null,null,499.23000000000047,0,0,0,0,0,0,0,0,0,0,0,0,0,0,0,0,0,0,0,0,0,0,0,0,0,0,0,0,0,0,0,0,0,0,0,0,0,0,0,0,0,0,0,0,0,0,0,0,0,0,0,0,0,0,0,0,0,0,0,0,0,0,0,0,0,0,0,0,0,0,0,0,0,0,0,0,0,0,0,0,0,0,0,0,0,0,0,0,0,0,0,0,0,0,0,0,0,0,0,0,0,0,0,0,0,0,0,0,0,0,0]
[null,null,null,null,null,513.3250000000005,0,0,0,0,0,0,0,0,0,0,0,0,0,0,0,0,0,0,0,0,0,0,0,0,0,0,0,0,0,0,0,0,0,0,0,0,0,0,0,0,0,0,0,0,0,0,0,0,0,0,0,0,0,0,0,0,0,0,0,0,0,0,0,0,0,0,0,0,0,0,0,0,0,0,0,0,0,0,0,0,0,0,0,0,0,0,0,0,0,0,0,0,0,0,0,0,0,{"$f":"IF(CZ$1>$E$11,0,IF($G40=0,0,(CZ$1-$G40)*$A$1/CZ$1))","v":0},0,0,0,0,0,0,0,0,0,0,0,0,0]
[null,null,null,null,null,527.42000000000053,0,0,0,0,0,0,0,0,0,0,0,0,0,0,0,0,0,0,0,0,0,0,0,0,0,0,0,0,0,0,0,0,0,0,0,0,0,0,0,0,0,0,0,0,0,0,0,0,0,0,0,0,0,0,0,0,0,0,0,0,0,0,0,0,0,0,0,0,0,0,0,0,0,0,0,0,0,0,0,{"$f":"IF(CH$1>$E$11,0,IF($G41=0,0,(CH$1-$G41)*$A$1/CH$1))","v":0},0,0,0,0,0,0,0,0,0,0,0,0,0,0,0,0,0,0,0,0,0,0,0,0,0,0,0,0,0,0,0]
[null,null,null,null,null,541.51500000000055,0,0,0,0,0,0,0,0,0,0,0,0,0,0,0,0,0,0,0,0,0,0,0,0,0,0,0,0,0,0,0,0,0,0,0,0,0,0,0,0,0,0,0,0,0,0,0,0,0,0,0,0,0,0,0,0,0,0,0,0,0,0,0,{"$f":"IF(BR$1>$E$11,0,IF($G42=0,0,(BR$1-$G42)*$A$1/BR$1))","v":0},0,0,0,0,0,0,0,0,0,0,0,0,0,0,0,0,0,0,0,0,0,0,0,0,0,0,0,0,0,0,0,0,0,0,0,0,0,0,0,0,0,0,0,0,0,0,0]
[null,null,null,null,null,555.61000000000058,0,0,0,0,0,0,0,0,0,0,0,0,0,0,0,0,{"$f":"IF(W$1>$E$11,0,IF($G43=0,0,(W$1-$G43)*$A$1/W$1))","v":0},0,0,0,0,0,0,0,0,0,0,0,0,0,0,0,0,0,0,0,0,0,0,0,0,0,0,0,0,0,0,0,{"$f":"IF(BC$1>$E$11,0,IF($G43=0,0,(BC$1-$G43)*$A$1/BC$1))","v":0},0,0,0,0,0,0,0,0,0,0,0,0,0,0,0,0,0,0,0,0,0,0,0,0,0,0,0,0,0,0,0,0,0,0,0,0,0,0,0,0,0,0,0,0,0,0,0,0,0,0,0,0,0,0,0,0,0,0,0,0,0,0]
[null,null,null,null,null,569.70500000000061,0,{"$f":"IF(H$1>$E$11,0,IF($G44=0,0,(H$1-$G44)*$A$1/H$1))","v":0},0,0,0,0,0,0,0,0,0,0,0,0,0,0,0,0,0,0,0,0,0,0,0,0,0,0,0,0,0,0,0,0,0,0,0,0,0,0,0,0,0,0,0,0,0,0,0,0,0,0,0,0,0,0,0,0,0,0,0,0,0,0,0,0,0,0,0,0,0,0,0,0,0,0,0,0,0,0,0,0,0,0,0,0,0,0,0,0,0,0,0,0,0,0,0,0,0,0,0,0,0,0,0,0,0,0,0,0,0]
[null,null,null,null,null,583.80000000000064,0,0,0,0,0,0,0,0,0,0,0,0,0,0,0,0,0,0,0,0,0,0,0,0,0,0,0,0,0,0,0,0,0,0,0,0,0,0,0,0,0,0,0,0,0,0,0,0,0,0,0,0,0,0,0,0,0,0,0,0,0,0,0,0,0,0,0,0,0,0,0,0,0,0,0,0,0,0,0,0,0,0,0,0,0,0,0,0,0,0,0,0,0,0,0,0,0,0,0,0,0,0,0,0,0,0,0,0,0,0,0]
[null,null,null,null,null,597.89500000000066,0,0,0,0,0,0,0,0,0,0,0,0,0,0,0,0,0,0,0,0,0,0,0,0,0,0,0,0,0,0,0,0,0,0,0,0,{"$f":"IF(AQ$1>$E$11,0,IF($G46=0,0,(AQ$1-$G46)*$A$1/AQ$1))","v":0},0,0,0,0,0,0,0,0,0,0,0,0,0,0,0,0,0,0,0,0,0,0,0,0,0,0,0,0,0,0,0,0,0,0,0,0,0,0,0,0,0,0,0,0,0,0,0,0,0,0,0,0,0,0,0,0,0,0,0,0,0,0,0,0,0,0,0,0,0,0,0,0,0,0]
[null,null,null,null,null,611.99000000000069,0,0,0,0,0,0,0,0,0,0,0,0,0,0,0,0,0,0,0,0,0,0,0,0,0,0,0,0,0,0,0,0,{"$f":"IF(AM$1>$E$11,0,IF($G47=0,0,(AM$1-$G47)*$A$1/AM$1))","v":0},0,0,0,0,0,0,0,0,0,0,0,0,0,0,0,0,0,0,0,0,0,0,0,0,0,0,0,0,0,0,0,0,0,0,0,0,0,0,0,0,0,0,0,0,0,0,0,0,0,0,0,0,0,0,0,0,0,0,0,0,0,0,0,0,0,0,0,0,0,0,0,0,0,0,0,0,0,0]
[null,null,null,null,null,626.08500000000072,0,0,0,0,0,0,0,0,0,0,0,0,0,0,0,0,0,0,0,0,0,0,0,0,0,0,0,0,0,0,0,0,0,0,0,0,0,0,0,0,0,0,0,0,0,0,0,0,0,0,0,0,0,0,0,0,0,0,0,0,0,0,0,0,0,0,0,0,0,0,0,0,0,0,0,0,0,0,0,0,0,0,0,0,0,0,0,0,0,0,0,0,0,0,0,0,0,0,0,0,0,0,0,0,0,0,0,0,0,0,0]
[null,null,null,null,null,640.18000000000075,0,0,0,0,0,0,0,0,0,0,0,0,0,0,0,0,0,0,0,0,0,0,0,0,0,0,0,0,0,0,0,0,0,0,0,0,0,0,0,0,0,0,0,0,0,0,0,0,0,0,0,0,0,0,0,0,0,0,0,0,0,0,0,0,0,0,0,0,0,0,0,0,0,0,0,0,0,0,0,0,0,0,0,0,0,0,0,0,0,0,0,0,0,0,0,0,0,0,0,0,0,0,0,0,0,0,0,0,0,0,0]
[null,null,null,null,null,654.27500000000077,0,0,0,0,0,0,0,0,0,0,0,0,0,0,0,0,0,0,0,0,0,0,0,0,0,0,0,0,0,0,0,0,0,0,0,0,0,0,0,0,0,0,0,0,0,0,0,0,0,0,0,0,0,0,0,0,0,0,0,0,0,0,0,0,0,0,0,0,0,0,0,0,0,0,0,0,0,0,0,0,0,0,0,0,0,0,0,0,0,0,0,0,0,0,0,{"$f":"IF(CX$1>$E$11,0,IF($G50=0,0,(CX$1-$G50)*$A$1/CX$1))","v":0},0,0,0,0,0,0,0,0,0,0,0,0,0,0,0]
[null,null,null,null,null,668.3700000000008,0,0,0,0,0,0,0,0,0,0,0,0,0,0,0,0,0,0,0,0,0,0,0,0,0,0,0,0,0,0,0,0,0,0,0,0,0,0,0,0,0,0,0,0,0,0,0,0,0,0,0,0,0,0,0,0,0,0,0,0,0,0,0,0,0,0,0,0,0,0,0,0,0,0,0,0,0,0,0,0,0,0,0,0,0,0,0,0,0,0,0,0,0,0,0,0,0,0,0,0,0,0,0,0,0,0,0,0,0,0,0]
[null,null,null,null,null,682.46500000000083,0,0,0,0,0,0,0,0,0,0,0,0,0,0,0,0,0,0,0,0,0,0,0,0,0,0,0,0,0,0,0,0,0,0,0,0,0,0,0,0,0,0,0,0,0,0,0,0,0,0,0,0,0,0,0,0,0,0,0,0,0,0,0,0,0,0,0,0,0,0,0,0,0,0,0,0,0,0,0,0,0,0,0,0,0,0,0,0,0,0,0,0,0,0,0,0,0,0,0,0,0,0,0,0,0,0,0,0,0,0,0]
[null,null,null,null,null,696.56000000000085,0,0,0,0,0,0,0,0,0,0,0,0,0,0,0,0,0,0,0,0,0,0,0,0,0,0,0,0,0,0,0,0,0,0,0,0,0,0,0,0,0,0,0,0,0,0,0,0,0,0,0,0,0,0,0,0,0,0,0,0,0,0,0,0,0,0,0,0,0,0,0,0,0,0,0,0,0,0,0,0,0,0,0,0,0,0,0,0,0,0,0,0,0,0,0,0,0,0,0,0,0,0,0,0,0,0,0,0,0,0,0]
[null,null,null,null,null,710.65500000000088,0,0,0,0,0,0,0,0,0,0,0,0,0,0,0,0,0,0,0,0,0,0,0,0,0,0,0,0,0,0,0,0,0,0,0,0,0,0,0,0,0,0,0,0,0,0,0,0,0,0,0,0,0,0,0,0,0,0,0,0,0,0,0,0,0,0,0,0,0,0,0,0,0,0,0,0,0,0,0,0,0,0,0,0,0,0,0,0,0,0,0,0,0,0,0,0,0,0,0,0,0,0,0,0,0,0,0,0,0,0,0]
[null,null,null,null,null,724.75000000000091,0,0,0,0,0,0,0,0,0,0,0,0,0,0,0,0,0,0,0,0,0,0,0,0,0,0,0,0,0,0,0,0,0,0,0,0,0,0,0,0,0,0,0,0,0,0,0,0,0,0,0,0,0,0,0,0,0,0,0,0,0,0,0,0,0,0,0,0,0,0,0,0,0,0,0,0,0,0,0,0,0,0,0,0,0,0,0,0,0,0,0,0,0,0,0,0,0,0,0,0,0,0,0,0,0,0,0,0,0,0,0]
[null,null,null,null,null,738.84500000000094,0,0,0,0,0,0,0,0,0,0,0,0,0,0,0,0,0,0,0,0,0,0,0,0,0,0,0,0,0,0,0,0,0,0,0,0,0,0,0,0,0,0,0,0,0,0,0,0,0,0,0,0,0,0,0,0,0,0,0,0,0,0,0,0,0,0,0,0,0,0,0,0,0,0,0,0,0,0,0,0,0,0,0,0,0,0,0,0,0,0,0,0,0,0,{"$f":"IF(CW$1>$E$11,0,IF($G56=0,0,(CW$1-$G56)*$A$1/CW$1))","v":0},0,0,0,0,0,0,0,0,0,0,0,0,0,0,0,0]
[null,null,null,null,null,752.94000000000096,0,0,0,0,0,0,0,0,0,0,0,0,0,0,0,0,0,0,0,0,0,0,0,0,0,0,0,0,0,0,0,0,0,0,0,0,0,0,0,0,0,0,0,0,0,0,0,0,0,0,0,0,0,0,0,0,0,0,0,0,0,0,0,0,0,0,0,0,0,0,0,0,0,0,0,0,0,0,0,0,0,0,0,0,0,0,0,0,0,0,0,0,0,0,0,0,0,0,0,0,0,0,0,0,0,0,0,0,0,0,0]
[null,null,null,null,null,767.03500000000099,0,0,0,0,0,0,0,0,0,0,0,0,0,0,0,0,0,0,0,0,0,0,0,0,0,0,0,0,0,0,0,0,0,0,0,0,0,0,0,0,0,0,0,0,0,0,0,0,0,0,0,0,0,0,0,0,0,0,0,0,0,0,0,0,{"$f":"IF(BS$1>$E$11,0,IF($G58=0,0,(BS$1-$G58)*$A$1/BS$1))","v":0},0,0,0,0,0,0,0,0,0,0,0,0,0,0,0,0,0,0,0,0,0,0,0,0,0,0,0,0,0,0,0,0,0,0,0,0,0,0,0,0,0,0,0,0,0,0]
[null,null,null,null,null,781.13000000000102,0,0,0,0,0,0,0,0,0,0,0,0,0,0,0,0,{"$f":"IF(W$1>$E$11,0,IF($G59=0,0,(W$1-$G59)*$A$1/W$1))","v":0},0,0,0,0,0,0,0,0,0,0,0,0,0,0,0,0,0,0,0,0,0,0,0,0,0,0,0,0,0,0,0,0,0,0,0,{"$f":"IF(BG$1>$E$11,0,IF($G59=0,0,(BG$1-$G59)*$A$1/BG$1))","v":0},0,0,0,0,0,0,0,0,0,0,0,0,0,0,0,0,0,0,0,0,0,0,0,0,0,0,0,0,0,0,0,0,0,0,0,0,0,0,0,0,0,0,0,0,0,0,0,0,0,0,0,0,0,0,0,0,0,0]
[null,null,null,null,null,795.22500000000105,0,{"$f":"IF(H$1>$E$11,0,IF($G60=0,0,(H$1-$G60)*$A$1/H$1))","v":0},0,0,0,0,0,0,0,0,0,0,0,0,0,0,0,0,0,0,0,0,0,0,0,0,0,0,0,0,0,0,0,0,0,0,0,0,0,0,0,0,0,0,0,0,0,0,0,0,0,0,0,0,0,0,0,0,0,0,0,0,0,0,0,0,0,0,0,0,0,0,0,0,0,0,0,0,0,0,0,0,0,0,0,0,0,0,0,0,0,0,0,0,0,0,0,0,0,0,0,0,0,0,0,0,0,0,0,0,0]
[null,null,null,null,null,809.32000000000107,0,0,0,0,0,0,0,0,0,0,0,0,0,0,0,0,0,0,0,0,0,0,0,0,0,0,0,0,0,0,0,0,0,0,0,0,0,0,0,0,0,0,0,0,0,0,0,0,0,0,0,0,0,0,0,0,0,0,0,0,0,0,0,0,0,0,0,0,0,0,0,0,0,0,0,0,0,0,0,0,0,0,0,0,0,0,0,0,0,0,0,0,0,0,0,0,0,0,0,0,0,0,0,0,0,0,0,0,0,0,0]
[null,null,null,null,null,823.4150000000011,0,0,0,0,0,0,0,0,0,0,0,0,0,0,0,0,0,0,0,0,0,0,0,0,0,0,0,0,0,0,0,0,0,0,0,0,0,0,0,0,0,0,0,0,0,0,0,{"$f":"IF(BB$1>$E$11,0,IF($G62=0,0,(BB$1-$G62)*$A$1/BB$1))","v":0},0,0,0,0,0,0,0,0,0,0,0,0,0,0,0,0,0,0,0,0,0,0,0,0,0,0,0,0,0,0,0,0,0,0,0,0,0,0,0,0,0,0,0,0,0,0,0,0,0,0,0,0,0,0,0,0,0,0,0,0,0,0,0]
[null,null,null,null,null,837.51000000000113,0,0,0,0,0,0,0,0,0,0,0,0,0,0,0,0,0,0,0,0,0,0,0,0,0,0,0,0,0,0,0,0,{"$f":"IF(AM$1>$E$11,0,IF($G63=0,0,(AM$1-$G63)*$A$1/AM$1))","v":0},0,0,0,0,0,0,0,0,0,0,0,0,0,0,0,0,0,0,0,0,0,0,0,0,0,0,0,0,0,0,0,0,0,0,0,0,0,0,0,0,0,0,0,0,0,0,0,0,0,0,0,0,0,0,0,0,0,0,0,0,0,0,0,0,0,0,0,0,0,0,0,0,0,0,0,0,0,0]
[null,null,null,null,null,851.60500000000116,0,0,0,0,0,0,0,0,0,0,0,0,0,0,0,0,0,0,0,0,0,0,0,0,0,0,0,0,0,0,0,0,0,0,0,0,0,0,0,0,0,0,0,0,0,0,0,0,0,0,0,0,0,0,0,0,0,0,0,0,0,0,0,0,0,0,0,0,0,0,0,0,0,0,0,0,0,0,0,0,0,0,0,0,0,0,0,0,0,0,0,0,0,0,0,0,0,0,0,0,0,0,0,0,0,0,0,0,0,0,0]
[null,null,null,null,null,865.70000000000118,0,0,0,0,0,0,0,0,0,0,0,0,0,0,0,0,0,0,0,0,0,0,0,0,0,0,0,0,0,0,0,0,0,0,0,0,0,0,0,0,0,0,0,0,0,0,0,0,0,0,0,0,0,0,0,0,0,0,0,0,0,0,0,0,0,0,0,0,0,0,0,0,0,0,0,0,0,0,0,0,0,0,0,0,0,0,0,0,0,0,0,0,0,0,0,0,0,0,0,0,0,0,0,0,0,0,0,0,0,0,0]
[null,null,null,null,null,879.79500000000121,0,0,0,0,0,0,0,0,0,0,0,0,0,0,0,0,0,0,0,0,0,0,0,0,0,0,0,0,0,0,0,0,0,0,0,0,0,0,0,0,0,0,0,0,0,0,0,0,0,0,0,0,0,0,0,0,0,0,0,0,0,0,0,0,0,0,0,0,0,0,0,0,0,0,0,0,0,0,0,0,0,0,0,0,0,0,0,0,0,0,0,0,0,0,0,0,0,0,0,0,0,0,0,0,0,0,0,0,0,0,0]
[null,null,null,null,null,893.89000000000124,0,0,0,0,0,0,0,0,0,0,0,0,0,0,0,0,0,0,0,0,0,0,0,0,0,0,0,0,0,0,0,0,0,0,0,0,0,0,0,0,0,0,0,0,0,0,0,0,0,0,0,0,0,0,0,0,0,0,0,0,0,0,0,0,0,0,0,0,0,0,0,0,0,0,0,0,0,0,0,0,0,0,0,0,0,0,0,0,0,0,0,0,0,0,0,0,0,0,0,0,0,0,0,0,0,0,0,0,0,0,0]
[null,null,null,null,null,907.98500000000126,0,0,0,0,0,0,0,0,0,0,0,0,0,0,0,0,0,0,0,0,0,0,0,0,0,0,0,0,0,0,0,0,0,0,0,0,0,0,0,0,0,0,0,0,0,0,0,0,0,0,0,0,0,0,0,0,0,0,0,0,0,0,0,0,0,0,0,0,0,0,0,0,0,0,0,0,0,0,0,0,0,0,0,0,0,0,0,0,0,0,0,0,0,0,0,0,0,0,0,0,0,0,0,0,0,0,0,0,0,0,0]
[null,null,null,null,null,922.08000000000129,0,0,0,0,0,0,0,0,0,0,0,0,0,0,0,0,0,0,0,0,0,0,0,0,0,0,0,0,0,0,0,0,0,0,0,0,0,0,0,0,0,0,0,0,0,0,0,0,0,0,0,0,0,0,0,0,0,0,0,0,0,0,0,0,0,0,0,0,0,0,0,0,0,0,0,0,0,0,0,0,0,0,0,0,0,0,0,0,0,0,0,0,0,0,0,0,0,0,0,0,0,0,0,0,0,0,0,0,0,0,0]
[null,null,null,null,null,{"$f":"F69+D$6","v":936.17500000000132},0,0,0,0,0,0,0,0,0,0,0,0,0,0,0,0,0,0,0,0,0,0,0,0,0,0,0,0,0,0,0,0,0,0,0,0,0,0,0,0,0,0,0,0,0,0,0,0,0,0,0,0,0,0,0,0,0,0,0,0,0,0,0,0,0,0,0,0,0,0,0,0,0,0,0,0,0,0,0,0,0,0,0,0,0,0,0,0,0,0,0,0,0,0,0,0,0,0,0,0,0,0,0,0,0,0,0,0,0,0,0]
[null,null,null,null,null,950.27000000000135,0,0,0,0,0,0,0,0,0,0,0,0,0,0,0,0,0,0,0,0,0,0,0,0,0,0,0,0,0,0,0,0,0,0,0,0,0,0,0,0,0,0,0,0,0,0,0,0,0,0,0,0,0,0,0,0,0,0,0,0,0,0,0,0,0,0,0,0,0,0,0,0,0,0,0,0,0,0,0,0,0,0,0,0,0,0,0,0,0,0,0,0,0,0,0,0,0,0,{"$f":"IF(DA$1>$E$11,0,IF($G71=0,0,(DA$1-$G71)*$A$1/DA$1))","v":0},0,0,0,0,0,0,0,0,0,0,0,0]
[null,null,null,null,null,964.36500000000137,0,0,0,0,0,0,0,0,0,0,0,0,0,0,0,0,0,0,0,0,0,0,0,0,0,0,0,0,0,0,0,0,0,0,0,0,0,0,0,0,0,0,0,0,0,0,0,0,0,0,0,0,0,0,0,0,0,0,0,0,0,0,0,0,0,0,0,0,0,0,0,0,0,0,0,0,0,0,0,0,0,0,0,0,0,0,0,0,0,0,0,0,0,{"$f":"IF(CV$1>$E$11,0,IF($G72=0,0,(CV$1-$G72)*$A$1/CV$1))","v":0},0,0,0,0,0,0,0,0,0,0,0,0,0,0,0,0,0]
[null,null,null,null,null,978.4600000000014,0,0,0,0,0,0,0,0,0,0,0,0,0,0,0,0,0,0,0,0,0,0,0,0,0,0,0,0,0,0,0,0,0,0,0,0,0,0,0,0,0,0,0,0,0,0,0,0,0,0,0,0,0,0,0,0,0,0,0,0,0,0,0,0,0,0,0,0,0,0,0,0,0,0,0,0,0,0,0,0,{"$f":"IF(CI$1>$E$11,0,IF($G73=0,0,(CI$1-$G73)*$A$1/CI$1))","v":0},0,0,0,0,0,0,0,0,0,0,0,0,0,0,0,0,0,0,0,0,0,0,0,0,0,0,0,0,0,0]
[null,null,null,null,null,992.55500000000143,{"$f":"IF(E$10>=F74,F74,0)","v":0},0,0,0,0,0,0,0,0,0,0,0,0,0,0,0,0,0,0,0,0,0,0,0,0,0,0,0,0,0,0,0,0,0,0,0,0,0,0,0,0,0,0,0,0,0,0,0,0,0,0,0,0,0,0,0,0,0,0,0,0,0,0,0,0,0,0,0,0,0,0,0,0,0,0,0,0,0,{"$f":"IF(CG$1>$E$11,0,IF($G74=0,0,(CG$1-$G74)*$A$1/CG$1))","v":0},0,0,0,0,0,0,0,0,0,0,0,0,0,0,0,0,0,0,0,0,0,0,0,0,0,0,0,0,0,0,0,0]
[null,null,null,null,null,1006.6500000000015,0,0,0,0,0,0,0,0,0,0,0,0,0,0,0,0,{"$f":"IF(W$1>$E$11,0,IF($G75=0,0,(W$1-$G75)*$A$1/W$1))","v":0},0,0,0,0,0,0,0,0,0,0,0,0,0,0,{"$f":"IF(AL$1>$E$11,0,IF($G75=0,0,(AL$1-$G75)*$A$1/AL$1))","v":0},0,0,0,0,0,0,0,0,0,0,0,0,0,0,0,0,0,0,0,0,0,0,0,0,0,0,0,0,0,0,0,0,0,0,0,0,0,0,0,0,0,0,0,0,0,0,0,0,0,0,0,0,0,0,0,0,0,0,0,0,0,0,0,0,0,0,0,0,0,0,0,0,0,0,0,0,0,0,0]
[null,null,null,null,null,1020.7450000000015,0,0,0,0,0,0,0,0,0,0,0,0,0,0,0,0,0,0,0,0,0,0,0,0,0,0,0,0,0,0,0,0,0,0,0,0,0,0,0,0,0,0,0,0,0,0,0,0,0,0,0,0,0,0,0,0,0,0,0,0,0,0,0,0,0,0,0,0,0,0,0,0,0,0,0,0,0,0,0,0,0,0,0,0,0,0,0,0,0,0,0,0,0,0,0,0,0,0,0,0,0,0,0,0,0,0,0,0,0,0,0]
[null,null,null,null,null,1034.8400000000015,0,0,0,0,0,0,0,0,0,0,0,0,0,0,0,0,0,0,0,0,0,0,0,0,0,0,0,0,0,0,0,0,0,0,0,0,0,0,0,0,0,0,0,0,0,0,0,0,0,0,0,0,0,0,0,0,0,0,0,0,0,0,0,0,0,0,0,0,0,0,0,0,0,0,0,0,0,0,0,0,0,0,0,0,0,0,0,0,0,0,0,0,0,0,0,0,0,0,0,0,0,0,0,0,0,0,0,0,0,0,0]
[null,null,null,null,null,1048.9350000000015,0,0,0,0,0,0,0,0,0,0,0,0,0,0,0,0,0,0,0,0,0,0,0,0,0,0,0,0,0,0,0,0,0,0,0,0,0,0,0,0,0,0,0,0,0,0,0,{"$f":"IF(BB$1>$E$11,0,IF($G78=0,0,(BB$1-$G78)*$A$1/BB$1))","v":0},0,0,0,0,0,0,0,0,0,0,0,0,0,0,0,0,0,0,0,0,0,0,0,0,0,0,0,0,0,0,0,0,0,0,0,0,0,0,0,0,0,0,0,0,0,0,0,0,0,0,0,0,0,0,0,0,0,0,0,0,0,0,0]
[null,null,null,null,null,1063.0300000000016,0,0,0,0,0,0,0,0,0,0,0,0,0,0,0,0,0,0,0,0,0,0,0,0,0,0,0,0,0,0,0,0,0,0,0,0,0,0,0,0,0,0,0,0,0,0,0,0,0,0,0,0,0,0,0,0,0,0,0,0,0,0,0,0,0,0,0,0,0,0,0,0,0,0,0,0,0,0,0,0,0,0,0,0,0,0,0,0,0,0,0,0,0,0,0,0,0,0,0,0,0,0,0,0,0,0,0,0,0,0,0]
[null,null,null,null,null,1077.1250000000016,0,0,0,0,0,0,0,0,0,0,0,0,0,0,0,0,0,0,0,0,0,0,0,0,0,0,0,0,0,0,0,0,0,0,0,0,0,0,0,0,0,0,0,0,0,0,0,0,0,0,0,0,0,0,0,{"$f":"IF(BJ$1>$E$11,0,IF($G80=0,0,(BJ$1-$G80)*$A$1/BJ$1))","v":0},0,0,0,0,0,0,0,0,0,0,0,0,0,0,0,0,0,0,0,0,0,0,0,0,0,0,0,0,0,0,0,0,0,0,0,0,0,0,0,0,0,0,0,0,0,0,0,0,0,0,0,0,0,0,0]
[null,null,null,null,null,1091.2200000000016,0,0,0,0,0,0,0,0,0,0,0,0,0,0,0,0,0,0,0,0,0,0,0,0,0,0,0,0,0,0,0,0,0,0,0,0,0,0,0,0,0,0,0,0,0,0,0,0,{"$f":"IF(BC$1>$E$11,0,IF($G81=0,0,(BC$1-$G81)*$A$1/BC$1))","v":0},0,0,0,0,0,0,0,0,0,0,0,0,0,0,0,0,0,0,0,0,0,0,0,0,0,0,0,0,0,0,0,0,0,0,0,0,0,0,0,0,0,0,0,0,0,0,0,0,0,0,0,0,0,0,0,0,0,0,0,0,0,0]
[null,null,null,null,null,null,"alto","alto"]
[]
[null,null,null,null,null,null,null,"fs"]
[null,null,null,null,null,null,null,{"$f":"IF(ABS(H4)>$B$17,$B$17,ABS(H4))","v":4200},{"$f":"IF(ABS(I4)>$B$17,$B$17,ABS(I4))","v":4200},{"$f":"IF(ABS(J4)>$B$17,$B$17,ABS(J4))","v":2928.1814363712729},1131.1640389131164,63.669366098855207,915.57043769433164,1553.6498640451789,2049.4331908567187,2445.7448587192785,2769.791824950616,3039.6880657290076,3267.9604163989211,3463.5485025653265,3633.0030063467325,3781.2336916814534,3911.9929280031429,4028.1977553102679,4132.1500746858801,4200,4200,4200,4200,4200,4200,4200,4200,4200,4200,4200,4200,{"$f":"IF(ABS(AL4)>$B$17,$B$17,ABS(AL4))","v":4200},4200,4200,4200,4200,4200,4200,4200,4200,0,0,0,0,0,0,0,0,0,0,0,0,0,0,0,0,0,0,0,0,0,0,0,0,0,0,0,0,0,0,0,{"$f":"IF(ABS(BZ4)>$B$17,$B$17,ABS(BZ4))","v":0},{"$f":"IF(ABS(CA4)>$B$17,$B$17,ABS(CA4))","v":0},{"$f":"IF(ABS(CB4)>$B$17,$B$17,ABS(CB4))","v":0},0,0,0,0,0,0,0,0,0,0,0,0,0,0,0,0,0,0,0,0,0,0,0,0,0,0,0,0,0,0,0,0,0,0,0,0,0]
[null,null,null,null,null,null,null,{"$f":"IF(ABS(H5)>$B$17,$B$17,ABS(H5))","v":4200},{"$f":"IF(ABS(I5)>$B$17,$B$17,ABS(I5))","v":4200},{"$f":"IF(ABS(J5)>$B$17,$B$17,ABS(J5))","v":4200},4200,4200,4200,4200,4200,4200,4200,4026.4587104860047,3253.309343272073,2590.8602792029592,2016.9246186393495,1514.8731865149773,1071.9968568902857,678.41573137927821,326.33336262191364,9.5150655204071981,277.0844924886735,537.59198846824984,775.4154270372253,993.39406160906765,1193.9122888992724,1378.9872280341442,1550.3368147827698,1709.4332876467433,1857.545595765491,1995.7733162782938,2125.0740003229103,{"$f":"IF(ABS(AL5)>$B$17,$B$17,ABS(AL5))","v":2246.28538658047},2360.1435721146554,2467.2979736028656,2568.3237214622754,2663.7319864695796,2753.9786303593164,2839.4714893990604,2920.5765365039988,2997.6231183019891,0,0,0,0,0,0,0,0,0,0,0,0,0,0,0,0,0,0,0,0,0,0,0,0,0,0,0,0,0,0,0,{"$f":"IF(ABS(BZ5)>$B$17,$B$17,ABS(BZ5))","v":0},{"$f":"IF(ABS(CA5)>$B$17,$B$17,ABS(CA5))","v":0},{"$f":"IF(ABS(CB5)>$B$17,$B$17,ABS(CB5))","v":0},0,0,0,0,0,0,0,0,0,0,0,0,0,0,0,0,0,0,0,0,0,0,0,0,0,0,0,0,0,0,0,0,0,0,0,0,0]
[null,null,null,null,null,null,null,{"$f":"IF(ABS(H6)>$B$17,$B$17,ABS(H6))","v":4200},4200,4200,4200,4200,4200,4200,4200,4200,4200,4200,4200,4200,4200,4200,4200,4200,4200,4200,3756.1402114299331,3312.0400576587504,2906.6105507582897,2535.0114734719418,2193.1780254989649,1877.6715230087925,1585.5633149990726,1314.3436028842141,1061.8491456187789,826.20543907457852,605.78009794951811,399.14498722694304,205.04524543754079,22.373779500514917,149.84986416281424,312.49710393401631,466.34507010504507,612.08902155304872,750.35285060519243,881.698010925316,0,0,0,0,0,0,0,0,0,0,0,0,0,0,0,0,0,0,0,0,0,0,0,0,0,{"$f":"IF(ABS(BT6)>$B$17,$B$17,ABS(BT6))","v":0},0,0,0,0,0,0,0,0,0,0,0,0,0,0,0,0,0,0,0,0,0,0,0,0,0,0,0,0,0,0,0,0,0,0,0,0,0,0,0,0,0,0,0,0,0]
[null,null,null,null,null,null,null,{"$f":"IF(ABS(H7)>$B$17,$B$17,ABS(H7))","v":0},0,0,0,0,0,0,0,0,0,0,0,0,0,0,0,0,0,0,0,0,0,0,0,0,0,0,0,0,0,0,0,0,0,0,0,0,0,0,0,0,0,0,0,0,0,0,0,0,0,0,0,0,0,0,0,0,0,0,0,0,0,0,0,{"$f":"IF(ABS(BT7)>$B$17,$B$17,ABS(BT7))","v":0},0,0,0,0,0,0,0,0,0,0,0,0,0,0,0,0,0,0,0,0,0,0,0,0,0,0,0,0,0,0,0,0,0,0,0,0,0,0,0,0,0,0,0,0,0]
[null,null,null,null,null,null,null,{"$f":"IF(ABS(H8)>$B$17,$B$17,ABS(H8))","v":0},0,0,0,0,0,0,0,0,0,0,0,0,0,0,0,0,0,0,0,0,0,0,0,0,0,0,0,0,0,0,0,0,0,0,0,0,0,0,0,0,0,0,0,0,0,0,0,0,0,0,0,0,0,0,0,0,0,0,0,0,0,0,0,{"$f":"IF(ABS(BT8)>$B$17,$B$17,ABS(BT8))","v":0},0,0,0,0,0,0,0,0,0,0,0,0,0,0,0,0,0,0,0,0,0,0,0,0,0,0,0,0,0,0,0,0,0,0,0,0,0,0,0,0,0,0,0,0,0]
[null,null,null,null,null,null,null,{"$f":"IF(ABS(H9)>$B$17,$B$17,ABS(H9))","v":0},0,0,0,0,0,0,0,0,0,0,0,0,0,0,0,0,0,0,0,0,0,0,0,0,0,0,0,0,0,0,0,0,0,0,0,0,0,0,0,0,0,0,0,0,0,0,0,0,0,0,0,0,0,0,0,0,0,0,0,0,0,0,0,{"$f":"IF(ABS(BT9)>$B$17,$B$17,ABS(BT9))","v":0},0,0,0,0,0,0,0,0,0,0,0,0,0,0,0,0,0,0,0,0,0,0,0,0,0,0,0,0,0,0,0,0,0,0,0,0,0,0,0,0,0,0,0,0,0]
[null,null,null,null,null,null,null,{"$f":"IF(ABS(H10)>$B$17,$B$17,ABS(H10))","v":0},0,0,0,0,0,0,0,0,0,0,0,0,0,0,0,0,0,0,0,0,0,0,0,0,0,0,0,0,0,0,0,0,0,0,0,0,0,0,0,0,0,0,0,0,0,0,0,0,0,0,0,0,0,0,0,0,0,0,0,0,0,0,0,{"$f":"IF(ABS(BT10)>$B$17,$B$17,ABS(BT10))","v":0},0,0,0,0,0,0,0,0,0,0,0,0,0,0,0,0,0,0,0,0,0,0,0,0,0,0,0,0,0,0,0,0,0,0,0,0,0,0,0,0,0,0,0,0,0]
[null,null,null,null,null,null,null,{"$f":"IF(ABS(H11)>$B$17,$B$17,ABS(H11))","v":0},0,0,0,0,0,0,0,0,0,0,0,0,0,0,0,0,0,0,0,0,0,0,0,0,0,0,0,0,0,0,0,0,0,0,0,0,0,0,0,0,0,0,0,0,0,0,0,0,0,0,0,0,0,0,0,0,0,0,0,0,0,0,0,{"$f":"IF(ABS(BT11)>$B$17,$B$17,ABS(BT11))","v":0},0,0,0,0,0,0,0,0,0,0,0,0,0,0,0,0,0,0,0,0,0,0,0,0,0,0,0,0,0,0,0,0,0,0,0,0,0,0,0,0,0,0,0,0,0]
[null,null,null,null,null,null,null,{"$f":"IF(ABS(H12)>$B$17,$B$17,ABS(H12))","v":0},0,0,0,0,0,0,0,0,0,0,0,0,0,0,0,0,0,0,0,0,0,0,0,0,0,0,0,0,0,0,0,0,0,0,0,0,0,0,0,0,0,0,0,0,0,0,0,0,0,0,0,0,0,0,0,0,0,0,0,0,0,0,0,{"$f":"IF(ABS(BT12)>$B$17,$B$17,ABS(BT12))","v":0},0,0,0,0,0,0,0,0,0,0,0,0,0,0,0,0,0,0,0,0,0,0,0,0,0,0,0,0,0,0,0,0,0,0,0,0,0,0,0,0,0,0,0,0,0]
[null,null,null,null,null,null,null,{"$f":"IF(ABS(H13)>$B$17,$B$17,ABS(H13))","v":0},0,0,0,0,0,0,0,0,0,0,0,0,0,0,0,0,0,0,0,0,0,0,0,0,0,0,0,0,0,0,0,0,0,0,0,0,0,0,0,0,0,0,0,0,0,0,0,0,0,0,0,0,0,0,0,0,0,0,0,0,0,0,0,{"$f":"IF(ABS(BT13)>$B$17,$B$17,ABS(BT13))","v":0},0,0,0,0,0,0,0,0,0,0,0,0,0,0,0,0,0,0,0,0,0,0,0,0,0,0,0,0,0,0,0,0,0,0,0,0,0,0,0,0,0,0,0,0,0]
[null,null,null,null,null,null,null,{"$f":"IF(ABS(H14)>$B$17,$B$17,ABS(H14))","v":0},0,0,0,0,0,0,0,0,0,0,0,0,0,0,0,0,0,0,0,0,0,0,0,0,0,0,0,0,0,0,0,0,0,0,0,0,0,0,0,0,0,0,0,0,0,0,0,0,0,0,0,0,0,0,0,0,0,0,0,0,0,0,0,{"$f":"IF(ABS(BT14)>$B$17,$B$17,ABS(BT14))","v":0},0,0,0,0,0,0,0,0,0,0,0,0,0,0,0,0,0,0,0,0,0,0,0,0,0,0,0,0,0,0,0,0,0,0,0,0,0,0,0,0,0,0,0,0,0]
[null,null,null,null,null,null,null,{"$f":"IF(ABS(H15)>$B$17,$B$17,ABS(H15))","v":0},0,0,0,0,0,0,0,0,0,0,0,0,0,0,0,0,0,0,0,0,0,0,0,0,0,0,0,0,0,0,0,0,0,0,0,0,0,0,0,0,0,0,0,0,0,0,0,0,0,0,0,0,0,0,0,0,0,0,0,0,0,0,0,{"$f":"IF(ABS(BT15)>$B$17,$B$17,ABS(BT15))","v":0},0,0,0,0,0,0,0,0,0,0,0,0,0,0,0,0,0,0,0,0,0,0,0,0,0,0,0,0,0,0,0,0,0,0,0,0,0,0,0,0,0,0,0,0,0]
[null,null,null,null,null,null,null,{"$f":"IF(ABS(H16)>$B$17,$B$17,ABS(H16))","v":0},0,0,0,0,0,0,0,0,0,0,0,0,0,0,0,0,0,0,0,0,0,0,0,0,0,0,0,0,0,0,0,0,0,0,0,0,0,0,0,0,0,0,0,0,0,0,0,0,0,0,0,0,0,0,0,0,0,0,0,0,0,0,0,{"$f":"IF(ABS(BT16)>$B$17,$B$17,ABS(BT16))","v":0},0,0,0,0,0,0,0,0,0,0,0,0,0,0,0,0,0,0,0,0,0,0,0,0,0,0,0,0,0,0,0,0,0,0,0,0,0,0,0,0,0,0,0,0,0]
[null,null,null,null,null,null,null,{"$f":"IF(ABS(H17)>$B$17,$B$17,ABS(H17))","v":0},0,0,0,0,0,0,0,0,0,0,0,0,0,0,0,0,0,0,0,0,0,0,0,0,0,0,0,0,0,0,0,0,0,0,0,0,0,0,0,0,0,0,0,0,0,0,0,0,0,0,0,0,0,0,0,0,0,0,0,0,0,0,0,{"$f":"IF(ABS(BT17)>$B$17,$B$17,ABS(BT17))","v":0},0,0,0,0,0,0,0,0,0,0,0,0,0,0,0,0,0,0,0,0,0,0,0,0,0,0,0,0,0,0,0,0,0,0,0,0,0,0,0,0,0,0,0,0,0]
[null,null,null,null,null,null,null,{"$f":"IF(ABS(H18)>$B$17,$B$17,ABS(H18))","v":0},0,0,0,0,0,0,0,0,0,0,0,0,0,0,0,0,0,0,0,0,0,0,0,0,0,0,0,0,0,0,0,0,0,0,0,0,0,0,0,0,0,0,0,0,0,0,0,0,0,0,0,0,0,0,0,0,0,0,0,0,0,0,0,{"$f":"IF(ABS(BT18)>$B$17,$B$17,ABS(BT18))","v":0},0,0,0,0,0,0,0,0,0,0,0,0,0,0,0,0,0,0,0,0,0,0,0,0,0,0,0,0,0,0,0,0,0,0,0,0,0,0,0,0,0,0,0,0,0]
[null,null,null,null,null,null,null,{"$f":"IF(ABS(H19)>$B$17,$B$17,ABS(H19))","v":0},0,0,0,0,0,0,0,0,0,0,0,0,0,0,0,0,0,0,0,0,0,0,0,0,0,0,0,0,0,0,0,0,0,0,0,0,0,0,0,0,0,0,0,0,0,0,0,0,0,0,0,0,0,0,0,0,0,0,0,0,0,0,0,{"$f":"IF(ABS(BT19)>$B$17,$B$17,ABS(BT19))","v":0},0,0,0,0,0,0,0,0,0,0,0,0,0,0,0,0,0,0,0,0,0,0,0,0,0,0,0,0,0,0,0,0,0,0,0,0,0,0,0,0,0,0,0,0,0]
[null,null,null,null,null,null,null,{"$f":"IF(ABS(H20)>$B$17,$B$17,ABS(H20))","v":0},0,0,0,0,0,0,0,0,0,0,0,0,0,0,0,0,0,0,0,0,0,0,0,0,0,0,0,0,0,0,0,0,0,0,0,0,0,0,0,0,0,0,0,0,0,0,0,0,0,0,0,0,0,0,0,0,0,0,0,0,0,0,0,{"$f":"IF(ABS(BT20)>$B$17,$B$17,ABS(BT20))","v":0},0,0,0,0,0,0,0,0,0,0,0,0,0,0,0,0,0,0,0,0,0,0,0,0,0,0,0,0,0,0,0,0,0,0,0,0,0,0,0,0,0,0,0,0,0]
[null,null,null,null,null,null,null,{"$f":"IF(ABS(H21)>$B$17,$B$17,ABS(H21))","v":0},0,0,0,0,0,0,0,0,0,0,0,0,0,0,0,0,0,0,0,0,0,0,0,0,0,0,0,0,0,0,0,0,0,0,0,0,0,0,0,0,0,0,0,0,0,0,0,0,0,0,0,0,0,0,0,0,0,0,0,0,0,0,0,{"$f":"IF(ABS(BT21)>$B$17,$B$17,ABS(BT21))","v":0},0,0,0,0,0,0,0,0,0,0,0,0,0,0,0,0,0,0,0,0,0,0,0,0,0,0,0,0,0,0,0,0,0,0,0,0,0,0,0,0,0,0,0,0,0]
[null,null,null,null,null,null,null,{"$f":"IF(ABS(H22)>$B$17,$B$17,ABS(H22))","v":0},0,0,0,0,0,0,0,0,0,0,0,0,0,0,0,0,0,0,0,0,0,0,0,0,0,0,0,0,0,0,0,0,0,0,0,0,0,0,0,0,0,0,0,0,0,0,0,0,0,0,0,0,0,0,0,0,0,0,0,0,0,0,0,{"$f":"IF(ABS(BT22)>$B$17,$B$17,ABS(BT22))","v":0},0,0,0,0,0,0,0,0,0,0,0,0,0,0,0,0,0,0,0,0,0,0,0,0,0,0,0,0,0,0,0,0,0,0,0,0,0,0,0,0,0,0,0,0,0]
[null,null,null,null,null,null,null,{"$f":"IF(ABS(H23)>$B$17,$B$17,ABS(H23))","v":0},0,0,0,0,0,0,0,0,0,0,0,0,0,0,0,0,0,0,0,0,0,0,0,0,0,0,0,0,0,0,0,0,0,0,0,0,0,0,0,0,0,0,0,0,0,0,0,0,0,0,0,0,0,0,0,0,0,0,0,0,0,0,0,{"$f":"IF(ABS(BT23)>$B$17,$B$17,ABS(BT23))","v":0},0,0,0,0,0,0,0,0,0,0,0,0,0,0,0,0,0,0,0,0,0,0,0,0,0,0,0,0,0,0,0,0,0,0,0,0,0,0,0,0,0,0,0,0,0]
[null,null,null,null,null,null,null,{"$f":"IF(ABS(H24)>$B$17,$B$17,ABS(H24))","v":0},0,0,0,0,0,0,0,0,0,0,0,0,0,0,0,0,0,0,0,0,0,0,0,0,0,0,0,0,0,0,0,0,0,0,0,0,0,0,0,0,0,0,0,0,0,0,0,0,0,0,0,0,0,0,0,0,0,0,0,0,0,0,0,{"$f":"IF(ABS(BT24)>$B$17,$B$17,ABS(BT24))","v":0},0,0,0,0,0,0,0,0,0,0,0,0,0,0,0,0,0,0,0,0,0,0,0,0,0,0,0,0,0,0,0,0,0,0,0,0,0,0,0,0,0,0,0,0,0]
[null,null,null,null,null,null,null,{"$f":"IF(ABS(H25)>$B$17,$B$17,ABS(H25))","v":0},0,0,0,0,0,0,0,0,0,0,0,0,0,0,0,0,0,0,0,0,0,0,0,0,0,0,0,0,0,0,0,0,0,0,0,0,0,0,0,0,0,0,0,0,0,0,0,0,0,0,0,0,0,0,0,0,0,0,0,0,0,0,0,{"$f":"IF(ABS(BT25)>$B$17,$B$17,ABS(BT25))","v":0},0,0,0,0,0,0,0,0,0,0,0,0,0,0,0,0,0,0,0,0,0,0,0,0,0,0,0,0,0,0,0,0,0,0,0,0,0,0,0,0,0,0,0,0,0]
[null,null,null,null,null,null,null,{"$f":"IF(ABS(H26)>$B$17,$B$17,ABS(H26))","v":0},0,0,0,0,0,0,0,0,0,0,0,0,0,0,0,0,0,0,0,0,0,0,0,0,0,0,0,0,0,0,0,0,0,0,0,0,0,0,0,0,0,0,0,0,0,0,0,0,0,0,0,0,0,0,0,0,0,0,0,0,0,0,0,{"$f":"IF(ABS(BT26)>$B$17,$B$17,ABS(BT26))","v":0},0,0,0,0,0,0,0,0,0,0,0,0,0,0,0,0,0,0,0,0,0,0,0,0,0,0,0,0,0,0,0,0,0,0,0,0,0,0,0,0,0,0,0,0,0]
[null,null,null,null,null,null,null,{"$f":"IF(ABS(H27)>$B$17,$B$17,ABS(H27))","v":0},0,0,0,0,0,0,0,0,0,0,0,0,0,0,0,0,0,0,0,0,0,0,0,0,0,0,0,0,0,0,0,0,0,0,0,0,0,0,0,0,0,0,0,0,0,0,0,0,0,0,0,0,0,0,0,0,0,0,0,0,0,0,0,{"$f":"IF(ABS(BT27)>$B$17,$B$17,ABS(BT27))","v":0},0,0,0,0,0,0,0,0,0,0,0,0,0,0,0,0,0,0,0,0,0,0,0,0,0,0,0,0,0,0,0,0,0,0,0,0,0,0,0,0,0,0,0,0,0]
[null,null,null,null,null,null,null,{"$f":"IF(ABS(H28)>$B$17,$B$17,ABS(H28))","v":0},0,0,0,0,0,0,0,0,0,0,0,0,0,0,0,0,0,0,0,0,0,0,0,0,0,0,0,0,0,0,0,0,0,0,0,0,0,0,0,0,0,0,0,0,0,0,0,0,0,0,0,0,0,0,0,0,0,0,0,0,0,0,0,{"$f":"IF(ABS(BT28)>$B$17,$B$17,ABS(BT28))","v":0},0,0,0,0,0,0,0,0,0,0,0,0,0,0,0,0,0,0,0,0,0,0,0,0,0,0,0,0,0,0,0,0,0,0,0,0,0,0,0,0,0,0,0,0,0]
[null,null,null,null,null,null,null,{"$f":"IF(ABS(H29)>$B$17,$B$17,ABS(H29))","v":0},0,0,0,0,0,0,0,0,0,0,0,0,0,0,0,0,0,0,0,0,0,0,0,0,0,0,0,0,0,0,0,0,0,0,0,0,0,0,0,0,0,0,0,0,0,0,0,0,0,0,0,0,0,0,0,0,0,0,0,0,0,0,0,{"$f":"IF(ABS(BT29)>$B$17,$B$17,ABS(BT29))","v":0},0,0,0,0,0,0,0,0,0,0,0,0,0,0,0,0,0,0,0,0,0,0,0,0,0,0,0,0,0,0,0,0,0,0,0,0,0,0,0,0,0,0,0,0,0]
[null,null,null,null,null,null,null,{"$f":"IF(ABS(H30)>$B$17,$B$17,ABS(H30))","v":0},0,0,0,0,0,0,0,0,0,0,0,0,0,0,0,0,0,0,0,0,0,0,0,0,0,0,0,0,0,0,0,0,0,0,0,0,0,0,0,0,0,0,0,0,0,0,0,0,0,0,0,0,0,0,0,0,0,0,0,0,0,0,0,{"$f":"IF(ABS(BT30)>$B$17,$B$17,ABS(BT30))","v":0},0,0,0,0,0,0,0,0,0,0,0,0,0,0,0,0,0,0,0,0,0,0,0,0,0,0,0,0,0,0,0,0,0,0,0,0,0,0,0,0,0,0,0,0,0]
[null,null,null,null,null,null,null,{"$f":"IF(ABS(H31)>$B$17,$B$17,ABS(H31))","v":0},0,0,0,0,0,0,0,0,0,0,0,0,0,0,0,0,0,0,0,0,0,0,0,0,0,0,0,0,0,0,0,0,0,0,0,0,0,0,0,0,0,0,0,0,0,0,0,0,0,0,0,0,0,0,0,0,0,0,0,0,0,0,0,{"$f":"IF(ABS(BT31)>$B$17,$B$17,ABS(BT31))","v":0},0,0,0,0,0,0,0,0,0,0,0,0,0,0,0,0,0,0,0,0,0,0,0,0,0,0,0,0,0,0,0,0,0,0,0,0,0,0,0,0,0,0,0,0,0]
[null,null,null,null,null,null,null,{"$f":"IF(ABS(H32)>$B$17,$B$17,ABS(H32))","v":0},0,0,0,0,0,0,0,0,0,0,0,0,0,0,0,0,0,0,0,0,0,0,0,0,0,0,0,0,0,0,0,0,0,0,0,0,0,0,0,0,0,0,0,0,0,0,0,0,0,0,0,0,0,0,0,0,0,0,0,0,0,0,0,{"$f":"IF(ABS(BT32)>$B$17,$B$17,ABS(BT32))","v":0},0,0,0,0,0,0,0,0,0,0,0,0,0,0,0,0,0,0,0,0,0,0,0,0,0,0,0,0,0,0,0,0,0,0,0,0,0,0,0,0,0,0,0,0,0]
[null,null,null,null,null,null,null,{"$f":"IF(ABS(H33)>$B$17,$B$17,ABS(H33))","v":0},0,0,0,0,0,0,0,0,0,0,0,0,0,0,0,0,0,0,0,0,0,0,0,0,0,0,0,0,0,0,0,0,0,0,0,0,0,0,0,0,0,0,0,0,0,0,0,0,0,0,0,0,0,0,0,0,0,0,0,0,0,0,0,{"$f":"IF(ABS(BT33)>$B$17,$B$17,ABS(BT33))","v":0},0,0,0,0,0,0,0,0,0,0,0,0,0,0,0,0,0,0,0,0,0,0,0,0,0,0,0,0,0,0,0,0,0,0,0,0,0,0,0,0,0,0,0,0,0]
[null,null,null,null,null,null,null,{"$f":"IF(ABS(H34)>$B$17,$B$17,ABS(H34))","v":0},0,0,0,0,0,0,0,0,0,0,0,0,0,0,0,0,0,0,0,0,0,0,0,0,0,0,0,0,0,0,0,0,0,0,0,0,0,0,0,0,0,0,0,0,0,0,0,0,0,0,0,0,0,0,0,0,0,0,0,0,0,0,0,{"$f":"IF(ABS(BT34)>$B$17,$B$17,ABS(BT34))","v":0},0,0,0,0,0,0,0,0,0,0,0,0,0,0,0,0,0,0,0,0,0,0,0,0,0,0,0,0,0,0,0,0,0,0,0,0,0,0,0,0,0,0,0,0,0]
[null,null,null,null,null,null,null,{"$f":"IF(ABS(H35)>$B$17,$B$17,ABS(H35))","v":0},0,0,0,0,0,0,0,0,0,0,0,0,0,0,0,0,0,0,0,0,0,0,0,0,0,0,0,0,0,0,0,0,0,0,0,0,0,0,0,0,0,0,0,0,0,0,0,0,0,0,0,0,0,0,0,0,0,0,0,0,0,0,0,{"$f":"IF(ABS(BT35)>$B$17,$B$17,ABS(BT35))","v":0},0,0,0,0,0,0,0,0,0,0,0,0,0,0,0,0,0,0,0,0,0,0,0,0,0,0,0,0,0,0,0,0,0,0,0,0,0,0,0,0,0,0,0,0,0]
[null,null,null,null,null,null,null,{"$f":"IF(ABS(H36)>$B$17,$B$17,ABS(H36))","v":0},0,0,0,0,0,0,0,0,0,0,0,0,0,0,0,0,0,0,0,0,0,0,0,0,0,0,0,0,0,0,0,0,0,0,0,0,0,0,0,0,0,0,0,0,0,0,0,0,0,0,0,0,0,0,0,0,0,0,0,0,0,0,0,{"$f":"IF(ABS(BT36)>$B$17,$B$17,ABS(BT36))","v":0},0,0,0,0,0,0,0,0,0,0,0,0,0,0,0,0,0,0,0,0,0,0,0,0,0,0,0,0,0,0,0,0,0,0,0,0,0,0,0,0,0,0,0,0,0]
[null,null,null,null,null,null,null,{"$f":"IF(ABS(H37)>$B$17,$B$17,ABS(H37))","v":0},0,0,0,0,0,0,0,0,0,0,0,0,0,0,0,0,0,0,0,0,0,0,0,0,0,0,0,0,0,0,0,0,0,0,0,0,0,0,0,0,0,0,0,0,0,0,0,0,0,0,0,0,0,0,0,0,0,0,0,0,0,0,0,{"$f":"IF(ABS(BT37)>$B$17,$B$17,ABS(BT37))","v":0},0,0,0,0,0,0,0,0,0,0,0,0,0,0,0,0,0,0,0,0,0,0,0,0,0,0,0,0,0,0,0,0,0,0,0,0,0,0,0,0,0,0,0,0,0]
[null,null,null,null,null,null,null,{"$f":"IF(ABS(H38)>$B$17,$B$17,ABS(H38))","v":0},0,0,0,0,0,0,0,0,0,0,0,0,0,0,0,0,0,0,0,0,0,0,0,0,0,0,0,0,0,0,0,0,0,0,0,0,0,0,0,0,0,0,0,0,0,0,0,0,0,0,0,0,0,0,0,0,0,0,0,0,0,0,0,{"$f":"IF(ABS(BT38)>$B$17,$B$17,ABS(BT38))","v":0},0,0,0,0,0,0,0,0,0,0,0,0,0,0,0,0,0,0,0,0,0,0,0,0,0,0,0,0,0,0,0,0,0,0,0,0,0,0,0,0,0,0,0,0,0]
[null,null,null,null,null,null,null,{"$f":"IF(ABS(H39)>$B$17,$B$17,ABS(H39))","v":0},0,0,0,0,0,0,0,0,0,0,0,0,0,0,0,0,0,0,0,0,0,0,0,0,0,0,0,0,0,0,0,0,0,0,0,0,0,0,0,0,0,0,0,0,0,0,0,0,0,0,0,0,0,0,0,0,0,0,0,0,0,0,0,{"$f":"IF(ABS(BT39)>$B$17,$B$17,ABS(BT39))","v":0},0,0,0,0,0,0,0,0,0,0,0,0,0,0,0,0,0,0,0,0,0,0,0,0,0,0,0,0,0,0,0,0,0,0,0,0,0,0,0,0,0,0,0,0,0]
[null,null,null,null,null,null,null,{"$f":"IF(ABS(H40)>$B$17,$B$17,ABS(H40))","v":0},0,0,0,0,0,0,0,0,0,0,0,0,0,0,0,0,0,0,0,0,0,0,0,0,0,0,0,0,0,0,0,0,0,0,0,0,0,0,0,0,0,0,0,0,0,0,0,0,0,0,0,0,0,0,0,0,0,0,0,0,0,0,0,{"$f":"IF(ABS(BT40)>$B$17,$B$17,ABS(BT40))","v":0},0,0,0,0,0,0,0,0,0,0,0,0,0,0,0,0,0,0,0,0,0,0,0,0,0,0,0,0,0,0,0,0,0,0,0,0,0,0,0,0,0,0,0,0,0]
[null,null,null,null,null,null,null,{"$f":"IF(ABS(H41)>$B$17,$B$17,ABS(H41))","v":0},0,0,0,0,0,0,0,0,0,0,0,0,0,0,0,0,0,0,0,0,0,0,0,0,0,0,0,0,0,0,0,0,0,0,0,0,0,0,0,0,0,0,0,0,0,0,0,0,0,0,0,0,0,0,0,0,0,0,0,0,0,0,0,{"$f":"IF(ABS(BT41)>$B$17,$B$17,ABS(BT41))","v":0},0,0,0,0,0,0,0,0,0,0,0,0,0,0,0,0,0,0,0,0,0,0,0,0,0,0,0,0,0,0,0,0,0,0,0,0,0,0,0,0,0,0,0,0,0]
[null,null,null,null,null,null,null,{"$f":"IF(ABS(H42)>$B$17,$B$17,ABS(H42))","v":0},0,0,0,0,0,0,0,0,0,0,0,0,0,0,0,0,0,0,0,0,0,0,0,0,0,0,0,0,0,0,0,0,0,0,0,0,0,0,0,0,0,0,0,0,0,0,0,0,0,0,0,0,0,0,0,0,0,0,0,0,0,0,0,{"$f":"IF(ABS(BT42)>$B$17,$B$17,ABS(BT42))","v":0},0,0,0,0,0,0,0,0,0,0,0,0,0,0,0,0,0,0,0,0,0,0,0,0,0,0,0,0,0,0,0,0,0,0,0,0,0,0,0,0,0,0,0,0,0]
[null,null,null,null,null,null,null,{"$f":"IF(ABS(H43)>$B$17,$B$17,ABS(H43))","v":0},0,0,0,0,0,0,0,0,0,0,0,0,0,0,0,0,0,0,0,0,0,0,0,0,0,0,0,0,0,0,0,0,0,0,0,0,0,0,0,0,0,0,0,0,0,0,0,0,0,0,0,0,0,0,0,0,0,0,0,0,0,0,0,{"$f":"IF(ABS(BT43)>$B$17,$B$17,ABS(BT43))","v":0},0,0,0,0,0,0,0,0,0,0,0,0,0,0,0,0,0,0,0,0,0,0,0,0,0,0,0,0,0,0,0,0,0,0,0,0,0,0,0,0,0,0,0,0,0]
[null,null,null,null,null,null,null,{"$f":"IF(ABS(H44)>$B$17,$B$17,ABS(H44))","v":0},0,0,0,0,0,0,0,0,0,0,0,0,0,0,0,0,0,0,0,0,0,0,0,0,0,0,0,0,0,0,0,0,0,0,0,0,0,0,0,0,0,0,0,0,0,0,0,0,0,0,0,0,0,0,0,0,0,0,0,0,0,0,0,{"$f":"IF(ABS(BT44)>$B$17,$B$17,ABS(BT44))","v":0},0,0,0,0,0,0,0,0,0,0,0,0,0,0,0,0,0,0,0,0,0,0,0,0,0,0,0,0,0,0,0,0,0,0,0,0,0,0,0,0,0,0,0,0,0]
[null,null,null,null,null,null,null,{"$f":"IF(ABS(H45)>$B$17,$B$17,ABS(H45))","v":0},0,0,0,0,0,0,0,0,0,0,0,0,0,0,0,0,0,0,0,0,0,0,0,0,0,0,0,0,0,0,0,0,0,0,0,0,0,0,0,0,0,0,0,0,0,0,0,0,0,0,0,0,0,0,0,0,0,0,0,0,0,0,0,{"$f":"IF(ABS(BT45)>$B$17,$B$17,ABS(BT45))","v":0},0,0,0,0,0,0,0,0,0,0,0,0,0,0,0,0,0,0,0,0,0,0,0,0,0,0,0,0,0,0,0,0,0,0,0,0,0,0,0,0,0,0,0,0,0]
[null,null,null,null,null,null,null,{"$f":"IF(ABS(H46)>$B$17,$B$17,ABS(H46))","v":0},0,0,0,0,0,0,0,0,0,0,0,0,0,0,0,0,0,0,0,0,0,0,0,0,0,0,0,0,0,0,0,0,0,0,0,0,0,0,0,0,0,0,0,0,0,0,0,0,0,0,0,0,0,0,0,0,0,0,0,0,0,0,0,{"$f":"IF(ABS(BT46)>$B$17,$B$17,ABS(BT46))","v":0},0,0,0,0,0,0,0,0,0,0,0,0,0,0,0,0,0,0,0,0,0,0,0,0,0,0,0,0,0,0,0,0,0,0,0,0,0,0,0,0,0,0,0,0,0]
[null,null,null,null,null,null,null,{"$f":"IF(ABS(H47)>$B$17,$B$17,ABS(H47))","v":0},0,0,0,0,0,0,0,0,0,0,0,0,0,0,0,0,0,0,0,0,0,0,0,0,0,0,0,0,0,0,0,0,0,0,0,0,0,0,0,0,0,0,0,0,0,0,0,0,0,0,0,0,0,0,0,0,0,0,0,0,0,0,0,{"$f":"IF(ABS(BT47)>$B$17,$B$17,ABS(BT47))","v":0},0,0,0,0,0,0,0,0,0,0,0,0,0,0,0,0,0,0,0,0,0,0,0,0,0,0,0,0,0,0,0,0,0,0,0,0,0,0,0,0,0,0,0,0,0]
[null,null,null,null,null,null,null,{"$f":"IF(ABS(H48)>$B$17,$B$17,ABS(H48))","v":0},0,0,0,0,0,0,0,0,0,0,0,0,0,0,0,0,0,0,0,0,0,0,0,0,0,0,0,0,0,0,0,0,0,0,0,0,0,0,0,0,0,0,0,0,0,0,0,0,0,0,0,0,0,0,0,0,0,0,0,0,0,0,0,{"$f":"IF(ABS(BT48)>$B$17,$B$17,ABS(BT48))","v":0},0,0,0,0,0,0,0,0,0,0,0,0,0,0,0,0,0,0,0,0,0,0,0,0,0,0,0,0,0,0,0,0,0,0,0,0,0,0,0,0,0,0,0,0,0]
[null,null,null,null,null,null,null,{"$f":"IF(ABS(H49)>$B$17,$B$17,ABS(H49))","v":0},0,0,0,0,0,0,0,0,0,0,0,0,0,0,0,0,0,0,0,0,0,0,0,0,0,0,0,0,0,0,0,0,0,0,0,0,0,0,0,0,0,0,0,0,0,0,0,0,0,0,0,0,0,0,0,0,0,0,0,0,0,0,0,{"$f":"IF(ABS(BT49)>$B$17,$B$17,ABS(BT49))","v":0},0,0,0,0,0,0,0,0,0,0,0,0,0,0,0,0,0,0,0,0,0,0,0,0,0,0,0,0,0,0,0,0,0,0,0,0,0,0,0,0,0,0,0,0,0]
[null,null,null,null,null,null,null,{"$f":"IF(ABS(H50)>$B$17,$B$17,ABS(H50))","v":0},0,0,0,0,0,0,0,0,0,0,0,0,0,0,0,0,0,0,0,0,0,0,0,0,0,0,0,0,0,0,0,0,0,0,0,0,0,0,0,0,0,0,0,0,0,0,0,0,0,0,0,0,0,0,0,0,0,0,0,0,0,0,0,{"$f":"IF(ABS(BT50)>$B$17,$B$17,ABS(BT50))","v":0},0,0,0,0,0,0,0,0,0,0,0,0,0,0,0,0,0,0,0,0,0,0,0,0,0,0,0,0,0,0,0,0,0,0,0,0,0,0,0,0,0,0,0,0,0]
[null,null,null,null,null,null,null,{"$f":"IF(ABS(H51)>$B$17,$B$17,ABS(H51))","v":0},0,0,0,0,0,0,0,0,0,0,0,0,0,0,0,0,0,0,0,0,0,0,0,0,0,0,0,0,0,0,0,0,0,0,0,0,0,0,0,0,0,0,0,0,0,0,0,0,0,0,0,0,0,0,0,0,0,0,0,0,0,0,0,{"$f":"IF(ABS(BT51)>$B$17,$B$17,ABS(BT51))","v":0},0,0,0,0,0,0,0,0,0,0,0,0,0,0,0,0,0,0,0,0,0,0,0,0,0,0,0,0,0,0,0,0,0,0,0,0,0,0,0,0,0,0,0,0,0]
[null,null,null,null,null,null,null,{"$f":"IF(ABS(H52)>$B$17,$B$17,ABS(H52))","v":0},0,0,0,0,0,0,0,0,0,0,0,0,0,0,0,0,0,0,0,0,0,0,0,0,0,0,0,0,0,0,0,0,0,0,0,0,0,0,0,0,0,0,0,0,0,0,0,0,0,0,0,0,0,0,0,0,0,0,0,0,0,0,0,{"$f":"IF(ABS(BT52)>$B$17,$B$17,ABS(BT52))","v":0},0,0,0,0,0,0,0,0,0,0,0,0,0,0,0,0,0,0,0,0,0,0,0,0,0,0,0,0,0,0,0,0,0,0,0,0,0,0,0,0,0,0,0,0,0]
[null,null,null,null,null,null,null,{"$f":"IF(ABS(H53)>$B$17,$B$17,ABS(H53))","v":0},0,0,0,0,0,0,0,0,0,0,0,0,0,0,0,0,0,0,0,0,0,0,0,0,0,0,0,0,0,0,0,0,0,0,0,0,0,0,0,0,0,0,0,0,0,0,0,0,0,0,0,0,0,0,0,0,0,0,0,0,0,0,0,{"$f":"IF(ABS(BT53)>$B$17,$B$17,ABS(BT53))","v":0},0,0,0,0,0,0,0,0,0,0,0,0,0,0,0,0,0,0,0,0,0,0,0,0,0,0,0,0,0,0,0,0,0,0,0,0,0,0,0,0,0,0,0,0,0]
[null,null,null,null,null,null,null,{"$f":"IF(ABS(H54)>$B$17,$B$17,ABS(H54))","v":0},0,0,0,0,0,0,0,0,0,0,0,0,0,0,0,0,0,0,0,0,0,0,0,0,0,0,0,0,0,0,0,0,0,0,0,0,0,0,0,0,0,0,0,0,0,0,0,0,0,0,0,0,0,0,0,0,0,0,0,0,0,0,0,{"$f":"IF(ABS(BT54)>$B$17,$B$17,ABS(BT54))","v":0},0,0,0,0,0,0,0,0,0,0,0,0,0,0,0,0,0,0,0,0,0,0,0,0,0,0,0,0,0,0,0,0,0,0,0,0,0,0,0,0,0,0,0,0,0]
[null,null,null,null,null,null,null,{"$f":"IF(ABS(H55)>$B$17,$B$17,ABS(H55))","v":0},0,0,0,0,0,0,0,0,0,0,0,0,0,0,0,0,0,0,0,0,0,0,0,0,0,0,0,0,0,0,0,0,0,0,0,0,0,0,0,0,0,0,0,0,0,0,0,0,0,0,0,0,0,0,0,0,0,0,0,0,0,0,0,{"$f":"IF(ABS(BT55)>$B$17,$B$17,ABS(BT55))","v":0},0,0,0,0,0,0,0,0,0,0,0,0,0,0,0,0,0,0,0,0,0,0,0,0,0,0,0,0,0,0,0,0,0,0,0,0,0,0,0,0,0,0,0,0,0]
[null,null,null,null,null,null,null,{"$f":"IF(ABS(H56)>$B$17,$B$17,ABS(H56))","v":0},0,0,0,0,0,0,0,0,0,0,0,0,0,0,0,0,0,0,0,0,0,0,0,0,0,0,0,0,0,0,0,0,0,0,0,0,0,0,0,0,0,0,0,0,0,0,0,0,0,0,0,0,0,0,0,0,0,0,0,0,0,0,0,{"$f":"IF(ABS(BT56)>$B$17,$B$17,ABS(BT56))","v":0},0,0,0,0,0,0,0,0,0,0,0,0,0,0,0,0,0,0,0,0,0,0,0,0,0,0,0,0,0,0,0,0,0,0,0,0,0,0,0,0,0,0,0,0,0]
[null,null,null,null,null,null,null,{"$f":"IF(ABS(H57)>$B$17,$B$17,ABS(H57))","v":0},0,0,0,0,0,0,0,0,0,0,0,0,0,0,0,0,0,0,0,0,0,0,0,0,0,0,0,0,0,0,0,0,0,0,0,0,0,0,0,0,0,0,0,0,0,0,0,0,0,0,0,0,0,0,0,0,0,0,0,0,0,0,0,{"$f":"IF(ABS(BT57)>$B$17,$B$17,ABS(BT57))","v":0},0,0,0,0,0,0,0,0,0,0,0,0,0,0,0,0,0,0,0,0,0,0,0,0,0,0,0,0,0,0,0,0,0,0,0,0,0,0,0,0,0,0,0,0,0]
[null,null,null,null,null,null,null,{"$f":"IF(ABS(H58)>$B$17,$B$17,ABS(H58))","v":0},0,0,0,0,0,0,0,0,0,0,0,0,0,0,0,0,0,0,0,0,0,0,0,0,0,0,0,0,0,0,0,0,0,0,0,0,0,0,0,0,0,0,0,0,0,0,0,0,0,0,0,0,0,0,0,0,0,0,0,0,0,0,0,{"$f":"IF(ABS(BT58)>$B$17,$B$17,ABS(BT58))","v":0},0,0,0,0,0,0,0,0,0,0,0,0,0,0,0,0,0,0,0,0,0,0,0,0,0,0,0,0,0,0,0,0,0,0,0,0,0,0,0,0,0,0,0,0,0]
[null,null,null,null,null,null,null,{"$f":"IF(ABS(H59)>$B$17,$B$17,ABS(H59))","v":0},0,0,0,0,0,0,0,0,0,0,0,0,0,0,0,0,0,0,0,0,0,0,0,0,0,0,0,0,0,0,0,0,0,0,0,0,0,0,0,0,0,0,0,0,0,0,0,0,0,0,0,0,0,0,0,0,0,0,0,0,0,0,0,{"$f":"IF(ABS(BT59)>$B$17,$B$17,ABS(BT59))","v":0},0,0,0,0,0,0,0,0,0,0,0,0,0,0,0,0,0,0,0,0,0,0,0,0,0,0,0,0,0,0,0,0,0,0,0,0,0,0,0,0,0,0,0,0,0]
[null,null,null,null,null,null,null,{"$f":"IF(ABS(H60)>$B$17,$B$17,ABS(H60))","v":0},0,0,0,0,0,0,0,0,0,0,0,0,0,0,0,0,0,0,0,0,0,0,0,0,0,0,0,0,0,0,0,0,0,0,0,0,0,0,0,0,0,0,0,0,0,0,0,0,0,0,0,0,0,0,0,0,0,0,0,0,0,0,0,{"$f":"IF(ABS(BT60)>$B$17,$B$17,ABS(BT60))","v":0},0,0,0,0,0,0,0,0,0,0,0,0,0,0,0,0,0,0,0,0,0,0,0,0,0,0,0,0,0,0,0,0,0,0,0,0,0,0,0,0,0,0,0,0,0]
[null,null,null,null,null,null,null,{"$f":"IF(ABS(H61)>$B$17,$B$17,ABS(H61))","v":0},0,0,0,0,0,0,0,0,0,0,0,0,0,0,0,0,0,0,0,0,0,0,0,0,0,0,0,0,0,0,0,0,0,0,0,0,0,0,0,0,0,0,0,0,0,0,0,0,0,0,0,0,0,0,0,0,0,0,0,0,0,0,0,{"$f":"IF(ABS(BT61)>$B$17,$B$17,ABS(BT61))","v":0},0,0,0,0,0,0,0,0,0,0,0,0,0,0,0,0,0,0,0,0,0,0,0,0,0,0,0,0,0,0,0,0,0,0,0,0,0,0,0,0,0,0,0,0,0]
[null,null,null,null,null,null,null,{"$f":"IF(ABS(H62)>$B$17,$B$17,ABS(H62))","v":0},0,0,0,0,0,0,0,0,0,0,0,0,0,0,0,0,0,0,0,0,0,0,0,0,0,0,0,0,0,0,0,0,0,0,0,0,0,0,0,0,0,0,0,0,0,0,0,0,0,0,0,0,0,0,0,0,0,0,0,0,0,0,0,{"$f":"IF(ABS(BT62)>$B$17,$B$17,ABS(BT62))","v":0},0,0,0,0,0,0,0,0,0,0,0,0,0,0,0,0,0,0,0,0,0,0,0,0,0,0,0,0,0,0,0,0,0,0,0,0,0,0,0,0,0,0,0,0,0]
[null,null,null,null,null,null,null,{"$f":"IF(ABS(H63)>$B$17,$B$17,ABS(H63))","v":0},0,0,0,0,0,0,0,0,0,0,0,0,0,0,0,0,0,0,0,0,0,0,0,0,0,0,0,0,0,0,0,0,0,0,0,0,0,0,0,0,0,0,0,0,0,0,0,0,0,0,0,0,0,0,0,0,0,0,0,0,0,0,0,{"$f":"IF(ABS(BT63)>$B$17,$B$17,ABS(BT63))","v":0},0,0,0,0,0,0,0,0,0,0,0,0,0,0,0,0,0,0,0,0,0,0,0,0,0,0,0,0,0,0,0,0,0,0,0,0,0,0,0,0,0,0,0,0,0]
[null,null,null,null,null,null,null,{"$f":"IF(ABS(H64)>$B$17,$B$17,ABS(H64))","v":0},0,0,0,0,0,0,0,0,0,0,0,0,0,0,0,0,0,0,0,0,0,0,0,0,0,0,0,0,0,0,0,0,0,0,0,0,0,0,0,0,0,0,0,0,0,0,0,0,0,0,0,0,0,0,0,0,0,0,0,0,0,0,0,{"$f":"IF(ABS(BT64)>$B$17,$B$17,ABS(BT64))","v":0},0,0,0,0,0,0,0,0,0,0,0,0,0,0,0,0,0,0,0,0,0,0,0,0,0,0,0,0,0,0,0,0,0,0,0,0,0,0,0,0,0,0,0,0,0]
[null,null,null,null,null,null,null,{"$f":"IF(ABS(H65)>$B$17,$B$17,ABS(H65))","v":0},0,0,0,0,0,0,0,0,0,0,0,0,0,0,0,0,0,0,0,0,0,0,0,0,0,0,0,0,0,0,0,0,0,0,0,0,0,0,0,0,0,0,0,0,0,0,0,0,0,0,0,0,0,0,0,0,0,0,0,0,0,0,0,{"$f":"IF(ABS(BT65)>$B$17,$B$17,ABS(BT65))","v":0},0,0,0,0,0,0,0,0,0,0,0,0,0,0,0,0,0,0,0,0,0,0,0,0,0,0,0,0,0,0,0,0,0,0,0,0,0,0,0,0,0,0,0,0,0]
[null,null,null,null,null,null,null,{"$f":"IF(ABS(H66)>$B$17,$B$17,ABS(H66))","v":0},0,0,0,0,0,0,0,0,0,0,0,0,0,0,0,0,0,0,0,0,0,0,0,0,0,0,0,0,0,0,0,0,0,0,0,0,0,0,0,0,0,0,0,0,0,0,0,0,0,0,0,0,0,0,0,0,0,0,0,0,0,0,0,{"$f":"IF(ABS(BT66)>$B$17,$B$17,ABS(BT66))","v":0},0,0,0,0,0,0,0,0,0,0,0,0,0,0,0,0,0,0,0,0,0,0,0,0,0,0,0,0,0,0,0,0,0,0,0,0,0,0,0,0,0,0,0,0,0]
[null,null,null,null,null,null,null,{"$f":"IF(ABS(H67)>$B$17,$B$17,ABS(H67))","v":0},0,0,0,0,0,0,0,0,0,0,0,0,0,0,0,0,0,0,0,0,0,0,0,0,0,0,0,0,0,0,0,0,0,0,0,0,0,0,0,0,0,0,0,0,0,0,0,0,0,0,0,0,0,0,0,0,0,0,0,0,0,0,0,{"$f":"IF(ABS(BT67)>$B$17,$B$17,ABS(BT67))","v":0},0,0,0,0,0,0,0,0,0,0,0,0,0,0,0,0,0,0,0,0,0,0,0,0,0,0,0,0,0,0,0,0,0,0,0,0,0,0,0,0,0,0,0,0,0]
[null,null,null,null,null,null,null,{"$f":"IF(ABS(H68)>$B$17,$B$17,ABS(H68))","v":0},0,0,0,0,0,0,0,0,0,0,0,0,0,0,0,0,0,0,0,0,0,0,0,0,0,0,0,0,0,0,0,0,0,0,0,0,0,0,0,0,0,0,0,0,0,0,0,0,0,0,0,0,0,0,0,0,0,0,0,0,0,0,0,{"$f":"IF(ABS(BT68)>$B$17,$B$17,ABS(BT68))","v":0},0,0,0,0,0,0,0,0,0,0,0,0,0,0,0,0,0,0,0,0,0,0,0,0,0,0,0,0,0,0,0,0,0,0,0,0,0,0,0,0,0,0,0,0,0]
[null,null,null,null,null,null,null,{"$f":"IF(ABS(H69)>$B$17,$B$17,ABS(H69))","v":0},0,0,0,0,0,0,0,0,0,0,0,0,0,0,0,0,0,0,0,0,0,0,0,0,0,0,0,0,0,0,0,0,0,0,0,0,0,0,0,0,0,0,0,0,0,0,0,0,0,0,0,0,0,0,0,0,0,0,0,0,0,0,0,{"$f":"IF(ABS(BT69)>$B$17,$B$17,ABS(BT69))","v":0},0,0,0,0,0,0,0,0,0,0,0,0,0,0,0,0,0,0,0,0,0,0,0,0,0,0,0,0,0,0,0,0,0,0,0,0,0,0,0,0,0,0,0,0,0]
[null,null,null,null,null,null,null,{"$f":"IF(ABS(H70)>$B$17,$B$17,ABS(H70))","v":0},0,0,0,0,0,0,0,0,0,0,0,0,0,0,0,0,0,0,0,0,0,0,0,0,0,0,0,0,0,0,0,0,0,0,0,0,0,0,0,0,0,0,0,0,0,0,0,0,0,0,0,0,0,0,0,0,0,0,0,0,0,0,0,{"$f":"IF(ABS(BT70)>$B$17,$B$17,ABS(BT70))","v":0},0,0,0,0,0,0,0,0,0,0,0,0,0,0,0,0,0,0,0,0,0,0,0,0,0,0,0,0,0,0,0,0,0,0,0,0,0,0,0,0,0,0,0,0,0]
[null,null,null,null,null,null,null,{"$f":"IF(ABS(H71)>$B$17,$B$17,ABS(H71))","v":0},0,0,0,0,0,0,0,0,0,0,0,0,0,0,0,0,0,0,0,0,0,0,0,0,0,0,0,0,0,0,0,0,0,0,0,0,0,0,0,0,0,0,0,0,0,0,0,0,0,0,0,0,0,0,0,0,0,0,0,0,0,0,0,{"$f":"IF(ABS(BT71)>$B$17,$B$17,ABS(BT71))","v":0},0,0,0,0,0,0,0,0,0,0,0,0,0,0,0,0,0,0,0,0,0,0,0,0,0,0,0,0,0,0,0,0,0,0,0,0,0,0,0,0,0,0,0,0,0]
[null,null,null,null,null,null,null,{"$f":"IF(ABS(H72)>$B$17,$B$17,ABS(H72))","v":0},0,0,0,0,0,0,0,0,0,0,0,0,0,0,0,0,0,0,0,0,0,0,0,0,0,0,0,0,0,0,0,0,0,0,0,0,0,0,0,0,0,0,0,0,0,0,0,0,0,0,0,0,0,0,0,0,0,0,0,0,0,0,0,{"$f":"IF(ABS(BT72)>$B$17,$B$17,ABS(BT72))","v":0},0,0,0,0,0,0,0,0,0,0,0,0,0,0,0,0,0,0,0,0,0,0,0,0,0,0,0,0,0,0,0,0,0,0,0,0,0,0,0,0,0,0,0,0,0]
[null,null,null,null,null,null,null,{"$f":"IF(ABS(H73)>$B$17,$B$17,ABS(H73))","v":0},0,0,0,0,0,0,0,0,0,0,0,0,0,0,0,0,0,0,0,0,0,0,0,0,0,0,0,0,0,0,0,0,0,0,0,0,0,0,0,0,0,0,0,0,0,0,0,0,0,0,0,0,0,0,0,0,0,0,0,0,0,0,0,{"$f":"IF(ABS(BT73)>$B$17,$B$17,ABS(BT73))","v":0},0,0,0,0,0,0,0,0,0,0,0,0,0,0,0,0,0,0,0,0,0,0,0,0,0,0,0,0,0,0,0,0,0,0,0,0,0,0,0,0,0,0,0,0,0]
[null,null,null,null,null,null,null,{"$f":"IF(ABS(H74)>$B$17,$B$17,ABS(H74))","v":0},0,0,0,0,0,0,0,0,0,0,0,0,0,0,0,0,0,0,0,0,0,0,0,0,0,0,0,0,0,0,0,0,0,0,0,0,0,0,0,0,0,0,0,0,0,0,0,0,0,0,0,0,0,0,0,0,0,0,0,0,0,0,0,{"$f":"IF(ABS(BT74)>$B$17,$B$17,ABS(BT74))","v":0},0,0,0,0,0,0,0,0,0,0,0,0,0,0,0,0,0,0,0,0,0,0,0,0,0,0,0,0,0,0,0,0,0,0,0,0,0,0,0,0,0,0,0,0,0]
[null,null,null,null,null,null,null,{"$f":"IF(ABS(H75)>$B$17,$B$17,ABS(H75))","v":0},0,0,0,0,0,0,0,0,0,0,0,0,0,0,0,0,0,0,0,0,0,0,0,0,0,0,0,0,0,0,0,0,0,0,0,0,0,0,0,0,0,0,0,0,0,0,0,0,0,0,0,0,0,0,0,0,0,0,0,0,0,0,0,{"$f":"IF(ABS(BT75)>$B$17,$B$17,ABS(BT75))","v":0},0,0,0,0,0,0,0,0,0,0,0,0,0,0,0,0,0,0,0,0,0,0,0,0,0,0,0,0,0,0,0,0,0,0,0,0,0,0,0,0,0,0,0,0,0]
[null,null,null,null,null,null,null,{"$f":"IF(ABS(H76)>$B$17,$B$17,ABS(H76))","v":0},0,0,0,0,0,0,0,0,0,0,0,0,0,0,0,0,0,0,0,0,0,0,0,0,0,0,0,0,0,0,0,0,0,0,0,0,0,0,0,0,0,0,0,0,0,0,0,0,0,0,0,0,0,0,0,0,0,0,0,0,0,0,0,{"$f":"IF(ABS(BT76)>$B$17,$B$17,ABS(BT76))","v":0},0,0,0,0,0,0,0,0,0,0,0,0,0,0,0,0,0,0,0,0,0,0,0,0,0,0,0,0,0,0,0,0,0,0,0,0,0,0,0,0,0,0,0,0,0]
[null,null,null,null,null,null,null,{"$f":"IF(ABS(H77)>$B$17,$B$17,ABS(H77))","v":0},0,0,0,0,0,0,0,0,0,0,0,0,0,0,0,0,0,0,0,0,0,0,0,0,0,0,0,0,0,0,0,0,0,0,0,0,0,0,0,0,0,0,0,0,0,0,0,0,0,0,0,0,0,0,0,0,0,0,0,0,0,0,0,{"$f":"IF(ABS(BT77)>$B$17,$B$17,ABS(BT77))","v":0},0,0,0,0,0,0,0,0,0,0,0,0,0,0,0,0,0,0,0,0,0,0,0,0,0,0,0,0,0,0,0,0,0,0,0,0,0,0,0,0,0,0,0,0,0]
[null,null,null,null,null,null,null,{"$f":"IF(ABS(H78)>$B$17,$B$17,ABS(H78))","v":0},0,0,0,0,0,0,0,0,0,0,0,0,0,0,0,0,0,0,0,0,0,0,0,0,0,0,0,0,0,0,0,0,0,0,0,0,0,0,0,0,0,0,0,0,0,0,0,0,0,0,0,0,0,0,0,0,0,0,0,0,0,0,0,{"$f":"IF(ABS(BT78)>$B$17,$B$17,ABS(BT78))","v":0},0,0,0,0,0,0,0,0,0,0,0,0,0,0,0,0,0,0,0,0,0,0,0,0,0,0,0,0,0,0,0,0,0,0,0,0,0,0,0,0,0,0,0,0,0]
[null,null,null,null,null,null,null,{"$f":"IF(ABS(H79)>$B$17,$B$17,ABS(H79))","v":0},0,0,0,0,0,0,0,0,0,0,0,0,0,0,0,0,0,0,0,0,0,0,0,0,0,0,0,0,0,0,0,0,0,0,0,0,0,0,0,0,0,0,0,0,0,0,0,0,0,0,0,0,0,0,0,0,0,0,0,0,0,0,0,{"$f":"IF(ABS(BT79)>$B$17,$B$17,ABS(BT79))","v":0},0,0,0,0,0,0,0,0,0,0,0,0,0,0,0,0,0,0,0,0,0,0,0,0,0,0,0,0,0,0,0,0,0,0,0,0,0,0,0,0,0,0,0,0,0]
[null,null,null,null,null,null,null,{"$f":"IF(ABS(H80)>$B$17,$B$17,ABS(H80))","v":0},0,0,0,0,0,0,0,0,0,0,0,0,0,0,0,0,0,0,0,0,0,0,0,0,0,0,0,0,0,0,0,0,0,0,0,0,0,0,0,0,0,0,0,0,0,0,0,0,0,0,0,0,0,0,0,0,0,0,0,0,0,0,0,{"$f":"IF(ABS(BT80)>$B$17,$B$17,ABS(BT80))","v":0},0,0,0,0,0,0,0,0,0,0,0,0,0,0,0,0,0,0,0,0,0,0,0,0,0,0,0,0,0,0,0,0,0,0,0,0,0,0,0,0,0,0,0,0,0]
[null,null,null,null,null,null,null,{"$f":"IF(ABS(H81)>$B$17,$B$17,ABS(H81))","v":0},0,0,0,0,0,0,0,0,0,0,0,0,0,0,0,0,0,0,0,0,0,0,0,0,0,0,0,0,0,0,0,0,0,0,0,0,0,0,0,0,0,0,0,0,0,0,0,0,0,0,0,0,0,0,0,0,0,0,0,0,0,0,0,{"$f":"IF(ABS(BT81)>$B$17,$B$17,ABS(BT81))","v":0},0,0,0,0,0,0,0,0,0,0,0,0,0,0,0,0,0,0,0,0,0,0,0,0,0,0,0,0,0,0,0,0,0,0,0,0,0,0,0,0,0,0,0,0,0]
[null,null,null,null,null,null,null,"alto"]
[]
[]
[null,null,null,null,null,null,null,{"$f":"IFERROR(H4/ABS(H4),0)*H85","v":-4200},{"$f":"IFERROR(I4/ABS(I4),0)*I85","v":-4200},{"$f":"IFERROR(J4/ABS(J4),0)*J85","v":-2928.1814363712729},-1131.1640389131164,63.669366098855207,915.57043769433164,1553.6498640451789,2049.4331908567187,2445.7448587192785,2769.791824950616,3039.6880657290076,3267.9604163989211,3463.5485025653265,3633.0030063467325,3781.2336916814534,3911.9929280031429,4028.1977553102679,4132.1500746858801,4200,4200,4200,4200,4200,4200,4200,4200,4200,4200,4200,4200,4200,4200,4200,4200,4200,4200,4200,4200,4200,0,0,0,0,0,0,0,0,0,0,0,0,0,0,0,0,0,0,0,0,0,0,0,0,0,0,0,{"$f":"IFERROR(BV4/ABS(BV4),0)*BV85","v":0},0,0,0,0,0,0,0,0,0,0,0,0,0,0,0,0,0,0,0,0,0,0,0,0,0,0,0,0,0,0,0,0,0,0,0,0,0,0,0,0,0,0,0]
[null,null,null,null,null,null,null,{"$f":"IFERROR(H5/ABS(H5),0)*H86","v":-4200},-4200,{"$f":"IFERROR(J5/ABS(J5),0)*J86","v":-4200},-4200,-4200,-4200,-4200,-4200,-4200,-4200,-4026.4587104860047,-3253.309343272073,-2590.8602792029592,-2016.9246186393495,-1514.8731865149773,-1071.9968568902857,-678.41573137927821,-326.33336262191364,-9.5150655204071981,277.0844924886735,537.59198846824984,775.4154270372253,993.39406160906765,1193.9122888992724,1378.9872280341442,1550.3368147827698,1709.4332876467433,1857.545595765491,1995.7733162782938,2125.0740003229103,2246.28538658047,2360.1435721146554,2467.2979736028656,2568.3237214622754,2663.7319864695796,2753.9786303593164,2839.4714893990604,2920.5765365039988,2997.6231183019891,0,0,0,0,0,0,0,0,0,0,0,0,0,0,0,0,0,0,0,0,0,0,0,0,0,0,0,{"$f":"IFERROR(BV5/ABS(BV5),0)*BV86","v":0},0,0,0,0,0,0,0,0,0,0,0,0,0,0,0,0,0,0,0,0,0,0,0,0,0,0,0,0,0,0,0,0,0,0,0,0,0,0,0,0,0,0,0]
[null,null,null,null,null,null,null,{"$f":"IFERROR(H6/ABS(H6),0)*H87","v":-4200},-4200,{"$f":"IFERROR(J6/ABS(J6),0)*J87","v":-4200},-4200,-4200,-4200,-4200,-4200,-4200,-4200,-4200,-4200,-4200,-4200,-4200,-4200,-4200,-4200,-4200,-3756.1402114299331,-3312.0400576587504,-2906.6105507582897,-2535.0114734719418,-2193.1780254989649,-1877.6715230087925,-1585.5633149990726,-1314.3436028842141,-1061.8491456187789,-826.20543907457852,-605.78009794951811,-399.14498722694304,-205.04524543754079,-22.373779500514917,149.84986416281424,312.49710393401631,466.34507010504507,612.08902155304872,750.35285060519243,881.698010925316,0,0,0,0,0,0,0,0,0,0,0,0,0,0,0,0,0,0,0,0,0,0,0,0,0,0,0,{"$f":"IFERROR(BV6/ABS(BV6),0)*BV87","v":0},0,0,0,0,0,0,0,0,0,0,0,0,0,0,0,0,0,0,0,0,0,0,0,0,0,0,0,0,0,0,0,0,0,0,0,0,0,0,0,0,0,0,0]
[null,null,null,null,null,null,null,{"$f":"IFERROR(H7/ABS(H7),0)*H88","v":0},0,{"$f":"IFERROR(J7/ABS(J7),0)*J88","v":0},0,0,0,0,0,0,0,0,0,0,0,0,0,0,0,0,0,0,0,0,0,0,0,0,0,0,0,0,0,0,0,0,0,0,0,0,0,0,0,0,0,0,0,0,0,0,0,0,0,0,0,0,0,0,0,0,0,0,0,0,0,0,0,{"$f":"IFERROR(BV7/ABS(BV7),0)*BV88","v":0},0,0,0,0,0,0,0,0,0,0,0,0,0,0,0,0,0,0,0,0,0,0,0,0,0,0,0,0,0,0,0,0,0,0,0,0,0,0,0,0,0,0,0]
[null,null,null,null,null,null,null,{"$f":"IFERROR(H8/ABS(H8),0)*H89","v":0},0,{"$f":"IFERROR(J8/ABS(J8),0)*J89","v":0},0,0,0,0,0,0,0,0,0,0,0,0,0,0,0,0,0,0,0,0,0,0,0,0,0,0,0,0,0,0,0,0,0,0,0,0,0,0,0,0,0,0,0,0,0,0,0,0,0,0,0,0,0,0,0,0,0,0,0,0,0,0,0,{"$f":"IFERROR(BV8/ABS(BV8),0)*BV89","v":0},0,0,0,0,0,0,0,0,0,0,0,0,0,0,0,0,0,0,0,0,0,0,0,0,0,0,0,0,0,0,0,0,0,0,0,0,0,0,0,0,0,0,0]
[null,null,null,null,null,null,null,{"$f":"IFERROR(H9/ABS(H9),0)*H90","v":0},0,{"$f":"IFERROR(J9/ABS(J9),0)*J90","v":0},0,0,0,0,0,0,0,0,0,0,0,0,0,0,0,0,0,0,0,0,0,0,0,0,0,0,0,0,0,0,0,0,0,0,0,0,0,0,0,0,0,0,0,0,0,0,0,0,0,0,0,0,0,0,0,0,0,0,0,0,0,0,0,{"$f":"IFERROR(BV9/ABS(BV9),0)*BV90","v":0},0,0,0,0,0,0,0,0,0,0,0,0,0,0,0,0,0,0,0,0,0,0,0,0,0,0,0,0,0,0,0,0,0,0,0,0,0,0,0,0,0,0,0]
[null,null,null,null,null,null,null,{"$f":"IFERROR(H10/ABS(H10),0)*H91","v":0},0,{"$f":"IFERROR(J10/ABS(J10),0)*J91","v":0},0,0,0,0,0,0,0,0,0,0,0,0,0,0,0,0,0,0,0,0,0,0,0,0,0,0,0,0,0,0,0,0,0,0,0,0,0,0,0,0,0,0,0,0,0,0,0,0,0,0,0,0,0,0,0,0,0,0,0,0,0,0,0,{"$f":"IFERROR(BV10/ABS(BV10),0)*BV91","v":0},0,0,0,0,0,0,0,0,0,0,0,0,0,0,0,0,0,0,0,0,0,0,0,0,0,0,0,0,0,0,0,0,0,0,0,0,0,0,0,0,0,0,0]
[null,null,null,null,null,null,null,{"$f":"IFERROR(H11/ABS(H11),0)*H92","v":0},0,{"$f":"IFERROR(J11/ABS(J11),0)*J92","v":0},0,0,0,0,0,0,0,0,0,0,0,0,0,0,0,0,0,0,0,0,0,0,0,0,0,0,0,0,0,0,0,0,0,0,0,0,0,0,0,0,0,0,0,0,0,0,0,0,0,0,0,0,0,0,0,0,0,0,0,0,0,0,0,{"$f":"IFERROR(BV11/ABS(BV11),0)*BV92","v":0},0,0,0,0,0,0,0,0,0,0,0,0,0,0,0,0,0,0,0,0,0,0,0,0,0,0,0,0,0,0,0,0,0,0,0,0,0,0,0,0,0,0,0]
[null,null,null,null,null,null,null,{"$f":"IFERROR(H12/ABS(H12),0)*H93","v":0},0,{"$f":"IFERROR(J12/ABS(J12),0)*J93","v":0},0,0,0,0,0,0,0,0,0,0,0,0,0,0,0,0,0,0,0,0,0,0,0,0,0,0,0,0,0,0,0,0,0,0,0,0,0,0,0,0,0,0,0,0,0,0,0,0,0,0,0,0,0,0,0,0,0,0,0,0,0,0,0,{"$f":"IFERROR(BV12/ABS(BV12),0)*BV93","v":0},0,0,0,0,0,0,0,0,0,0,0,0,0,0,0,0,0,0,0,0,0,0,0,0,0,0,0,0,0,0,0,0,0,0,0,0,0,0,0,0,0,0,0]
[null,null,null,null,null,null,null,{"$f":"IFERROR(H13/ABS(H13),0)*H94","v":0},0,{"$f":"IFERROR(J13/ABS(J13),0)*J94","v":0},0,0,0,0,0,0,0,0,0,0,0,0,0,0,0,0,0,0,0,0,0,0,0,0,0,0,0,0,0,0,0,0,0,0,0,0,0,0,0,0,0,0,0,0,0,0,0,0,0,0,0,0,0,0,0,0,0,0,0,0,0,0,0,{"$f":"IFERROR(BV13/ABS(BV13),0)*BV94","v":0},0,0,0,0,0,0,0,0,0,0,0,0,0,0,0,0,0,0,0,0,0,0,0,0,0,0,0,0,0,0,0,0,0,0,0,0,0,0,0,0,0,0,0]
[null,null,null,null,null,null,null,{"$f":"IFERROR(H14/ABS(H14),0)*H95","v":0},0,{"$f":"IFERROR(J14/ABS(J14),0)*J95","v":0},0,0,0,0,0,0,0,0,0,0,0,0,0,0,0,0,0,0,0,0,0,0,0,0,0,0,0,0,0,0,0,0,0,0,0,0,0,0,0,0,0,0,0,0,0,0,0,0,0,0,0,0,0,0,0,0,0,0,0,0,0,0,0,{"$f":"IFERROR(BV14/ABS(BV14),0)*BV95","v":0},0,0,0,0,0,0,0,0,0,0,0,0,0,0,0,0,0,0,0,0,0,0,0,0,0,0,0,0,0,0,0,0,0,0,0,0,0,0,0,0,0,0,0]
[null,null,null,null,null,null,null,{"$f":"IFERROR(H15/ABS(H15),0)*H96","v":0},0,{"$f":"IFERROR(J15/ABS(J15),0)*J96","v":0},0,0,0,0,0,0,0,0,0,0,0,0,0,0,0,0,0,0,0,0,0,0,0,0,0,0,0,0,0,0,0,0,0,0,0,0,0,0,0,0,0,0,0,0,0,0,0,0,0,0,0,0,0,0,0,0,0,0,0,0,0,0,0,{"$f":"IFERROR(BV15/ABS(BV15),0)*BV96","v":0},0,0,0,0,0,0,0,0,0,0,0,0,0,0,0,0,0,0,0,0,0,0,0,0,0,0,0,0,0,0,0,0,0,0,0,0,0,0,0,0,0,0,0]
[null,null,null,null,null,null,null,{"$f":"IFERROR(H16/ABS(H16),0)*H97","v":0},0,{"$f":"IFERROR(J16/ABS(J16),0)*J97","v":0},0,0,0,0,0,0,0,0,0,0,0,0,0,0,0,0,0,0,0,0,0,0,0,0,0,0,0,0,0,0,0,0,0,0,0,0,0,0,0,0,0,0,0,0,0,0,0,0,0,0,0,0,0,0,0,0,0,0,0,0,0,0,0,{"$f":"IFERROR(BV16/ABS(BV16),0)*BV97","v":0},0,0,0,0,0,0,0,0,0,0,0,0,0,0,0,0,0,0,0,0,0,0,0,0,0,0,0,0,0,0,0,0,0,0,0,0,0,0,0,0,0,0,0]
[null,null,null,null,null,null,null,{"$f":"IFERROR(H17/ABS(H17),0)*H98","v":0},0,{"$f":"IFERROR(J17/ABS(J17),0)*J98","v":0},0,0,0,0,0,0,0,0,0,0,0,0,0,0,0,0,0,0,0,0,0,0,0,0,0,0,0,0,0,0,0,0,0,0,0,0,0,0,0,0,0,0,0,0,0,0,0,0,0,0,0,0,0,0,0,0,0,0,0,0,0,0,0,{"$f":"IFERROR(BV17/ABS(BV17),0)*BV98","v":0},0,0,0,0,0,0,0,0,0,0,0,0,0,0,0,0,0,0,0,0,0,0,0,0,0,0,0,0,0,0,0,0,0,0,0,0,0,0,0,0,0,0,0]
[null,null,null,null,null,null,null,{"$f":"IFERROR(H18/ABS(H18),0)*H99","v":0},0,{"$f":"IFERROR(J18/ABS(J18),0)*J99","v":0},0,0,0,0,0,0,0,0,0,0,0,0,0,0,0,0,0,0,0,0,0,0,0,0,0,0,0,0,0,0,0,0,0,0,0,0,0,0,0,0,0,0,0,0,0,0,0,0,0,0,0,0,0,0,0,0,0,0,0,0,0,0,0,{"$f":"IFERROR(BV18/ABS(BV18),0)*BV99","v":0},0,0,0,0,0,0,0,0,0,0,0,0,0,0,0,0,0,0,0,0,0,0,0,0,0,0,0,0,0,0,0,0,0,0,0,0,0,0,0,0,0,0,0]
[null,null,null,null,null,null,null,{"$f":"IFERROR(H19/ABS(H19),0)*H100","v":0},0,{"$f":"IFERROR(J19/ABS(J19),0)*J100","v":0},0,0,0,0,0,0,0,0,0,0,0,0,0,0,0,0,0,0,0,0,0,0,0,0,0,0,0,0,0,0,0,0,0,0,0,0,0,0,0,0,0,0,0,0,0,0,0,0,0,0,0,0,0,0,0,0,0,0,0,0,0,0,0,{"$f":"IFERROR(BV19/ABS(BV19),0)*BV100","v":0},0,0,0,0,0,0,0,0,0,0,0,0,0,0,0,0,0,0,0,0,0,0,0,0,0,0,0,0,0,0,0,0,0,0,0,0,0,0,0,0,0,0,0]
[null,null,null,null,null,null,null,{"$f":"IFERROR(H20/ABS(H20),0)*H101","v":0},0,{"$f":"IFERROR(J20/ABS(J20),0)*J101","v":0},0,0,0,0,0,0,0,0,0,0,0,0,0,0,0,0,0,0,0,0,0,0,0,0,0,0,0,0,0,0,0,0,0,0,0,0,0,0,0,0,0,0,0,0,0,0,0,0,0,0,0,0,0,0,0,0,0,0,0,0,0,0,0,{"$f":"IFERROR(BV20/ABS(BV20),0)*BV101","v":0},0,0,0,0,0,0,0,0,0,0,0,0,0,0,0,0,0,0,0,0,0,0,0,0,0,0,0,0,0,0,0,0,0,0,0,0,0,0,0,0,0,0,0]
[null,null,null,null,null,null,null,{"$f":"IFERROR(H21/ABS(H21),0)*H102","v":0},0,{"$f":"IFERROR(J21/ABS(J21),0)*J102","v":0},0,0,0,0,0,0,0,0,0,0,0,0,0,0,0,0,0,0,0,0,0,0,0,0,0,0,0,0,0,0,0,0,0,0,0,0,0,0,0,0,0,0,0,0,0,0,0,0,0,0,0,0,0,0,0,0,0,0,0,0,0,0,0,{"$f":"IFERROR(BV21/ABS(BV21),0)*BV102","v":0},0,0,0,0,0,0,0,0,0,0,0,0,0,0,0,0,0,0,0,0,0,0,0,0,0,0,0,0,0,0,0,0,0,0,0,0,0,0,0,0,0,0,0]
[null,null,null,null,null,null,null,{"$f":"IFERROR(H22/ABS(H22),0)*H103","v":0},0,{"$f":"IFERROR(J22/ABS(J22),0)*J103","v":0},0,0,0,0,0,0,0,0,0,0,0,0,0,0,0,0,0,0,0,0,0,0,0,0,0,0,0,0,0,0,0,0,0,0,0,0,0,0,0,0,0,0,0,0,0,0,0,0,0,0,0,0,0,0,0,0,0,0,0,0,0,0,0,{"$f":"IFERROR(BV22/ABS(BV22),0)*BV103","v":0},0,0,0,0,0,0,0,0,0,0,0,0,0,0,0,0,0,0,0,0,0,0,0,0,0,0,0,0,0,0,0,0,0,0,0,0,0,0,0,0,0,0,0]
[null,null,null,null,null,null,null,{"$f":"IFERROR(H23/ABS(H23),0)*H104","v":0},0,{"$f":"IFERROR(J23/ABS(J23),0)*J104","v":0},0,0,0,0,0,0,0,0,0,0,0,0,0,0,0,0,0,0,0,0,0,0,0,0,0,0,0,0,0,0,0,0,0,0,0,0,0,0,0,0,0,0,0,0,0,0,0,0,0,0,0,0,0,0,0,0,0,0,0,0,0,0,0,{"$f":"IFERROR(BV23/ABS(BV23),0)*BV104","v":0},0,0,0,0,0,0,0,0,0,0,0,0,0,0,0,0,0,0,0,0,0,0,0,0,0,0,0,0,0,0,0,0,0,0,0,0,0,0,0,0,0,0,0]
[null,null,null,null,null,null,null,{"$f":"IFERROR(H24/ABS(H24),0)*H105","v":0},0,{"$f":"IFERROR(J24/ABS(J24),0)*J105","v":0},0,0,0,0,0,0,0,0,0,0,0,0,0,0,0,0,0,0,0,0,0,0,0,0,0,0,0,0,0,0,0,0,0,0,0,0,0,0,0,0,0,0,0,0,0,0,0,0,0,0,0,0,0,0,0,0,0,0,0,0,0,0,0,{"$f":"IFERROR(BV24/ABS(BV24),0)*BV105","v":0},0,0,0,0,0,0,0,0,0,0,0,0,0,0,0,0,0,0,0,0,0,0,0,0,0,0,0,0,0,0,0,0,0,0,0,0,0,0,0,0,0,0,0]
[null,null,null,null,null,null,null,{"$f":"IFERROR(H25/ABS(H25),0)*H106","v":0},0,{"$f":"IFERROR(J25/ABS(J25),0)*J106","v":0},0,0,0,0,0,0,0,0,0,0,0,0,0,0,0,0,0,0,0,0,0,0,0,0,0,0,0,0,0,0,0,0,0,0,0,0,0,0,0,0,0,0,0,0,0,0,0,0,0,0,0,0,0,0,0,0,0,0,0,0,0,0,0,{"$f":"IFERROR(BV25/ABS(BV25),0)*BV106","v":0},0,0,0,0,0,0,0,0,0,0,0,0,0,0,0,0,0,0,0,0,0,0,0,0,0,0,0,0,0,0,0,0,0,0,0,0,0,0,0,0,0,0,0]
[null,null,null,null,null,null,null,{"$f":"IFERROR(H26/ABS(H26),0)*H107","v":0},0,{"$f":"IFERROR(J26/ABS(J26),0)*J107","v":0},0,0,0,0,0,0,0,0,0,0,0,0,0,0,0,0,0,0,0,0,0,0,0,0,0,0,0,0,0,0,0,0,0,0,0,0,0,0,0,0,0,0,0,0,0,0,0,0,0,0,0,0,0,0,0,0,0,0,0,0,0,0,0,{"$f":"IFERROR(BV26/ABS(BV26),0)*BV107","v":0},0,0,0,0,0,0,0,0,0,0,0,0,0,0,0,0,0,0,0,0,0,0,0,0,0,0,0,0,0,0,0,0,0,0,0,0,0,0,0,0,0,0,0]
[null,null,null,null,null,null,null,{"$f":"IFERROR(H27/ABS(H27),0)*H108","v":0},0,{"$f":"IFERROR(J27/ABS(J27),0)*J108","v":0},0,0,0,0,0,0,0,0,0,0,0,0,0,0,0,0,0,0,0,0,0,0,0,0,0,0,0,0,0,0,0,0,0,0,0,0,0,0,0,0,0,0,0,0,0,0,0,0,0,0,0,0,0,0,0,0,0,0,0,0,0,0,0,{"$f":"IFERROR(BV27/ABS(BV27),0)*BV108","v":0},0,0,0,0,0,0,0,0,0,0,0,0,0,0,0,0,0,0,0,0,0,0,0,0,0,0,0,0,0,0,0,0,0,0,0,0,0,0,0,0,0,0,0]
[null,null,null,null,null,null,null,{"$f":"IFERROR(H28/ABS(H28),0)*H109","v":0},0,{"$f":"IFERROR(J28/ABS(J28),0)*J109","v":0},0,0,0,0,0,0,0,0,0,0,0,0,0,0,0,0,0,0,0,0,0,0,0,0,0,0,0,0,0,0,0,0,0,0,0,0,0,0,0,0,0,0,0,0,0,0,0,0,0,0,0,0,0,0,0,0,0,0,0,0,0,0,0,{"$f":"IFERROR(BV28/ABS(BV28),0)*BV109","v":0},0,0,0,0,0,0,0,0,0,0,0,0,0,0,0,0,0,0,0,0,0,0,0,0,0,0,0,0,0,0,0,0,0,0,0,0,0,0,0,0,0,0,0]
[null,null,null,null,null,null,null,{"$f":"IFERROR(H29/ABS(H29),0)*H110","v":0},0,{"$f":"IFERROR(J29/ABS(J29),0)*J110","v":0},0,0,0,0,0,0,0,0,0,0,0,0,0,0,0,0,0,0,0,0,0,0,0,0,0,0,0,0,0,0,0,0,0,0,0,0,0,0,0,0,0,0,0,0,0,0,0,0,0,0,0,0,0,0,0,0,0,0,0,0,0,0,0,{"$f":"IFERROR(BV29/ABS(BV29),0)*BV110","v":0},0,0,0,0,0,0,0,0,0,0,0,0,0,0,0,0,0,0,0,0,0,0,0,0,0,0,0,0,0,0,0,0,0,0,0,0,0,0,0,0,0,0,0]
[null,null,null,null,null,null,null,{"$f":"IFERROR(H30/ABS(H30),0)*H111","v":0},0,{"$f":"IFERROR(J30/ABS(J30),0)*J111","v":0},0,0,0,0,0,0,0,0,0,0,0,0,0,0,0,0,0,0,0,0,0,0,0,0,0,0,0,0,0,0,0,0,0,0,0,0,0,0,0,0,0,0,0,0,0,0,0,0,0,0,0,0,0,0,0,0,0,0,0,0,0,0,0,{"$f":"IFERROR(BV30/ABS(BV30),0)*BV111","v":0},0,0,0,0,0,0,0,0,0,0,0,0,0,0,0,0,0,0,0,0,0,0,0,0,0,0,0,0,0,0,0,0,0,0,0,0,0,0,0,0,0,0,0]
[null,null,null,null,null,null,null,{"$f":"IFERROR(H31/ABS(H31),0)*H112","v":0},0,{"$f":"IFERROR(J31/ABS(J31),0)*J112","v":0},0,0,0,0,0,0,0,0,0,0,0,0,0,0,0,0,0,0,0,0,0,0,0,0,0,0,0,0,0,0,0,0,0,0,0,0,0,0,0,0,0,0,0,0,0,0,0,0,0,0,0,0,0,0,0,0,0,0,0,0,0,0,0,{"$f":"IFERROR(BV31/ABS(BV31),0)*BV112","v":0},0,0,0,0,0,0,0,0,0,0,0,0,0,0,0,0,0,0,0,0,0,0,0,0,0,0,0,0,0,0,0,0,0,0,0,0,0,0,0,0,0,0,0]
[null,null,null,null,null,null,null,{"$f":"IFERROR(H32/ABS(H32),0)*H113","v":0},0,{"$f":"IFERROR(J32/ABS(J32),0)*J113","v":0},0,0,0,0,0,0,0,0,0,0,0,0,0,0,0,0,0,0,0,0,0,0,0,0,0,0,0,0,0,0,0,0,0,0,0,0,0,0,0,0,0,0,0,0,0,0,0,0,0,0,0,0,0,0,0,0,0,0,0,0,0,0,0,{"$f":"IFERROR(BV32/ABS(BV32),0)*BV113","v":0},0,0,0,0,0,0,0,0,0,0,0,0,0,0,0,0,0,0,0,0,0,0,0,0,0,0,0,0,0,0,0,0,0,0,0,0,0,0,0,0,0,0,0]
[null,null,null,null,null,null,null,{"$f":"IFERROR(H33/ABS(H33),0)*H114","v":0},0,{"$f":"IFERROR(J33/ABS(J33),0)*J114","v":0},0,0,0,0,0,0,0,0,0,0,0,0,0,0,0,0,0,0,0,0,0,0,0,0,0,0,0,0,0,0,0,0,0,0,0,0,0,0,0,0,0,0,0,0,0,0,0,0,0,0,0,0,0,0,0,0,0,0,0,0,0,0,0,{"$f":"IFERROR(BV33/ABS(BV33),0)*BV114","v":0},0,0,0,0,0,0,0,0,0,0,0,0,0,0,0,0,0,0,0,0,0,0,0,0,0,0,0,0,0,0,0,0,0,0,0,0,0,0,0,0,0,0,0]
[null,null,null,null,null,null,null,{"$f":"IFERROR(H34/ABS(H34),0)*H115","v":0},0,{"$f":"IFERROR(J34/ABS(J34),0)*J115","v":0},0,0,0,0,0,0,0,0,0,0,0,0,0,0,0,0,0,0,0,0,0,0,0,0,0,0,0,0,0,0,0,0,0,0,0,0,0,0,0,0,0,0,0,0,0,0,0,0,0,0,0,0,0,0,0,0,0,0,0,0,0,0,0,{"$f":"IFERROR(BV34/ABS(BV34),0)*BV115","v":0},0,0,0,0,0,0,0,0,0,0,0,0,0,0,0,0,0,0,0,0,0,0,0,0,0,0,0,0,0,0,0,0,0,0,0,0,0,0,0,0,0,0,0]
[null,null,null,null,null,null,null,{"$f":"IFERROR(H35/ABS(H35),0)*H116","v":0},0,{"$f":"IFERROR(J35/ABS(J35),0)*J116","v":0},0,0,0,0,0,0,0,0,0,0,0,0,0,0,0,0,0,0,0,0,0,0,0,0,0,0,0,0,0,0,0,0,0,0,0,0,0,0,0,0,0,0,0,0,0,0,0,0,0,0,0,0,0,0,0,0,0,0,0,0,0,0,0,{"$f":"IFERROR(BV35/ABS(BV35),0)*BV116","v":0},0,0,0,0,0,0,0,0,0,0,0,0,0,0,0,0,0,0,0,0,0,0,0,0,0,0,0,0,0,0,0,0,0,0,0,0,0,0,0,0,0,0,0]
[null,null,null,null,null,null,null,{"$f":"IFERROR(H36/ABS(H36),0)*H117","v":0},0,{"$f":"IFERROR(J36/ABS(J36),0)*J117","v":0},0,0,0,0,0,0,0,0,0,0,0,0,0,0,0,0,0,0,0,0,0,0,0,0,0,0,0,0,0,0,0,0,0,0,0,0,0,0,0,0,0,0,0,0,0,0,0,0,0,0,0,0,0,0,0,0,0,0,0,0,0,0,0,{"$f":"IFERROR(BV36/ABS(BV36),0)*BV117","v":0},0,0,0,0,0,0,0,0,0,0,0,0,0,0,0,0,0,0,0,0,0,0,0,0,0,0,0,0,0,0,0,0,0,0,0,0,0,0,0,0,0,0,0]
[null,null,null,null,null,null,null,{"$f":"IFERROR(H37/ABS(H37),0)*H118","v":0},0,{"$f":"IFERROR(J37/ABS(J37),0)*J118","v":0},0,0,0,0,0,0,0,0,0,0,0,0,0,0,0,0,0,0,0,0,0,0,0,0,0,0,0,0,0,0,0,0,0,0,0,0,0,0,0,0,0,0,0,0,0,0,0,0,0,0,0,0,0,0,0,0,0,0,0,0,0,0,0,{"$f":"IFERROR(BV37/ABS(BV37),0)*BV118","v":0},0,0,0,0,0,0,0,0,0,0,0,0,0,0,0,0,0,0,0,0,0,0,0,0,0,0,0,0,0,0,0,0,0,0,0,0,0,0,0,0,0,0,0]
[null,null,null,null,null,null,null,{"$f":"IFERROR(H38/ABS(H38),0)*H119","v":0},0,{"$f":"IFERROR(J38/ABS(J38),0)*J119","v":0},0,0,0,0,0,0,0,0,0,0,0,0,0,0,0,0,0,0,0,0,0,0,0,0,0,0,0,0,0,0,0,0,0,0,0,0,0,0,0,0,0,0,0,0,0,0,0,0,0,0,0,0,0,0,0,0,0,0,0,0,0,0,0,{"$f":"IFERROR(BV38/ABS(BV38),0)*BV119","v":0},0,0,0,0,0,0,0,0,0,0,0,0,0,0,0,0,0,0,0,0,0,0,0,0,0,0,0,0,0,0,0,0,0,0,0,0,0,0,0,0,0,0,0]
[null,null,null,null,null,null,null,{"$f":"IFERROR(H39/ABS(H39),0)*H120","v":0},0,{"$f":"IFERROR(J39/ABS(J39),0)*J120","v":0},0,0,0,0,0,0,0,0,0,0,0,0,0,0,0,0,0,0,0,0,0,0,0,0,0,0,0,0,0,0,0,0,0,0,0,0,0,0,0,0,0,0,0,0,0,0,0,0,0,0,0,0,0,0,0,0,0,0,0,0,0,0,0,{"$f":"IFERROR(BV39/ABS(BV39),0)*BV120","v":0},0,0,0,0,0,0,0,0,0,0,0,0,0,0,0,0,0,0,0,0,0,0,0,0,0,0,0,0,0,0,0,0,0,0,0,0,0,0,0,0,0,0,0]
[null,null,null,null,null,null,null,{"$f":"IFERROR(H40/ABS(H40),0)*H121","v":0},0,{"$f":"IFERROR(J40/ABS(J40),0)*J121","v":0},0,0,0,0,0,0,0,0,0,0,0,0,0,0,0,0,0,0,0,0,0,0,0,0,0,0,0,0,0,0,0,0,0,0,0,0,0,0,0,0,0,0,0,0,0,0,0,0,0,0,0,0,0,0,0,0,0,0,0,0,0,0,0,{"$f":"IFERROR(BV40/ABS(BV40),0)*BV121","v":0},0,0,0,0,0,0,0,0,0,0,0,0,0,0,0,0,0,0,0,0,0,0,0,0,0,0,0,0,0,0,0,0,0,0,0,0,0,0,0,0,0,0,0]
[null,null,null,null,null,null,null,{"$f":"IFERROR(H41/ABS(H41),0)*H122","v":0},0,{"$f":"IFERROR(J41/ABS(J41),0)*J122","v":0},0,0,0,0,0,0,0,0,0,0,0,0,0,0,0,0,0,0,0,0,0,0,0,0,0,0,0,0,0,0,0,0,0,0,0,0,0,0,0,0,0,0,0,0,0,0,0,0,0,0,0,0,0,0,0,0,0,0,0,0,0,0,0,{"$f":"IFERROR(BV41/ABS(BV41),0)*BV122","v":0},0,0,0,0,0,0,0,0,0,0,0,0,0,0,0,0,0,0,0,0,0,0,0,0,0,0,0,0,0,0,0,0,0,0,0,0,0,0,0,0,0,0,0]
[null,null,null,null,null,null,null,{"$f":"IFERROR(H42/ABS(H42),0)*H123","v":0},0,{"$f":"IFERROR(J42/ABS(J42),0)*J123","v":0},0,0,0,0,0,0,0,0,0,0,0,0,0,0,0,0,0,0,0,0,0,0,0,0,0,0,0,0,0,0,0,0,0,0,0,0,0,0,0,0,0,0,0,0,0,0,0,0,0,0,0,0,0,0,0,0,0,0,0,0,0,0,0,{"$f":"IFERROR(BV42/ABS(BV42),0)*BV123","v":0},0,0,0,0,0,0,0,0,0,0,0,0,0,0,0,0,0,0,0,0,0,0,0,0,0,0,0,0,0,0,0,0,0,0,0,0,0,0,0,0,0,0,0]
[null,null,null,null,null,null,null,{"$f":"IFERROR(H43/ABS(H43),0)*H124","v":0},0,{"$f":"IFERROR(J43/ABS(J43),0)*J124","v":0},0,0,0,0,0,0,0,0,0,0,0,0,0,0,0,0,0,0,0,0,0,0,0,0,0,0,0,0,0,0,0,0,0,0,0,0,0,0,0,0,0,0,0,0,0,0,0,0,0,0,0,0,0,0,0,0,0,0,0,0,0,0,0,{"$f":"IFERROR(BV43/ABS(BV43),0)*BV124","v":0},0,0,0,0,0,0,0,0,0,0,0,0,0,0,0,0,0,0,0,0,0,0,0,0,0,0,0,0,0,0,0,0,0,0,0,0,0,0,0,0,0,0,0]
[null,null,null,null,null,null,null,{"$f":"IFERROR(H44/ABS(H44),0)*H125","v":0},0,{"$f":"IFERROR(J44/ABS(J44),0)*J125","v":0},0,0,0,0,0,0,0,0,0,0,0,0,0,0,0,0,0,0,0,0,0,0,0,0,0,0,0,0,0,0,0,0,0,0,0,0,0,0,0,0,0,0,0,0,0,0,0,0,0,0,0,0,0,0,0,0,0,0,0,0,0,0,0,{"$f":"IFERROR(BV44/ABS(BV44),0)*BV125","v":0},0,0,0,0,0,0,0,0,0,0,0,0,0,0,0,0,0,0,0,0,0,0,0,0,0,0,0,0,0,0,0,0,0,0,0,0,0,0,0,0,0,0,0]
[null,null,null,null,null,null,null,{"$f":"IFERROR(H45/ABS(H45),0)*H126","v":0},0,{"$f":"IFERROR(J45/ABS(J45),0)*J126","v":0},0,0,0,0,0,0,0,0,0,0,0,0,0,0,0,0,0,0,0,0,0,0,0,0,0,0,0,0,0,0,0,0,0,0,0,0,0,0,0,0,0,0,0,0,0,0,0,0,0,0,0,0,0,0,0,0,0,0,0,0,0,0,0,{"$f":"IFERROR(BV45/ABS(BV45),0)*BV126","v":0},0,0,0,0,0,0,0,0,0,0,0,0,0,0,0,0,0,0,0,0,0,0,0,0,0,0,0,0,0,0,0,0,0,0,0,0,0,0,0,0,0,0,0]
[null,null,null,null,null,null,null,{"$f":"IFERROR(H46/ABS(H46),0)*H127","v":0},0,{"$f":"IFERROR(J46/ABS(J46),0)*J127","v":0},0,0,0,0,0,0,0,0,0,0,0,0,0,0,0,0,0,0,0,0,0,0,0,0,0,0,0,0,0,0,0,0,0,0,0,0,0,0,0,0,0,0,0,0,0,0,0,0,0,0,0,0,0,0,0,0,0,0,0,0,0,0,0,{"$f":"IFERROR(BV46/ABS(BV46),0)*BV127","v":0},0,0,0,0,0,0,0,0,0,0,0,0,0,0,0,0,0,0,0,0,0,0,0,0,0,0,0,0,0,0,0,0,0,0,0,0,0,0,0,0,0,0,0]
[null,null,null,null,null,null,null,{"$f":"IFERROR(H47/ABS(H47),0)*H128","v":0},0,{"$f":"IFERROR(J47/ABS(J47),0)*J128","v":0},0,0,0,0,0,0,0,0,0,0,0,0,0,0,0,0,0,0,0,0,0,0,0,0,0,0,0,0,0,0,0,0,0,0,0,0,0,0,0,0,0,0,0,0,0,0,0,0,0,0,0,0,0,0,0,0,0,0,0,0,0,0,0,{"$f":"IFERROR(BV47/ABS(BV47),0)*BV128","v":0},0,0,0,0,0,0,0,0,0,0,0,0,0,0,0,0,0,0,0,0,0,0,0,0,0,0,0,0,0,0,0,0,0,0,0,0,0,0,0,0,0,0,0]
[null,null,null,null,null,null,null,{"$f":"IFERROR(H48/ABS(H48),0)*H129","v":0},0,{"$f":"IFERROR(J48/ABS(J48),0)*J129","v":0},0,0,0,0,0,0,0,0,0,0,0,0,0,0,0,0,0,0,0,0,0,0,0,0,0,0,0,0,0,0,0,0,0,0,0,0,0,0,0,0,0,0,0,0,0,0,0,0,0,0,0,0,0,0,0,0,0,0,0,0,0,0,0,{"$f":"IFERROR(BV48/ABS(BV48),0)*BV129","v":0},0,0,0,0,0,0,0,0,0,0,0,0,0,0,0,0,0,0,0,0,0,0,0,0,0,0,0,0,0,0,0,0,0,0,0,0,0,0,0,0,0,0,0]
[null,null,null,null,null,null,null,{"$f":"IFERROR(H49/ABS(H49),0)*H130","v":0},0,{"$f":"IFERROR(J49/ABS(J49),0)*J130","v":0},0,0,0,0,0,0,0,0,0,0,0,0,0,0,0,0,0,0,0,0,0,0,0,0,0,0,0,0,0,0,0,0,0,0,0,0,0,0,0,0,0,0,0,0,0,0,0,0,0,0,0,0,0,0,0,0,0,0,0,0,0,0,0,{"$f":"IFERROR(BV49/ABS(BV49),0)*BV130","v":0},0,0,0,0,0,0,0,0,0,0,0,0,0,0,0,0,0,0,0,0,0,0,0,0,0,0,0,0,0,0,0,0,0,0,0,0,0,0,0,0,0,0,0]
[null,null,null,null,null,null,null,{"$f":"IFERROR(H50/ABS(H50),0)*H131","v":0},0,{"$f":"IFERROR(J50/ABS(J50),0)*J131","v":0},0,0,0,0,0,0,0,0,0,0,0,0,0,0,0,0,0,0,0,0,0,0,0,0,0,0,0,0,0,0,0,0,0,0,0,0,0,0,0,0,0,0,0,0,0,0,0,0,0,0,0,0,0,0,0,0,0,0,0,0,0,0,0,{"$f":"IFERROR(BV50/ABS(BV50),0)*BV131","v":0},0,0,0,0,0,0,0,0,0,0,0,0,0,0,0,0,0,0,0,0,0,0,0,0,0,0,0,0,0,0,0,0,0,0,0,0,0,0,0,0,0,0,0]
[null,null,null,null,null,null,null,{"$f":"IFERROR(H51/ABS(H51),0)*H132","v":0},0,{"$f":"IFERROR(J51/ABS(J51),0)*J132","v":0},0,0,0,0,0,0,0,0,0,0,0,0,0,0,0,0,0,0,0,0,0,0,0,0,0,0,0,0,0,0,0,0,0,0,0,0,0,0,0,0,0,0,0,0,0,0,0,0,0,0,0,0,0,0,0,0,0,0,0,0,0,0,0,{"$f":"IFERROR(BV51/ABS(BV51),0)*BV132","v":0},0,0,0,0,0,0,0,0,0,0,0,0,0,0,0,0,0,0,0,0,0,0,0,0,0,0,0,0,0,0,0,0,0,0,0,0,0,0,0,0,0,0,0]
[null,null,null,null,null,null,null,{"$f":"IFERROR(H52/ABS(H52),0)*H133","v":0},0,{"$f":"IFERROR(J52/ABS(J52),0)*J133","v":0},0,0,0,0,0,0,0,0,0,0,0,0,0,0,0,0,0,0,0,0,0,0,0,0,0,0,0,0,0,0,0,0,0,0,0,0,0,0,0,0,0,0,0,0,0,0,0,0,0,0,0,0,0,0,0,0,0,0,0,0,0,0,0,{"$f":"IFERROR(BV52/ABS(BV52),0)*BV133","v":0},0,0,0,0,0,0,0,0,0,0,0,0,0,0,0,0,0,0,0,0,0,0,0,0,0,0,0,0,0,0,0,0,0,0,0,0,0,0,0,0,0,0,0]
[null,null,null,null,null,null,null,{"$f":"IFERROR(H53/ABS(H53),0)*H134","v":0},0,{"$f":"IFERROR(J53/ABS(J53),0)*J134","v":0},0,0,0,0,0,0,0,0,0,0,0,0,0,0,0,0,0,0,0,0,0,0,0,0,0,0,0,0,0,0,0,0,0,0,0,0,0,0,0,0,0,0,0,0,0,0,0,0,0,0,0,0,0,0,0,0,0,0,0,0,0,0,0,{"$f":"IFERROR(BV53/ABS(BV53),0)*BV134","v":0},0,0,0,0,0,0,0,0,0,0,0,0,0,0,0,0,0,0,0,0,0,0,0,0,0,0,0,0,0,0,0,0,0,0,0,0,0,0,0,0,0,0,0]
[null,null,null,null,null,null,null,{"$f":"IFERROR(H54/ABS(H54),0)*H135","v":0},0,{"$f":"IFERROR(J54/ABS(J54),0)*J135","v":0},0,0,0,0,0,0,0,0,0,0,0,0,0,0,0,0,0,0,0,0,0,0,0,0,0,0,0,0,0,0,0,0,0,0,0,0,0,0,0,0,0,0,0,0,0,0,0,0,0,0,0,0,0,0,0,0,0,0,0,0,0,0,0,{"$f":"IFERROR(BV54/ABS(BV54),0)*BV135","v":0},0,0,0,0,0,0,0,0,0,0,0,0,0,0,0,0,0,0,0,0,0,0,0,0,0,0,0,0,0,0,0,0,0,0,0,0,0,0,0,0,0,0,0]
[null,null,null,null,null,null,null,{"$f":"IFERROR(H55/ABS(H55),0)*H136","v":0},0,{"$f":"IFERROR(J55/ABS(J55),0)*J136","v":0},0,0,0,0,0,0,0,0,0,0,0,0,0,0,0,0,0,0,0,0,0,0,0,0,0,0,0,0,0,0,0,0,0,0,0,0,0,0,0,0,0,0,0,0,0,0,0,0,0,0,0,0,0,0,0,0,0,0,0,0,0,0,0,{"$f":"IFERROR(BV55/ABS(BV55),0)*BV136","v":0},0,0,0,0,0,0,0,0,0,0,0,0,0,0,0,0,0,0,0,0,0,0,0,0,0,0,0,0,0,0,0,0,0,0,0,0,0,0,0,0,0,0,0]
[null,null,null,null,null,null,null,{"$f":"IFERROR(H56/ABS(H56),0)*H137","v":0},0,{"$f":"IFERROR(J56/ABS(J56),0)*J137","v":0},0,0,0,0,0,0,0,0,0,0,0,0,0,0,0,0,0,0,0,0,0,0,0,0,0,0,0,0,0,0,0,0,0,0,0,0,0,0,0,0,0,0,0,0,0,0,0,0,0,0,0,0,0,0,0,0,0,0,0,0,0,0,0,{"$f":"IFERROR(BV56/ABS(BV56),0)*BV137","v":0},0,0,0,0,0,0,0,0,0,0,0,0,0,0,0,0,0,0,0,0,0,0,0,0,0,0,0,0,0,0,0,0,0,0,0,0,0,0,0,0,0,0,0]
[null,null,null,null,null,null,null,{"$f":"IFERROR(H57/ABS(H57),0)*H138","v":0},0,{"$f":"IFERROR(J57/ABS(J57),0)*J138","v":0},0,0,0,0,0,0,0,0,0,0,0,0,0,0,0,0,0,0,0,0,0,0,0,0,0,0,0,0,0,0,0,0,0,0,0,0,0,0,0,0,0,0,0,0,0,0,0,0,0,0,0,0,0,0,0,0,0,0,0,0,0,0,0,{"$f":"IFERROR(BV57/ABS(BV57),0)*BV138","v":0},0,0,0,0,0,0,0,0,0,0,0,0,0,0,0,0,0,0,0,0,0,0,0,0,0,0,0,0,0,0,0,0,0,0,0,0,0,0,0,0,0,0,0]
[null,null,null,null,null,null,null,{"$f":"IFERROR(H58/ABS(H58),0)*H139","v":0},0,{"$f":"IFERROR(J58/ABS(J58),0)*J139","v":0},0,0,0,0,0,0,0,0,0,0,0,0,0,0,0,0,0,0,0,0,0,0,0,0,0,0,0,0,0,0,0,0,0,0,0,0,0,0,0,0,0,0,0,0,0,0,0,0,0,0,0,0,0,0,0,0,0,0,0,0,0,0,0,{"$f":"IFERROR(BV58/ABS(BV58),0)*BV139","v":0},0,0,0,0,0,0,0,0,0,0,0,0,0,0,0,0,0,0,0,0,0,0,0,0,0,0,0,0,0,0,0,0,0,0,0,0,0,0,0,0,0,0,0]
[null,null,null,null,null,null,null,{"$f":"IFERROR(H59/ABS(H59),0)*H140","v":0},0,{"$f":"IFERROR(J59/ABS(J59),0)*J140","v":0},0,0,0,0,0,0,0,0,0,0,0,0,0,0,0,0,0,0,0,0,0,0,0,0,0,0,0,0,0,0,0,0,0,0,0,0,0,0,0,0,0,0,0,0,0,0,0,0,0,0,0,0,0,0,0,0,0,0,0,0,0,0,0,{"$f":"IFERROR(BV59/ABS(BV59),0)*BV140","v":0},0,0,0,0,0,0,0,0,0,0,0,0,0,0,0,0,0,0,0,0,0,0,0,0,0,0,0,0,0,0,0,0,0,0,0,0,0,0,0,0,0,0,0]
[null,null,null,null,null,null,null,{"$f":"IFERROR(H60/ABS(H60),0)*H141","v":0},0,{"$f":"IFERROR(J60/ABS(J60),0)*J141","v":0},0,0,0,0,0,0,0,0,0,0,0,0,0,0,0,0,0,0,0,0,0,0,0,0,0,0,0,0,0,0,0,0,0,0,0,0,0,0,0,0,0,0,0,0,0,0,0,0,0,0,0,0,0,0,0,0,0,0,0,0,0,0,0,{"$f":"IFERROR(BV60/ABS(BV60),0)*BV141","v":0},0,0,0,0,0,0,0,0,0,0,0,0,0,0,0,0,0,0,0,0,0,0,0,0,0,0,0,0,0,0,0,0,0,0,0,0,0,0,0,0,0,0,0]
[null,null,null,null,null,null,null,{"$f":"IFERROR(H61/ABS(H61),0)*H142","v":0},0,{"$f":"IFERROR(J61/ABS(J61),0)*J142","v":0},0,0,0,0,0,0,0,0,0,0,0,0,0,0,0,0,0,0,0,0,0,0,0,0,0,0,0,0,0,0,0,0,0,0,0,0,0,0,0,0,0,0,0,0,0,0,0,0,0,0,0,0,0,0,0,0,0,0,0,0,0,0,0,{"$f":"IFERROR(BV61/ABS(BV61),0)*BV142","v":0},0,0,0,0,0,0,0,0,0,0,0,0,0,0,0,0,0,0,0,0,0,0,0,0,0,0,0,0,0,0,0,0,0,0,0,0,0,0,0,0,0,0,0]
[null,null,null,null,null,null,null,{"$f":"IFERROR(H62/ABS(H62),0)*H143","v":0},0,{"$f":"IFERROR(J62/ABS(J62),0)*J143","v":0},0,0,0,0,0,0,0,0,0,0,0,0,0,0,0,0,0,0,0,0,0,0,0,0,0,0,0,0,0,0,0,0,0,0,0,0,0,0,0,0,0,0,0,0,0,0,0,0,0,0,0,0,0,0,0,0,0,0,0,0,0,0,0,{"$f":"IFERROR(BV62/ABS(BV62),0)*BV143","v":0},0,0,0,0,0,0,0,0,0,0,0,0,0,0,0,0,0,0,0,0,0,0,0,0,0,0,0,0,0,0,0,0,0,0,0,0,0,0,0,0,0,0,0]
[null,null,null,null,null,null,null,{"$f":"IFERROR(H63/ABS(H63),0)*H144","v":0},0,{"$f":"IFERROR(J63/ABS(J63),0)*J144","v":0},0,0,0,0,0,0,0,0,0,0,0,0,0,0,0,0,0,0,0,0,0,0,0,0,0,0,0,0,0,0,0,0,0,0,0,0,0,0,0,0,0,0,0,0,0,0,0,0,0,0,0,0,0,0,0,0,0,0,0,0,0,0,0,{"$f":"IFERROR(BV63/ABS(BV63),0)*BV144","v":0},0,0,0,0,0,0,0,0,0,0,0,0,0,0,0,0,0,0,0,0,0,0,0,0,0,0,0,0,0,0,0,0,0,0,0,0,0,0,0,0,0,0,0]
[null,null,null,null,null,null,null,{"$f":"IFERROR(H64/ABS(H64),0)*H145","v":0},0,{"$f":"IFERROR(J64/ABS(J64),0)*J145","v":0},0,0,0,0,0,0,0,0,0,0,0,0,0,0,0,0,0,0,0,0,0,0,0,0,0,0,0,0,0,0,0,0,0,0,0,0,0,0,0,0,0,0,0,0,0,0,0,0,0,0,0,0,0,0,0,0,0,0,0,0,0,0,0,{"$f":"IFERROR(BV64/ABS(BV64),0)*BV145","v":0},0,0,0,0,0,0,0,0,0,0,0,0,0,0,0,0,0,0,0,0,0,0,0,0,0,0,0,0,0,0,0,0,0,0,0,0,0,0,0,0,0,0,0]
[null,null,null,null,null,null,null,{"$f":"IFERROR(H65/ABS(H65),0)*H146","v":0},0,{"$f":"IFERROR(J65/ABS(J65),0)*J146","v":0},0,0,0,0,0,0,0,0,0,0,0,0,0,0,0,0,0,0,0,0,0,0,0,0,0,0,0,0,0,0,0,0,0,0,0,0,0,0,0,0,0,0,0,0,0,0,0,0,0,0,0,0,0,0,0,0,0,0,0,0,0,0,0,{"$f":"IFERROR(BV65/ABS(BV65),0)*BV146","v":0},0,0,0,0,0,0,0,0,0,0,0,0,0,0,0,0,0,0,0,0,0,0,0,0,0,0,0,0,0,0,0,0,0,0,0,0,0,0,0,0,0,0,0]
[null,null,null,null,null,null,null,{"$f":"IFERROR(H66/ABS(H66),0)*H147","v":0},0,{"$f":"IFERROR(J66/ABS(J66),0)*J147","v":0},0,0,0,0,0,0,0,0,0,0,0,0,0,0,0,0,0,0,0,0,0,0,0,0,0,0,0,0,0,0,0,0,0,0,0,0,0,0,0,0,0,0,0,0,0,0,0,0,0,0,0,0,0,0,0,0,0,0,0,0,0,0,0,{"$f":"IFERROR(BV66/ABS(BV66),0)*BV147","v":0},0,0,0,0,0,0,0,0,0,0,0,0,0,0,0,0,0,0,0,0,0,0,0,0,0,0,0,0,0,0,0,0,0,0,0,0,0,0,0,0,0,0,0]
[null,null,null,null,null,null,null,{"$f":"IFERROR(H67/ABS(H67),0)*H148","v":0},0,{"$f":"IFERROR(J67/ABS(J67),0)*J148","v":0},0,0,0,0,0,0,0,0,0,0,0,0,0,0,0,0,0,0,0,0,0,0,0,0,0,0,0,0,0,0,0,0,0,0,0,0,0,0,0,0,0,0,0,0,0,0,0,0,0,0,0,0,0,0,0,0,0,0,0,0,0,0,0,{"$f":"IFERROR(BV67/ABS(BV67),0)*BV148","v":0},0,0,0,0,0,0,0,0,0,0,0,0,0,0,0,0,0,0,0,0,0,0,0,0,0,0,0,0,0,0,0,0,0,0,0,0,0,0,0,0,0,0,0]
[null,null,null,null,null,null,null,{"$f":"IFERROR(H68/ABS(H68),0)*H149","v":0},0,{"$f":"IFERROR(J68/ABS(J68),0)*J149","v":0},0,0,0,0,0,0,0,0,0,0,0,0,0,0,0,0,0,0,0,0,0,0,0,0,0,0,0,0,0,0,0,0,0,0,0,0,0,0,0,0,0,0,0,0,0,0,0,0,0,0,0,0,0,0,0,0,0,0,0,0,0,0,0,{"$f":"IFERROR(BV68/ABS(BV68),0)*BV149","v":0},0,0,0,0,0,0,0,0,0,0,0,0,0,0,0,0,0,0,0,0,0,0,0,0,0,0,0,0,0,0,0,0,0,0,0,0,0,0,0,0,0,0,0]
[null,null,null,null,null,null,null,{"$f":"IFERROR(H69/ABS(H69),0)*H150","v":0},0,{"$f":"IFERROR(J69/ABS(J69),0)*J150","v":0},0,0,0,0,0,0,0,0,0,0,0,0,0,0,0,0,0,0,0,0,0,0,0,0,0,0,0,0,0,0,0,0,0,0,0,0,0,0,0,0,0,0,0,0,0,0,0,0,0,0,0,0,0,0,0,0,0,0,0,0,0,0,0,{"$f":"IFERROR(BV69/ABS(BV69),0)*BV150","v":0},0,0,0,0,0,0,0,0,0,0,0,0,0,0,0,0,0,0,0,0,0,0,0,0,0,0,0,0,0,0,0,0,0,0,0,0,0,0,0,0,0,0,0]
[null,null,null,null,null,null,null,{"$f":"IFERROR(H70/ABS(H70),0)*H151","v":0},0,{"$f":"IFERROR(J70/ABS(J70),0)*J151","v":0},0,0,0,0,0,0,0,0,0,0,0,0,0,0,0,0,0,0,0,0,0,0,0,0,0,0,0,0,0,0,0,0,0,0,0,0,0,0,0,0,0,0,0,0,0,0,0,0,0,0,0,0,0,0,0,0,0,0,0,0,0,0,0,{"$f":"IFERROR(BV70/ABS(BV70),0)*BV151","v":0},0,0,0,0,0,0,0,0,0,0,0,0,0,0,0,0,0,0,0,0,0,0,0,0,0,0,0,0,0,0,0,0,0,0,0,0,0,0,0,0,0,0,0]
[null,null,null,null,null,null,null,{"$f":"IFERROR(H71/ABS(H71),0)*H152","v":0},0,{"$f":"IFERROR(J71/ABS(J71),0)*J152","v":0},0,0,0,0,0,0,0,0,0,0,0,0,0,0,0,0,0,0,0,0,0,0,0,0,0,0,0,0,0,0,0,0,0,0,0,0,0,0,0,0,0,0,0,0,0,0,0,0,0,0,0,0,0,0,0,0,0,0,0,0,0,0,0,{"$f":"IFERROR(BV71/ABS(BV71),0)*BV152","v":0},0,0,0,0,0,0,0,0,0,0,0,0,0,0,0,0,0,0,0,0,0,0,0,0,0,0,0,0,0,0,0,0,0,0,0,0,0,0,0,0,0,0,0]
[null,null,null,null,null,null,null,{"$f":"IFERROR(H72/ABS(H72),0)*H153","v":0},0,{"$f":"IFERROR(J72/ABS(J72),0)*J153","v":0},0,0,0,0,0,0,0,0,0,0,0,0,0,0,0,0,0,0,0,0,0,0,0,0,0,0,0,0,0,0,0,0,0,0,0,0,0,0,0,0,0,0,0,0,0,0,0,0,0,0,0,0,0,0,0,0,0,0,0,0,0,0,0,{"$f":"IFERROR(BV72/ABS(BV72),0)*BV153","v":0},0,0,0,0,0,0,0,0,0,0,0,0,0,0,0,0,0,0,0,0,0,0,0,0,0,0,0,0,0,0,0,0,0,0,0,0,0,0,0,0,0,0,0]
[null,null,null,null,null,null,null,{"$f":"IFERROR(H73/ABS(H73),0)*H154","v":0},0,{"$f":"IFERROR(J73/ABS(J73),0)*J154","v":0},0,0,0,0,0,0,0,0,0,0,0,0,0,0,0,0,0,0,0,0,0,0,0,0,0,0,0,0,0,0,0,0,0,0,0,0,0,0,0,0,0,0,0,0,0,0,0,0,0,0,0,0,0,0,0,0,0,0,0,0,0,0,0,{"$f":"IFERROR(BV73/ABS(BV73),0)*BV154","v":0},0,0,0,0,0,0,0,0,0,0,0,0,0,0,0,0,0,0,0,0,0,0,0,0,0,0,0,0,0,0,0,0,0,0,0,0,0,0,0,0,0,0,0]
[null,null,null,null,null,null,null,{"$f":"IFERROR(H74/ABS(H74),0)*H155","v":0},0,{"$f":"IFERROR(J74/ABS(J74),0)*J155","v":0},0,0,0,0,0,0,0,0,0,0,0,0,0,0,0,0,0,0,0,0,0,0,0,0,0,0,0,0,0,0,0,0,0,0,0,0,0,0,0,0,0,0,0,0,0,0,0,0,0,0,0,0,0,0,0,0,0,0,0,0,0,0,0,{"$f":"IFERROR(BV74/ABS(BV74),0)*BV155","v":0},0,0,0,0,0,0,0,0,0,0,0,0,0,0,0,0,0,0,0,0,0,0,0,0,0,0,0,0,0,0,0,0,0,0,0,0,0,0,0,0,0,0,0]
[null,null,null,null,null,null,null,{"$f":"IFERROR(H75/ABS(H75),0)*H156","v":0},0,{"$f":"IFERROR(J75/ABS(J75),0)*J156","v":0},0,0,0,0,0,0,0,0,0,0,0,0,0,0,0,0,0,0,0,0,0,0,0,0,0,0,0,0,0,0,0,0,0,0,0,0,0,0,0,0,0,0,0,0,0,0,0,0,0,0,0,0,0,0,0,0,0,0,0,0,0,0,0,{"$f":"IFERROR(BV75/ABS(BV75),0)*BV156","v":0},0,0,0,0,0,0,0,0,0,0,0,0,0,0,0,0,0,0,0,0,0,0,0,0,0,0,0,0,0,0,0,0,0,0,0,0,0,0,0,0,0,0,0]
[null,null,null,null,null,null,null,{"$f":"IFERROR(H76/ABS(H76),0)*H157","v":0},0,{"$f":"IFERROR(J76/ABS(J76),0)*J157","v":0},0,0,0,0,0,0,0,0,0,0,0,0,0,0,0,0,0,0,0,0,0,0,0,0,0,0,0,0,0,0,0,0,0,0,0,0,0,0,0,0,0,0,0,0,0,0,0,0,0,0,0,0,0,0,0,0,0,0,0,0,0,0,0,{"$f":"IFERROR(BV76/ABS(BV76),0)*BV157","v":0},0,0,0,0,0,0,0,0,0,0,0,0,0,0,0,0,0,0,0,0,0,0,0,0,0,0,0,0,0,0,0,0,0,0,0,0,0,0,0,0,0,0,0]
[null,null,null,null,null,null,null,{"$f":"IFERROR(H77/ABS(H77),0)*H158","v":0},0,{"$f":"IFERROR(J77/ABS(J77),0)*J158","v":0},0,0,0,0,0,0,0,0,0,0,0,0,0,0,0,0,0,0,0,0,0,0,0,0,0,0,0,0,0,0,0,0,0,0,0,0,0,0,0,0,0,0,0,0,0,0,0,0,0,0,0,0,0,0,0,0,0,0,0,0,0,0,0,{"$f":"IFERROR(BV77/ABS(BV77),0)*BV158","v":0},0,0,0,0,0,0,0,0,0,0,0,0,0,0,0,0,0,0,0,0,0,0,0,0,0,0,0,0,0,0,0,0,0,0,0,0,0,0,0,0,0,0,0]
[null,null,null,null,null,null,null,{"$f":"IFERROR(H78/ABS(H78),0)*H159","v":0},0,{"$f":"IFERROR(J78/ABS(J78),0)*J159","v":0},0,0,0,0,0,0,0,0,0,0,0,0,0,0,0,0,0,0,0,0,0,0,0,0,0,0,0,0,0,0,0,0,0,0,0,0,0,0,0,0,0,0,0,0,0,0,0,0,0,0,0,0,0,0,0,0,0,0,0,0,0,0,0,{"$f":"IFERROR(BV78/ABS(BV78),0)*BV159","v":0},0,0,0,0,0,0,0,0,0,0,0,0,0,0,0,0,0,0,0,0,0,0,0,0,0,0,0,0,0,0,0,0,0,0,0,0,0,0,0,0,0,0,0]
[null,null,null,null,null,null,null,{"$f":"IFERROR(H79/ABS(H79),0)*H160","v":0},0,{"$f":"IFERROR(J79/ABS(J79),0)*J160","v":0},0,0,0,0,0,0,0,0,0,0,0,0,0,0,0,0,0,0,0,0,0,0,0,0,0,0,0,0,0,0,0,0,0,0,0,0,0,0,0,0,0,0,0,0,0,0,0,0,0,0,0,0,0,0,0,0,0,0,0,0,0,0,0,{"$f":"IFERROR(BV79/ABS(BV79),0)*BV160","v":0},0,0,0,0,0,0,0,0,0,0,0,0,0,0,0,0,0,0,0,0,0,0,0,0,0,0,0,0,0,0,0,0,0,0,0,0,0,0,0,0,0,0,0]
[null,null,null,null,null,null,null,{"$f":"IFERROR(H80/ABS(H80),0)*H161","v":0},0,{"$f":"IFERROR(J80/ABS(J80),0)*J161","v":0},0,0,0,0,0,0,0,0,0,0,0,0,0,0,0,0,0,0,0,0,0,0,0,0,0,0,0,0,0,0,0,0,0,0,0,0,0,0,0,0,0,0,0,0,0,0,0,0,0,0,0,0,0,0,0,0,0,0,0,0,0,0,0,{"$f":"IFERROR(BV80/ABS(BV80),0)*BV161","v":0},0,0,0,0,0,0,0,0,0,0,0,0,0,0,0,0,0,0,0,0,0,0,0,0,0,0,0,0,0,0,0,0,0,0,0,0,0,0,0,0,0,0,0]
[null,null,null,null,null,null,null,{"$f":"IFERROR(H81/ABS(H81),0)*H162","v":0},0,{"$f":"IFERROR(J81/ABS(J81),0)*J162","v":0},0,0,0,0,0,0,0,0,0,0,0,0,0,0,0,0,0,0,0,0,0,0,0,0,0,0,0,0,0,0,0,0,0,0,0,0,0,0,0,0,0,0,0,0,0,0,0,0,0,0,0,0,0,0,0,0,0,0,0,0,0,0,0,{"$f":"IFERROR(BV81/ABS(BV81),0)*BV162","v":0},0,0,0,0,0,0,0,0,0,0,0,0,0,0,0,0,0,0,0,0,0,0,0,0,0,0,0,0,0,0,0,0,0,0,0,0,0,0,0,0,0,0,0]
[]
[]
[null,null,null,null,null,null,{"$f":"IF(OR(G4=$C$5,G4=$E$10),$B$12*$C$6,2*$B$12)","v":5.7004591398468492},{"$f":"$G246*H166","v":-23941.928387356766},{"$f":"$G246*I166","v":-23941.928387356766},{"$f":"$G246*J166","v":-16691.978632092498},-6448.1543842883511,362.94461990647432,5219.1718697282331,8856.5175676181552,11682.710164324675,13941.868633619752,15789.085124012823,17327.61761656831,18628.874824318944,19743.816717751382,20709.785192620311,21554.768157642382,22300.155841451753,22962.57671136898,23555.152660461965,23941.928387356766,23941.928387356766,23941.928387356766,23941.928387356766,23941.928387356766,23941.928387356766,23941.928387356766,23941.928387356766,23941.928387356766,23941.928387356766,23941.928387356766,23941.928387356766,23941.928387356766,23941.928387356766,23941.928387356766,23941.928387356766,23941.928387356766,23941.928387356766,23941.928387356766,23941.928387356766,23941.928387356766,0,0,0,0,0,0,0,0,0,0,0,0,0,0,0,0,0,0,0,0,0,0,0,0,0,0,0,{"$f":"$G246*BV166","v":0},0,0,0,0,0,0,0,0,0,0,0,0,0,0,0,0,0,0,0,0,0,0,0,0,0,0,0,0,0,0,0,0,0,0,0,0,0,0,0,0,0,0,0]
[null,null,null,null,null,null,{"$f":"IF(OR(G5=$C$5,G5=$E$10),$B$12*$C$6,2*$B$12)","v":5.7004591398468492},{"$f":"$G247*H167","v":-23941.928387356766},-23941.928387356766,-23941.928387356766,-23941.928387356766,-23941.928387356766,-23941.928387356766,-23941.928387356766,-23941.928387356766,-23941.928387356766,-23941.928387356766,-22952.663357405905,-18545.35698060444,-14769.093158648668,-11497.396376704801,-8635.4727017782225,-6110.8742807473236,-3867.2811565568913,-1860.2499995950436,-54.24024221204683,1579.5088277168845,3064.5211641722767,4420.2239582325983,5662.8022579689932,6805.8482194313292,7860.8603477793085,8837.6316656694926,9744.5546085243259,10588.862769063655,11376.824241841055,12113.89750799164,12804.858062637053,13453.901997011779,14064.731284350066,14640.624432095101,15184.495348372919,15698.942654374672,16186.29120407942,16648.627211136474,17087.828102540785,0,0,0,0,0,0,0,0,0,0,0,0,0,0,0,0,0,0,0,0,0,0,0,0,0,{"$f":"$G247*BT167","v":0},0,0,0,0,0,0,0,0,0,0,0,0,0,0,0,0,0,0,0,0,0,0,0,0,0,0,0,0,0,0,0,0,0,0,0,0,0,0,0,0,0,0,0,0,0]
[null,null,null,null,null,null,5.7004591398468492,{"$f":"$G248*H168","v":-23941.928387356766},-23941.928387356766,-23941.928387356766,-23941.928387356766,-23941.928387356766,-23941.928387356766,-23941.928387356766,-23941.928387356766,-23941.928387356766,-23941.928387356766,-23941.928387356766,-23941.928387356766,-23941.928387356766,-23941.928387356766,-23941.928387356766,-23941.928387356766,-23941.928387356766,-23941.928387356766,-23941.928387356766,-21411.723798792038,-18880.149018219709,-16569.014680045377,-14450.72932356976,-12502.12172076684,-10703.589794965625,-9038.438890792333,-7492.3620039605557,-6053.027667281136,-4709.7503465638601,-3453.22469609365,-2275.3096905618813,-1168.8520434365698,-127.54081584662833,854.21302777172332,1781.3769722963341,2658.3810172028238,3489.1884573119914,4277.3557653425069,5026.083484964005,0,0,0,0,0,0,0,0,0,0,0,0,0,0,0,0,0,0,0,0,0,0,0,0,0,{"$f":"$G248*BT168","v":0},0,0,0,0,0,0,0,0,0,0,0,0,0,0,0,0,0,0,0,0,0,0,0,0,0,0,0,0,0,0,0,0,0,0,0,0,0,0,0,0,0,0,0,0,0]
[null,null,null,null,null,null,5.7004591398468492,{"$f":"$G249*H169","v":0},0,0,0,0,0,0,0,0,0,0,0,0,0,0,0,0,0,0,0,0,0,0,0,0,0,0,0,0,0,0,0,0,0,0,0,0,0,0,0,0,0,0,0,0,0,0,0,0,0,0,0,0,0,0,0,0,0,0,0,0,0,0,0,{"$f":"$G249*BT169","v":0},0,0,0,0,0,0,0,0,0,0,0,0,0,0,0,0,0,0,0,0,0,0,0,0,0,0,0,0,0,0,0,0,0,0,0,0,0,0,0,0,0,0,0,0,0]
[null,null,null,null,null,null,{"$f":"IF(OR(G8=$C$5,G8=$E$10),$B$12*$C$6,2*$B$12)","v":5.7004591398468492},{"$f":"$G250*H170","v":0},0,0,0,0,0,0,0,0,0,0,0,0,0,0,0,0,0,0,0,0,0,0,0,0,0,0,0,0,0,0,0,0,0,0,0,0,0,0,0,0,0,0,0,0,0,0,0,0,0,0,0,0,0,0,0,0,0,0,0,0,0,0,0,{"$f":"$G250*BT170","v":0},0,0,0,0,0,0,0,0,0,0,0,0,0,0,0,0,0,0,0,0,0,0,0,0,0,0,0,0,0,0,0,0,0,0,0,0,0,0,0,0,0,0,0,0,0]
[null,null,null,null,null,null,5.7004591398468492,{"$f":"$G251*H171","v":0},0,0,0,0,0,0,0,0,0,0,0,0,0,0,0,0,0,0,0,0,0,0,0,0,0,0,0,0,0,0,0,0,0,0,0,0,0,0,0,0,0,0,0,0,0,0,0,0,0,0,0,0,0,0,0,0,0,0,0,0,0,0,0,{"$f":"$G251*BT171","v":0},0,0,0,0,0,0,0,0,0,0,0,0,0,0,0,0,0,0,0,0,0,0,0,0,0,0,0,0,0,0,0,0,0,0,0,0,0,0,0,0,0,0,0,0,0]
[null,null,null,null,null,null,5.7004591398468492,{"$f":"$G252*H172","v":0},0,0,0,0,0,0,0,0,0,0,0,0,0,0,0,0,0,0,0,0,0,0,0,0,0,0,0,0,0,0,0,0,0,0,0,0,0,0,0,0,0,0,0,0,0,0,0,0,0,0,0,0,0,0,0,0,0,0,0,0,0,0,0,{"$f":"$G252*BT172","v":0},0,0,0,0,0,0,0,0,0,0,0,0,0,0,0,0,0,0,0,0,0,0,0,0,0,0,0,0,0,0,0,0,0,0,0,0,0,0,0,0,0,0,0,0,0]
[null,null,null,null,null,null,5.7004591398468492,{"$f":"$G253*H173","v":0},0,0,0,0,0,0,0,0,0,0,0,0,0,0,0,0,0,0,0,0,0,0,0,0,0,0,0,0,0,0,0,0,0,0,0,0,0,0,0,0,0,0,0,0,0,0,0,0,0,0,0,0,0,0,0,0,0,0,0,0,0,0,0,{"$f":"$G253*BT173","v":0},0,0,0,0,0,0,0,0,0,0,0,0,0,0,0,0,0,0,0,0,0,0,0,0,0,0,0,0,0,0,0,0,0,0,0,0,0,0,0,0,0,0,0,0,0]
[null,null,null,null,null,null,5.7004591398468492,{"$f":"$G254*H174","v":0},0,0,0,0,0,0,0,0,0,0,0,0,0,0,0,0,0,0,0,0,0,0,0,0,0,0,0,0,0,0,0,0,0,0,0,0,0,0,0,0,0,0,0,0,0,0,0,0,0,0,0,0,0,0,0,0,0,0,0,0,0,0,0,{"$f":"$G254*BT174","v":0},0,0,0,0,0,0,0,0,0,0,0,0,0,0,0,0,0,0,0,0,0,0,0,0,0,0,0,0,0,0,0,0,0,0,0,0,0,0,0,0,0,0,0,0,0]
[null,null,null,null,null,null,5.7004591398468492,{"$f":"$G255*H175","v":0},0,0,0,0,0,0,0,0,0,0,0,0,0,0,0,0,0,0,0,0,0,0,0,0,0,0,0,0,0,0,0,0,0,0,0,0,0,0,0,0,0,0,0,0,0,0,0,0,0,0,0,0,0,0,0,0,0,0,0,0,0,0,0,{"$f":"$G255*BT175","v":0},0,0,0,0,0,0,0,0,0,0,0,0,0,0,0,0,0,0,0,0,0,0,0,0,0,0,0,0,0,0,0,0,0,0,0,0,0,0,0,0,0,0,0,0,0]
[null,null,null,null,null,null,5.7004591398468492,{"$f":"$G256*H176","v":0},0,0,0,0,0,0,0,0,0,0,0,0,0,0,0,0,0,0,0,0,0,0,0,0,0,0,0,0,0,0,0,0,0,0,0,0,0,0,0,0,0,0,0,0,0,0,0,0,0,0,0,0,0,0,0,0,0,0,0,0,0,0,0,{"$f":"$G256*BT176","v":0},0,0,0,0,0,0,0,0,0,0,0,0,0,0,0,0,0,0,0,0,0,0,0,0,0,0,0,0,0,0,0,0,0,0,0,0,0,0,0,0,0,0,0,0,0]
[null,null,null,null,null,null,5.7004591398468492,{"$f":"$G257*H177","v":0},0,0,0,0,0,0,0,0,0,0,0,0,0,0,0,0,0,0,0,0,0,0,0,0,0,0,0,0,0,0,0,0,0,0,0,0,0,0,0,0,0,0,0,0,0,0,0,0,0,0,0,0,0,0,0,0,0,0,0,0,0,0,0,{"$f":"$G257*BT177","v":0},0,0,0,0,0,0,0,0,0,0,0,0,0,0,0,0,0,0,0,0,0,0,0,0,0,0,0,0,0,0,0,0,0,0,0,0,0,0,0,0,0,0,0,0,0]
[null,null,null,null,null,null,5.7004591398468492,{"$f":"$G258*H178","v":0},0,0,0,0,0,0,0,0,0,0,0,0,0,0,0,0,0,0,0,0,0,0,0,0,0,0,0,0,0,0,0,0,0,0,0,0,0,0,0,0,0,0,0,0,0,0,0,0,0,0,0,0,0,0,0,0,0,0,0,0,0,0,0,{"$f":"$G258*BT178","v":0},0,0,0,0,0,0,0,0,0,0,0,0,0,0,0,0,0,0,0,0,0,0,0,0,0,0,0,0,0,0,0,0,0,0,0,0,0,0,0,0,0,0,0,0,0]
[null,null,null,null,null,null,5.7004591398468492,{"$f":"$G259*H179","v":0},0,0,0,0,0,0,0,0,0,0,0,0,0,0,0,0,0,0,0,0,0,0,0,0,0,0,0,0,0,0,0,0,0,0,0,0,0,0,0,0,0,0,0,0,0,0,0,0,0,0,0,0,0,0,0,0,0,0,0,0,0,0,0,{"$f":"$G259*BT179","v":0},0,0,0,0,0,0,0,0,0,0,0,0,0,0,0,0,0,0,0,0,0,0,0,0,0,0,0,0,0,0,0,0,0,0,0,0,0,0,0,0,0,0,0,0,0]
[null,null,null,null,null,null,5.7004591398468492,{"$f":"$G260*H180","v":0},0,0,0,0,0,0,0,0,0,0,0,0,0,0,0,0,0,0,0,0,0,0,0,0,0,0,0,0,0,0,0,0,0,0,0,0,0,0,0,0,0,0,0,0,0,0,0,0,0,0,0,0,0,0,0,0,0,0,0,0,0,0,0,{"$f":"$G260*BT180","v":0},0,0,0,0,0,0,0,0,0,0,0,0,0,0,0,0,0,0,0,0,0,0,0,0,0,0,0,0,0,0,0,0,0,0,0,0,0,0,0,0,0,0,0,0,0]
[null,null,null,null,null,null,5.7004591398468492,{"$f":"$G261*H181","v":0},0,0,0,0,0,0,0,0,0,0,0,0,0,0,0,0,0,0,0,0,0,0,0,0,0,0,0,0,0,0,0,0,0,0,0,0,0,0,0,0,0,0,0,0,0,0,0,0,0,0,0,0,0,0,0,0,0,0,0,0,0,0,0,{"$f":"$G261*BT181","v":0},0,0,0,0,0,0,0,0,0,0,0,0,0,0,0,0,0,0,0,0,0,0,0,0,0,0,0,0,0,0,0,0,0,0,0,0,0,0,0,0,0,0,0,0,0]
[null,null,null,null,null,null,5.7004591398468492,{"$f":"$G262*H182","v":0},0,0,0,0,0,0,0,0,0,0,0,0,0,0,0,0,0,0,0,0,0,0,0,0,0,0,0,0,0,0,0,0,0,0,0,0,0,0,0,0,0,0,0,0,0,0,0,0,0,0,0,0,0,0,0,0,0,0,0,0,0,0,0,{"$f":"$G262*BT182","v":0},0,0,0,0,0,0,0,0,0,0,0,0,0,0,0,0,0,0,0,0,0,0,0,0,0,0,0,0,0,0,0,0,0,0,0,0,0,0,0,0,0,0,0,0,0]
[null,null,null,null,null,null,5.7004591398468492,{"$f":"$G263*H183","v":0},0,0,0,0,0,0,0,0,0,0,0,0,0,0,0,0,0,0,0,0,0,0,0,0,0,0,0,0,0,0,0,0,0,0,0,0,0,0,0,0,0,0,0,0,0,0,0,0,0,0,0,0,0,0,0,0,0,0,0,0,0,0,0,{"$f":"$G263*BT183","v":0},0,0,0,0,0,0,0,0,0,0,0,0,0,0,0,0,0,0,0,0,0,0,0,0,0,0,0,0,0,0,0,0,0,0,0,0,0,0,0,0,0,0,0,0,0]
[null,null,null,null,null,null,5.7004591398468492,{"$f":"$G264*H184","v":0},0,0,0,0,0,0,0,0,0,0,0,0,0,0,0,0,0,0,0,0,0,0,0,0,0,0,0,0,0,0,0,0,0,0,0,0,0,0,0,0,0,0,0,0,0,0,0,0,0,0,0,0,0,0,0,0,0,0,0,0,0,0,0,{"$f":"$G264*BT184","v":0},0,0,0,0,0,0,0,0,0,0,0,0,0,0,0,0,0,0,0,0,0,0,0,0,0,0,0,0,0,0,0,0,0,0,0,0,0,0,0,0,0,0,0,0,0]
[null,null,null,null,null,null,5.7004591398468492,{"$f":"$G265*H185","v":0},0,0,0,0,0,0,0,0,0,0,0,0,0,0,0,0,0,0,0,0,0,0,0,0,0,0,0,0,0,0,0,0,0,0,0,0,0,0,0,0,0,0,0,0,0,0,0,0,0,0,0,0,0,0,0,0,0,0,0,0,0,0,0,{"$f":"$G265*BT185","v":0},0,0,0,0,0,0,0,0,0,0,0,0,0,0,0,0,0,0,0,0,0,0,0,0,0,0,0,0,0,0,0,0,0,0,0,0,0,0,0,0,0,0,0,0,0]
[null,null,null,null,null,null,5.7004591398468492,{"$f":"$G266*H186","v":0},0,0,0,0,0,0,0,0,0,0,0,0,0,0,0,0,0,0,0,0,0,0,0,0,0,0,0,0,0,0,0,0,0,0,0,0,0,0,0,0,0,0,0,0,0,0,0,0,0,0,0,0,0,0,0,0,0,0,0,0,0,0,0,{"$f":"$G266*BT186","v":0},0,0,0,0,0,0,0,0,0,0,0,0,0,0,0,0,0,0,0,0,0,0,0,0,0,0,0,0,0,0,0,0,0,0,0,0,0,0,0,0,0,0,0,0,0]
[null,null,null,null,null,null,5.7004591398468492,{"$f":"$G267*H187","v":0},0,0,0,0,0,0,0,0,0,0,0,0,0,0,0,0,0,0,0,0,0,0,0,0,0,0,0,0,0,0,0,0,0,0,0,0,0,0,0,0,0,0,0,0,0,0,0,0,0,0,0,0,0,0,0,0,0,0,0,0,0,0,0,{"$f":"$G267*BT187","v":0},0,0,0,0,0,0,0,0,0,0,0,0,0,0,0,0,0,0,0,0,0,0,0,0,0,0,0,0,0,0,0,0,0,0,0,0,0,0,0,0,0,0,0,0,0]
[null,null,null,null,null,null,5.7004591398468492,{"$f":"$G268*H188","v":0},0,0,0,0,0,0,0,0,0,0,0,0,0,0,0,0,0,0,0,0,0,0,0,0,0,0,0,0,0,0,0,0,0,0,0,0,0,0,0,0,0,0,0,0,0,0,0,0,0,0,0,0,0,0,0,0,0,0,0,0,0,0,0,{"$f":"$G268*BT188","v":0},0,0,0,0,0,0,0,0,0,0,0,0,0,0,0,0,0,0,0,0,0,0,0,0,0,0,0,0,0,0,0,0,0,0,0,0,0,0,0,0,0,0,0,0,0]
[null,null,null,null,null,null,5.7004591398468492,{"$f":"$G269*H189","v":0},0,0,0,0,0,0,0,0,0,0,0,0,0,0,0,0,0,0,0,0,0,0,0,0,0,0,0,0,0,0,0,0,0,0,0,0,0,0,0,0,0,0,0,0,0,0,0,0,0,0,0,0,0,0,0,0,0,0,0,0,0,0,0,{"$f":"$G269*BT189","v":0},0,0,0,0,0,0,0,0,0,0,0,0,0,0,0,0,0,0,0,0,0,0,0,0,0,0,0,0,0,0,0,0,0,0,0,0,0,0,0,0,0,0,0,0,0]
[null,null,null,null,null,null,5.7004591398468492,{"$f":"$G270*H190","v":0},0,0,0,0,0,0,0,0,0,0,0,0,0,0,0,0,0,0,0,0,0,0,0,0,0,0,0,0,0,0,0,0,0,0,0,0,0,0,0,0,0,0,0,0,0,0,0,0,0,0,0,0,0,0,0,0,0,0,0,0,0,0,0,{"$f":"$G270*BT190","v":0},0,0,0,0,0,0,0,0,0,0,0,0,0,0,0,0,0,0,0,0,0,0,0,0,0,0,0,0,0,0,0,0,0,0,0,0,0,0,0,0,0,0,0,0,0]
[null,null,null,null,null,null,5.7004591398468492,{"$f":"$G271*H191","v":0},0,0,0,0,0,0,0,0,0,0,0,0,0,0,0,0,0,0,0,0,0,0,0,0,0,0,0,0,0,0,0,0,0,0,0,0,0,0,0,0,0,0,0,0,0,0,0,0,0,0,0,0,0,0,0,0,0,0,0,0,0,0,0,{"$f":"$G271*BT191","v":0},0,0,0,0,0,0,0,0,0,0,0,0,0,0,0,0,0,0,0,0,0,0,0,0,0,0,0,0,0,0,0,0,0,0,0,0,0,0,0,0,0,0,0,0,0]
[null,null,null,null,null,null,5.7004591398468492,{"$f":"$G272*H192","v":0},0,0,0,0,0,0,0,0,0,0,0,0,0,0,0,0,0,0,0,0,0,0,0,0,0,0,0,0,0,0,0,0,0,0,0,0,0,0,0,0,0,0,0,0,0,0,0,0,0,0,0,0,0,0,0,0,0,0,0,0,0,0,0,{"$f":"$G272*BT192","v":0},0,0,0,0,0,0,0,0,0,0,0,0,0,0,0,0,0,0,0,0,0,0,0,0,0,0,0,0,0,0,0,0,0,0,0,0,0,0,0,0,0,0,0,0,0]
[null,null,null,null,null,null,5.7004591398468492,{"$f":"$G273*H193","v":0},0,0,0,0,0,0,0,0,0,0,0,0,0,0,0,0,0,0,0,0,0,0,0,0,0,0,0,0,0,0,0,0,0,0,0,0,0,0,0,0,0,0,0,0,0,0,0,0,0,0,0,0,0,0,0,0,0,0,0,0,0,0,0,{"$f":"$G273*BT193","v":0},0,0,0,0,0,0,0,0,0,0,0,0,0,0,0,0,0,0,0,0,0,0,0,0,0,0,0,0,0,0,0,0,0,0,0,0,0,0,0,0,0,0,0,0,0]
[null,null,null,null,null,null,5.7004591398468492,{"$f":"$G274*H194","v":0},0,0,0,0,0,0,0,0,0,0,0,0,0,0,0,0,0,0,0,0,0,0,0,0,0,0,0,0,0,0,0,0,0,0,0,0,0,0,0,0,0,0,0,0,0,0,0,0,0,0,0,0,0,0,0,0,0,0,0,0,0,0,0,{"$f":"$G274*BT194","v":0},0,0,0,0,0,0,0,0,0,0,0,0,0,0,0,0,0,0,0,0,0,0,0,0,0,0,0,0,0,0,0,0,0,0,0,0,0,0,0,0,0,0,0,0,0]
[null,null,null,null,null,null,5.7004591398468492,{"$f":"$G275*H195","v":0},0,0,0,0,0,0,0,0,0,0,0,0,0,0,0,0,0,0,0,0,0,0,0,0,0,0,0,0,0,0,0,0,0,0,0,0,0,0,0,0,0,0,0,0,0,0,0,0,0,0,0,0,0,0,0,0,0,0,0,0,0,0,0,{"$f":"$G275*BT195","v":0},0,0,0,0,0,0,0,0,0,0,0,0,0,0,0,0,0,0,0,0,0,0,0,0,0,0,0,0,0,0,0,0,0,0,0,0,0,0,0,0,0,0,0,0,0]
[null,null,null,null,null,null,5.7004591398468492,{"$f":"$G276*H196","v":0},0,0,0,0,0,0,0,0,0,0,0,0,0,0,0,0,0,0,0,0,0,0,0,0,0,0,0,0,0,0,0,0,0,0,0,0,0,0,0,0,0,0,0,0,0,0,0,0,0,0,0,0,0,0,0,0,0,0,0,0,0,0,0,{"$f":"$G276*BT196","v":0},0,0,0,0,0,0,0,0,0,0,0,0,0,0,0,0,0,0,0,0,0,0,0,0,0,0,0,0,0,0,0,0,0,0,0,0,0,0,0,0,0,0,0,0,0]
[null,null,null,null,null,null,5.7004591398468492,{"$f":"$G277*H197","v":0},0,0,0,0,0,0,0,0,0,0,0,0,0,0,0,0,0,0,0,0,0,0,0,0,0,0,0,0,0,0,0,0,0,0,0,0,0,0,0,0,0,0,0,0,0,0,0,0,0,0,0,0,0,0,0,0,0,0,0,0,0,0,0,{"$f":"$G277*BT197","v":0},0,0,0,0,0,0,0,0,0,0,0,0,0,0,0,0,0,0,0,0,0,0,0,0,0,0,0,0,0,0,0,0,0,0,0,0,0,0,0,0,0,0,0,0,0]
[null,null,null,null,null,null,5.7004591398468492,{"$f":"$G278*H198","v":0},0,0,0,0,0,0,0,0,0,0,0,0,0,0,0,0,0,0,0,0,0,0,0,0,0,0,0,0,0,0,0,0,0,0,0,0,0,0,0,0,0,0,0,0,0,0,0,0,0,0,0,0,0,0,0,0,0,0,0,0,0,0,0,{"$f":"$G278*BT198","v":0},0,0,0,0,0,0,0,0,0,0,0,0,0,0,0,0,0,0,0,0,0,0,0,0,0,0,0,0,0,0,0,0,0,0,0,0,0,0,0,0,0,0,0,0,0]
[null,null,null,null,null,null,5.7004591398468492,{"$f":"$G279*H199","v":0},0,0,0,0,0,0,0,0,0,0,0,0,0,0,0,0,0,0,0,0,0,0,0,0,0,0,0,0,0,0,0,0,0,0,0,0,0,0,0,0,0,0,0,0,0,0,0,0,0,0,0,0,0,0,0,0,0,0,0,0,0,0,0,{"$f":"$G279*BT199","v":0},0,0,0,0,0,0,0,0,0,0,0,0,0,0,0,0,0,0,0,0,0,0,0,0,0,0,0,0,0,0,0,0,0,0,0,0,0,0,0,0,0,0,0,0,0]
[null,null,null,null,null,null,5.7004591398468492,{"$f":"$G280*H200","v":0},0,0,0,0,0,0,0,0,0,0,0,0,0,0,0,0,0,0,0,0,0,0,0,0,0,0,0,0,0,0,0,0,0,0,0,0,0,0,0,0,0,0,0,0,0,0,0,0,0,0,0,0,0,0,0,0,0,0,0,0,0,0,0,{"$f":"$G280*BT200","v":0},0,0,0,0,0,0,0,0,0,0,0,0,0,0,0,0,0,0,0,0,0,0,0,0,0,0,0,0,0,0,0,0,0,0,0,0,0,0,0,0,0,0,0,0,0]
[null,null,null,null,null,null,5.7004591398468492,{"$f":"$G281*H201","v":0},0,0,0,0,0,0,0,0,0,0,0,0,0,0,0,0,0,0,0,0,0,0,0,0,0,0,0,0,0,0,0,0,0,0,0,0,0,0,0,0,0,0,0,0,0,0,0,0,0,0,0,0,0,0,0,0,0,0,0,0,0,0,0,{"$f":"$G281*BT201","v":0},0,0,0,0,0,0,0,0,0,0,0,0,0,0,0,0,0,0,0,0,0,0,0,0,0,0,0,0,0,0,0,0,0,0,0,0,0,0,0,0,0,0,0,0,0]
[null,null,null,null,null,null,5.7004591398468492,{"$f":"$G282*H202","v":0},0,0,0,0,0,0,0,0,0,0,0,0,0,0,0,0,0,0,0,0,0,0,0,0,0,0,0,0,0,0,0,0,0,0,0,0,0,0,0,0,0,0,0,0,0,0,0,0,0,0,0,0,0,0,0,0,0,0,0,0,0,0,0,{"$f":"$G282*BT202","v":0},0,0,0,0,0,0,0,0,0,0,0,0,0,0,0,0,0,0,0,0,0,0,0,0,0,0,0,0,0,0,0,0,0,0,0,0,0,0,0,0,0,0,0,0,0]
[null,null,null,null,null,null,5.7004591398468492,{"$f":"$G283*H203","v":0},0,0,0,0,0,0,0,0,0,0,0,0,0,0,0,0,0,0,0,0,0,0,0,0,0,0,0,0,0,0,0,0,0,0,0,0,0,0,0,0,0,0,0,0,0,0,0,0,0,0,0,0,0,0,0,0,0,0,0,0,0,0,0,{"$f":"$G283*BT203","v":0},0,0,0,0,0,0,0,0,0,0,0,0,0,0,0,0,0,0,0,0,0,0,0,0,0,0,0,0,0,0,0,0,0,0,0,0,0,0,0,0,0,0,0,0,0]
[null,null,null,null,null,null,5.7004591398468492,{"$f":"$G284*H204","v":0},0,0,0,0,0,0,0,0,0,0,0,0,0,0,0,0,0,0,0,0,0,0,0,0,0,0,0,0,0,0,0,0,0,0,0,0,0,0,0,0,0,0,0,0,0,0,0,0,0,0,0,0,0,0,0,0,0,0,0,0,0,0,0,{"$f":"$G284*BT204","v":0},0,0,0,0,0,0,0,0,0,0,0,0,0,0,0,0,0,0,0,0,0,0,0,0,0,0,0,0,0,0,0,0,0,0,0,0,0,0,0,0,0,0,0,0,0]
[null,null,null,null,null,null,5.7004591398468492,{"$f":"$G285*H205","v":0},0,0,0,0,0,0,0,0,0,0,0,0,0,0,0,0,0,0,0,0,0,0,0,0,0,0,0,0,0,0,0,0,0,0,0,0,0,0,0,0,0,0,0,0,0,0,0,0,0,0,0,0,0,0,0,0,0,0,0,0,0,0,0,{"$f":"$G285*BT205","v":0},0,0,0,0,0,0,0,0,0,0,0,0,0,0,0,0,0,0,0,0,0,0,0,0,0,0,0,0,0,0,0,0,0,0,0,0,0,0,0,0,0,0,0,0,0]
[null,null,null,null,null,null,5.7004591398468492,{"$f":"$G286*H206","v":0},0,0,0,0,0,0,0,0,0,0,0,0,0,0,0,0,0,0,0,0,0,0,0,0,0,0,0,0,0,0,0,0,0,0,0,0,0,0,0,0,0,0,0,0,0,0,0,0,0,0,0,0,0,0,0,0,0,0,0,0,0,0,0,{"$f":"$G286*BT206","v":0},0,0,0,0,0,0,0,0,0,0,0,0,0,0,0,0,0,0,0,0,0,0,0,0,0,0,0,0,0,0,0,0,0,0,0,0,0,0,0,0,0,0,0,0,0]
[null,null,null,null,null,null,5.7004591398468492,{"$f":"$G287*H207","v":0},0,0,0,0,0,0,0,0,0,0,0,0,0,0,0,0,0,0,0,0,0,0,0,0,0,0,0,0,0,0,0,0,0,0,0,0,0,0,0,0,0,0,0,0,0,0,0,0,0,0,0,0,0,0,0,0,0,0,0,0,0,0,0,{"$f":"$G287*BT207","v":0},0,0,0,0,0,0,0,0,0,0,0,0,0,0,0,0,0,0,0,0,0,0,0,0,0,0,0,0,0,0,0,0,0,0,0,0,0,0,0,0,0,0,0,0,0]
[null,null,null,null,null,null,5.7004591398468492,{"$f":"$G288*H208","v":0},0,0,0,0,0,0,0,0,0,0,0,0,0,0,0,0,0,0,0,0,0,0,0,0,0,0,0,0,0,0,0,0,0,0,0,0,0,0,0,0,0,0,0,0,0,0,0,0,0,0,0,0,0,0,0,0,0,0,0,0,0,0,0,{"$f":"$G288*BT208","v":0},0,0,0,0,0,0,0,0,0,0,0,0,0,0,0,0,0,0,0,0,0,0,0,0,0,0,0,0,0,0,0,0,0,0,0,0,0,0,0,0,0,0,0,0,0]
[null,null,null,null,null,null,5.7004591398468492,{"$f":"$G289*H209","v":0},0,0,0,0,0,0,0,0,0,0,0,0,0,0,0,0,0,0,0,0,0,0,0,0,0,0,0,0,0,0,0,0,0,0,0,0,0,0,0,0,0,0,0,0,0,0,0,0,0,0,0,0,0,0,0,0,0,0,0,0,0,0,0,{"$f":"$G289*BT209","v":0},0,0,0,0,0,0,0,0,0,0,0,0,0,0,0,0,0,0,0,0,0,0,0,0,0,0,0,0,0,0,0,0,0,0,0,0,0,0,0,0,0,0,0,0,0]
[null,null,null,null,null,null,5.7004591398468492,{"$f":"$G290*H210","v":0},0,0,0,0,0,0,0,0,0,0,0,0,0,0,0,0,0,0,0,0,0,0,0,0,0,0,0,0,0,0,0,0,0,0,0,0,0,0,0,0,0,0,0,0,0,0,0,0,0,0,0,0,0,0,0,0,0,0,0,0,0,0,0,{"$f":"$G290*BT210","v":0},0,0,0,0,0,0,0,0,0,0,0,0,0,0,0,0,0,0,0,0,0,0,0,0,0,0,0,0,0,0,0,0,0,0,0,0,0,0,0,0,0,0,0,0,0]
[null,null,null,null,null,null,5.7004591398468492,{"$f":"$G291*H211","v":0},0,0,0,0,0,0,0,0,0,0,0,0,0,0,0,0,0,0,0,0,0,0,0,0,0,0,0,0,0,0,0,0,0,0,0,0,0,0,0,0,0,0,0,0,0,0,0,0,0,0,0,0,0,0,0,0,0,0,0,0,0,0,0,{"$f":"$G291*BT211","v":0},0,0,0,0,0,0,0,0,0,0,0,0,0,0,0,0,0,0,0,0,0,0,0,0,0,0,0,0,0,0,0,0,0,0,0,0,0,0,0,0,0,0,0,0,0]
[null,null,null,null,null,null,5.7004591398468492,{"$f":"$G292*H212","v":0},0,0,0,0,0,0,0,0,0,0,0,0,0,0,0,0,0,0,0,0,0,0,0,0,0,0,0,0,0,0,0,0,0,0,0,0,0,0,0,0,0,0,0,0,0,0,0,0,0,0,0,0,0,0,0,0,0,0,0,0,0,0,0,{"$f":"$G292*BT212","v":0},0,0,0,0,0,0,0,0,0,0,0,0,0,0,0,0,0,0,0,0,0,0,0,0,0,0,0,0,0,0,0,0,0,0,0,0,0,0,0,0,0,0,0,0,0]
[null,null,null,null,null,null,5.7004591398468492,{"$f":"$G293*H213","v":0},0,0,0,0,0,0,0,0,0,0,0,0,0,0,0,0,0,0,0,0,0,0,0,0,0,0,0,0,0,0,0,0,0,0,0,0,0,0,0,0,0,0,0,0,0,0,0,0,0,0,0,0,0,0,0,0,0,0,0,0,0,0,0,{"$f":"$G293*BT213","v":0},0,0,0,0,0,0,0,0,0,0,0,0,0,0,0,0,0,0,0,0,0,0,0,0,0,0,0,0,0,0,0,0,0,0,0,0,0,0,0,0,0,0,0,0,0]
[null,null,null,null,null,null,5.7004591398468492,{"$f":"$G294*H214","v":0},0,0,0,0,0,0,0,0,0,0,0,0,0,0,0,0,0,0,0,0,0,0,0,0,0,0,0,0,0,0,0,0,0,0,0,0,0,0,0,0,0,0,0,0,0,0,0,0,0,0,0,0,0,0,0,0,0,0,0,0,0,0,0,{"$f":"$G294*BT214","v":0},0,0,0,0,0,0,0,0,0,0,0,0,0,0,0,0,0,0,0,0,0,0,0,0,0,0,0,0,0,0,0,0,0,0,0,0,0,0,0,0,0,0,0,0,0]
[null,null,null,null,null,null,5.7004591398468492,{"$f":"$G295*H215","v":0},0,0,0,0,0,0,0,0,0,0,0,0,0,0,0,0,0,0,0,0,0,0,0,0,0,0,0,0,0,0,0,0,0,0,0,0,0,0,0,0,0,0,0,0,0,0,0,0,0,0,0,0,0,0,0,0,0,0,0,0,0,0,0,{"$f":"$G295*BT215","v":0},0,0,0,0,0,0,0,0,0,0,0,0,0,0,0,0,0,0,0,0,0,0,0,0,0,0,0,0,0,0,0,0,0,0,0,0,0,0,0,0,0,0,0,0,0]
[null,null,null,null,null,null,5.7004591398468492,{"$f":"$G296*H216","v":0},0,0,0,0,0,0,0,0,0,0,0,0,0,0,0,0,0,0,0,0,0,0,0,0,0,0,0,0,0,0,0,0,0,0,0,0,0,0,0,0,0,0,0,0,0,0,0,0,0,0,0,0,0,0,0,0,0,0,0,0,0,0,0,{"$f":"$G296*BT216","v":0},0,0,0,0,0,0,0,0,0,0,0,0,0,0,0,0,0,0,0,0,0,0,0,0,0,0,0,0,0,0,0,0,0,0,0,0,0,0,0,0,0,0,0,0,0]
[null,null,null,null,null,null,5.7004591398468492,{"$f":"$G297*H217","v":0},0,0,0,0,0,0,0,0,0,0,0,0,0,0,0,0,0,0,0,0,0,0,0,0,0,0,0,0,0,0,0,0,0,0,0,0,0,0,0,0,0,0,0,0,0,0,0,0,0,0,0,0,0,0,0,0,0,0,0,0,0,0,0,{"$f":"$G297*BT217","v":0},0,0,0,0,0,0,0,0,0,0,0,0,0,0,0,0,0,0,0,0,0,0,0,0,0,0,0,0,0,0,0,0,0,0,0,0,0,0,0,0,0,0,0,0,0]
[null,null,null,null,null,null,5.7004591398468492,{"$f":"$G298*H218","v":0},0,0,0,0,0,0,0,0,0,0,0,0,0,0,0,0,0,0,0,0,0,0,0,0,0,0,0,0,0,0,0,0,0,0,0,0,0,0,0,0,0,0,0,0,0,0,0,0,0,0,0,0,0,0,0,0,0,0,0,0,0,0,0,{"$f":"$G298*BT218","v":0},0,0,0,0,0,0,0,0,0,0,0,0,0,0,0,0,0,0,0,0,0,0,0,0,0,0,0,0,0,0,0,0,0,0,0,0,0,0,0,0,0,0,0,0,0]
[null,null,null,null,null,null,5.7004591398468492,{"$f":"$G299*H219","v":0},0,0,0,0,0,0,0,0,0,0,0,0,0,0,0,0,0,0,0,0,0,0,0,0,0,0,0,0,0,0,0,0,0,0,0,0,0,0,0,0,0,0,0,0,0,0,0,0,0,0,0,0,0,0,0,0,0,0,0,0,0,0,0,{"$f":"$G299*BT219","v":0},0,0,0,0,0,0,0,0,0,0,0,0,0,0,0,0,0,0,0,0,0,0,0,0,0,0,0,0,0,0,0,0,0,0,0,0,0,0,0,0,0,0,0,0,0]
[null,null,null,null,null,null,5.7004591398468492,{"$f":"$G300*H220","v":0},0,0,0,0,0,0,0,0,0,0,0,0,0,0,0,0,0,0,0,0,0,0,0,0,0,0,0,0,0,0,0,0,0,0,0,0,0,0,0,0,0,0,0,0,0,0,0,0,0,0,0,0,0,0,0,0,0,0,0,0,0,0,0,{"$f":"$G300*BT220","v":0},0,0,0,0,0,0,0,0,0,0,0,0,0,0,0,0,0,0,0,0,0,0,0,0,0,0,0,0,0,0,0,0,0,0,0,0,0,0,0,0,0,0,0,0,0]
[null,null,null,null,null,null,5.7004591398468492,{"$f":"$G301*H221","v":0},0,0,0,0,0,0,0,0,0,0,0,0,0,0,0,0,0,0,0,0,0,0,0,0,0,0,0,0,0,0,0,0,0,0,0,0,0,0,0,0,0,0,0,0,0,0,0,0,0,0,0,0,0,0,0,0,0,0,0,0,0,0,0,{"$f":"$G301*BT221","v":0},0,0,0,0,0,0,0,0,0,0,0,0,0,0,0,0,0,0,0,0,0,0,0,0,0,0,0,0,0,0,0,0,0,0,0,0,0,0,0,0,0,0,0,0,0]
[null,null,null,null,null,null,5.7004591398468492,{"$f":"$G302*H222","v":0},0,0,0,0,0,0,0,0,0,0,0,0,0,0,0,0,0,0,0,0,0,0,0,0,0,0,0,0,0,0,0,0,0,0,0,0,0,0,0,0,0,0,0,0,0,0,0,0,0,0,0,0,0,0,0,0,0,0,0,0,0,0,0,{"$f":"$G302*BT222","v":0},0,0,0,0,0,0,0,0,0,0,0,0,0,0,0,0,0,0,0,0,0,0,0,0,0,0,0,0,0,0,0,0,0,0,0,0,0,0,0,0,0,0,0,0,0]
[null,null,null,null,null,null,5.7004591398468492,{"$f":"$G303*H223","v":0},0,0,0,0,0,0,0,0,0,0,0,0,0,0,0,0,0,0,0,0,0,0,0,0,0,0,0,0,0,0,0,0,0,0,0,0,0,0,0,0,0,0,0,0,0,0,0,0,0,0,0,0,0,0,0,0,0,0,0,0,0,0,0,{"$f":"$G303*BT223","v":0},0,0,0,0,0,0,0,0,0,0,0,0,0,0,0,0,0,0,0,0,0,0,0,0,0,0,0,0,0,0,0,0,0,0,0,0,0,0,0,0,0,0,0,0,0]
[null,null,null,null,null,null,5.7004591398468492,{"$f":"$G304*H224","v":0},0,0,0,0,0,0,0,0,0,0,0,0,0,0,0,0,0,0,0,0,0,0,0,0,0,0,0,0,0,0,0,0,0,0,0,0,0,0,0,0,0,0,0,0,0,0,0,0,0,0,0,0,0,0,0,0,0,0,0,0,0,0,0,{"$f":"$G304*BT224","v":0},0,0,0,0,0,0,0,0,0,0,0,0,0,0,0,0,0,0,0,0,0,0,0,0,0,0,0,0,0,0,0,0,0,0,0,0,0,0,0,0,0,0,0,0,0]
[null,null,null,null,null,null,5.7004591398468492,{"$f":"$G305*H225","v":0},0,0,0,0,0,0,0,0,0,0,0,0,0,0,0,0,0,0,0,0,0,0,0,0,0,0,0,0,0,0,0,0,0,0,0,0,0,0,0,0,0,0,0,0,0,0,0,0,0,0,0,0,0,0,0,0,0,0,0,0,0,0,0,{"$f":"$G305*BT225","v":0},0,0,0,0,0,0,0,0,0,0,0,0,0,0,0,0,0,0,0,0,0,0,0,0,0,0,0,0,0,0,0,0,0,0,0,0,0,0,0,0,0,0,0,0,0]
[null,null,null,null,null,null,5.7004591398468492,{"$f":"$G306*H226","v":0},0,0,0,0,0,0,0,0,0,0,0,0,0,0,0,0,0,0,0,0,0,0,0,0,0,0,0,0,0,0,0,0,0,0,0,0,0,0,0,0,0,0,0,0,0,0,0,0,0,0,0,0,0,0,0,0,0,0,0,0,0,0,0,{"$f":"$G306*BT226","v":0},0,0,0,0,0,0,0,0,0,0,0,0,0,0,0,0,0,0,0,0,0,0,0,0,0,0,0,0,0,0,0,0,0,0,0,0,0,0,0,0,0,0,0,0,0]
[null,null,null,null,null,null,5.7004591398468492,{"$f":"$G307*H227","v":0},0,0,0,0,0,0,0,0,0,0,0,0,0,0,0,0,0,0,0,0,0,0,0,0,0,0,0,0,0,0,0,0,0,0,0,0,0,0,0,0,0,0,0,0,0,0,0,0,0,0,0,0,0,0,0,0,0,0,0,0,0,0,0,{"$f":"$G307*BT227","v":0},0,0,0,0,0,0,0,0,0,0,0,0,0,0,0,0,0,0,0,0,0,0,0,0,0,0,0,0,0,0,0,0,0,0,0,0,0,0,0,0,0,0,0,0,0]
[null,null,null,null,null,null,5.7004591398468492,{"$f":"$G308*H228","v":0},0,0,0,0,0,0,0,0,0,0,0,0,0,0,0,0,0,0,0,0,0,0,0,0,0,0,0,0,0,0,0,0,0,0,0,0,0,0,0,0,0,0,0,0,0,0,0,0,0,0,0,0,0,0,0,0,0,0,0,0,0,0,0,{"$f":"$G308*BT228","v":0},0,0,0,0,0,0,0,0,0,0,0,0,0,0,0,0,0,0,0,0,0,0,0,0,0,0,0,0,0,0,0,0,0,0,0,0,0,0,0,0,0,0,0,0,0]
[null,null,null,null,null,null,5.7004591398468492,{"$f":"$G309*H229","v":0},0,0,0,0,0,0,0,0,0,0,0,0,0,0,0,0,0,0,0,0,0,0,0,0,0,0,0,0,0,0,0,0,0,0,0,0,0,0,0,0,0,0,0,0,0,0,0,0,0,0,0,0,0,0,0,0,0,0,0,0,0,0,0,{"$f":"$G309*BT229","v":0},0,0,0,0,0,0,0,0,0,0,0,0,0,0,0,0,0,0,0,0,0,0,0,0,0,0,0,0,0,0,0,0,0,0,0,0,0,0,0,0,0,0,0,0,0]
[null,null,null,null,null,null,5.7004591398468492,{"$f":"$G310*H230","v":0},0,0,0,0,0,0,0,0,0,0,0,0,0,0,0,0,0,0,0,0,0,0,0,0,0,0,0,0,0,0,0,0,0,0,0,0,0,0,0,0,0,0,0,0,0,0,0,0,0,0,0,0,0,0,0,0,0,0,0,0,0,0,0,{"$f":"$G310*BT230","v":0},0,0,0,0,0,0,0,0,0,0,0,0,0,0,0,0,0,0,0,0,0,0,0,0,0,0,0,0,0,0,0,0,0,0,0,0,0,0,0,0,0,0,0,0,0]
[null,null,null,null,null,null,{"$f":"IF(OR(G69=$C$5,G69=$E$10),$B$12*$C$6,2*$B$12)","v":5.7004591398468492},{"$f":"$G311*H231","v":0},0,0,0,0,0,0,0,0,0,0,0,0,0,0,0,0,0,0,0,0,0,0,0,0,0,0,0,0,0,0,0,0,0,0,0,0,0,0,0,0,0,0,0,0,0,0,0,0,0,0,0,0,0,0,0,0,0,0,0,0,0,0,0,{"$f":"$G311*BT231","v":0},0,0,0,0,0,0,0,0,0,0,0,0,0,0,0,0,0,0,0,0,0,0,0,0,0,0,0,0,0,0,0,0,0,0,0,0,0,0,0,0,0,0,0,0,0]
[null,null,null,null,null,null,5.7004591398468492,{"$f":"$G312*H232","v":0},0,0,0,0,0,0,0,0,0,0,0,0,0,0,0,0,0,0,0,0,0,0,0,0,0,0,0,0,0,0,0,0,0,0,0,0,0,0,0,0,0,0,0,0,0,0,0,0,0,0,0,0,0,0,0,0,0,0,0,0,0,0,0,{"$f":"$G312*BT232","v":0},0,0,0,0,0,0,0,0,0,0,0,0,0,0,0,0,0,0,0,0,0,0,0,0,0,0,0,0,0,0,0,0,0,0,0,0,0,0,0,0,0,0,0,0,0]
[null,null,null,null,null,null,5.7004591398468492,{"$f":"$G313*H233","v":0},0,0,0,0,0,0,0,0,0,0,0,0,0,0,0,0,0,0,0,0,0,0,0,0,0,0,0,0,0,0,0,0,0,0,0,0,0,0,0,0,0,0,0,0,0,0,0,0,0,0,0,0,0,0,0,0,0,0,0,0,0,0,0,{"$f":"$G313*BT233","v":0},0,0,0,0,0,0,0,0,0,0,0,0,0,0,0,0,0,0,0,0,0,0,0,0,0,0,0,0,0,0,0,0,0,0,0,0,0,0,0,0,0,0,0,0,0]
[null,null,null,null,null,null,5.7004591398468492,{"$f":"$G314*H234","v":0},0,0,0,0,0,0,0,0,0,0,0,0,0,0,0,0,0,0,0,0,0,0,0,0,0,0,0,0,0,0,0,0,0,0,0,0,0,0,0,0,0,0,0,0,0,0,0,0,0,0,0,0,0,0,0,0,0,0,0,0,0,0,0,{"$f":"$G314*BT234","v":0},0,0,0,0,0,0,0,0,0,0,0,0,0,0,0,0,0,0,0,0,0,0,0,0,0,0,0,0,0,0,0,0,0,0,0,0,0,0,0,0,0,0,0,0,0]
[null,null,null,null,null,null,5.7004591398468492,{"$f":"$G315*H235","v":0},0,0,0,0,0,0,0,0,0,0,0,0,0,0,0,0,0,0,0,0,0,0,0,0,0,0,0,0,0,0,0,0,0,0,0,0,0,0,0,0,0,0,0,0,0,0,0,0,0,0,0,0,0,0,0,0,0,0,0,0,0,0,0,{"$f":"$G315*BT235","v":0},0,0,0,0,0,0,0,0,0,0,0,0,0,0,0,0,0,0,0,0,0,0,0,0,0,0,0,0,0,0,0,0,0,0,0,0,0,0,0,0,0,0,0,0,0,null,null,null,null,"MAX","P"]
[null,null,null,null,null,null,5.7004591398468492,{"$f":"$G316*H236","v":0},0,0,0,0,0,0,0,0,0,0,0,0,0,0,0,0,0,0,0,0,0,0,0,0,0,0,0,0,0,0,0,0,0,0,0,0,0,0,0,0,0,0,0,0,0,0,0,0,0,0,0,0,0,0,0,0,0,0,0,0,0,0,0,{"$f":"$G316*BT236","v":0},0,0,0,0,0,0,0,0,0,0,0,0,0,0,0,0,0,0,0,0,0,0,0,0,0,0,0,0,0,0,0,0,0,0,0,0,0,0,0,0,0,0,0,0,0,null,null,null,null,{"$f":"MAX(H414:DN414)","v":10.828858234659272},{"$f":"HLOOKUP(DR316,H414:DN415,2,0)","v":52.981700892951558}]
[null,null,null,null,null,null,5.7004591398468492,{"$f":"$G317*H237","v":0},0,0,0,0,0,0,0,0,0,0,0,0,0,0,0,0,0,0,0,0,0,0,0,0,0,0,0,0,0,0,0,0,0,0,0,0,0,0,0,0,0,0,0,0,0,0,0,0,0,0,0,0,0,0,0,0,0,0,0,0,0,0,0,{"$f":"$G317*BT237","v":0},0,0,0,0,0,0,0,0,0,0,0,0,0,0,0,0,0,0,0,0,0,0,0,0,0,0,0,0,0,0,0,0,0,0,0,0,0,0,0,0,0,0,0,0,0,null,null,null,null,0,0]
[null,null,null,null,null,null,5.7004591398468492,{"$f":"$G318*H238","v":0},0,0,0,0,0,0,0,0,0,0,0,0,0,0,0,0,0,0,0,0,0,0,0,0,0,0,0,0,0,0,0,0,0,0,0,0,0,0,0,0,0,0,0,0,0,0,0,0,0,0,0,0,0,0,0,0,0,0,0,0,0,0,0,{"$f":"$G318*BT238","v":0},0,0,0,0,0,0,0,0,0,0,0,0,0,0,0,0,0,0,0,0,0,0,0,0,0,0,0,0,0,0,0,0,0,0,0,0,0,0,0,0,0,0,0,0,0]
[null,null,null,null,null,null,5.7004591398468492,{"$f":"$G319*H239","v":0},0,0,0,0,0,0,0,0,0,0,0,0,0,0,0,0,0,0,0,0,0,0,0,0,0,0,0,0,0,0,0,0,0,0,0,0,0,0,0,0,0,0,0,0,0,0,0,0,0,0,0,0,0,0,0,0,0,0,0,0,0,0,0,{"$f":"$G319*BT239","v":0},0,0,0,0,0,0,0,0,0,0,0,0,0,0,0,0,0,0,0,0,0,0,0,0,0,0,0,0,0,0,0,0,0,0,0,0,0,0,0,0,0,0,0,0,0]
[null,null,null,null,null,null,5.7004591398468492,{"$f":"$G320*H240","v":0},0,0,0,0,0,0,0,0,0,0,0,0,0,0,0,0,0,0,0,0,0,0,0,0,0,0,0,0,0,0,0,0,0,0,0,0,0,0,0,0,0,0,0,0,0,0,0,0,0,0,0,0,0,0,0,0,0,0,0,0,0,0,0,{"$f":"$G320*BT240","v":0},0,0,0,0,0,0,0,0,0,0,0,0,0,0,0,0,0,0,0,0,0,0,0,0,0,0,0,0,0,0,0,0,0,0,0,0,0,0,0,0,0,0,0,0,0]
[null,null,null,null,null,null,5.7004591398468492,{"$f":"$G321*H241","v":0},0,0,0,0,0,0,0,0,0,0,0,0,0,0,0,0,0,0,0,0,0,0,0,0,0,0,0,0,0,0,0,0,0,0,0,0,0,0,0,0,0,0,0,0,0,0,0,0,0,0,0,0,0,0,0,0,0,0,0,0,0,0,0,{"$f":"$G321*BT241","v":0},0,0,0,0,0,0,0,0,0,0,0,0,0,0,0,0,0,0,0,0,0,0,0,0,0,0,0,0,0,0,0,0,0,0,0,0,0,0,0,0,0,0,0,0,0]
[null,null,null,null,null,null,5.7004591398468492,{"$f":"$G322*H242","v":0},0,0,0,0,0,0,0,0,0,0,0,0,0,0,0,0,0,0,0,0,0,0,0,0,0,0,0,0,0,0,0,0,0,0,0,0,0,0,0,0,0,0,0,0,0,0,0,0,0,0,0,0,0,0,0,0,0,0,0,0,0,0,0,{"$f":"$G322*BT242","v":0},0,0,0,0,0,0,0,0,0,0,0,0,0,0,0,0,0,0,0,0,0,0,0,0,0,0,0,0,0,0,0,0,0,0,0,0,0,0,0,0,0,0,0,0,0,null,null,null,null,{"$f":"DO324*DQ327/DQ326","v":4.8143079031845293},null,0,{"$f":"DR323","v":140.18243969075937}]
[null,null,null,null,null,null,5.7004591398468492,{"$f":"$G323*H243","v":0},0,0,0,0,0,0,0,0,0,0,0,0,0,0,0,0,0,0,0,0,0,0,0,0,0,0,0,0,0,0,0,0,0,0,0,0,0,0,0,0,0,0,0,0,0,0,0,0,0,0,0,0,0,0,0,0,0,0,0,0,0,0,0,{"$f":"$G323*BT243","v":0},0,0,0,0,0,0,0,0,0,0,0,0,0,0,0,0,0,0,0,0,0,0,0,0,0,0,0,0,0,0,0,0,0,0,0,0,0,0,0,0,0,0,0,0,0,null,null,null,null,{"$f":"DQ328","v":140.18243969075937},null,{"$f":"DR322","v":4.8143079031845293},{"$f":"DU322","v":140.18243969075937}]
[null,null,null,null,null,null,"C",{"$f":"IF(H$1>$E$11,0,0.85*$B$15*$C$9*$B$16*H1)","v":7466.1343749999987},{"$f":"IF(I$1>$E$11,0,0.85*$B$15*$C$9*$B$16*I1)","v":11259.259374999998},{"$f":"IF(J$1>$E$11,0,0.85*$B$15*$C$9*$B$16*J1)","v":15052.384374999998},18845.509374999998,22638.634374999998,26431.759374999998,30224.884374999998,34018.009375000001,37811.134375000001,41604.259375000001,45397.384375000001,49190.509375000001,{"$f":"IF(T$1>$E$11,0,0.85*$B$15*$C$9*$B$16*T1)","v":52983.634375000001},56776.759375000001,60569.884375000001,64363.009375000001,68156.134374999994,71949.259374999994,75742.384374999994,79535.509374999994,83328.634374999994,87121.759374999994,90914.884374999994,94708.009374999994,98501.134374999994,102294.25937499999,106087.38437499999,109880.50937499999,113673.63437499999,117466.75937499999,121259.88437499999,125053.00937499999,128846.13437499999,132639.25937499999,136432.38437499999,140225.50937499999,144018.63437499999,147811.75937499999,151604.88437499999,0,0,0,0,0,0,0,0,0,0,0,0,0,0,0,0,0,0,0,0,0,0,0,0,0,0,0,{"$f":"IF(BV$1>$E$11,0,0.85*$B$15*$C$9*$B$16*BV1)","v":0},0,0,0,0,0,0,0,0,0,0,0,0,0,0,0,0,0,0,0,0,0,0,0,0,0,0,0,0,0,0,0,0,0,0,0,0,0,0,0,0,0,0,0,null,{"$f":"DM414","v":5.0643168526517428}]
[null,null,null,null,null,null,"pn=",{"$f":"SUM(H246:H324)","v":-64359.650787070299},{"$f":"SUM(I246:I324)","v":-60566.525787070306},{"$f":"SUM(J246:J324)","v":-49523.451031806035},{"$f":"SUM(K246:K324)","v":-35486.501784001885},-24882.277779807057,-16232.925529985299,{"$f":"SUM(N246:N324)","v":-8802.45483209538},{"$f":"SUM(O246:O324)","v":-2183.137235388851},{"$f":"SUM(P246:P324)","v":3869.14623390622},9509.4877242992952,15830.410246805641,25332.09883135774,34016.429546745952,42047.21980355875,49547.251443507397,56610.362548347664,63309.501542455313,69702.233648510155,75688.144132787944,83645.222791281602,91454.934908309326,98914.897040543976,106068.885696756,112953.66426102124,119600.33331517044,126035.38053723393,132281.50536692052,138358.27286413929,144282.63665763396,150069.36057425474,155731.36113443194,161279.98771593196,166725.25323086019,172076.0252222236,177340.18508302601,182524.76143393427,187636.04242374818,192679.67073883576,197660.72434986156,0,0,0,0,0,0,0,0,0,0,0,0,0,0,0,0,0,0,0,0,0,0,0,0,0,0,0,0,0,0,0,0,0,{"$f":"SUM(CB246:CB324)","v":0},0,0,0,0,0,0,0,0,0,0,0,0,0,0,0,0,0,0,0,0,0,0,0,0,0,0,0,0,0,0,0,0,0,0,0,0,0]
[null,null,null,null,null,null,null,{"$f":"H325","v":-64359.650787070299},{"$f":"IF(I325=0,H326,I325)","v":-60566.525787070306},{"$f":"IF(J325=0,I326,J325)","v":-49523.451031806035},{"$f":"IF(K325=0,J326,K325)","v":-35486.501784001885},{"$f":"IF(L325=0,K326,L325)","v":-24882.277779807057},{"$f":"IF(M325=0,L326,M325)","v":-16232.925529985299},{"$f":"IF(N325=0,M326,N325)","v":-8802.45483209538},{"$f":"IF(O325=0,N326,O325)","v":-2183.137235388851},{"$f":"IF(P325=0,O326,P325)","v":3869.14623390622},{"$f":"IF(Q325=0,P326,Q325)","v":9509.4877242992952},{"$f":"IF(R325=0,Q326,R325)","v":15830.410246805641},{"$f":"IF(S325=0,R326,S325)","v":25332.09883135774},{"$f":"IF(T325=0,S326,T325)","v":34016.429546745952},{"$f":"IF(U325=0,T326,U325)","v":42047.21980355875},{"$f":"IF(V325=0,U326,V325)","v":49547.251443507397},{"$f":"IF(W325=0,V326,W325)","v":56610.362548347664},{"$f":"IF(X325=0,W326,X325)","v":63309.501542455313},{"$f":"IF(Y325=0,X326,Y325)","v":69702.233648510155},{"$f":"IF(Z325=0,Y326,Z325)","v":75688.144132787944},{"$f":"IF(AA325=0,Z326,AA325)","v":83645.222791281602},{"$f":"IF(AB325=0,AA326,AB325)","v":91454.934908309326},{"$f":"IF(AC325=0,AB326,AC325)","v":98914.897040543976},{"$f":"IF(AD325=0,AC326,AD325)","v":106068.885696756},{"$f":"IF(AE325=0,AD326,AE325)","v":112953.66426102124},{"$f":"IF(AF325=0,AE326,AF325)","v":119600.33331517044},{"$f":"IF(AG325=0,AF326,AG325)","v":126035.38053723393},{"$f":"IF(AH325=0,AG326,AH325)","v":132281.50536692052},{"$f":"IF(AI325=0,AH326,AI325)","v":138358.27286413929},{"$f":"IF(AJ325=0,AI326,AJ325)","v":144282.63665763396},{"$f":"IF(AK325=0,AJ326,AK325)","v":150069.36057425474},{"$f":"IF(AL325=0,AK326,AL325)","v":155731.36113443194},{"$f":"IF(AM325=0,AL326,AM325)","v":161279.98771593196},{"$f":"IF(AN325=0,AM326,AN325)","v":166725.25323086019},{"$f":"IF(AO325=0,AN326,AO325)","v":172076.0252222236},{"$f":"IF(AP325=0,AO326,AP325)","v":177340.18508302601},{"$f":"IF(AQ325=0,AP326,AQ325)","v":182524.76143393427},{"$f":"IF(AR325=0,AQ326,AR325)","v":187636.04242374818},{"$f":"IF(AS325=0,AR326,AS325)","v":192679.67073883576},{"$f":"IF(AT325=0,AS326,AT325)","v":197660.72434986156},{"$f":"IF(AU325=0,AT326,AU325)","v":197660.72434986156},{"$f":"IF(AV325=0,AU326,AV325)","v":197660.72434986156},{"$f":"IF(AW325=0,AV326,AW325)","v":197660.72434986156},{"$f":"IF(AX325=0,AW326,AX325)","v":197660.72434986156},{"$f":"IF(AY325=0,AX326,AY325)","v":197660.72434986156},{"$f":"IF(AZ325=0,AY326,AZ325)","v":197660.72434986156},{"$f":"IF(BA325=0,AZ326,BA325)","v":197660.72434986156},{"$f":"IF(BB325=0,BA326,BB325)","v":197660.72434986156},{"$f":"IF(BC325=0,BB326,BC325)","v":197660.72434986156},{"$f":"IF(BD325=0,BC326,BD325)","v":197660.72434986156},{"$f":"IF(BE325=0,BD326,BE325)","v":197660.72434986156},{"$f":"IF(BF325=0,BE326,BF325)","v":197660.72434986156},{"$f":"IF(BG325=0,BF326,BG325)","v":197660.72434986156},{"$f":"IF(BH325=0,BG326,BH325)","v":197660.72434986156},{"$f":"IF(BI325=0,BH326,BI325)","v":197660.72434986156},{"$f":"IF(BJ325=0,BI326,BJ325)","v":197660.72434986156},{"$f":"IF(BK325=0,BJ326,BK325)","v":197660.72434986156},{"$f":"IF(BL325=0,BK326,BL325)","v":197660.72434986156},{"$f":"IF(BM325=0,BL326,BM325)","v":197660.72434986156},{"$f":"IF(BN325=0,BM326,BN325)","v":197660.72434986156},{"$f":"IF(BO325=0,BN326,BO325)","v":197660.72434986156},{"$f":"IF(BP325=0,BO326,BP325)","v":197660.72434986156},{"$f":"IF(BQ325=0,BP326,BQ325)","v":197660.72434986156},{"$f":"IF(BR325=0,BQ326,BR325)","v":197660.72434986156},{"$f":"IF(BS325=0,BR326,BS325)","v":197660.72434986156},{"$f":"IF(BT325=0,BS326,BT325)","v":197660.72434986156},{"$f":"IF(BU325=0,BT326,BU325)","v":197660.72434986156},{"$f":"IF(BV325=0,BU326,BV325)","v":197660.72434986156},{"$f":"IF(BW325=0,BV326,BW325)","v":197660.72434986156},{"$f":"IF(BX325=0,BW326,BX325)","v":197660.72434986156},{"$f":"IF(BY325=0,BX326,BY325)","v":197660.72434986156},{"$f":"IF(BZ325=0,BY326,BZ325)","v":197660.72434986156},{"$f":"IF(CA325=0,BZ326,CA325)","v":197660.72434986156},{"$f":"IF(CB325=0,CA326,CB325)","v":197660.72434986156},{"$f":"IF(CC325=0,CB326,CC325)","v":197660.72434986156},{"$f":"IF(CD325=0,CC326,CD325)","v":197660.72434986156},{"$f":"IF(CE325=0,CD326,CE325)","v":197660.72434986156},{"$f":"IF(CF325=0,CE326,CF325)","v":197660.72434986156},{"$f":"IF(CG325=0,CF326,CG325)","v":197660.72434986156},{"$f":"IF(CH325=0,CG326,CH325)","v":197660.72434986156},{"$f":"IF(CI325=0,CH326,CI325)","v":197660.72434986156},{"$f":"IF(CJ325=0,CI326,CJ325)","v":197660.72434986156},{"$f":"IF(CK325=0,CJ326,CK325)","v":197660.72434986156},{"$f":"IF(CL325=0,CK326,CL325)","v":197660.72434986156},{"$f":"IF(CM325=0,CL326,CM325)","v":197660.72434986156},{"$f":"IF(CN325=0,CM326,CN325)","v":197660.72434986156},{"$f":"IF(CO325=0,CN326,CO325)","v":197660.72434986156},{"$f":"IF(CP325=0,CO326,CP325)","v":197660.72434986156},{"$f":"IF(CQ325=0,CP326,CQ325)","v":197660.72434986156},{"$f":"IF(CR325=0,CQ326,CR325)","v":197660.72434986156},{"$f":"IF(CS325=0,CR326,CS325)","v":197660.72434986156},{"$f":"IF(CT325=0,CS326,CT325)","v":197660.72434986156},{"$f":"IF(CU325=0,CT326,CU325)","v":197660.72434986156},{"$f":"IF(CV325=0,CU326,CV325)","v":197660.72434986156},{"$f":"IF(CW325=0,CV326,CW325)","v":197660.72434986156},{"$f":"IF(CX325=0,CW326,CX325)","v":197660.72434986156},{"$f":"IF(CY325=0,CX326,CY325)","v":197660.72434986156},{"$f":"IF(CZ325=0,CY326,CZ325)","v":197660.72434986156},{"$f":"IF(DA325=0,CZ326,DA325)","v":197660.72434986156},{"$f":"IF(DB325=0,DA326,DB325)","v":197660.72434986156},{"$f":"IF(DC325=0,DB326,DC325)","v":197660.72434986156},{"$f":"IF(DD325=0,DC326,DD325)","v":197660.72434986156},{"$f":"IF(DE325=0,DD326,DE325)","v":197660.72434986156},{"$f":"IF(DF325=0,DE326,DF325)","v":197660.72434986156},{"$f":"IF(DG325=0,DF326,DG325)","v":197660.72434986156},{"$f":"IF(DH325=0,DG326,DH325)","v":197660.72434986156},{"$f":"IF(DI325=0,DH326,DI325)","v":197660.72434986156},{"$f":"IF(DJ325=0,DI326,DJ325)","v":197660.72434986156},{"$f":"IF(DK325=0,DJ326,DK325)","v":197660.72434986156},{"$f":"IF(DL325=0,DK326,DL325)","v":197660.72434986156},{"$f":"IF(DM325=0,DL326,DM325)","v":197660.72434986156},null,null,null,{"$f":"DN329-DM329","v":36.865542568546118}]
[null,null,null,null,null,null,null,{"$f":"H326","v":-64359.650787070299},{"$f":"I326","v":-60566.525787070306},-49523.451031806035,-35486.501784001885,-24882.277779807057,-16232.925529985299,-8802.45483209538,-2183.137235388851,3869.14623390622,9509.4877242992952,15830.410246805641,25332.09883135774,34016.429546745952,42047.21980355875,49547.251443507397,56610.362548347664,63309.501542455313,69702.233648510155,75688.144132787944,83645.222791281602,91454.934908309326,98914.897040543976,106068.885696756,112953.66426102124,119600.33331517044,126035.38053723393,132281.50536692052,138358.27286413929,144282.63665763396,150069.36057425474,155731.36113443194,161279.98771593196,166725.25323086019,172076.0252222236,177340.18508302601,182524.76143393427,187636.04242374818,192679.67073883576,197660.72434986156,197660.72434986156,197660.72434986156,197660.72434986156,197660.72434986156,197660.72434986156,197660.72434986156,197660.72434986156,197660.72434986156,197660.72434986156,197660.72434986156,197660.72434986156,197660.72434986156,197660.72434986156,197660.72434986156,197660.72434986156,197660.72434986156,197660.72434986156,197660.72434986156,197660.72434986156,197660.72434986156,197660.72434986156,197660.72434986156,197660.72434986156,197660.72434986156,197660.72434986156,197660.72434986156,{"$f":"BU326","v":197660.72434986156},197660.72434986156,197660.72434986156,197660.72434986156,197660.72434986156,197660.72434986156,197660.72434986156,197660.72434986156,197660.72434986156,197660.72434986156,197660.72434986156,197660.72434986156,197660.72434986156,197660.72434986156,197660.72434986156,197660.72434986156,197660.72434986156,197660.72434986156,197660.72434986156,197660.72434986156,197660.72434986156,197660.72434986156,197660.72434986156,197660.72434986156,197660.72434986156,197660.72434986156,197660.72434986156,197660.72434986156,197660.72434986156,197660.72434986156,197660.72434986156,197660.72434986156,197660.72434986156,197660.72434986156,197660.72434986156,197660.72434986156,197660.72434986156,197660.72434986156,197660.72434986156,197660.72434986156,197660.72434986156,197660.72434986156,197660.72434986156,197660.72434986156,197660.72434986156,null,null,null,{"$f":"DN329-DQ328","v":35.045609922689835}]
[null,null,null,null,null,null,null,{"$f":"H327/1000","v":-64.359650787070294},{"$f":"I327/1000","v":-60.566525787070304},-49.523451031806033,-35.486501784001888,-24.882277779807058,{"$f":"M327/1000","v":-16.232925529985298},{"$f":"N327/1000","v":-8.8024548320953802},{"$f":"O327/1000","v":-2.183137235388851},3.8691462339062199,{"$f":"Q327/1000","v":9.5094877242992943},{"$f":"R327/1000","v":15.830410246805641},{"$f":"S327/1000","v":25.33209883135774},34.016429546745954,{"$f":"U327/1000","v":42.047219803558747},{"$f":"V327/1000","v":49.547251443507399},{"$f":"W327/1000","v":56.610362548347666},63.309501542455315,{"$f":"Y327/1000","v":69.702233648510159},{"$f":"Z327/1000","v":75.68814413278794},{"$f":"AA327/1000","v":83.645222791281597},91.454934908309326,{"$f":"AC327/1000","v":98.914897040543977},{"$f":"AD327/1000","v":106.068885696756},{"$f":"AE327/1000","v":112.95366426102125},119.60033331517045,{"$f":"AG327/1000","v":126.03538053723392},{"$f":"AH327/1000","v":132.28150536692053},{"$f":"AI327/1000","v":138.35827286413928},144.28263665763396,{"$f":"AK327/1000","v":150.06936057425474},{"$f":"AL327/1000","v":155.73136113443195},{"$f":"AM327/1000","v":161.27998771593195},166.7252532308602,{"$f":"AO327/1000","v":172.07602522222359},{"$f":"AP327/1000","v":177.340185083026},{"$f":"AQ327/1000","v":182.52476143393426},187.63604242374817,{"$f":"AS327/1000","v":192.67967073883577},{"$f":"AT327/1000","v":197.66072434986157},{"$f":"AU327/1000","v":197.66072434986157},197.66072434986157,{"$f":"AW327/1000","v":197.66072434986157},{"$f":"AX327/1000","v":197.66072434986157},{"$f":"AY327/1000","v":197.66072434986157},197.66072434986157,{"$f":"BA327/1000","v":197.66072434986157},{"$f":"BB327/1000","v":197.66072434986157},{"$f":"BC327/1000","v":197.66072434986157},197.66072434986157,{"$f":"BE327/1000","v":197.66072434986157},{"$f":"BF327/1000","v":197.66072434986157},{"$f":"BG327/1000","v":197.66072434986157},197.66072434986157,{"$f":"BI327/1000","v":197.66072434986157},{"$f":"BJ327/1000","v":197.66072434986157},{"$f":"BK327/1000","v":197.66072434986157},197.66072434986157,{"$f":"BM327/1000","v":197.66072434986157},{"$f":"BN327/1000","v":197.66072434986157},{"$f":"BO327/1000","v":197.66072434986157},197.66072434986157,{"$f":"BQ327/1000","v":197.66072434986157},{"$f":"BR327/1000","v":197.66072434986157},{"$f":"BS327/1000","v":197.66072434986157},197.66072434986157,{"$f":"BU327/1000","v":197.66072434986157},{"$f":"BV327/1000","v":197.66072434986157},{"$f":"BW327/1000","v":197.66072434986157},197.66072434986157,{"$f":"BY327/1000","v":197.66072434986157},{"$f":"BZ327/1000","v":197.66072434986157},{"$f":"CA327/1000","v":197.66072434986157},197.66072434986157,{"$f":"CC327/1000","v":197.66072434986157},{"$f":"CD327/1000","v":197.66072434986157},{"$f":"CE327/1000","v":197.66072434986157},197.66072434986157,{"$f":"CG327/1000","v":197.66072434986157},{"$f":"CH327/1000","v":197.66072434986157},{"$f":"CI327/1000","v":197.66072434986157},197.66072434986157,{"$f":"CK327/1000","v":197.66072434986157},{"$f":"CL327/1000","v":197.66072434986157},{"$f":"CM327/1000","v":197.66072434986157},197.66072434986157,{"$f":"CO327/1000","v":197.66072434986157},{"$f":"CP327/1000","v":197.66072434986157},{"$f":"CQ327/1000","v":197.66072434986157},197.66072434986157,{"$f":"CS327/1000","v":197.66072434986157},{"$f":"CT327/1000","v":197.66072434986157},{"$f":"CU327/1000","v":197.66072434986157},197.66072434986157,{"$f":"CW327/1000","v":197.66072434986157},{"$f":"CX327/1000","v":197.66072434986157},{"$f":"CY327/1000","v":197.66072434986157},197.66072434986157,{"$f":"DA327/1000","v":197.66072434986157},{"$f":"DB327/1000","v":197.66072434986157},{"$f":"DC327/1000","v":197.66072434986157},197.66072434986157,{"$f":"DE327/1000","v":197.66072434986157},{"$f":"DF327/1000","v":197.66072434986157},{"$f":"DG327/1000","v":197.66072434986157},197.66072434986157,{"$f":"DI327/1000","v":197.66072434986157},{"$f":"DJ327/1000","v":197.66072434986157},{"$f":"DK327/1000","v":197.66072434986157},197.66072434986157,{"$f":"DM327/1000","v":197.66072434986157},{"$f":"(0.85*B15*C9*C10+(2*C6+2*C7-4)*B12*B17)/1000","v":250.3257851620703},null,null,{"$f":"DN329*0.8","v":140.18243969075937}]
[null,null,null,null,null,null,null,{"$f":"H328*0.7","v":-45.051755550949203},{"$f":"I328*0.7","v":-42.396568050949213},{"$f":"J328*0.7","v":-34.666415722264219},-24.840551248801319,-17.417594445864939,-11.363047870989709,-6.1617183824667654,-1.5281960647721955,2.7084023637343537,6.6566414070095057,11.081287172763949,17.732469181950417,23.811500682722166,29.433053862491121,34.683076010455174,39.627253783843365,44.316651079718717,48.791563553957111,52.981700892951558,58.551655953897111,64.018454435816523,69.240427928380782,74.2482199877292,79.06756498271487,83.7202333206193,88.224766376063741,92.59705375684436,96.850791004897488,100.99784566034377,105.04855240197831,109.01195279410236,112.89599140115236,116.70767726160213,120.4532176555565,124.13812955811819,127.76733300375398,131.3452296966237,134.87576951718503,138.36250704490308,138.36250704490308,138.36250704490308,138.36250704490308,138.36250704490308,138.36250704490308,138.36250704490308,138.36250704490308,138.36250704490308,138.36250704490308,138.36250704490308,138.36250704490308,138.36250704490308,138.36250704490308,138.36250704490308,138.36250704490308,138.36250704490308,138.36250704490308,138.36250704490308,138.36250704490308,138.36250704490308,138.36250704490308,138.36250704490308,138.36250704490308,138.36250704490308,138.36250704490308,138.36250704490308,138.36250704490308,{"$f":"BV328*0.7","v":138.36250704490308},138.36250704490308,138.36250704490308,138.36250704490308,138.36250704490308,138.36250704490308,138.36250704490308,138.36250704490308,138.36250704490308,138.36250704490308,138.36250704490308,138.36250704490308,138.36250704490308,138.36250704490308,138.36250704490308,138.36250704490308,138.36250704490308,138.36250704490308,138.36250704490308,138.36250704490308,138.36250704490308,138.36250704490308,138.36250704490308,138.36250704490308,138.36250704490308,138.36250704490308,138.36250704490308,138.36250704490308,138.36250704490308,138.36250704490308,138.36250704490308,138.36250704490308,138.36250704490308,138.36250704490308,138.36250704490308,138.36250704490308,138.36250704490308,138.36250704490308,138.36250704490308,138.36250704490308,138.36250704490308,138.36250704490308,138.36250704490308,138.36250704490308,{"$f":"DN328*0.7","v":175.2280496134492}]
[]
[null,null,null,null,{"$f":"C10/2","v":20},{"$f":"E$331-G4","v":14.095000000000001},{"$f":"IF(E$331=F331,0,F331)","v":14.095000000000001},{"$f":"H246*$G331","v":-337461.48061979364},-337461.48061979364,{"$f":"J246*$G331","v":-235273.43881934378},-90886.73604654432,5115.7044175817555,73564.227503819449,124832.61511557791,164667.7997661563,196510.63839087042,222547.15482296076,244232.77030553034,262573.99064877554,278289.09663670574,291904.42228998331,303814.45718196937,314320.69658526249,323657.51874674577,332009.8767492114,337461.48061979364,337461.48061979364,337461.48061979364,337461.48061979364,337461.48061979364,337461.48061979364,337461.48061979364,337461.48061979364,337461.48061979364,337461.48061979364,337461.48061979364,337461.48061979364,337461.48061979364,337461.48061979364,337461.48061979364,337461.48061979364,337461.48061979364,337461.48061979364,337461.48061979364,337461.48061979364,337461.48061979364,0,0,0,0,0,0,0,0,0,0,0,0,0,0,0,0,0,0,0,0,0,0,0,0,0,0,0,{"$f":"BV246*$G331","v":0},0,0,0,0,0,0,0,0,0,0,0,0,0,0,0,0,0,0,0,0,0,0,0,0,0,0,0,0,0,0,0,0,0,0,0,0,0,0,0,0,0,0,0]
[null,null,null,null,null,0,{"$f":"IF(E$331=F332,0,F332)","v":0},0,0,{"$f":"J247*$G332","v":0},0,0,0,0,0,0,0,0,0,0,0,0,0,0,0,0,0,0,0,0,0,0,0,0,0,0,0,0,0,0,0,{"$f":"AP247*$G332","v":0},0,0,0,0,0,0,0,0,0,0,0,0,0,0,0,0,0,0,0,0,0,0,0,0,0,0,0,0,0,0,0,{"$f":"BV247*$G332","v":0},0,0,0,0,0,0,0,0,0,0,0,0,0,0,0,0,0,0,0,0,0,0,0,0,0,0,0,0,0,0,0,{"$f":"DB247*$G332","v":0},0,0,0,0,0,0,0,0,0,0,0]
[null,null,null,null,null,-14.094999999999999,-14.094999999999999,337461.48061979358,337461.48061979358,{"$f":"J248*$G333","v":337461.48061979358},337461.48061979358,337461.48061979358,337461.48061979358,337461.48061979358,337461.48061979358,337461.48061979358,337461.48061979358,337461.48061979358,337461.48061979358,337461.48061979358,337461.48061979358,337461.48061979358,337461.48061979358,337461.48061979358,337461.48061979358,337461.48061979358,301798.24694397376,266115.70041180676,233540.26191523956,203683.02981571574,176217.40565420859,150867.09816004048,127396.79616571793,105604.84244582402,85317.4249703276,66383.931134817598,48673.202091439991,32070.490088469716,16474.96955223845,1797.6877993582261,-12040.132626442439,{"$f":"AP248*$G333","v":-25108.508424516825},-37469.880437473796,-49180.111305812512,-60289.329512502627,-70842.646720567645,0,0,0,0,0,0,0,0,0,0,0,0,0,0,0,0,0,0,0,0,0,0,0,0,0,0,0,{"$f":"BV248*$G333","v":0},0,0,0,0,0,0,0,0,0,0,0,0,0,0,0,0,0,0,0,0,0,0,0,0,0,0,0,0,0,0,0,{"$f":"DB248*$G333","v":0},0,0,0,0,0,0,0,0,0,0,0]
[null,null,null,null,null,20,0,0,0,{"$f":"J249*$G334","v":0},0,0,0,0,0,0,0,0,0,0,0,0,0,0,0,0,0,0,0,0,0,0,0,0,0,0,0,0,0,0,0,{"$f":"AP249*$G334","v":0},0,0,0,0,0,0,0,0,0,0,0,0,0,0,0,0,0,0,0,0,0,0,0,0,0,0,0,0,0,0,0,{"$f":"BV249*$G334","v":0},0,0,0,0,0,0,0,0,0,0,0,0,0,0,0,0,0,0,0,0,0,0,0,0,0,0,0,0,0,0,0,{"$f":"DB249*$G334","v":0},0,0,0,0,0,0,0,0,0,0,0]
[null,null,null,null,null,20,0,0,0,{"$f":"J250*$G335","v":0},0,0,0,0,0,0,0,0,0,0,0,0,0,0,0,0,0,0,0,0,0,0,0,0,0,0,0,0,0,0,0,{"$f":"AP250*$G335","v":0},0,0,0,0,0,0,0,0,0,0,0,0,0,0,0,0,0,0,0,0,0,0,0,0,0,0,0,0,0,0,0,{"$f":"BV250*$G335","v":0},0,0,0,0,0,0,0,0,0,0,0,0,0,0,0,0,0,0,0,0,0,0,0,0,0,0,0,0,0,0,0,{"$f":"DB250*$G335","v":0},0,0,0,0,0,0,0,0,0,0,0]
[null,null,null,null,null,20,0,0,0,{"$f":"J251*$G336","v":0},0,0,0,0,0,0,0,0,0,0,0,0,0,0,0,0,0,0,0,0,0,0,0,0,0,0,0,0,0,0,0,{"$f":"AP251*$G336","v":0},0,0,0,0,0,0,0,0,0,0,0,0,0,0,0,0,0,0,0,0,0,0,0,0,0,0,0,0,0,0,0,{"$f":"BV251*$G336","v":0},0,0,0,0,0,0,0,0,0,0,0,0,0,0,0,0,0,0,0,0,0,0,0,0,0,0,0,0,0,0,0,{"$f":"DB251*$G336","v":0},0,0,0,0,0,0,0,0,0,0,0]
[null,null,null,null,null,20,0,0,0,{"$f":"J252*$G337","v":0},0,0,0,0,0,0,0,0,0,0,0,0,0,0,0,0,0,0,0,0,0,0,0,0,0,0,0,0,0,0,0,{"$f":"AP252*$G337","v":0},0,0,0,0,0,0,0,0,0,0,0,0,0,0,0,0,0,0,0,0,0,0,0,0,0,0,0,0,0,0,0,{"$f":"BV252*$G337","v":0},0,0,0,0,0,0,0,0,0,0,0,0,0,0,0,0,0,0,0,0,0,0,0,0,0,0,0,0,0,0,0,{"$f":"DB252*$G337","v":0},0,0,0,0,0,0,0,0,0,0,0]
[null,null,null,null,null,20,0,0,0,{"$f":"J253*$G338","v":0},0,0,0,0,0,0,0,0,0,0,0,0,0,0,0,0,0,0,0,0,0,0,0,0,0,0,0,0,0,0,0,{"$f":"AP253*$G338","v":0},0,0,0,0,0,0,0,0,0,0,0,0,0,0,0,0,0,0,0,0,0,0,0,0,0,0,0,0,0,0,0,{"$f":"BV253*$G338","v":0},0,0,0,0,0,0,0,0,0,0,0,0,0,0,0,0,0,0,0,0,0,0,0,0,0,0,0,0,0,0,0,{"$f":"DB253*$G338","v":0},0,0,0,0,0,0,0,0,0,0,0]
[null,null,null,null,null,20,0,0,0,{"$f":"J254*$G339","v":0},0,0,0,0,0,0,0,0,0,0,0,0,0,0,0,0,0,0,0,0,0,0,0,0,0,0,0,0,0,0,0,{"$f":"AP254*$G339","v":0},0,0,0,0,0,0,0,0,0,0,0,0,0,0,0,0,0,0,0,0,0,0,0,0,0,0,0,0,0,0,0,{"$f":"BV254*$G339","v":0},0,0,0,0,0,0,0,0,0,0,0,0,0,0,0,0,0,0,0,0,0,0,0,0,0,0,0,0,0,0,0,{"$f":"DB254*$G339","v":0},0,0,0,0,0,0,0,0,0,0,0]
[null,null,null,null,null,20,0,0,0,{"$f":"J255*$G340","v":0},0,0,0,0,0,0,0,0,0,0,0,0,0,0,0,0,0,0,0,0,0,0,0,0,0,0,0,0,0,0,0,{"$f":"AP255*$G340","v":0},0,0,0,0,0,0,0,0,0,0,0,0,0,0,0,0,0,0,0,0,0,0,0,0,0,0,0,0,0,0,0,{"$f":"BV255*$G340","v":0},0,0,0,0,0,0,0,0,0,0,0,0,0,0,0,0,0,0,0,0,0,0,0,0,0,0,0,0,0,0,0,{"$f":"DB255*$G340","v":0},0,0,0,0,0,0,0,0,0,0,0]
[null,null,null,null,null,20,0,0,0,{"$f":"J256*$G341","v":0},0,0,0,0,0,0,0,0,0,0,0,0,0,0,0,0,0,0,0,0,0,0,0,0,0,0,0,0,0,0,0,{"$f":"AP256*$G341","v":0},0,0,0,0,0,0,0,0,0,0,0,0,0,0,0,0,0,0,0,0,0,0,0,0,0,0,0,0,0,0,0,{"$f":"BV256*$G341","v":0},0,0,0,0,0,0,0,0,0,0,0,0,0,0,0,0,0,0,0,0,0,0,0,0,0,0,0,0,0,0,0,{"$f":"DB256*$G341","v":0},0,0,0,0,0,0,0,0,0,0,0]
[null,null,null,null,null,20,0,0,0,{"$f":"J257*$G342","v":0},0,0,0,0,0,0,0,0,0,0,0,0,0,0,0,0,0,0,0,0,0,0,0,0,0,0,0,0,0,0,0,{"$f":"AP257*$G342","v":0},0,0,0,0,0,0,0,0,0,0,0,0,0,0,0,0,0,0,0,0,0,0,0,0,0,0,0,0,0,0,0,{"$f":"BV257*$G342","v":0},0,0,0,0,0,0,0,0,0,0,0,0,0,0,0,0,0,0,0,0,0,0,0,0,0,0,0,0,0,0,0,{"$f":"DB257*$G342","v":0},0,0,0,0,0,0,0,0,0,0,0]
[null,null,null,null,null,20,0,0,0,{"$f":"J258*$G343","v":0},0,0,0,0,0,0,0,0,0,0,0,0,0,0,0,0,0,0,0,0,0,0,0,0,0,0,0,0,0,0,0,{"$f":"AP258*$G343","v":0},0,0,0,0,0,0,0,0,0,0,0,0,0,0,0,0,0,0,0,0,0,0,0,0,0,0,0,0,0,0,0,{"$f":"BV258*$G343","v":0},0,0,0,0,0,0,0,0,0,0,0,0,0,0,0,0,0,0,0,0,0,0,0,0,0,0,0,0,0,0,0,{"$f":"DB258*$G343","v":0},0,0,0,0,0,0,0,0,0,0,0]
[null,null,null,null,null,20,0,0,0,{"$f":"J259*$G344","v":0},0,0,0,0,0,0,0,0,0,0,0,0,0,0,0,0,0,0,0,0,0,0,0,0,0,0,0,0,0,0,0,{"$f":"AP259*$G344","v":0},0,0,0,0,0,0,0,0,0,0,0,0,0,0,0,0,0,0,0,0,0,0,0,0,0,0,0,0,0,0,0,{"$f":"BV259*$G344","v":0},0,0,0,0,0,0,0,0,0,0,0,0,0,0,0,0,0,0,0,0,0,0,0,0,0,0,0,0,0,0,0,{"$f":"DB259*$G344","v":0},0,0,0,0,0,0,0,0,0,0,0]
[null,null,null,null,null,20,0,0,0,{"$f":"J260*$G345","v":0},0,0,0,0,0,0,0,0,0,0,0,0,0,0,0,0,0,0,0,0,0,0,0,0,0,0,0,0,0,0,0,{"$f":"AP260*$G345","v":0},0,0,0,0,0,0,0,0,0,0,0,0,0,0,0,0,0,0,0,0,0,0,0,0,0,0,0,0,0,0,0,{"$f":"BV260*$G345","v":0},0,0,0,0,0,0,0,0,0,0,0,0,0,0,0,0,0,0,0,0,0,0,0,0,0,0,0,0,0,0,0,{"$f":"DB260*$G345","v":0},0,0,0,0,0,0,0,0,0,0,0]
[null,null,null,null,null,20,0,0,0,{"$f":"J261*$G346","v":0},0,0,0,0,0,0,0,0,0,0,0,0,0,0,0,0,0,0,0,0,0,0,0,0,0,0,0,0,0,0,0,{"$f":"AP261*$G346","v":0},0,0,0,0,0,0,0,0,0,0,0,0,0,0,0,0,0,0,0,0,0,0,0,0,0,0,0,0,0,0,0,{"$f":"BV261*$G346","v":0},0,0,0,0,0,0,0,0,0,0,0,0,0,0,0,0,0,0,0,0,0,0,0,0,0,0,0,0,0,0,0,{"$f":"DB261*$G346","v":0},0,0,0,0,0,0,0,0,0,0,0]
[null,null,null,null,null,20,0,0,0,{"$f":"J262*$G347","v":0},0,0,0,0,0,0,0,0,0,0,0,0,0,0,0,0,0,0,0,0,0,0,0,0,0,0,0,0,0,0,0,{"$f":"AP262*$G347","v":0},0,0,0,0,0,0,0,0,0,0,0,0,0,0,0,0,0,0,0,0,0,0,0,0,0,0,0,0,0,0,0,{"$f":"BV262*$G347","v":0},0,0,0,0,0,0,0,0,0,0,0,0,0,0,0,0,0,0,0,0,0,0,0,0,0,0,0,0,0,0,0,{"$f":"DB262*$G347","v":0},0,0,0,0,0,0,0,0,0,0,0]
[null,null,null,null,null,20,0,0,0,{"$f":"J263*$G348","v":0},0,0,0,0,0,0,0,0,0,0,0,0,0,0,0,0,0,0,0,0,0,0,0,0,0,0,0,0,0,0,0,{"$f":"AP263*$G348","v":0},0,0,0,0,0,0,0,0,0,0,0,0,0,0,0,0,0,0,0,0,0,0,0,0,0,0,0,0,0,0,0,{"$f":"BV263*$G348","v":0},0,0,0,0,0,0,0,0,0,0,0,0,0,0,0,0,0,0,0,0,0,0,0,0,0,0,0,0,0,0,0,{"$f":"DB263*$G348","v":0},0,0,0,0,0,0,0,0,0,0,0]
[null,null,null,null,null,20,0,0,0,{"$f":"J264*$G349","v":0},0,0,0,0,0,0,0,0,0,0,0,0,0,0,0,0,0,0,0,0,0,0,0,0,0,0,0,0,0,0,0,{"$f":"AP264*$G349","v":0},0,0,0,0,0,0,0,0,0,0,0,0,0,0,0,0,0,0,0,0,0,0,0,0,0,0,0,0,0,0,0,{"$f":"BV264*$G349","v":0},0,0,0,0,0,0,0,0,0,0,0,0,0,0,0,0,0,0,0,0,0,0,0,0,0,0,0,0,0,0,0,{"$f":"DB264*$G349","v":0},0,0,0,0,0,0,0,0,0,0,0]
[null,null,null,null,null,20,0,0,0,{"$f":"J265*$G350","v":0},0,0,0,0,0,0,0,0,0,0,0,0,0,0,0,0,0,0,0,0,0,0,0,0,0,0,0,0,0,0,0,{"$f":"AP265*$G350","v":0},0,0,0,0,0,0,0,0,0,0,0,0,0,0,0,0,0,0,0,0,0,0,0,0,0,0,0,0,0,0,0,{"$f":"BV265*$G350","v":0},0,0,0,0,0,0,0,0,0,0,0,0,0,0,0,0,0,0,0,0,0,0,0,0,0,0,0,0,0,0,0,{"$f":"DB265*$G350","v":0},0,0,0,0,0,0,0,0,0,0,0]
[null,null,null,null,null,20,0,{"$f":"H266*$G351","v":0},0,{"$f":"J266*$G351","v":0},0,0,0,0,0,0,0,0,0,0,0,0,0,0,0,0,0,0,0,0,0,0,0,0,0,0,0,0,0,0,0,{"$f":"AP266*$G351","v":0},0,0,0,0,0,0,0,0,0,0,0,0,0,0,0,0,0,0,0,0,0,0,0,0,0,0,0,0,0,0,0,{"$f":"BV266*$G351","v":0},0,0,0,0,0,0,0,0,0,0,0,0,0,0,0,0,0,0,0,0,0,0,0,0,0,0,0,0,0,0,0,{"$f":"DB266*$G351","v":0},0,0,0,0,0,0,0,0,0,0,0]
[null,null,null,null,null,20,0,0,0,{"$f":"J267*$G352","v":0},0,0,0,0,0,0,0,0,0,0,0,0,0,0,0,0,0,0,0,0,0,0,0,0,0,0,0,0,0,0,0,{"$f":"AP267*$G352","v":0},0,0,0,0,0,0,0,0,0,0,0,0,0,0,0,0,0,0,0,0,0,0,0,0,0,0,0,0,0,0,0,{"$f":"BV267*$G352","v":0},0,0,0,0,0,0,0,0,0,0,0,0,0,0,0,0,0,0,0,0,0,0,0,0,0,0,0,0,0,0,0,{"$f":"DB267*$G352","v":0},0,0,0,0,0,0,0,0,0,0,0]
[null,null,null,null,null,20,0,0,0,{"$f":"J268*$G353","v":0},0,0,0,0,0,0,0,0,0,0,0,0,0,0,0,0,0,0,0,0,0,0,0,0,0,0,0,0,0,0,0,{"$f":"AP268*$G353","v":0},0,0,0,0,0,0,0,0,0,0,0,0,0,0,0,0,0,0,0,0,0,0,0,0,0,0,0,0,0,0,0,{"$f":"BV268*$G353","v":0},0,0,0,0,0,0,0,0,0,0,0,0,0,0,0,0,0,0,0,0,0,0,0,0,0,0,0,0,0,0,0,{"$f":"DB268*$G353","v":0},0,0,0,0,0,0,0,0,0,0,0]
[null,null,null,null,null,20,0,0,0,{"$f":"J269*$G354","v":0},0,0,0,0,0,0,0,0,0,0,0,0,0,0,0,0,0,0,0,0,0,0,0,0,0,0,0,0,0,0,0,{"$f":"AP269*$G354","v":0},0,0,0,0,0,0,0,0,0,0,0,0,0,0,0,0,0,0,0,0,0,0,0,0,0,0,0,0,0,0,0,{"$f":"BV269*$G354","v":0},0,0,0,0,0,0,0,0,0,0,0,0,0,0,0,0,0,0,0,0,0,0,0,0,0,0,0,0,0,0,0,{"$f":"DB269*$G354","v":0},0,0,0,0,0,0,0,0,0,0,0]
[null,null,null,null,null,20,0,0,0,{"$f":"J270*$G355","v":0},0,0,0,0,0,0,0,0,0,0,0,0,0,0,0,0,0,0,0,0,0,0,0,0,0,0,0,0,0,0,0,{"$f":"AP270*$G355","v":0},0,0,0,0,0,0,0,0,0,0,0,0,0,0,0,0,0,0,0,0,0,0,0,0,0,0,0,0,0,0,0,{"$f":"BV270*$G355","v":0},0,0,0,0,0,0,0,0,0,0,0,0,0,0,0,0,0,0,0,0,0,0,0,0,0,0,0,0,0,0,0,{"$f":"DB270*$G355","v":0},0,0,0,0,0,0,0,0,0,0,0]
[null,null,null,null,null,20,0,0,0,{"$f":"J271*$G356","v":0},0,0,0,0,0,0,0,0,0,0,0,0,0,0,0,0,0,0,0,0,0,0,0,0,0,0,0,0,0,0,0,{"$f":"AP271*$G356","v":0},0,0,0,0,0,0,0,0,0,0,0,0,0,0,0,0,0,0,0,0,0,0,0,0,0,0,0,0,0,0,0,{"$f":"BV271*$G356","v":0},0,0,0,0,0,0,0,0,0,0,0,0,0,0,0,0,0,0,0,0,0,0,0,0,0,0,0,0,0,0,0,{"$f":"DB271*$G356","v":0},0,0,0,0,0,0,0,0,0,0,0]
[null,null,null,null,null,20,0,0,0,{"$f":"J272*$G357","v":0},0,0,0,0,0,0,0,0,0,0,0,0,0,0,0,0,0,0,0,0,0,0,0,0,0,0,0,0,0,0,0,{"$f":"AP272*$G357","v":0},0,0,0,0,0,0,0,0,0,0,0,0,0,0,0,0,0,0,0,0,0,0,0,0,0,0,0,0,0,0,0,{"$f":"BV272*$G357","v":0},0,0,0,0,0,0,0,0,0,0,0,0,0,0,0,0,0,0,0,0,0,0,0,0,0,0,0,0,0,0,0,{"$f":"DB272*$G357","v":0},0,0,0,0,0,0,0,0,0,0,0]
[null,null,null,null,null,20,0,0,0,{"$f":"J273*$G358","v":0},0,0,0,0,0,0,0,0,0,0,0,0,0,0,0,0,0,0,0,0,0,0,0,0,0,0,0,0,0,0,0,{"$f":"AP273*$G358","v":0},0,0,0,0,0,0,0,0,0,0,0,0,0,0,0,0,0,0,0,0,0,0,0,0,0,0,0,0,0,0,0,{"$f":"BV273*$G358","v":0},0,0,0,0,0,0,0,0,0,0,0,0,0,0,0,0,0,0,0,0,0,0,0,0,0,0,0,0,0,0,0,{"$f":"DB273*$G358","v":0},0,0,0,0,0,0,0,0,0,0,0]
[null,null,null,null,null,20,0,0,0,{"$f":"J274*$G359","v":0},0,0,0,0,0,0,0,0,0,0,0,0,0,0,0,0,0,0,0,0,0,0,0,0,0,0,0,0,0,0,0,{"$f":"AP274*$G359","v":0},0,0,0,0,0,0,0,0,0,0,0,0,0,0,0,0,0,0,0,0,0,0,0,0,0,0,0,0,0,0,0,{"$f":"BV274*$G359","v":0},0,0,0,0,0,0,0,0,0,0,0,0,0,0,0,0,0,0,0,0,0,0,0,0,0,0,0,0,0,0,0,{"$f":"DB274*$G359","v":0},0,0,0,0,0,0,0,0,0,0,0]
[null,null,null,null,null,20,0,0,0,{"$f":"J275*$G360","v":0},0,0,0,0,0,0,0,0,0,0,0,0,0,0,0,0,0,0,0,0,0,0,0,0,0,0,0,0,0,0,0,{"$f":"AP275*$G360","v":0},0,0,0,0,0,0,0,0,0,0,0,0,0,0,0,0,0,0,0,0,0,0,0,0,0,0,0,0,0,0,0,{"$f":"BV275*$G360","v":0},0,0,0,0,0,0,0,0,0,0,0,0,0,0,0,0,0,0,0,0,0,0,0,0,0,0,0,0,0,0,0,{"$f":"DB275*$G360","v":0},0,0,0,0,0,0,0,0,0,0,0]
[null,null,null,null,null,20,0,0,0,{"$f":"J276*$G361","v":0},0,0,0,0,0,0,0,0,0,0,0,0,0,0,0,0,0,0,0,0,0,0,0,0,0,0,0,0,0,0,0,{"$f":"AP276*$G361","v":0},0,0,0,0,0,0,0,0,0,0,0,0,0,0,0,0,0,0,0,0,0,0,0,0,0,0,0,0,0,0,0,{"$f":"BV276*$G361","v":0},0,0,0,0,0,0,0,0,0,0,0,0,0,0,0,0,0,0,0,0,0,0,0,0,0,0,0,0,0,0,0,{"$f":"DB276*$G361","v":0},0,0,0,0,0,0,0,0,0,0,0]
[null,null,null,null,null,20,0,0,0,{"$f":"J277*$G362","v":0},0,0,0,0,0,0,0,0,0,0,0,0,0,0,0,0,0,0,0,0,0,0,0,0,0,0,0,0,0,0,0,{"$f":"AP277*$G362","v":0},0,0,0,0,0,0,0,0,0,0,0,0,0,0,0,0,0,0,0,0,0,0,0,0,0,0,0,0,0,0,0,{"$f":"BV277*$G362","v":0},0,0,0,0,0,0,0,0,0,0,0,0,0,0,0,0,0,0,0,0,0,0,0,0,0,0,0,0,0,0,0,{"$f":"DB277*$G362","v":0},0,0,0,0,0,0,0,0,0,0,0]
[null,null,null,null,null,{"$f":"E$331-G36","v":20},0,0,0,{"$f":"J278*$G363","v":0},0,0,0,0,0,0,0,0,0,0,0,0,0,0,0,0,0,0,0,0,0,0,0,0,0,0,0,0,0,0,0,{"$f":"AP278*$G363","v":0},0,0,0,0,0,0,0,0,0,0,0,0,0,0,0,0,0,0,0,0,0,0,0,0,0,0,0,0,0,0,0,{"$f":"BV278*$G363","v":0},0,0,0,0,0,0,0,0,0,0,0,0,0,0,0,0,0,0,0,0,0,0,0,0,0,0,0,0,0,0,0,{"$f":"DB278*$G363","v":0},0,0,0,0,0,0,0,0,0,0,0]
[null,null,null,null,null,20,0,0,0,{"$f":"J279*$G364","v":0},0,0,0,0,0,0,0,0,0,0,0,0,0,0,0,0,0,0,0,0,0,0,0,0,0,0,0,0,0,0,0,{"$f":"AP279*$G364","v":0},0,0,0,0,0,0,0,0,0,0,0,0,0,0,0,0,0,0,0,0,0,0,0,0,0,0,0,0,0,0,0,{"$f":"BV279*$G364","v":0},0,0,0,0,0,0,0,0,0,0,0,0,0,0,0,0,0,0,0,0,0,0,0,0,0,0,0,0,0,0,0,{"$f":"DB279*$G364","v":0},0,0,0,0,0,0,0,0,0,0,0]
[null,null,null,null,null,20,0,0,0,{"$f":"J280*$G365","v":0},0,0,0,0,0,0,0,0,0,0,0,0,0,0,0,0,0,0,0,0,0,0,0,0,0,0,0,0,0,0,0,{"$f":"AP280*$G365","v":0},0,0,0,0,0,0,0,0,0,0,0,0,0,0,0,0,0,0,0,0,0,0,0,0,0,0,0,0,0,0,0,{"$f":"BV280*$G365","v":0},0,0,0,0,0,0,0,0,0,0,0,0,0,0,0,0,0,0,0,0,0,0,0,0,0,0,0,0,0,0,0,{"$f":"DB280*$G365","v":0},0,0,0,0,0,0,0,0,0,0,0]
[null,null,null,null,null,20,0,0,0,{"$f":"J281*$G366","v":0},0,0,0,0,0,0,0,0,0,0,0,0,0,0,0,0,0,0,0,0,0,0,0,0,0,0,0,0,0,0,0,{"$f":"AP281*$G366","v":0},0,0,0,0,0,0,0,0,0,0,0,0,0,0,0,0,0,0,0,0,0,0,0,0,0,0,0,0,0,0,0,{"$f":"BV281*$G366","v":0},0,0,0,0,0,0,0,0,0,0,0,0,0,0,0,0,0,0,0,0,0,0,0,0,0,0,0,0,0,0,0,{"$f":"DB281*$G366","v":0},0,0,0,0,0,0,0,0,0,0,0]
[null,null,null,null,null,20,0,0,0,{"$f":"J282*$G367","v":0},0,0,0,0,0,0,0,0,0,0,0,0,0,0,0,0,0,0,0,0,0,0,0,0,0,0,0,0,0,0,0,{"$f":"AP282*$G367","v":0},0,0,0,0,0,0,0,0,0,0,0,0,0,0,0,0,0,0,0,0,0,0,0,0,0,0,0,0,0,0,0,{"$f":"BV282*$G367","v":0},0,0,0,0,0,0,0,0,0,0,0,0,0,0,0,0,0,0,0,0,0,0,0,0,0,0,0,0,0,0,0,{"$f":"DB282*$G367","v":0},0,0,0,0,0,0,0,0,0,0,0]
[null,null,null,null,null,20,0,0,0,{"$f":"J283*$G368","v":0},0,0,0,0,0,0,0,0,0,0,0,0,0,0,0,0,0,0,0,0,0,0,0,0,0,0,0,0,0,0,0,{"$f":"AP283*$G368","v":0},0,0,0,0,0,0,0,0,0,0,0,0,0,0,0,0,0,0,0,0,0,0,0,0,0,0,0,0,0,0,0,{"$f":"BV283*$G368","v":0},0,0,0,0,0,0,0,0,0,0,0,0,0,0,0,0,0,0,0,0,0,0,0,0,0,0,0,0,0,0,0,{"$f":"DB283*$G368","v":0},0,0,0,0,0,0,0,0,0,0,0]
[null,null,null,null,null,20,0,0,0,{"$f":"J284*$G369","v":0},0,0,0,0,0,0,0,0,0,0,0,0,0,0,0,0,0,0,0,0,0,0,0,0,0,0,0,0,0,0,0,{"$f":"AP284*$G369","v":0},0,0,0,0,0,0,0,0,0,0,0,0,0,0,0,0,0,0,0,0,0,0,0,0,0,0,0,0,0,0,0,{"$f":"BV284*$G369","v":0},0,0,0,0,0,0,0,0,0,0,0,0,0,0,0,0,0,0,0,0,0,0,0,0,0,0,0,0,0,0,0,{"$f":"DB284*$G369","v":0},0,0,0,0,0,0,0,0,0,0,0]
[null,null,null,null,null,20,0,0,0,{"$f":"J285*$G370","v":0},0,0,0,0,0,0,0,0,0,0,0,0,0,0,0,0,0,0,0,0,0,0,0,0,0,0,0,0,0,0,0,{"$f":"AP285*$G370","v":0},0,0,0,0,0,0,0,0,0,0,0,0,0,0,0,0,0,0,0,0,0,0,0,0,0,0,0,0,0,0,0,{"$f":"BV285*$G370","v":0},0,0,0,0,0,0,0,0,0,0,0,0,0,0,0,0,0,0,0,0,0,0,0,0,0,0,0,0,0,0,0,{"$f":"DB285*$G370","v":0},0,0,0,0,0,0,0,0,0,0,0]
[null,null,null,null,null,20,0,{"$f":"H286*$G371","v":0},0,{"$f":"J286*$G371","v":0},0,0,0,0,0,0,0,0,0,0,0,0,0,0,0,0,0,0,0,0,0,0,0,0,0,0,0,0,0,0,0,{"$f":"AP286*$G371","v":0},0,0,0,0,0,0,0,0,0,0,0,0,0,0,0,0,0,0,0,0,0,0,0,0,0,0,0,0,0,0,0,{"$f":"BV286*$G371","v":0},0,0,0,0,0,0,0,0,0,0,0,0,0,0,0,0,0,0,0,0,0,0,0,0,0,0,0,0,0,0,0,{"$f":"DB286*$G371","v":0},0,0,0,0,0,0,0,0,0,0,0]
[null,null,null,null,null,20,0,0,0,{"$f":"J287*$G372","v":0},0,0,0,0,0,0,0,0,0,0,0,0,0,0,0,0,0,0,0,0,0,0,0,0,0,0,0,0,0,0,0,{"$f":"AP287*$G372","v":0},0,0,0,0,0,0,0,0,0,0,0,0,0,0,0,0,0,0,0,0,0,0,0,0,0,0,0,0,0,0,0,{"$f":"BV287*$G372","v":0},0,0,0,0,0,0,0,0,0,0,0,0,0,0,0,0,0,0,0,0,0,0,0,0,0,0,0,0,0,0,0,{"$f":"DB287*$G372","v":0},0,0,0,0,0,0,0,0,0,0,0]
[null,null,null,null,null,20,0,0,0,{"$f":"J288*$G373","v":0},0,0,0,0,0,0,0,0,0,0,0,0,0,0,0,0,0,0,0,0,0,0,0,0,0,0,0,0,0,0,0,{"$f":"AP288*$G373","v":0},0,0,0,0,0,0,0,0,0,0,0,0,0,0,0,0,0,0,0,0,0,0,0,0,0,0,0,0,0,0,0,{"$f":"BV288*$G373","v":0},0,0,0,0,0,0,0,0,0,0,0,0,0,0,0,0,0,0,0,0,0,0,0,0,0,0,0,0,0,0,0,{"$f":"DB288*$G373","v":0},0,0,0,0,0,0,0,0,0,0,0]
[null,null,null,null,null,20,0,0,0,{"$f":"J289*$G374","v":0},0,0,0,0,0,0,0,0,0,0,0,0,0,0,0,0,0,0,0,0,0,0,0,0,0,0,0,0,0,0,0,{"$f":"AP289*$G374","v":0},0,0,0,0,0,0,0,0,0,0,0,0,0,0,0,0,0,0,0,0,0,0,0,0,0,0,0,0,0,0,0,{"$f":"BV289*$G374","v":0},0,0,0,0,0,0,0,0,0,0,0,0,0,0,0,0,0,0,0,0,0,0,0,0,0,0,0,0,0,0,0,{"$f":"DB289*$G374","v":0},0,0,0,0,0,0,0,0,0,0,0]
[null,null,null,null,null,20,0,0,0,{"$f":"J290*$G375","v":0},0,0,0,0,0,0,0,0,0,0,0,0,0,0,0,0,0,0,0,0,0,0,0,0,0,0,0,0,0,0,0,{"$f":"AP290*$G375","v":0},0,0,0,0,0,0,0,0,0,0,0,0,0,0,0,0,0,0,0,0,0,0,0,0,0,0,0,0,0,0,0,{"$f":"BV290*$G375","v":0},0,0,0,0,0,0,0,0,0,0,0,0,0,0,0,0,0,0,0,0,0,0,0,0,0,0,0,0,0,0,0,{"$f":"DB290*$G375","v":0},0,0,0,0,0,0,0,0,0,0,0]
[null,null,null,null,null,20,0,0,0,{"$f":"J291*$G376","v":0},0,0,0,0,0,0,0,0,0,0,0,0,0,0,0,0,0,0,0,0,0,0,0,0,0,0,0,0,0,0,0,{"$f":"AP291*$G376","v":0},0,0,0,0,0,0,0,0,0,0,0,0,0,0,0,0,0,0,0,0,0,0,0,0,0,0,0,0,0,0,0,{"$f":"BV291*$G376","v":0},0,0,0,0,0,0,0,0,0,0,0,0,0,0,0,0,0,0,0,0,0,0,0,0,0,0,0,0,0,0,0,{"$f":"DB291*$G376","v":0},0,0,0,0,0,0,0,0,0,0,0]
[null,null,null,null,null,20,0,0,0,{"$f":"J292*$G377","v":0},0,0,0,0,0,0,0,0,0,0,0,0,0,0,0,0,0,0,0,0,0,0,0,0,0,0,0,0,0,0,0,{"$f":"AP292*$G377","v":0},0,0,0,0,0,0,0,0,0,0,0,0,0,0,0,0,0,0,0,0,0,0,0,0,0,0,0,0,0,0,0,{"$f":"BV292*$G377","v":0},0,0,0,0,0,0,0,0,0,0,0,0,0,0,0,0,0,0,0,0,0,0,0,0,0,0,0,0,0,0,0,{"$f":"DB292*$G377","v":0},0,0,0,0,0,0,0,0,0,0,0]
[null,null,null,null,null,20,0,0,0,{"$f":"J293*$G378","v":0},0,0,0,0,0,0,0,0,0,0,0,0,0,0,0,0,0,0,0,0,0,0,0,0,0,0,0,0,0,0,0,{"$f":"AP293*$G378","v":0},0,0,0,0,0,0,0,0,0,0,0,0,0,0,0,0,0,0,0,0,0,0,0,0,0,0,0,0,0,0,0,{"$f":"BV293*$G378","v":0},0,0,0,0,0,0,0,0,0,0,0,0,0,0,0,0,0,0,0,0,0,0,0,0,0,0,0,0,0,0,0,{"$f":"DB293*$G378","v":0},0,0,0,0,0,0,0,0,0,0,0]
[null,null,null,null,null,20,0,0,0,{"$f":"J294*$G379","v":0},0,0,0,0,0,0,0,0,0,0,0,0,0,0,0,0,0,0,0,0,0,0,0,0,0,0,0,0,0,0,0,{"$f":"AP294*$G379","v":0},0,0,0,0,0,0,0,0,0,0,0,0,0,0,0,0,0,0,0,0,0,0,0,0,0,0,0,0,0,0,0,{"$f":"BV294*$G379","v":0},0,0,0,0,0,0,0,0,0,0,0,0,0,0,0,0,0,0,0,0,0,0,0,0,0,0,0,0,0,0,0,{"$f":"DB294*$G379","v":0},0,0,0,0,0,0,0,0,0,0,0]
[null,null,null,null,null,20,0,0,0,{"$f":"J295*$G380","v":0},0,0,0,0,0,0,0,0,0,0,0,0,0,0,0,0,0,0,0,0,0,0,0,0,0,0,0,0,0,0,0,{"$f":"AP295*$G380","v":0},0,0,0,0,0,0,0,0,0,0,0,0,0,0,0,0,0,0,0,0,0,0,0,0,0,0,0,0,0,0,0,{"$f":"BV295*$G380","v":0},0,0,0,0,0,0,0,0,0,0,0,0,0,0,0,0,0,0,0,0,0,0,0,0,0,0,0,0,0,0,0,{"$f":"DB295*$G380","v":0},0,0,0,0,0,0,0,0,0,0,0]
[null,null,null,null,null,20,0,0,0,{"$f":"J296*$G381","v":0},0,0,0,0,0,0,0,0,0,0,0,0,0,0,0,0,0,0,0,0,0,0,0,0,0,0,0,0,0,0,0,{"$f":"AP296*$G381","v":0},0,0,0,0,0,0,0,0,0,0,0,0,0,0,0,0,0,0,0,0,0,0,0,0,0,0,0,0,0,0,0,{"$f":"BV296*$G381","v":0},0,0,0,0,0,0,0,0,0,0,0,0,0,0,0,0,0,0,0,0,0,0,0,0,0,0,0,0,0,0,0,{"$f":"DB296*$G381","v":0},0,0,0,0,0,0,0,0,0,0,0]
[null,null,null,null,null,20,0,0,0,{"$f":"J297*$G382","v":0},0,0,0,0,0,0,0,0,0,0,0,0,0,0,0,0,0,0,0,0,0,0,0,0,0,0,0,0,0,0,0,{"$f":"AP297*$G382","v":0},0,0,0,0,0,0,0,0,0,0,0,0,0,0,0,0,0,0,0,0,0,0,0,0,0,0,0,0,0,0,0,{"$f":"BV297*$G382","v":0},0,0,0,0,0,0,0,0,0,0,0,0,0,0,0,0,0,0,0,0,0,0,0,0,0,0,0,0,0,0,0,{"$f":"DB297*$G382","v":0},0,0,0,0,0,0,0,0,0,0,0]
[null,null,null,null,null,20,0,0,0,{"$f":"J298*$G383","v":0},0,0,0,0,0,0,0,0,0,0,0,0,0,0,0,0,0,0,0,0,0,0,0,0,0,0,0,0,0,0,0,{"$f":"AP298*$G383","v":0},0,0,0,0,0,0,0,0,0,0,0,0,0,0,0,0,0,0,0,0,0,0,0,0,0,0,0,0,0,0,0,{"$f":"BV298*$G383","v":0},0,0,0,0,0,0,0,0,0,0,0,0,0,0,0,0,0,0,0,0,0,0,0,0,0,0,0,0,0,0,0,{"$f":"DB298*$G383","v":0},0,0,0,0,0,0,0,0,0,0,0]
[null,null,null,null,null,20,0,0,0,{"$f":"J299*$G384","v":0},0,0,0,0,0,0,0,0,0,0,0,0,0,0,0,0,0,0,0,0,0,0,0,0,0,0,0,0,0,0,0,{"$f":"AP299*$G384","v":0},0,0,0,0,0,0,0,0,0,0,0,0,0,0,0,0,0,0,0,0,0,0,0,0,0,0,0,0,0,0,0,{"$f":"BV299*$G384","v":0},0,0,0,0,0,0,0,0,0,0,0,0,0,0,0,0,0,0,0,0,0,0,0,0,0,0,0,0,0,0,0,{"$f":"DB299*$G384","v":0},0,0,0,0,0,0,0,0,0,0,0]
[null,null,null,null,null,20,0,0,0,{"$f":"J300*$G385","v":0},0,0,0,0,0,0,0,0,0,0,0,0,0,0,0,0,0,0,0,0,0,0,0,0,0,0,0,0,0,0,0,{"$f":"AP300*$G385","v":0},0,0,0,0,0,0,0,0,0,0,0,0,0,0,0,0,0,0,0,0,0,0,0,0,0,0,0,0,0,0,0,{"$f":"BV300*$G385","v":0},0,0,0,0,0,0,0,0,0,0,0,0,0,0,0,0,0,0,0,0,0,0,0,0,0,0,0,0,0,0,0,{"$f":"DB300*$G385","v":0},0,0,0,0,0,0,0,0,0,0,0]
[null,null,null,null,null,20,0,0,0,{"$f":"J301*$G386","v":0},0,0,0,0,0,0,0,0,0,0,0,0,0,0,0,0,0,0,0,0,0,0,0,0,0,0,0,0,0,0,0,{"$f":"AP301*$G386","v":0},0,0,0,0,0,0,0,0,0,0,0,0,0,0,0,0,0,0,0,0,0,0,0,0,0,0,0,0,0,0,0,{"$f":"BV301*$G386","v":0},0,0,0,0,0,0,0,0,0,0,0,0,0,0,0,0,0,0,0,0,0,0,0,0,0,0,0,0,0,0,0,{"$f":"DB301*$G386","v":0},0,0,0,0,0,0,0,0,0,0,0]
[null,null,null,null,null,20,0,0,0,{"$f":"J302*$G387","v":0},0,0,0,0,0,0,0,0,0,0,0,0,0,0,0,0,0,0,0,0,0,0,0,0,0,0,0,0,0,0,0,{"$f":"AP302*$G387","v":0},0,0,0,0,0,0,0,0,0,0,0,0,0,0,0,0,0,0,0,0,0,0,0,0,0,0,0,0,0,0,0,{"$f":"BV302*$G387","v":0},0,0,0,0,0,0,0,0,0,0,0,0,0,0,0,0,0,0,0,0,0,0,0,0,0,0,0,0,0,0,0,{"$f":"DB302*$G387","v":0},0,0,0,0,0,0,0,0,0,0,0]
[null,null,null,null,null,20,0,0,0,{"$f":"J303*$G388","v":0},0,0,0,0,0,0,0,0,0,0,0,0,0,0,0,0,0,0,0,0,0,0,0,0,0,0,0,0,0,0,0,{"$f":"AP303*$G388","v":0},0,0,0,0,0,0,0,0,0,0,0,0,0,0,0,0,0,0,0,0,0,0,0,0,0,0,0,0,0,0,0,{"$f":"BV303*$G388","v":0},0,0,0,0,0,0,0,0,0,0,0,0,0,0,0,0,0,0,0,0,0,0,0,0,0,0,0,0,0,0,0,{"$f":"DB303*$G388","v":0},0,0,0,0,0,0,0,0,0,0,0]
[null,null,null,null,null,20,0,0,0,{"$f":"J304*$G389","v":0},0,0,0,0,0,0,0,0,0,0,0,0,0,0,0,0,0,0,0,0,0,0,0,0,0,0,0,0,0,0,0,{"$f":"AP304*$G389","v":0},0,0,0,0,0,0,0,0,0,0,0,0,0,0,0,0,0,0,0,0,0,0,0,0,0,0,0,0,0,0,0,{"$f":"BV304*$G389","v":0},0,0,0,0,0,0,0,0,0,0,0,0,0,0,0,0,0,0,0,0,0,0,0,0,0,0,0,0,0,0,0,{"$f":"DB304*$G389","v":0},0,0,0,0,0,0,0,0,0,0,0]
[null,null,null,null,null,20,0,0,0,{"$f":"J305*$G390","v":0},0,0,0,0,0,0,0,0,0,0,0,0,0,0,0,0,0,0,0,0,0,0,0,0,0,0,0,0,0,0,0,{"$f":"AP305*$G390","v":0},0,0,0,0,0,0,0,0,0,0,0,0,0,0,0,0,0,0,0,0,0,0,0,0,0,0,0,0,0,0,0,{"$f":"BV305*$G390","v":0},0,0,0,0,0,0,0,0,0,0,0,0,0,0,0,0,0,0,0,0,0,0,0,0,0,0,0,0,0,0,0,{"$f":"DB305*$G390","v":0},0,0,0,0,0,0,0,0,0,0,0]
[null,null,null,null,null,20,0,{"$f":"H306*$G391","v":0},0,{"$f":"J306*$G391","v":0},0,0,0,0,0,0,0,0,0,0,0,0,0,0,0,0,0,0,0,0,0,0,0,0,0,0,0,0,0,0,0,{"$f":"AP306*$G391","v":0},0,0,0,0,0,0,0,0,0,0,0,0,0,0,0,0,0,0,0,0,0,0,0,0,0,0,0,0,0,0,0,{"$f":"BV306*$G391","v":0},0,0,0,0,0,0,0,0,0,0,0,0,0,0,0,0,0,0,0,0,0,0,0,0,0,0,0,0,0,0,0,{"$f":"DB306*$G391","v":0},0,0,0,0,0,0,0,0,0,0,0]
[null,null,null,null,null,20,0,0,0,{"$f":"J307*$G392","v":0},0,0,0,0,0,0,0,0,0,0,0,0,0,0,0,0,0,0,0,0,0,0,0,0,0,0,0,0,0,0,0,{"$f":"AP307*$G392","v":0},0,0,0,0,0,0,0,0,0,0,0,0,0,0,0,0,0,0,0,0,0,0,0,0,0,0,0,0,0,0,0,{"$f":"BV307*$G392","v":0},0,0,0,0,0,0,0,0,0,0,0,0,0,0,0,0,0,0,0,0,0,0,0,0,0,0,0,0,0,0,0,{"$f":"DB307*$G392","v":0},0,0,0,0,0,0,0,0,0,0,0]
[null,null,null,null,null,20,0,0,0,{"$f":"J308*$G393","v":0},0,0,0,0,0,0,0,0,0,0,0,0,0,0,0,0,0,0,0,0,0,0,0,0,0,0,0,0,0,0,0,{"$f":"AP308*$G393","v":0},0,0,0,0,0,0,0,0,0,0,0,0,0,0,0,0,0,0,0,0,0,0,0,0,0,0,0,0,0,0,0,{"$f":"BV308*$G393","v":0},0,0,0,0,0,0,0,0,0,0,0,0,0,0,0,0,0,0,0,0,0,0,0,0,0,0,0,0,0,0,0,{"$f":"DB308*$G393","v":0},0,0,0,0,0,0,0,0,0,0,0]
[null,null,null,null,null,20,0,0,0,{"$f":"J309*$G394","v":0},0,0,0,0,0,0,0,0,0,0,0,0,0,0,0,0,0,0,0,0,0,0,0,0,0,0,0,0,0,0,0,{"$f":"AP309*$G394","v":0},0,0,0,0,0,0,0,0,0,0,0,0,0,0,0,0,0,0,0,0,0,0,0,0,0,0,0,0,0,0,0,{"$f":"BV309*$G394","v":0},0,0,0,0,0,0,0,0,0,0,0,0,0,0,0,0,0,0,0,0,0,0,0,0,0,0,0,0,0,0,0,{"$f":"DB309*$G394","v":0},0,0,0,0,0,0,0,0,0,0,0]
[null,null,null,null,null,{"$f":"E$331-G68","v":20},0,0,0,{"$f":"J310*$G395","v":0},0,0,0,0,0,0,0,0,0,0,0,0,0,0,0,0,0,0,0,0,0,0,0,0,0,0,0,0,0,0,0,{"$f":"AP310*$G395","v":0},0,0,0,0,0,0,0,0,0,0,0,0,0,0,0,0,0,0,0,0,0,0,0,0,0,0,0,0,0,0,0,{"$f":"BV310*$G395","v":0},0,0,0,0,0,0,0,0,0,0,0,0,0,0,0,0,0,0,0,0,0,0,0,0,0,0,0,0,0,0,0,{"$f":"DB310*$G395","v":0},0,0,0,0,0,0,0,0,0,0,0]
[null,null,null,null,null,20,{"$f":"IF(E$331=F396,0,F396)","v":0},0,0,{"$f":"J311*$G396","v":0},0,0,0,0,0,0,0,0,0,0,0,0,0,0,0,0,0,0,0,0,0,0,0,0,0,0,0,0,0,0,0,{"$f":"AP311*$G396","v":0},0,0,0,0,0,0,0,0,0,0,0,0,0,0,0,0,0,0,0,0,0,0,0,0,0,0,0,0,0,0,0,{"$f":"BV311*$G396","v":0},0,0,0,0,0,0,0,0,0,0,0,0,0,0,0,0,0,0,0,0,0,0,0,0,0,0,0,0,0,0,0,{"$f":"DB311*$G396","v":0},0,0,0,0,0,0,0,0,0,0,0]
[null,null,null,null,null,20,0,0,0,{"$f":"J312*$G397","v":0},0,0,0,0,0,0,0,0,0,0,0,0,0,0,0,0,0,0,0,0,0,0,0,0,0,0,0,0,0,0,0,{"$f":"AP312*$G397","v":0},0,0,0,0,0,0,0,0,0,0,0,0,0,0,0,0,0,0,0,0,0,0,0,0,0,0,0,0,0,0,0,{"$f":"BV312*$G397","v":0},0,0,0,0,0,0,0,0,0,0,0,0,0,0,0,0,0,0,0,0,0,0,0,0,0,0,0,{"$f":"CX312*$G397","v":0},0,0,0,0,0,0,0,0,0,0,0,0,0,0,0]
[null,null,null,null,null,20,0,0,0,{"$f":"J313*$G398","v":0},0,0,0,0,0,0,0,0,0,0,0,0,0,0,0,0,0,0,0,0,0,0,0,0,0,0,0,0,0,0,0,{"$f":"AP313*$G398","v":0},0,0,0,0,0,0,0,0,0,0,0,0,0,0,0,0,0,0,0,0,0,0,0,0,0,0,0,0,0,0,0,{"$f":"BV313*$G398","v":0},0,0,0,0,0,0,0,0,0,0,0,0,0,0,0,0,0,0,0,0,0,0,0,0,0,0,0,{"$f":"CX313*$G398","v":0},0,0,0,0,0,0,0,0,0,0,0,0,0,0,0]
[null,null,null,null,null,20,0,0,0,{"$f":"J314*$G399","v":0},0,0,0,0,0,0,0,0,0,0,0,0,0,0,0,0,0,0,0,0,0,0,0,0,0,0,0,0,0,0,0,{"$f":"AP314*$G399","v":0},0,0,0,0,0,0,0,0,0,0,0,0,0,0,0,0,0,0,0,0,0,0,0,0,0,0,0,0,0,0,0,{"$f":"BV314*$G399","v":0},0,0,0,0,0,0,0,0,0,0,0,0,0,0,0,0,0,0,0,0,0,0,0,0,0,0,0,{"$f":"CX314*$G399","v":0},0,0,0,0,0,0,0,0,0,0,0,0,0,0,0]
[null,null,null,null,null,20,0,0,0,{"$f":"J315*$G400","v":0},0,0,0,0,0,0,0,0,0,0,0,0,0,0,0,0,0,0,0,0,0,0,0,0,0,0,0,0,0,0,0,{"$f":"AP315*$G400","v":0},0,0,0,0,0,0,0,0,0,0,0,0,0,0,0,0,0,0,0,0,0,0,0,0,0,0,0,0,0,0,0,{"$f":"BV315*$G400","v":0},0,0,0,0,0,0,0,0,0,0,0,0,0,0,0,0,0,0,0,0,0,0,0,0,0,0,0,{"$f":"CX315*$G400","v":0},0,0,0,0,0,0,0,0,0,0,0,0,0,0,0]
[null,null,null,null,null,20,0,0,0,{"$f":"J316*$G401","v":0},0,0,0,0,0,0,0,0,0,0,0,0,0,0,0,0,0,0,0,0,0,0,0,0,0,0,0,0,0,0,0,{"$f":"AP316*$G401","v":0},0,0,0,0,0,0,0,0,0,0,0,0,0,0,0,0,0,0,0,0,0,0,0,0,0,0,0,0,0,0,0,{"$f":"BV316*$G401","v":0},0,0,0,0,0,0,0,0,0,0,0,0,0,0,0,0,0,0,0,0,0,0,0,0,0,0,0,{"$f":"CX316*$G401","v":0},0,0,0,0,0,0,0,0,0,0,0,0,0,0,0]
[null,null,null,null,null,20,0,0,0,{"$f":"J317*$G402","v":0},0,0,0,0,0,0,0,0,0,0,0,0,0,0,0,0,0,0,0,0,0,0,0,0,0,0,0,0,0,0,0,{"$f":"AP317*$G402","v":0},0,0,0,0,0,0,0,0,0,0,0,0,0,0,0,0,0,0,0,0,0,0,0,0,0,0,0,0,0,0,0,{"$f":"BV317*$G402","v":0},0,0,0,0,0,0,0,0,0,0,0,0,0,0,0,0,0,0,0,0,0,0,0,0,0,0,0,{"$f":"CX317*$G402","v":0},0,0,0,0,0,0,0,0,0,0,0,0,0,0,0]
[null,null,null,null,null,20,0,0,0,{"$f":"J318*$G403","v":0},0,0,0,0,0,0,0,0,0,0,0,0,0,0,0,0,0,0,0,0,0,0,0,0,0,0,0,0,0,0,0,{"$f":"AP318*$G403","v":0},0,0,0,0,0,0,0,0,0,0,0,0,0,0,0,0,0,0,0,0,0,0,0,0,0,0,0,0,0,0,0,{"$f":"BV318*$G403","v":0},0,0,0,0,0,0,0,0,0,0,0,0,0,0,0,0,0,0,0,0,0,0,0,0,0,0,0,{"$f":"CX318*$G403","v":0},0,0,0,0,0,0,0,0,0,0,0,0,0,0,0]
[null,null,null,null,null,20,0,0,0,{"$f":"J319*$G404","v":0},0,0,0,0,0,0,0,0,0,0,0,0,0,0,0,0,0,0,0,0,0,0,0,0,0,0,0,0,0,0,0,{"$f":"AP319*$G404","v":0},0,0,0,0,0,0,0,0,0,0,0,0,0,0,0,0,0,0,0,0,0,0,0,0,0,0,0,0,0,0,0,{"$f":"BV319*$G404","v":0},0,0,0,0,0,0,0,0,0,0,0,0,0,0,0,0,0,0,0,0,0,0,0,0,0,0,0,{"$f":"CX319*$G404","v":0},0,0,0,0,0,0,0,0,0,0,0,0,0,0,0]
[null,null,null,null,null,20,0,0,0,{"$f":"J320*$G405","v":0},0,0,0,0,0,0,0,0,0,0,0,0,0,0,0,0,0,0,0,0,0,0,0,0,0,0,0,0,0,0,0,{"$f":"AP320*$G405","v":0},0,0,0,0,0,0,0,0,0,0,0,0,0,0,0,0,0,0,0,0,0,0,0,0,0,0,0,0,0,0,0,{"$f":"BV320*$G405","v":0},0,0,0,0,0,0,0,0,0,0,0,0,0,0,0,0,0,0,0,0,0,0,0,0,0,0,0,{"$f":"CX320*$G405","v":0},0,0,0,0,0,0,0,0,0,0,0,0,0,0,0]
[null,null,null,null,null,20,0,0,0,{"$f":"J321*$G406","v":0},0,0,0,0,0,0,0,0,0,0,0,0,0,0,0,0,0,0,0,0,0,0,0,0,0,0,0,0,0,0,0,{"$f":"AP321*$G406","v":0},0,0,0,0,0,0,0,0,0,0,0,0,0,0,0,0,0,0,0,0,0,0,0,0,0,0,0,0,0,0,0,{"$f":"BV321*$G406","v":0},0,0,0,0,0,0,0,0,0,0,0,0,0,0,0,0,0,0,0,0,0,0,0,0,0,0,0,{"$f":"CX321*$G406","v":0},0,0,0,0,0,0,0,0,0,0,0,0,0,0,0]
[null,null,null,null,null,20,0,0,0,{"$f":"J322*$G407","v":0},0,0,0,0,0,0,0,0,0,0,0,0,0,0,0,0,0,0,0,0,0,0,0,0,0,0,0,0,0,0,0,{"$f":"AP322*$G407","v":0},0,0,0,0,0,0,0,0,0,0,0,0,0,0,0,0,0,0,0,0,0,0,0,0,0,0,0,0,0,0,0,{"$f":"BV322*$G407","v":0},0,0,0,0,0,0,0,0,0,0,0,0,0,0,0,0,0,0,0,0,0,0,0,0,0,0,0,{"$f":"CX322*$G407","v":0},0,0,0,0,0,0,0,0,0,0,0,0,0,0,0]
[null,null,null,null,null,20,0,0,0,{"$f":"J323*$G408","v":0},0,0,0,0,0,0,0,0,0,0,0,0,0,0,0,0,0,0,0,0,0,0,0,0,0,0,0,0,0,0,0,{"$f":"AP323*$G408","v":0},0,0,0,0,0,0,0,0,0,0,0,0,0,0,0,0,0,0,0,0,0,0,0,0,0,0,0,0,0,{"$f":"BT323*$G408","v":0},0,0,0,0,0,0,0,0,0,0,0,0,0,0,0,0,0,0,0,0,0,0,0,0,0,0,0,0,0,0,0,0,0,0,0,0,0,0,0,0,0,0,0,0,0]
[]
[null,null,null,null,null,null,"C",{"$f":"H324*($E331-0.85*H1/2)","v":143076.95500638019},{"$f":"I324*($E331-0.85*I1/2)","v":210981.16266263017},275661.21406888019,337117.10922513017,395348.84813138022,450356.4307876302,502139.85719388019,550699.12735013023,596034.24125638022,638145.19891263021,677032.00031888031,712694.6454751303,745133.13438138016,774347.46703763015,800337.64344388025,823103.66360013036,842645.52750638023,858963.2351626301,872056.7865688802,881926.18172513018,888571.42063138005,891992.50328763016,892189.42969388014,889162.19985013024,882910.81375638023,873435.2714126301,860735.5728188802,844811.71797513019,825663.70688138029,803291.53953763016,777695.21594388015,748874.73610013025,716830.10000638012,681561.30766263034,643068.35906888021,601351.25422513008,556409.9931313803,508244.57578763016,456855.00219388003,0,0,0,0,0,0,0,0,0,0,0,0,0,0,0,0,0,0,0,0,0,0,0,0,0,0,{"$f":"BU324*($E331-0.85*BU1/2)","v":0},0,0,0,0,0,0,0,0,0,0,0,0,0,0,0,0,0,0,0,0,0,0,0,0,0,0,0,0,0,0,0,0,0,0,0,0,0,0,0,0,0,0,0,0]
[null,null,null,null,null,null,"Mn",{"$f":"SUM(H331:H410)","v":143076.95500638013},{"$f":"SUM(I331:I410)","v":210981.16266263011},{"$f":"SUM(J331:J410)","v":377849.25586933002},583691.85379837942,737926.03316875547,861382.1389112433,964433.95292925159,1052828.4077360802,{"$f":"SUM(P331:P410)","v":1130006.3602670443},{"$f":"SUM(Q331:Q410)","v":1198153.8343553846},{"$f":"SUM(R331:R410)","v":1258726.2512442041},{"$f":"SUM(S331:S410)","v":1312730.1167436994},1360883.7116378795,1403713.3699474069,1441613.5812456431,1474885.8408051864,{"$f":"SUM(X331:X410)","v":1503764.5268729194},{"$f":"SUM(Y331:Y410)","v":1528434.592531635},{"$f":"SUM(Z331:Z410)","v":1546979.7478084676},{"$f":"SUM(AA331:AA410)","v":1521185.9092888976},{"$f":"SUM(AB331:AB410)","v":1492148.6016629804},{"$f":"SUM(AC331:AC410)","v":1462994.2458226634},{"$f":"SUM(AD331:AD410)","v":1433333.9401293895},{"$f":"SUM(AE331:AE410)","v":1402841.0861241324},{"$f":"SUM(AF331:AF410)","v":1371239.3925362143},{"$f":"SUM(AG331:AG410)","v":1338293.5481981416},{"$f":"SUM(AH331:AH410)","v":1303801.8958844978},{"$f":"SUM(AI331:AI410)","v":1267590.6235652515},1229509.1186359916,1189426.2222488639,{"$f":"SUM(AL331:AL410)","v":1147227.1866521435},{"$f":"SUM(AM331:AM410)","v":1102811.1862721625},{"$f":"SUM(AN331:AN410)","v":1056089.2684255319},{"$f":"SUM(AO331:AO410)","v":1006982.6556559815},{"$f":"SUM(AP331:AP410)","v":955421.33126415708},{"$f":"SUM(AQ331:AQ410)","v":901342.85440744995},{"$f":"SUM(AR331:AR410)","v":844691.36244536145},{"$f":"SUM(AS331:AS410)","v":785416.72689492116},{"$f":"SUM(AT331:AT410)","v":723473.83609310607},{"$f":"SUM(AU331:AU410)","v":0},{"$f":"SUM(AV331:AV410)","v":0},{"$f":"SUM(AW331:AW410)","v":0},0,0,{"$f":"SUM(AZ331:AZ410)","v":0},{"$f":"SUM(BA331:BA410)","v":0},{"$f":"SUM(BB331:BB410)","v":0},{"$f":"SUM(BC331:BC410)","v":0},{"$f":"SUM(BD331:BD410)","v":0},{"$f":"SUM(BE331:BE410)","v":0},{"$f":"SUM(BF331:BF410)","v":0},{"$f":"SUM(BG331:BG410)","v":0},{"$f":"SUM(BH331:BH410)","v":0},{"$f":"SUM(BI331:BI410)","v":0},{"$f":"SUM(BJ331:BJ410)","v":0},{"$f":"SUM(BK331:BK410)","v":0},0,0,{"$f":"SUM(BN331:BN410)","v":0},{"$f":"SUM(BO331:BO410)","v":0},{"$f":"SUM(BP331:BP410)","v":0},{"$f":"SUM(BQ331:BQ410)","v":0},{"$f":"SUM(BR331:BR410)","v":0},{"$f":"SUM(BS331:BS410)","v":0},{"$f":"SUM(BT331:BT410)","v":0},{"$f":"SUM(BU331:BU410)","v":0},{"$f":"SUM(BV331:BV410)","v":0},{"$f":"SUM(BW331:BW410)","v":0},{"$f":"SUM(BX331:BX410)","v":0},{"$f":"SUM(BY331:BY410)","v":0},0,0,{"$f":"SUM(CB331:CB410)","v":0},{"$f":"SUM(CC331:CC410)","v":0},{"$f":"SUM(CD331:CD410)","v":0},{"$f":"SUM(CE331:CE410)","v":0},{"$f":"SUM(CF331:CF410)","v":0},{"$f":"SUM(CG331:CG410)","v":0},{"$f":"SUM(CH331:CH410)","v":0},{"$f":"SUM(CI331:CI410)","v":0},{"$f":"SUM(CJ331:CJ410)","v":0},{"$f":"SUM(CK331:CK410)","v":0},{"$f":"SUM(CL331:CL410)","v":0},{"$f":"SUM(CM331:CM410)","v":0},0,0,{"$f":"SUM(CP331:CP410)","v":0},{"$f":"SUM(CQ331:CQ410)","v":0},{"$f":"SUM(CR331:CR410)","v":0},{"$f":"SUM(CS331:CS410)","v":0},{"$f":"SUM(CT331:CT410)","v":0},{"$f":"SUM(CU331:CU410)","v":0},{"$f":"SUM(CV331:CV410)","v":0},{"$f":"SUM(CW331:CW410)","v":0},{"$f":"SUM(CX331:CX410)","v":0},{"$f":"SUM(CY331:CY410)","v":0},{"$f":"SUM(CZ331:CZ410)","v":0},{"$f":"SUM(DA331:DA410)","v":0},0,0,{"$f":"SUM(DD331:DD410)","v":0},{"$f":"SUM(DE331:DE410)","v":0},{"$f":"SUM(DF331:DF410)","v":0},{"$f":"SUM(DG331:DG410)","v":0},{"$f":"SUM(DH331:DH410)","v":0},{"$f":"SUM(DI331:DI410)","v":0},{"$f":"SUM(DJ331:DJ410)","v":0},{"$f":"SUM(DK331:DK410)","v":0},{"$f":"SUM(DL331:DL410)","v":0},{"$f":"SUM(DM331:DM410)","v":0}]
[null,null,null,null,null,null,null,{"$f":"H411","v":143076.95500638013},{"$f":"IF(I411=0,H412,I411)","v":210981.16266263011},{"$f":"IF(J411=0,I412,J411)","v":377849.25586933002},{"$f":"IF(K411=0,J412,K411)","v":583691.85379837942},737926.03316875547,861382.1389112433,964433.95292925159,1052828.4077360802,1130006.3602670443,1198153.8343553846,1258726.2512442041,1312730.1167436994,1360883.7116378795,1403713.3699474069,1441613.5812456431,1474885.8408051864,1503764.5268729194,1528434.592531635,1546979.7478084676,1521185.9092888976,1492148.6016629804,1462994.2458226634,1433333.9401293895,1402841.0861241324,{"$f":"IF(AF411=0,AE412,AF411)","v":1371239.3925362143},{"$f":"IF(AG411=0,AF412,AG411)","v":1338293.5481981416},1303801.8958844978,{"$f":"IF(AI411=0,AH412,AI411)","v":1267590.6235652515},{"$f":"IF(AJ411=0,AI412,AJ411)","v":1229509.1186359916},{"$f":"IF(AK411=0,AJ412,AK411)","v":1189426.2222488639},{"$f":"IF(AL411=0,AK412,AL411)","v":1147227.1866521435},{"$f":"IF(AM411=0,AL412,AM411)","v":1102811.1862721625},{"$f":"IF(AN411=0,AM412,AN411)","v":1056089.2684255319},{"$f":"IF(AO411=0,AN412,AO411)","v":1006982.6556559815},{"$f":"IF(AP411=0,AO412,AP411)","v":955421.33126415708},{"$f":"IF(AQ411=0,AP412,AQ411)","v":901342.85440744995},{"$f":"IF(AR411=0,AQ412,AR411)","v":844691.36244536145},{"$f":"IF(AS411=0,AR412,AS411)","v":785416.72689492116},{"$f":"IF(AT411=0,AS412,AT411)","v":723473.83609310607},{"$f":"IF(AU411=0,AT412,AU411)","v":723473.83609310607},{"$f":"IF(AV411=0,AU412,AV411)","v":723473.83609310607},{"$f":"IF(AW411=0,AV412,AW411)","v":723473.83609310607},{"$f":"IF(AX411=0,AW412,AX411)","v":723473.83609310607},{"$f":"IF(AY411=0,AX412,AY411)","v":723473.83609310607},{"$f":"IF(AZ411=0,AY412,AZ411)","v":723473.83609310607},{"$f":"IF(BA411=0,AZ412,BA411)","v":723473.83609310607},{"$f":"IF(BB411=0,BA412,BB411)","v":723473.83609310607},{"$f":"IF(BC411=0,BB412,BC411)","v":723473.83609310607},723473.83609310607,723473.83609310607,723473.83609310607,{"$f":"IF(BG411=0,BF412,BG411)","v":723473.83609310607},{"$f":"IF(BH411=0,BG412,BH411)","v":723473.83609310607},{"$f":"IF(BI411=0,BH412,BI411)","v":723473.83609310607},{"$f":"IF(BJ411=0,BI412,BJ411)","v":723473.83609310607},{"$f":"IF(BK411=0,BJ412,BK411)","v":723473.83609310607},{"$f":"IF(BL411=0,BK412,BL411)","v":723473.83609310607},{"$f":"IF(BM411=0,BL412,BM411)","v":723473.83609310607},{"$f":"IF(BN411=0,BM412,BN411)","v":723473.83609310607},{"$f":"IF(BO411=0,BN412,BO411)","v":723473.83609310607},{"$f":"IF(BP411=0,BO412,BP411)","v":723473.83609310607},{"$f":"IF(BQ411=0,BP412,BQ411)","v":723473.83609310607},{"$f":"IF(BR411=0,BQ412,BR411)","v":723473.83609310607},{"$f":"IF(BS411=0,BR412,BS411)","v":723473.83609310607},{"$f":"IF(BT411=0,BS412,BT411)","v":723473.83609310607},{"$f":"IF(BU411=0,BT412,BU411)","v":723473.83609310607},{"$f":"IF(BV411=0,BU412,BV411)","v":723473.83609310607},{"$f":"IF(BW411=0,BV412,BW411)","v":723473.83609310607},{"$f":"IF(BX411=0,BW412,BX411)","v":723473.83609310607},{"$f":"IF(BY411=0,BX412,BY411)","v":723473.83609310607},{"$f":"IF(BZ411=0,BY412,BZ411)","v":723473.83609310607},{"$f":"IF(CA411=0,BZ412,CA411)","v":723473.83609310607},723473.83609310607,723473.83609310607,723473.83609310607,{"$f":"IF(CE411=0,CD412,CE411)","v":723473.83609310607},{"$f":"IF(CF411=0,CE412,CF411)","v":723473.83609310607},{"$f":"IF(CG411=0,CF412,CG411)","v":723473.83609310607},{"$f":"IF(CH411=0,CG412,CH411)","v":723473.83609310607},{"$f":"IF(CI411=0,CH412,CI411)","v":723473.83609310607},{"$f":"IF(CJ411=0,CI412,CJ411)","v":723473.83609310607},{"$f":"IF(CK411=0,CJ412,CK411)","v":723473.83609310607},{"$f":"IF(CL411=0,CK412,CL411)","v":723473.83609310607},{"$f":"IF(CM411=0,CL412,CM411)","v":723473.83609310607},{"$f":"IF(CN411=0,CM412,CN411)","v":723473.83609310607},{"$f":"IF(CO411=0,CN412,CO411)","v":723473.83609310607},{"$f":"IF(CP411=0,CO412,CP411)","v":723473.83609310607},{"$f":"IF(CQ411=0,CP412,CQ411)","v":723473.83609310607},{"$f":"IF(CR411=0,CQ412,CR411)","v":723473.83609310607},{"$f":"IF(CS411=0,CR412,CS411)","v":723473.83609310607},{"$f":"IF(CT411=0,CS412,CT411)","v":723473.83609310607},{"$f":"IF(CU411=0,CT412,CU411)","v":723473.83609310607},{"$f":"IF(CV411=0,CU412,CV411)","v":723473.83609310607},{"$f":"IF(CW411=0,CV412,CW411)","v":723473.83609310607},{"$f":"IF(CX411=0,CW412,CX411)","v":723473.83609310607},{"$f":"IF(CY411=0,CX412,CY411)","v":723473.83609310607},723473.83609310607,723473.83609310607,723473.83609310607,{"$f":"IF(DC411=0,DB412,DC411)","v":723473.83609310607},{"$f":"IF(DD411=0,DC412,DD411)","v":723473.83609310607},{"$f":"IF(DE411=0,DD412,DE411)","v":723473.83609310607},{"$f":"IF(DF411=0,DE412,DF411)","v":723473.83609310607},{"$f":"IF(DG411=0,DF412,DG411)","v":723473.83609310607},{"$f":"IF(DH411=0,DG412,DH411)","v":723473.83609310607},{"$f":"IF(DI411=0,DH412,DI411)","v":723473.83609310607},{"$f":"IF(DJ411=0,DI412,DJ411)","v":723473.83609310607},{"$f":"IF(DK411=0,DJ412,DK411)","v":723473.83609310607},{"$f":"IF(DL411=0,DK412,DL411)","v":723473.83609310607},{"$f":"IF(DM411=0,DL412,DM411)","v":723473.83609310607}]
[null,null,null,null,null,null,null,{"$f":"H412/100000","v":1.4307695500638014},{"$f":"I412/100000","v":2.1098116266263012},3.7784925586933,5.8369185379837942,7.3792603316875551,8.6138213891124327,9.644339529292516,10.528284077360802,11.300063602670443,11.981538343553845,12.587262512442042,13.127301167436993,13.608837116378794,14.037133699474069,14.416135812456432,14.748858408051865,15.037645268729195,15.28434592531635,15.469797478084676,15.211859092888977,14.921486016629803,14.629942458226633,14.333339401293895,14.028410861241325,13.712393925362143,13.382935481981416,13.038018958844978,12.675906235652516,12.295091186359915,11.894262222488639,11.472271866521435,11.028111862721625,10.56089268425532,10.069826556559816,9.5542133126415703,9.0134285440745003,8.4469136244536145,7.8541672689492117,7.2347383609310612,7.2347383609310612,7.2347383609310612,7.2347383609310612,7.2347383609310612,7.2347383609310612,7.2347383609310612,7.2347383609310612,7.2347383609310612,7.2347383609310612,7.2347383609310612,7.2347383609310612,7.2347383609310612,7.2347383609310612,7.2347383609310612,7.2347383609310612,7.2347383609310612,7.2347383609310612,7.2347383609310612,7.2347383609310612,7.2347383609310612,7.2347383609310612,7.2347383609310612,7.2347383609310612,7.2347383609310612,7.2347383609310612,7.2347383609310612,{"$f":"BU412/100000","v":7.2347383609310612},7.2347383609310612,7.2347383609310612,7.2347383609310612,7.2347383609310612,7.2347383609310612,7.2347383609310612,7.2347383609310612,7.2347383609310612,7.2347383609310612,7.2347383609310612,7.2347383609310612,7.2347383609310612,7.2347383609310612,7.2347383609310612,7.2347383609310612,7.2347383609310612,7.2347383609310612,7.2347383609310612,7.2347383609310612,7.2347383609310612,7.2347383609310612,7.2347383609310612,7.2347383609310612,7.2347383609310612,7.2347383609310612,7.2347383609310612,7.2347383609310612,7.2347383609310612,7.2347383609310612,7.2347383609310612,7.2347383609310612,7.2347383609310612,7.2347383609310612,7.2347383609310612,7.2347383609310612,7.2347383609310612,7.2347383609310612,7.2347383609310612,7.2347383609310612,7.2347383609310612,7.2347383609310612,7.2347383609310612,7.2347383609310612,7.2347383609310612,0]
[null,null,null,null,null,null,null,{"$f":"H413*0.7","v":1.0015386850446608},{"$f":"I413*0.7","v":1.4768681386384108},2.6449447910853099,4.0858429765886557,5.1654822321812883,6.0296749723787029,6.7510376705047612,7.3697988541525605,7.9100445218693096,8.3870768404876905,8.8110837587094277,9.1891108172058953,9.5261859814651544,9.8259935896318478,10.091295068719502,10.324200885636305,10.526351688110436,10.699042147721444,10.828858234659272,10.648301365022283,10.445040211640862,10.240959720758642,10.033337580905725,9.8198876028689259,9.5986757477535001,9.3680548373869907,9.1266132711914842,8.8731343649567602,8.6065638304519396,8.325983555742047,8.0305903065650046,7.7196783039051367,7.3926248789787232,7.0488785895918706,6.6879493188490988,6.3093999808521497,5.91283953711753,5.4979170882644475,5.0643168526517428,5.0643168526517428,5.0643168526517428,5.0643168526517428,5.0643168526517428,5.0643168526517428,5.0643168526517428,5.0643168526517428,5.0643168526517428,5.0643168526517428,5.0643168526517428,5.0643168526517428,5.0643168526517428,5.0643168526517428,5.0643168526517428,5.0643168526517428,5.0643168526517428,5.0643168526517428,5.0643168526517428,5.0643168526517428,5.0643168526517428,5.0643168526517428,5.0643168526517428,5.0643168526517428,5.0643168526517428,5.0643168526517428,5.0643168526517428,{"$f":"BU413*0.7","v":5.0643168526517428},5.0643168526517428,5.0643168526517428,5.0643168526517428,5.0643168526517428,5.0643168526517428,5.0643168526517428,5.0643168526517428,5.0643168526517428,5.0643168526517428,5.0643168526517428,5.0643168526517428,5.0643168526517428,5.0643168526517428,5.0643168526517428,5.0643168526517428,5.0643168526517428,5.0643168526517428,5.0643168526517428,5.0643168526517428,5.0643168526517428,5.0643168526517428,5.0643168526517428,5.0643168526517428,5.0643168526517428,5.0643168526517428,5.0643168526517428,5.0643168526517428,5.0643168526517428,5.0643168526517428,5.0643168526517428,5.0643168526517428,5.0643168526517428,5.0643168526517428,5.0643168526517428,5.0643168526517428,5.0643168526517428,5.0643168526517428,5.0643168526517428,5.0643168526517428,5.0643168526517428,5.0643168526517428,5.0643168526517428,5.0643168526517428,5.0643168526517428,0]
[null,null,null,null,null,null,null,{"$f":"H329","v":-45.051755550949203},{"$f":"I329","v":-42.396568050949213},-34.666415722264219,-24.840551248801319,-17.417594445864939,-11.363047870989709,-6.1617183824667654,-1.5281960647721955,2.7084023637343537,6.6566414070095057,11.081287172763949,17.732469181950417,23.811500682722166,29.433053862491121,34.683076010455174,39.627253783843365,44.316651079718717,48.791563553957111,52.981700892951558,58.551655953897111,64.018454435816523,69.240427928380782,74.2482199877292,79.06756498271487,83.7202333206193,88.224766376063741,92.59705375684436,96.850791004897488,100.99784566034377,105.04855240197831,109.01195279410236,112.89599140115236,116.70767726160213,120.4532176555565,124.13812955811819,127.76733300375398,131.3452296966237,134.87576951718503,138.36250704490308,138.36250704490308,138.36250704490308,138.36250704490308,138.36250704490308,138.36250704490308,138.36250704490308,138.36250704490308,138.36250704490308,138.36250704490308,138.36250704490308,138.36250704490308,138.36250704490308,138.36250704490308,138.36250704490308,138.36250704490308,138.36250704490308,138.36250704490308,138.36250704490308,138.36250704490308,138.36250704490308,138.36250704490308,138.36250704490308,138.36250704490308,138.36250704490308,138.36250704490308,138.36250704490308,{"$f":"BU329","v":138.36250704490308},138.36250704490308,138.36250704490308,138.36250704490308,138.36250704490308,138.36250704490308,138.36250704490308,138.36250704490308,138.36250704490308,138.36250704490308,138.36250704490308,138.36250704490308,138.36250704490308,138.36250704490308,138.36250704490308,138.36250704490308,138.36250704490308,138.36250704490308,138.36250704490308,138.36250704490308,138.36250704490308,138.36250704490308,138.36250704490308,138.36250704490308,138.36250704490308,138.36250704490308,138.36250704490308,138.36250704490308,138.36250704490308,138.36250704490308,138.36250704490308,138.36250704490308,138.36250704490308,138.36250704490308,138.36250704490308,138.36250704490308,138.36250704490308,138.36250704490308,138.36250704490308,138.36250704490308,138.36250704490308,138.36250704490308,138.36250704490308,138.36250704490308,138.36250704490308,175.2280496134492]

{"sheet":"Hoja3","index":4,"n_rows":96,"n_cols":80,"rows_kept":96,"cut":false,"hidden":true,"merged":[]}
[null,{"$f":"Hoja1!C9-Hoja1!C5","v":19.094999999999999},{"$f":"(Hoja1!C9-Hoja1!C5*2)/(Hoja1!C6-1)","v":13.190000000000001},{"$f":"Hoja1!C5","v":5.9049999999999994}]
[null,"y",{"$f":"D1","v":5.9049999999999994},{"$f":"$C1+C2","v":19.094999999999999},{"$f":"$C1+D2","v":32.284999999999997},{"$f":"$C1+E2","v":45.474999999999994},58.664999999999992,71.85499999999999,85.044999999999987,98.234999999999985,111.42499999999998,124.61499999999998,137.80499999999998,150.99499999999998,164.18499999999997,177.37499999999997,190.56499999999997,203.75499999999997,216.94499999999996,230.13499999999996,243.32499999999996,256.51499999999999,269.70499999999998,282.89499999999998,296.08499999999998,309.27499999999998,322.46499999999997,335.65499999999997,348.84499999999997,362.03499999999997,375.22499999999997,388.41499999999996,401.60499999999996,414.79499999999996,427.98499999999996,441.17499999999995,454.36499999999995,467.55499999999995,480.74499999999995,493.93499999999995,507.12499999999994,520.31499999999994,{"$f":"$C1+AP2","v":533.505},{"$f":"$C1+AQ2","v":546.69500000000005},{"$f":"$C1+AR2","v":559.8850000000001},{"$f":"$C1+AS2","v":573.07500000000016},{"$f":"$C1+AT2","v":586.26500000000021},{"$f":"$C1+AU2","v":599.45500000000027},{"$f":"$C1+AV2","v":612.64500000000032},{"$f":"$C1+AW2","v":625.83500000000038},{"$f":"$C1+AX2","v":639.02500000000043},{"$f":"$C1+AY2","v":652.21500000000049},{"$f":"$C1+AZ2","v":665.40500000000054},{"$f":"$C1+BA2","v":678.5950000000006},{"$f":"$C1+BB2","v":691.78500000000065},{"$f":"$C1+BC2","v":704.9750000000007},{"$f":"$C1+BD2","v":718.16500000000076},{"$f":"$C1+BE2","v":731.35500000000081},{"$f":"$C1+BF2","v":744.54500000000087},{"$f":"$C1+BG2","v":757.73500000000092},{"$f":"$C1+BH2","v":770.92500000000098},{"$f":"$C1+BI2","v":784.11500000000103},{"$f":"$C1+BJ2","v":797.30500000000109},{"$f":"$C1+BK2","v":810.49500000000114},{"$f":"$C1+BL2","v":823.6850000000012},{"$f":"$C1+BM2","v":836.87500000000125},{"$f":"$C1+BN2","v":850.06500000000131},{"$f":"$C1+BO2","v":863.25500000000136},{"$f":"$C1+BP2","v":876.44500000000141},{"$f":"$C1+BQ2","v":889.63500000000147},{"$f":"$C1+BR2","v":902.82500000000152},{"$f":"$C1+BS2","v":916.01500000000158},{"$f":"$C1+BT2","v":929.20500000000163},{"$f":"$C1+BU2","v":942.39500000000169},{"$f":"$C1+BV2","v":955.58500000000174},{"$f":"$C1+BW2","v":968.7750000000018},{"$f":"$C1+BX2","v":981.96500000000185},{"$f":"$C1+BY2","v":995.15500000000191},{"$f":"$C1+BZ2","v":1008.345000000002},{"$f":"$C1+CA2","v":1021.535000000002}]
[null,null,1,2,3,4,5,6,7,8,9,10,11,12,13,14,15,16,17,18,19,20,21,22,23,24,25,26,27,28,29,30,31,32,33,34,35,36,37,38,39,40,41,42,43,44,45,46,47,48,49,50,51,52,53,54,55,56,57,58,59,60,61,62,63,64,65,66,67,68,69,70,71,72,73,74,75,76,77,78]
[null,"X",{"$f":"IF($B1>=C2,C2,\"\")","v":5.9049999999999994},{"$f":"IF($B1>=D2,D2,\"\")","v":19.094999999999999},"",{"$f":"IF($B1>=F2,F2,\"\")","v":""},{"$f":"IF($B1>=G2,G2,\"\")","v":""},{"$f":"IF($B1>=H2,H2,\"\")","v":""},{"$f":"IF($B1>=I2,I2,\"\")","v":""},{"$f":"IF($B1>=J2,J2,\"\")","v":""},{"$f":"IF($B1>=K2,K2,\"\")","v":""},{"$f":"IF($B1>=L2,L2,\"\")","v":""},{"$f":"IF($B1>=M2,M2,\"\")","v":""},{"$f":"IF($B1>=N2,N2,\"\")","v":""},{"$f":"IF($B1>=O2,O2,\"\")","v":""},{"$f":"IF($B1>=P2,P2,\"\")","v":""},{"$f":"IF($B1>=Q2,Q2,\"\")","v":""},{"$f":"IF($B1>=R2,R2,\"\")","v":""},{"$f":"IF($B1>=S2,S2,\"\")","v":""},{"$f":"IF($B1>=T2,T2,\"\")","v":""},{"$f":"IF($B1>=U2,U2,\"\")","v":""},{"$f":"IF($B1>=V2,V2,\"\")","v":""},{"$f":"IF($B1>=W2,W2,\"\")","v":""},{"$f":"IF($B1>=X2,X2,\"\")","v":""},{"$f":"IF($B1>=Y2,Y2,\"\")","v":""},{"$f":"IF($B1>=Z2,Z2,\"\")","v":""},{"$f":"IF($B1>=AA2,AA2,\"\")","v":""},{"$f":"IF($B1>=AB2,AB2,\"\")","v":""},{"$f":"IF($B1>=AC2,AC2,\"\")","v":""},{"$f":"IF($B1>=AD2,AD2,\"\")","v":""},{"$f":"IF($B1>=AE2,AE2,\"\")","v":""},{"$f":"IF($B1>=AF2,AF2,\"\")","v":""},{"$f":"IF($B1>=AG2,AG2,\"\")","v":""},{"$f":"IF($B1>=AH2,AH2,\"\")","v":""},{"$f":"IF($B1>=AI2,AI2,\"\")","v":""},{"$f":"IF($B1>=AJ2,AJ2,\"\")","v":""},{"$f":"IF($B1>=AK2,AK2,\"\")","v":""},{"$f":"IF($B1>=AL2,AL2,\"\")","v":""},{"$f":"IF($B1>=AM2,AM2,\"\")","v":""},{"$f":"IF($B1>=AN2,AN2,\"\")","v":""},{"$f":"IF($B1>=AO2,AO2,\"\")","v":""},{"$f":"IF($B1>=AP2,AP2,\"\")","v":""},{"$f":"IF($B1>=AQ2,AQ2,\"\")","v":""},{"$f":"IF($B1>=AR2,AR2,\"\")","v":""},{"$f":"IF($B1>=AS2,AS2,\"\")","v":""},{"$f":"IF($B1>=AT2,AT2,\"\")","v":""},{"$f":"IF($B1>=AU2,AU2,\"\")","v":""},{"$f":"IF($B1>=AV2,AV2,\"\")","v":""},{"$f":"IF($B1>=AW2,AW2,\"\")","v":""},{"$f":"IF($B1>=AX2,AX2,\"\")","v":""},{"$f":"IF($B1>=AY2,AY2,\"\")","v":""},{"$f":"IF($B1>=AZ2,AZ2,\"\")","v":""},{"$f":"IF($B1>=BA2,BA2,\"\")","v":""},{"$f":"IF($B1>=BB2,BB2,\"\")","v":""},{"$f":"IF($B1>=BC2,BC2,\"\")","v":""},{"$f":"IF($B1>=BD2,BD2,\"\")","v":""},{"$f":"IF($B1>=BE2,BE2,\"\")","v":""},{"$f":"IF($B1>=BF2,BF2,\"\")","v":""},{"$f":"IF($B1>=BG2,BG2,\"\")","v":""},{"$f":"IF($B1>=BH2,BH2,\"\")","v":""},{"$f":"IF($B1>=BI2,BI2,\"\")","v":""},{"$f":"IF($B1>=BJ2,BJ2,\"\")","v":""},{"$f":"IF($B1>=BK2,BK2,\"\")","v":""},{"$f":"IF($B1>=BL2,BL2,\"\")","v":""},{"$f":"IF($B1>=BM2,BM2,\"\")","v":""},{"$f":"IF($B1>=BN2,BN2,\"\")","v":""},{"$f":"IF($B1>=BO2,BO2,\"\")","v":""},{"$f":"IF($B1>=BP2,BP2,\"\")","v":""},{"$f":"IF($B1>=BQ2,BQ2,\"\")","v":""},{"$f":"IF($B1>=BR2,BR2,\"\")","v":""},{"$f":"IF($B1>=BS2,BS2,\"\")","v":""},{"$f":"IF($B1>=BT2,BT2,\"\")","v":""},{"$f":"IF($B1>=BU2,BU2,\"\")","v":""},{"$f":"IF($B1>=BV2,BV2,\"\")","v":""},{"$f":"IF($B1>=BW2,BW2,\"\")","v":""},{"$f":"IF($B1>=BX2,BX2,\"\")","v":""},{"$f":"IF($B1>=BY2,BY2,\"\")","v":""},{"$f":"IF($B1>=BZ2,BZ2,\"\")","v":""},{"$f":"IF($B1>=CA2,CA2,\"\")","v":""},{"$f":"IF($B1>=CB2,CB2,\"\")","v":""}]
[null,"Y",{"$f":"IF(C4=\"\",\"\",$C4)","v":5.9049999999999994},{"$f":"IF(D4=\"\",\"\",$C4)","v":5.9049999999999994},"",{"$f":"IF(F4=\"\",\"\",$C4)","v":""},{"$f":"IF(G4=\"\",\"\",$C4)","v":""},{"$f":"IF(H4=\"\",\"\",$C4)","v":""},{"$f":"IF(I4=\"\",\"\",$C4)","v":""},{"$f":"IF(J4=\"\",\"\",$C4)","v":""},{"$f":"IF(K4=\"\",\"\",$C4)","v":""},{"$f":"IF(L4=\"\",\"\",$C4)","v":""},{"$f":"IF(M4=\"\",\"\",$C4)","v":""},{"$f":"IF(N4=\"\",\"\",$C4)","v":""},{"$f":"IF(O4=\"\",\"\",$C4)","v":""},{"$f":"IF(P4=\"\",\"\",$C4)","v":""},{"$f":"IF(Q4=\"\",\"\",$C4)","v":""},{"$f":"IF(R4=\"\",\"\",$C4)","v":""},{"$f":"IF(S4=\"\",\"\",$C4)","v":""},{"$f":"IF(T4=\"\",\"\",$C4)","v":""},{"$f":"IF(U4=\"\",\"\",$C4)","v":""},{"$f":"IF(V4=\"\",\"\",$C4)","v":""},{"$f":"IF(W4=\"\",\"\",$C4)","v":""},{"$f":"IF(X4=\"\",\"\",$C4)","v":""},{"$f":"IF(Y4=\"\",\"\",$C4)","v":""},{"$f":"IF(Z4=\"\",\"\",$C4)","v":""},{"$f":"IF(AA4=\"\",\"\",$C4)","v":""},{"$f":"IF(AB4=\"\",\"\",$C4)","v":""},{"$f":"IF(AC4=\"\",\"\",$C4)","v":""},{"$f":"IF(AD4=\"\",\"\",$C4)","v":""},{"$f":"IF(AE4=\"\",\"\",$C4)","v":""},{"$f":"IF(AF4=\"\",\"\",$C4)","v":""},{"$f":"IF(AG4=\"\",\"\",$C4)","v":""},{"$f":"IF(AH4=\"\",\"\",$C4)","v":""},{"$f":"IF(AI4=\"\",\"\",$C4)","v":""},{"$f":"IF(AJ4=\"\",\"\",$C4)","v":""},{"$f":"IF(AK4=\"\",\"\",$C4)","v":""},{"$f":"IF(AL4=\"\",\"\",$C4)","v":""},{"$f":"IF(AM4=\"\",\"\",$C4)","v":""},{"$f":"IF(AN4=\"\",\"\",$C4)","v":""},{"$f":"IF(AO4=\"\",\"\",$C4)","v":""},{"$f":"IF(AP4=\"\",\"\",$C4)","v":""},{"$f":"IF(AQ4=\"\",\"\",$C4)","v":""},{"$f":"IF(AR4=\"\",\"\",$C4)","v":""},{"$f":"IF(AS4=\"\",\"\",$C4)","v":""},{"$f":"IF(AT4=\"\",\"\",$C4)","v":""},{"$f":"IF(AU4=\"\",\"\",$C4)","v":""},{"$f":"IF(AV4=\"\",\"\",$C4)","v":""},{"$f":"IF(AW4=\"\",\"\",$C4)","v":""},{"$f":"IF(AX4=\"\",\"\",$C4)","v":""},{"$f":"IF(AY4=\"\",\"\",$C4)","v":""},{"$f":"IF(AZ4=\"\",\"\",$C4)","v":""},{"$f":"IF(BA4=\"\",\"\",$C4)","v":""},{"$f":"IF(BB4=\"\",\"\",$C4)","v":""},{"$f":"IF(BC4=\"\",\"\",$C4)","v":""},{"$f":"IF(BD4=\"\",\"\",$C4)","v":""},{"$f":"IF(BE4=\"\",\"\",$C4)","v":""},{"$f":"IF(BF4=\"\",\"\",$C4)","v":""},{"$f":"IF(BG4=\"\",\"\",$C4)","v":""},{"$f":"IF(BH4=\"\",\"\",$C4)","v":""},{"$f":"IF(BI4=\"\",\"\",$C4)","v":""},{"$f":"IF(BJ4=\"\",\"\",$C4)","v":""},{"$f":"IF(BK4=\"\",\"\",$C4)","v":""},{"$f":"IF(BL4=\"\",\"\",$C4)","v":""},{"$f":"IF(BM4=\"\",\"\",$C4)","v":""},{"$f":"IF(BN4=\"\",\"\",$C4)","v":""},{"$f":"IF(BO4=\"\",\"\",$C4)","v":""},{"$f":"IF(BP4=\"\",\"\",$C4)","v":""},{"$f":"IF(BQ4=\"\",\"\",$C4)","v":""},{"$f":"IF(BR4=\"\",\"\",$C4)","v":""},{"$f":"IF(BS4=\"\",\"\",$C4)","v":""},{"$f":"IF(BT4=\"\",\"\",$C4)","v":""},{"$f":"IF(BU4=\"\",\"\",$C4)","v":""},{"$f":"IF(BV4=\"\",\"\",$C4)","v":""},{"$f":"IF(BW4=\"\",\"\",$C4)","v":""},{"$f":"IF(BX4=\"\",\"\",$C4)","v":""},{"$f":"IF(BY4=\"\",\"\",$C4)","v":""},{"$f":"IF(BZ4=\"\",\"\",$C4)","v":""},{"$f":"IF(CA4=\"\",\"\",$C4)","v":""},{"$f":"IF(CB4=\"\",\"\",$C4)","v":""}]
[null,null,{"$f":"C4","v":5.9049999999999994},{"$f":"IF(D4=\"\",C6,D4)","v":19.094999999999999},19.094999999999999,19.094999999999999,19.094999999999999,19.094999999999999,{"$f":"IF(I4=\"\",H6,I4)","v":19.094999999999999},19.094999999999999,19.094999999999999,19.094999999999999,19.094999999999999,19.094999999999999,19.094999999999999,19.094999999999999,19.094999999999999,19.094999999999999,19.094999999999999,19.094999999999999,19.094999999999999,19.094999999999999,19.094999999999999,19.094999999999999,19.094999999999999,19.094999999999999,19.094999999999999,19.094999999999999,19.094999999999999,19.094999999999999,19.094999999999999,19.094999999999999,19.094999999999999,19.094999999999999,19.094999999999999,19.094999999999999,19.094999999999999,19.094999999999999,19.094999999999999,19.094999999999999,19.094999999999999,19.094999999999999,19.094999999999999,19.094999999999999,19.094999999999999,19.094999999999999,19.094999999999999,19.094999999999999,19.094999999999999,19.094999999999999,19.094999999999999,19.094999999999999,19.094999999999999,19.094999999999999,19.094999999999999,19.094999999999999,19.094999999999999,19.094999999999999,19.094999999999999,19.094999999999999,19.094999999999999,19.094999999999999,19.094999999999999,19.094999999999999,19.094999999999999,19.094999999999999,19.094999999999999,19.094999999999999,19.094999999999999,19.094999999999999,19.094999999999999,19.094999999999999,{"$f":"IF(BU4=\"\",BT6,BU4)","v":19.094999999999999},19.094999999999999,19.094999999999999,19.094999999999999,19.094999999999999,19.094999999999999,19.094999999999999,19.094999999999999]
[null,null,{"$f":"C5","v":5.9049999999999994},5.9049999999999994,5.9049999999999994,5.9049999999999994,5.9049999999999994,5.9049999999999994,{"$f":"IF(I5=\"\",H7,I5)","v":5.9049999999999994},5.9049999999999994,5.9049999999999994,5.9049999999999994,5.9049999999999994,5.9049999999999994,5.9049999999999994,5.9049999999999994,5.9049999999999994,5.9049999999999994,5.9049999999999994,5.9049999999999994,5.9049999999999994,5.9049999999999994,5.9049999999999994,5.9049999999999994,5.9049999999999994,5.9049999999999994,5.9049999999999994,5.9049999999999994,5.9049999999999994,5.9049999999999994,5.9049999999999994,5.9049999999999994,5.9049999999999994,5.9049999999999994,5.9049999999999994,5.9049999999999994,5.9049999999999994,5.9049999999999994,5.9049999999999994,5.9049999999999994,5.9049999999999994,5.9049999999999994,5.9049999999999994,5.9049999999999994,5.9049999999999994,5.9049999999999994,5.9049999999999994,5.9049999999999994,5.9049999999999994,5.9049999999999994,5.9049999999999994,5.9049999999999994,5.9049999999999994,5.9049999999999994,5.9049999999999994,5.9049999999999994,5.9049999999999994,5.9049999999999994,5.9049999999999994,5.9049999999999994,5.9049999999999994,5.9049999999999994,5.9049999999999994,5.9049999999999994,5.9049999999999994,5.9049999999999994,5.9049999999999994,5.9049999999999994,5.9049999999999994,5.9049999999999994,5.9049999999999994,5.9049999999999994,{"$f":"IF(BU5=\"\",BT7,BU5)","v":5.9049999999999994},5.9049999999999994,5.9049999999999994,5.9049999999999994,5.9049999999999994,5.9049999999999994,5.9049999999999994,5.9049999999999994]
[]
[]
[null,"X",{"$f":"C4","v":5.9049999999999994},{"$f":"D4","v":19.094999999999999},{"$f":"E4","v":""},{"$f":"F4","v":""},{"$f":"G4","v":""},"","","","","","","","","","","","","","","","","","","","","","","","","","","","","","","","","","","","","","","","","","","","","","","","","","","","","","","","","","","","","","","",{"$f":"BS4","v":""},"","","","","","","","",""]
[null,"Y",{"$f":"IF(C10=\"\",\"\",MAX($B18:$B95))","v":34.094999999999999},{"$f":"IF(D10=\"\",\"\",MAX($B18:$B95))","v":34.094999999999999},{"$f":"IF(E10=\"\",\"\",MAX($B18:$B95))","v":""},{"$f":"IF(F10=\"\",\"\",MAX($B18:$B95))","v":""},{"$f":"IF(G10=\"\",\"\",MAX($B18:$B95))","v":""},{"$f":"IF(H10=\"\",\"\",MAX($B18:$B95))","v":""},{"$f":"IF(I10=\"\",\"\",MAX($B18:$B95))","v":""},{"$f":"IF(J10=\"\",\"\",MAX($B18:$B95))","v":""},{"$f":"IF(K10=\"\",\"\",MAX($B18:$B95))","v":""},{"$f":"IF(L10=\"\",\"\",MAX($B18:$B95))","v":""},{"$f":"IF(M10=\"\",\"\",MAX($B18:$B95))","v":""},{"$f":"IF(N10=\"\",\"\",MAX($B18:$B95))","v":""},{"$f":"IF(O10=\"\",\"\",MAX($B18:$B95))","v":""},{"$f":"IF(P10=\"\",\"\",MAX($B18:$B95))","v":""},{"$f":"IF(Q10=\"\",\"\",MAX($B18:$B95))","v":""},{"$f":"IF(R10=\"\",\"\",MAX($B18:$B95))","v":""},{"$f":"IF(S10=\"\",\"\",MAX($B18:$B95))","v":""},{"$f":"IF(T10=\"\",\"\",MAX($B18:$B95))","v":""},{"$f":"IF(U10=\"\",\"\",MAX($B18:$B95))","v":""},{"$f":"IF(V10=\"\",\"\",MAX($B18:$B95))","v":""},{"$f":"IF(W10=\"\",\"\",MAX($B18:$B95))","v":""},{"$f":"IF(X10=\"\",\"\",MAX($B18:$B95))","v":""},{"$f":"IF(Y10=\"\",\"\",MAX($B18:$B95))","v":""},{"$f":"IF(Z10=\"\",\"\",MAX($B18:$B95))","v":""},{"$f":"IF(AA10=\"\",\"\",MAX($B18:$B95))","v":""},{"$f":"IF(AB10=\"\",\"\",MAX($B18:$B95))","v":""},{"$f":"IF(AC10=\"\",\"\",MAX($B18:$B95))","v":""},{"$f":"IF(AD10=\"\",\"\",MAX($B18:$B95))","v":""},{"$f":"IF(AE10=\"\",\"\",MAX($B18:$B95))","v":""},{"$f":"IF(AF10=\"\",\"\",MAX($B18:$B95))","v":""},{"$f":"IF(AG10=\"\",\"\",MAX($B18:$B95))","v":""},{"$f":"IF(AH10=\"\",\"\",MAX($B18:$B95))","v":""},{"$f":"IF(AI10=\"\",\"\",MAX($B18:$B95))","v":""},{"$f":"IF(AJ10=\"\",\"\",MAX($B18:$B95))","v":""},{"$f":"IF(AK10=\"\",\"\",MAX($B18:$B95))","v":""},{"$f":"IF(AL10=\"\",\"\",MAX($B18:$B95))","v":""},{"$f":"IF(AM10=\"\",\"\",MAX($B18:$B95))","v":""},{"$f":"IF(AN10=\"\",\"\",MAX($B18:$B95))","v":""},{"$f":"IF(AO10=\"\",\"\",MAX($B18:$B95))","v":""},{"$f":"IF(AP10=\"\",\"\",MAX($B18:$B95))","v":""},{"$f":"IF(AQ10=\"\",\"\",MAX($B18:$B95))","v":""},{"$f":"IF(AR10=\"\",\"\",MAX($B18:$B95))","v":""},{"$f":"IF(AS10=\"\",\"\",MAX($B18:$B95))","v":""},{"$f":"IF(AT10=\"\",\"\",MAX($B18:$B95))","v":""},{"$f":"IF(AU10=\"\",\"\",MAX($B18:$B95))","v":""},{"$f":"IF(AV10=\"\",\"\",MAX($B18:$B95))","v":""},{"$f":"IF(AW10=\"\",\"\",MAX($B18:$B95))","v":""},{"$f":"IF(AX10=\"\",\"\",MAX($B18:$B95))","v":""},{"$f":"IF(AY10=\"\",\"\",MAX($B18:$B95))","v":""},{"$f":"IF(AZ10=\"\",\"\",MAX($B18:$B95))","v":""},{"$f":"IF(BA10=\"\",\"\",MAX($B18:$B95))","v":""},{"$f":"IF(BB10=\"\",\"\",MAX($B18:$B95))","v":""},{"$f":"IF(BC10=\"\",\"\",MAX($B18:$B95))","v":""},{"$f":"IF(BD10=\"\",\"\",MAX($B18:$B95))","v":""},{"$f":"IF(BE10=\"\",\"\",MAX($B18:$B95))","v":""},{"$f":"IF(BF10=\"\",\"\",MAX($B18:$B95))","v":""},{"$f":"IF(BG10=\"\",\"\",MAX($B18:$B95))","v":""},{"$f":"IF(BH10=\"\",\"\",MAX($B18:$B95))","v":""},{"$f":"IF(BI10=\"\",\"\",MAX($B18:$B95))","v":""},{"$f":"IF(BJ10=\"\",\"\",MAX($B18:$B95))","v":""},{"$f":"IF(BK10=\"\",\"\",MAX($B18:$B95))","v":""},{"$f":"IF(BL10=\"\",\"\",MAX($B18:$B95))","v":""},{"$f":"IF(BM10=\"\",\"\",MAX($B18:$B95))","v":""},{"$f":"IF(BN10=\"\",\"\",MAX($B18:$B95))","v":""},{"$f":"IF(BO10=\"\",\"\",MAX($B18:$B95))","v":""},{"$f":"IF(BP10=\"\",\"\",MAX($B18:$B95))","v":""},{"$f":"IF(BQ10=\"\",\"\",MAX($B18:$B95))","v":""},{"$f":"IF(BR10=\"\",\"\",MAX($B18:$B95))","v":""},{"$f":"IF(BS10=\"\",\"\",MAX($B18:$B95))","v":""},{"$f":"IF(BT10=\"\",\"\",MAX($B18:$B95))","v":""},{"$f":"IF(BU10=\"\",\"\",MAX($B18:$B95))","v":""},{"$f":"IF(BV10=\"\",\"\",MAX($B18:$B95))","v":""},{"$f":"IF(BW10=\"\",\"\",MAX($B18:$B95))","v":""},{"$f":"IF(BX10=\"\",\"\",MAX($B18:$B95))","v":""},{"$f":"IF(BY10=\"\",\"\",MAX($B18:$B95))","v":""},{"$f":"IF(BZ10=\"\",\"\",MAX($B18:$B95))","v":""},{"$f":"IF(CA10=\"\",\"\",MAX($B18:$B95))","v":""},{"$f":"IF(CB10=\"\",\"\",MAX($B18:$B95))","v":""}]
[null,null,{"$f":"C10","v":5.9049999999999994},{"$f":"IF(D10=\"\",C12,D10)","v":19.094999999999999},19.094999999999999,19.094999999999999,19.094999999999999,19.094999999999999,{"$f":"IF(I10=\"\",H12,I10)","v":19.094999999999999},19.094999999999999,19.094999999999999,19.094999999999999,19.094999999999999,19.094999999999999,19.094999999999999,19.094999999999999,19.094999999999999,19.094999999999999,19.094999999999999,19.094999999999999,19.094999999999999,19.094999999999999,19.094999999999999,19.094999999999999,19.094999999999999,19.094999999999999,19.094999999999999,19.094999999999999,19.094999999999999,19.094999999999999,19.094999999999999,19.094999999999999,19.094999999999999,19.094999999999999,19.094999999999999,19.094999999999999,19.094999999999999,19.094999999999999,19.094999999999999,19.094999999999999,19.094999999999999,19.094999999999999,19.094999999999999,19.094999999999999,19.094999999999999,19.094999999999999,19.094999999999999,19.094999999999999,19.094999999999999,19.094999999999999,19.094999999999999,19.094999999999999,19.094999999999999,19.094999999999999,19.094999999999999,19.094999999999999,19.094999999999999,19.094999999999999,19.094999999999999,19.094999999999999,19.094999999999999,19.094999999999999,19.094999999999999,19.094999999999999,19.094999999999999,19.094999999999999,19.094999999999999,19.094999999999999,19.094999999999999,19.094999999999999,19.094999999999999,19.094999999999999,{"$f":"IF(BU10=\"\",BT12,BU10)","v":19.094999999999999},19.094999999999999,19.094999999999999,19.094999999999999,19.094999999999999,19.094999999999999,19.094999999999999,19.094999999999999]
[null,null,{"$f":"C11","v":34.094999999999999},34.094999999999999,34.094999999999999,34.094999999999999,34.094999999999999,34.094999999999999,{"$f":"IF(I11=\"\",H13,I11)","v":34.094999999999999},34.094999999999999,34.094999999999999,34.094999999999999,34.094999999999999,34.094999999999999,34.094999999999999,34.094999999999999,34.094999999999999,34.094999999999999,34.094999999999999,34.094999999999999,34.094999999999999,34.094999999999999,34.094999999999999,34.094999999999999,34.094999999999999,34.094999999999999,34.094999999999999,34.094999999999999,34.094999999999999,34.094999999999999,34.094999999999999,34.094999999999999,34.094999999999999,34.094999999999999,34.094999999999999,34.094999999999999,34.094999999999999,34.094999999999999,34.094999999999999,34.094999999999999,34.094999999999999,34.094999999999999,34.094999999999999,34.094999999999999,34.094999999999999,34.094999999999999,34.094999999999999,34.094999999999999,34.094999999999999,34.094999999999999,34.094999999999999,34.094999999999999,34.094999999999999,34.094999999999999,34.094999999999999,34.094999999999999,34.094999999999999,34.094999999999999,34.094999999999999,34.094999999999999,34.094999999999999,34.094999999999999,34.094999999999999,34.094999999999999,34.094999999999999,34.094999999999999,34.094999999999999,34.094999999999999,34.094999999999999,34.094999999999999,34.094999999999999,34.094999999999999,{"$f":"IF(BU11=\"\",BT13,BU11)","v":34.094999999999999},34.094999999999999,34.094999999999999,34.094999999999999,34.094999999999999,34.094999999999999,34.094999999999999,34.094999999999999]
[]
[]
[null,null,1,2,3,4,5,6,7,8,9,10,11,12,13,14,15,16,17,18,19,20,21,22,23,24,25,26,27,28,29,30,31,32,33,34,35,36,37,38,39,40]
[null,"Y","X",null,null,null,"Y","X"]
[null,{"$f":"IF(Hoja1!G4=0,\"\",Hoja1!G4)","v":5.9049999999999994},{"$f":"IF(B18=\"\",\"\",Hoja1!C$5)","v":5.9049999999999994},{"$f":"B18","v":5.9049999999999994},{"$f":"C18","v":5.9049999999999994},null,{"$f":"B18","v":5.9049999999999994},{"$f":"IF(G18=\"\",\"\",MAX(C$4:AP$4))","v":19.094999999999999},{"$f":"G18","v":5.9049999999999994},{"$f":"H18","v":19.094999999999999}]
[null,{"$f":"IF(Hoja1!G5=0,\"\",Hoja1!G5)","v":20},{"$f":"IF(B19=\"\",\"\",Hoja1!C$5)","v":5.9049999999999994},{"$f":"IF(B19=\"\",D18,B19)","v":20},{"$f":"IF(C19=\"\",E18,C19)","v":5.9049999999999994},null,20,19.094999999999999,{"$f":"IF(G19=\"\",I18,G19)","v":20},{"$f":"IF(H19=\"\",J18,H19)","v":19.094999999999999}]
[null,{"$f":"IF(Hoja1!G6=0,\"\",Hoja1!G6)","v":34.094999999999999},{"$f":"IF(B20=\"\",\"\",Hoja1!C$5)","v":5.9049999999999994},{"$f":"IF(B20=\"\",D19,B20)","v":34.094999999999999},5.9049999999999994,null,34.094999999999999,19.094999999999999,{"$f":"IF(G20=\"\",I19,G20)","v":34.094999999999999},{"$f":"IF(H20=\"\",J19,H20)","v":19.094999999999999}]
[null,{"$f":"IF(Hoja1!G7=0,\"\",Hoja1!G7)","v":""},{"$f":"IF(B21=\"\",\"\",Hoja1!C$5)","v":""},34.094999999999999,5.9049999999999994,null,"","",34.094999999999999,19.094999999999999]
[null,{"$f":"IF(Hoja1!G8=0,\"\",Hoja1!G8)","v":""},{"$f":"IF(B22=\"\",\"\",Hoja1!C$5)","v":""},34.094999999999999,5.9049999999999994,null,"","",34.094999999999999,19.094999999999999]
[null,{"$f":"IF(Hoja1!G9=0,\"\",Hoja1!G9)","v":""},{"$f":"IF(B23=\"\",\"\",Hoja1!C$5)","v":""},34.094999999999999,5.9049999999999994,null,"","",34.094999999999999,19.094999999999999]
[null,{"$f":"IF(Hoja1!G10=0,\"\",Hoja1!G10)","v":""},{"$f":"IF(B24=\"\",\"\",Hoja1!C$5)","v":""},34.094999999999999,5.9049999999999994,null,"","",34.094999999999999,19.094999999999999]
[null,{"$f":"IF(Hoja1!G11=0,\"\",Hoja1!G11)","v":""},{"$f":"IF(B25=\"\",\"\",Hoja1!C$5)","v":""},34.094999999999999,5.9049999999999994,null,"","",34.094999999999999,19.094999999999999]
[null,{"$f":"IF(Hoja1!G12=0,\"\",Hoja1!G12)","v":""},{"$f":"IF(B26=\"\",\"\",Hoja1!C$5)","v":""},34.094999999999999,5.9049999999999994,null,"","",34.094999999999999,19.094999999999999]
[null,{"$f":"IF(Hoja1!G13=0,\"\",Hoja1!G13)","v":""},{"$f":"IF(B27=\"\",\"\",Hoja1!C$5)","v":""},34.094999999999999,5.9049999999999994,null,"","",34.094999999999999,19.094999999999999]
[null,{"$f":"IF(Hoja1!G14=0,\"\",Hoja1!G14)","v":""},{"$f":"IF(B28=\"\",\"\",Hoja1!C$5)","v":""},34.094999999999999,5.9049999999999994,null,"","",34.094999999999999,19.094999999999999]
[null,{"$f":"IF(Hoja1!G15=0,\"\",Hoja1!G15)","v":""},{"$f":"IF(B29=\"\",\"\",Hoja1!C$5)","v":""},34.094999999999999,5.9049999999999994,null,"","",34.094999999999999,19.094999999999999]
[null,{"$f":"IF(Hoja1!G16=0,\"\",Hoja1!G16)","v":""},{"$f":"IF(B30=\"\",\"\",Hoja1!C$5)","v":""},34.094999999999999,5.9049999999999994,null,"","",34.094999999999999,19.094999999999999]
[null,{"$f":"IF(Hoja1!G17=0,\"\",Hoja1!G17)","v":""},{"$f":"IF(B31=\"\",\"\",Hoja1!C$5)","v":""},34.094999999999999,5.9049999999999994,null,"","",34.094999999999999,19.094999999999999]
[null,{"$f":"IF(Hoja1!G18=0,\"\",Hoja1!G18)","v":""},{"$f":"IF(B32=\"\",\"\",Hoja1!C$5)","v":""},34.094999999999999,5.9049999999999994,null,"","",34.094999999999999,19.094999999999999]
[null,{"$f":"IF(Hoja1!G19=0,\"\",Hoja1!G19)","v":""},{"$f":"IF(B33=\"\",\"\",Hoja1!C$5)","v":""},34.094999999999999,5.9049999999999994,null,"","",34.094999999999999,19.094999999999999]
[null,{"$f":"IF(Hoja1!G20=0,\"\",Hoja1!G20)","v":""},{"$f":"IF(B34=\"\",\"\",Hoja1!C$5)","v":""},34.094999999999999,5.9049999999999994,null,"","",34.094999999999999,19.094999999999999]
[null,{"$f":"IF(Hoja1!G21=0,\"\",Hoja1!G21)","v":""},{"$f":"IF(B35=\"\",\"\",Hoja1!C$5)","v":""},34.094999999999999,5.9049999999999994,null,"","",34.094999999999999,19.094999999999999]
[null,{"$f":"IF(Hoja1!G22=0,\"\",Hoja1!G22)","v":""},{"$f":"IF(B36=\"\",\"\",Hoja1!C$5)","v":""},34.094999999999999,5.9049999999999994,null,"","",34.094999999999999,19.094999999999999]
[null,{"$f":"IF(Hoja1!G23=0,\"\",Hoja1!G23)","v":""},{"$f":"IF(B37=\"\",\"\",Hoja1!C$5)","v":""},34.094999999999999,5.9049999999999994,null,"","",34.094999999999999,19.094999999999999]
[null,{"$f":"IF(Hoja1!G24=0,\"\",Hoja1!G24)","v":""},{"$f":"IF(B38=\"\",\"\",Hoja1!C$5)","v":""},34.094999999999999,5.9049999999999994,null,"","",34.094999999999999,19.094999999999999]
[null,{"$f":"IF(Hoja1!G25=0,\"\",Hoja1!G25)","v":""},{"$f":"IF(B39=\"\",\"\",Hoja1!C$5)","v":""},34.094999999999999,5.9049999999999994,null,"","",34.094999999999999,19.094999999999999]
[null,{"$f":"IF(Hoja1!G26=0,\"\",Hoja1!G26)","v":""},{"$f":"IF(B40=\"\",\"\",Hoja1!C$5)","v":""},34.094999999999999,5.9049999999999994,null,"","",34.094999999999999,19.094999999999999]
[null,{"$f":"IF(Hoja1!G27=0,\"\",Hoja1!G27)","v":""},{"$f":"IF(B41=\"\",\"\",Hoja1!C$5)","v":""},34.094999999999999,5.9049999999999994,null,"","",34.094999999999999,19.094999999999999]
[null,{"$f":"IF(Hoja1!G28=0,\"\",Hoja1!G28)","v":""},{"$f":"IF(B42=\"\",\"\",Hoja1!C$5)","v":""},34.094999999999999,5.9049999999999994,null,"","",34.094999999999999,19.094999999999999]
[null,{"$f":"IF(Hoja1!G29=0,\"\",Hoja1!G29)","v":""},{"$f":"IF(B43=\"\",\"\",Hoja1!C$5)","v":""},34.094999999999999,5.9049999999999994,null,"","",34.094999999999999,19.094999999999999]
[null,{"$f":"IF(Hoja1!G30=0,\"\",Hoja1!G30)","v":""},{"$f":"IF(B44=\"\",\"\",Hoja1!C$5)","v":""},34.094999999999999,5.9049999999999994,null,"","",34.094999999999999,19.094999999999999]
[null,{"$f":"IF(Hoja1!G31=0,\"\",Hoja1!G31)","v":""},{"$f":"IF(B45=\"\",\"\",Hoja1!C$5)","v":""},34.094999999999999,5.9049999999999994,null,"","",34.094999999999999,19.094999999999999]
[null,{"$f":"IF(Hoja1!G32=0,\"\",Hoja1!G32)","v":""},{"$f":"IF(B46=\"\",\"\",Hoja1!C$5)","v":""},34.094999999999999,5.9049999999999994,null,"","",34.094999999999999,19.094999999999999]
[null,{"$f":"IF(Hoja1!G33=0,\"\",Hoja1!G33)","v":""},{"$f":"IF(B47=\"\",\"\",Hoja1!C$5)","v":""},34.094999999999999,5.9049999999999994,null,"","",34.094999999999999,19.094999999999999]
[null,{"$f":"IF(Hoja1!G34=0,\"\",Hoja1!G34)","v":""},{"$f":"IF(B48=\"\",\"\",Hoja1!C$5)","v":""},34.094999999999999,5.9049999999999994,null,"","",34.094999999999999,19.094999999999999]
[null,{"$f":"IF(Hoja1!G35=0,\"\",Hoja1!G35)","v":""},{"$f":"IF(B49=\"\",\"\",Hoja1!C$5)","v":""},34.094999999999999,5.9049999999999994,null,"","",34.094999999999999,19.094999999999999]
[null,{"$f":"IF(Hoja1!G36=0,\"\",Hoja1!G36)","v":""},{"$f":"IF(B50=\"\",\"\",Hoja1!C$5)","v":""},34.094999999999999,5.9049999999999994,null,{"$f":"B50","v":""},{"$f":"IF(G50=\"\",\"\",MAX(C$4:AP$4))","v":""},34.094999999999999,19.094999999999999]
[null,{"$f":"IF(Hoja1!G37=0,\"\",Hoja1!G37)","v":""},{"$f":"IF(B51=\"\",\"\",Hoja1!C$5)","v":""},34.094999999999999,5.9049999999999994,null,"","",34.094999999999999,19.094999999999999]
[null,{"$f":"IF(Hoja1!G38=0,\"\",Hoja1!G38)","v":""},{"$f":"IF(B52=\"\",\"\",Hoja1!C$5)","v":""},34.094999999999999,5.9049999999999994,null,"","",34.094999999999999,19.094999999999999]
[null,{"$f":"IF(Hoja1!G39=0,\"\",Hoja1!G39)","v":""},{"$f":"IF(B53=\"\",\"\",Hoja1!C$5)","v":""},34.094999999999999,5.9049999999999994,null,"","",34.094999999999999,19.094999999999999]
[null,{"$f":"IF(Hoja1!G40=0,\"\",Hoja1!G40)","v":""},{"$f":"IF(B54=\"\",\"\",Hoja1!C$5)","v":""},34.094999999999999,5.9049999999999994,null,"","",34.094999999999999,19.094999999999999]
[null,{"$f":"IF(Hoja1!G41=0,\"\",Hoja1!G41)","v":""},{"$f":"IF(B55=\"\",\"\",Hoja1!C$5)","v":""},34.094999999999999,5.9049999999999994,null,"","",34.094999999999999,19.094999999999999]
[null,{"$f":"IF(Hoja1!G42=0,\"\",Hoja1!G42)","v":""},{"$f":"IF(B56=\"\",\"\",Hoja1!C$5)","v":""},34.094999999999999,5.9049999999999994,null,"","",34.094999999999999,19.094999999999999]
[null,{"$f":"IF(Hoja1!G43=0,\"\",Hoja1!G43)","v":""},{"$f":"IF(B57=\"\",\"\",Hoja1!C$5)","v":""},34.094999999999999,5.9049999999999994,null,"","",34.094999999999999,19.094999999999999]
[null,{"$f":"IF(Hoja1!G44=0,\"\",Hoja1!G44)","v":""},{"$f":"IF(B58=\"\",\"\",Hoja1!C$5)","v":""},34.094999999999999,5.9049999999999994,null,"","",34.094999999999999,19.094999999999999]
[null,{"$f":"IF(Hoja1!G45=0,\"\",Hoja1!G45)","v":""},{"$f":"IF(B59=\"\",\"\",Hoja1!C$5)","v":""},34.094999999999999,5.9049999999999994,null,"","",34.094999999999999,19.094999999999999]
[null,{"$f":"IF(Hoja1!G46=0,\"\",Hoja1!G46)","v":""},{"$f":"IF(B60=\"\",\"\",Hoja1!C$5)","v":""},34.094999999999999,5.9049999999999994,null,"","",34.094999999999999,19.094999999999999]
[null,{"$f":"IF(Hoja1!G47=0,\"\",Hoja1!G47)","v":""},{"$f":"IF(B61=\"\",\"\",Hoja1!C$5)","v":""},34.094999999999999,5.9049999999999994,null,"","",34.094999999999999,19.094999999999999]
[null,{"$f":"IF(Hoja1!G48=0,\"\",Hoja1!G48)","v":""},{"$f":"IF(B62=\"\",\"\",Hoja1!C$5)","v":""},34.094999999999999,5.9049999999999994,null,"","",34.094999999999999,19.094999999999999]
[null,{"$f":"IF(Hoja1!G49=0,\"\",Hoja1!G49)","v":""},{"$f":"IF(B63=\"\",\"\",Hoja1!C$5)","v":""},34.094999999999999,5.9049999999999994,null,"","",34.094999999999999,19.094999999999999]
[null,{"$f":"IF(Hoja1!G50=0,\"\",Hoja1!G50)","v":""},{"$f":"IF(B64=\"\",\"\",Hoja1!C$5)","v":""},34.094999999999999,5.9049999999999994,null,"","",34.094999999999999,19.094999999999999]
[null,{"$f":"IF(Hoja1!G51=0,\"\",Hoja1!G51)","v":""},{"$f":"IF(B65=\"\",\"\",Hoja1!C$5)","v":""},34.094999999999999,5.9049999999999994,null,"","",34.094999999999999,19.094999999999999]
[null,{"$f":"IF(Hoja1!G52=0,\"\",Hoja1!G52)","v":""},{"$f":"IF(B66=\"\",\"\",Hoja1!C$5)","v":""},34.094999999999999,5.9049999999999994,null,"","",34.094999999999999,19.094999999999999]
[null,{"$f":"IF(Hoja1!G53=0,\"\",Hoja1!G53)","v":""},{"$f":"IF(B67=\"\",\"\",Hoja1!C$5)","v":""},34.094999999999999,5.9049999999999994,null,"","",34.094999999999999,19.094999999999999]
[null,{"$f":"IF(Hoja1!G54=0,\"\",Hoja1!G54)","v":""},{"$f":"IF(B68=\"\",\"\",Hoja1!C$5)","v":""},34.094999999999999,5.9049999999999994,null,"","",34.094999999999999,19.094999999999999]
[null,{"$f":"IF(Hoja1!G55=0,\"\",Hoja1!G55)","v":""},{"$f":"IF(B69=\"\",\"\",Hoja1!C$5)","v":""},34.094999999999999,5.9049999999999994,null,"","",34.094999999999999,19.094999999999999]
[null,{"$f":"IF(Hoja1!G56=0,\"\",Hoja1!G56)","v":""},{"$f":"IF(B70=\"\",\"\",Hoja1!C$5)","v":""},34.094999999999999,5.9049999999999994,null,"","",34.094999999999999,19.094999999999999]
[null,{"$f":"IF(Hoja1!G57=0,\"\",Hoja1!G57)","v":""},{"$f":"IF(B71=\"\",\"\",Hoja1!C$5)","v":""},34.094999999999999,5.9049999999999994,null,"","",34.094999999999999,19.094999999999999]
[null,{"$f":"IF(Hoja1!G58=0,\"\",Hoja1!G58)","v":""},{"$f":"IF(B72=\"\",\"\",Hoja1!C$5)","v":""},34.094999999999999,5.9049999999999994,null,"","",34.094999999999999,19.094999999999999]
[null,{"$f":"IF(Hoja1!G59=0,\"\",Hoja1!G59)","v":""},{"$f":"IF(B73=\"\",\"\",Hoja1!C$5)","v":""},34.094999999999999,5.9049999999999994,null,"","",34.094999999999999,19.094999999999999]
[null,{"$f":"IF(Hoja1!G60=0,\"\",Hoja1!G60)","v":""},{"$f":"IF(B74=\"\",\"\",Hoja1!C$5)","v":""},34.094999999999999,5.9049999999999994,null,"","",34.094999999999999,19.094999999999999]
[null,{"$f":"IF(Hoja1!G61=0,\"\",Hoja1!G61)","v":""},{"$f":"IF(B75=\"\",\"\",Hoja1!C$5)","v":""},34.094999999999999,5.9049999999999994,null,"","",34.094999999999999,19.094999999999999]
[null,{"$f":"IF(Hoja1!G62=0,\"\",Hoja1!G62)","v":""},{"$f":"IF(B76=\"\",\"\",Hoja1!C$5)","v":""},34.094999999999999,5.9049999999999994,null,"","",34.094999999999999,19.094999999999999]
[null,{"$f":"IF(Hoja1!G63=0,\"\",Hoja1!G63)","v":""},{"$f":"IF(B77=\"\",\"\",Hoja1!C$5)","v":""},34.094999999999999,5.9049999999999994,null,"","",34.094999999999999,19.094999999999999]
[null,{"$f":"IF(Hoja1!G64=0,\"\",Hoja1!G64)","v":""},{"$f":"IF(B78=\"\",\"\",Hoja1!C$5)","v":""},34.094999999999999,5.9049999999999994,null,"","",34.094999999999999,19.094999999999999]
[null,{"$f":"IF(Hoja1!G65=0,\"\",Hoja1!G65)","v":""},{"$f":"IF(B79=\"\",\"\",Hoja1!C$5)","v":""},34.094999999999999,5.9049999999999994,null,"","",34.094999999999999,19.094999999999999]
[null,{"$f":"IF(Hoja1!G66=0,\"\",Hoja1!G66)","v":""},{"$f":"IF(B80=\"\",\"\",Hoja1!C$5)","v":""},34.094999999999999,5.9049999999999994,null,"","",34.094999999999999,19.094999999999999]
[null,{"$f":"IF(Hoja1!G67=0,\"\",Hoja1!G67)","v":""},{"$f":"IF(B81=\"\",\"\",Hoja1!C$5)","v":""},34.094999999999999,5.9049999999999994,null,"","",34.094999999999999,19.094999999999999]
[null,{"$f":"IF(Hoja1!G68=0,\"\",Hoja1!G68)","v":""},{"$f":"IF(B82=\"\",\"\",Hoja1!C$5)","v":""},34.094999999999999,5.9049999999999994,null,{"$f":"B82","v":""},{"$f":"IF(G82=\"\",\"\",MAX(C$4:AP$4))","v":""},34.094999999999999,19.094999999999999]
[null,{"$f":"IF(Hoja1!G69=0,\"\",Hoja1!G69)","v":""},{"$f":"IF(B83=\"\",\"\",Hoja1!C$5)","v":""},34.094999999999999,5.9049999999999994,null,"","",34.094999999999999,19.094999999999999]
[null,{"$f":"IF(Hoja1!G70=0,\"\",Hoja1!G70)","v":""},{"$f":"IF(B84=\"\",\"\",Hoja1!C$5)","v":""},{"$f":"IF(B84=\"\",D83,B84)","v":34.094999999999999},5.9049999999999994,null,"","",{"$f":"IF(G84=\"\",I83,G84)","v":34.094999999999999},{"$f":"IF(H84=\"\",J83,H84)","v":19.094999999999999}]
[null,{"$f":"IF(Hoja1!G71=0,\"\",Hoja1!G71)","v":""},{"$f":"IF(B85=\"\",\"\",Hoja1!C$5)","v":""},34.094999999999999,5.9049999999999994,null,"","",34.094999999999999,19.094999999999999]
[null,{"$f":"IF(Hoja1!G72=0,\"\",Hoja1!G72)","v":""},{"$f":"IF(B86=\"\",\"\",Hoja1!C$5)","v":""},34.094999999999999,5.9049999999999994,null,"","",34.094999999999999,19.094999999999999]
[null,{"$f":"IF(Hoja1!G73=0,\"\",Hoja1!G73)","v":""},{"$f":"IF(B87=\"\",\"\",Hoja1!C$5)","v":""},34.094999999999999,5.9049999999999994,null,"","",34.094999999999999,19.094999999999999]
[null,{"$f":"IF(Hoja1!G74=0,\"\",Hoja1!G74)","v":""},{"$f":"IF(B88=\"\",\"\",Hoja1!C$5)","v":""},34.094999999999999,5.9049999999999994,null,"","",34.094999999999999,19.094999999999999]
[null,{"$f":"IF(Hoja1!G75=0,\"\",Hoja1!G75)","v":""},{"$f":"IF(B89=\"\",\"\",Hoja1!C$5)","v":""},34.094999999999999,5.9049999999999994,null,"","",34.094999999999999,19.094999999999999]
[null,{"$f":"IF(Hoja1!G76=0,\"\",Hoja1!G76)","v":""},{"$f":"IF(B90=\"\",\"\",Hoja1!C$5)","v":""},34.094999999999999,5.9049999999999994,null,"","",34.094999999999999,19.094999999999999]
[null,{"$f":"IF(Hoja1!G77=0,\"\",Hoja1!G77)","v":""},{"$f":"IF(B91=\"\",\"\",Hoja1!C$5)","v":""},34.094999999999999,5.9049999999999994,null,"","",34.094999999999999,19.094999999999999]
[null,{"$f":"IF(Hoja1!G78=0,\"\",Hoja1!G78)","v":""},{"$f":"IF(B92=\"\",\"\",Hoja1!C$5)","v":""},34.094999999999999,5.9049999999999994,null,"","",34.094999999999999,19.094999999999999]
[null,{"$f":"IF(Hoja1!G79=0,\"\",Hoja1!G79)","v":""},{"$f":"IF(B93=\"\",\"\",Hoja1!C$5)","v":""},34.094999999999999,5.9049999999999994,null,"","",34.094999999999999,19.094999999999999]
[null,{"$f":"IF(Hoja1!G80=0,\"\",Hoja1!G80)","v":""},{"$f":"IF(B94=\"\",\"\",Hoja1!C$5)","v":""},34.094999999999999,5.9049999999999994,null,"","",34.094999999999999,19.094999999999999]
[null,{"$f":"IF(Hoja1!G81=0,\"\",Hoja1!G81)","v":""},{"$f":"IF(B95=\"\",\"\",Hoja1!C$5)","v":""},34.094999999999999,5.9049999999999994,null,"","",34.094999999999999,19.094999999999999]
[null,"alto"]

{"sheet":"OTRA DIRECCIÓN","index":5,"n_rows":415,"n_cols":125,"rows_kept":415,"cut":false,"hidden":true,"merged":[]}
[null,null,null,null,null,null,"c",{"$f":"C5/3","v":1.968333333333333},{"$f":"H1+1","v":2.9683333333333328},{"$f":"I1+1","v":3.9683333333333328},4.9683333333333328,5.9683333333333328,6.9683333333333328,7.9683333333333328,8.9683333333333337,9.9683333333333337,10.968333333333334,11.968333333333334,12.968333333333334,13.968333333333334,14.968333333333334,15.968333333333334,16.968333333333334,17.968333333333334,18.968333333333334,19.968333333333334,20.968333333333334,21.968333333333334,22.968333333333334,23.968333333333334,24.968333333333334,25.968333333333334,26.968333333333334,27.968333333333334,28.968333333333334,29.968333333333334,30.968333333333334,31.968333333333334,32.968333333333334,33.968333333333334,34.968333333333334,35.968333333333334,36.968333333333334,37.968333333333334,38.968333333333334,39.968333333333334,40.968333333333334,41.968333333333334,42.968333333333334,43.968333333333334,44.968333333333334,45.968333333333334,46.968333333333334,47.968333333333334,48.968333333333334,49.968333333333334,50.968333333333334,51.968333333333334,52.968333333333334,53.968333333333334,54.968333333333334,55.968333333333334,56.968333333333334,57.968333333333334,58.968333333333334,59.968333333333334,60.968333333333334,61.968333333333334,62.968333333333334,63.968333333333334,64.968333333333334,65.968333333333334,66.968333333333334,{"$f":"BU1+1","v":67.968333333333334},68.968333333333334,69.968333333333334,70.968333333333334,71.968333333333334,72.968333333333334,73.968333333333334,74.968333333333334,75.968333333333334,76.968333333333334,77.968333333333334,78.968333333333334,79.968333333333334,80.968333333333334,81.968333333333334,82.968333333333334,83.968333333333334,84.968333333333334,85.968333333333334,86.968333333333334,87.968333333333334,88.968333333333334,89.968333333333334,90.968333333333334,91.968333333333334,92.968333333333334,93.968333333333334,94.968333333333334,95.968333333333334,96.968333333333334,97.968333333333334,98.968333333333334,99.968333333333334,100.96833333333333,101.96833333333333,102.96833333333333,103.96833333333333,104.96833333333333,105.96833333333333,106.96833333333333,107.96833333333333,108.96833333333333,109.96833333333333,110.96833333333333]
[]
[null,null,null,null,null,"CUBICACIÓN DEL ACERO",null,"fs"]
[null,null,null,null,null,{"$f":"C5","v":5.9049999999999994},{"$f":"IF(E$10>=F4,F4,0)","v":5.9049999999999994},{"$f":"IF(H$1>$E$11,0,IF($G4=0,0,(H$1-$G4)*Hoja1!$A$1/H$1))","v":-12000.000000000002},{"$f":"IF(I$1>$E$11,0,IF($G4=0,0,(I$1-$G4)*Hoja1!$A$1/I$1))","v":-5935.9910162829883},{"$f":"IF(J$1>$E$11,0,IF($G4=0,0,(J$1-$G4)*Hoja1!$A$1/J$1))","v":-2928.1814363712729},{"$f":"IF(K$1>$E$11,0,IF($G4=0,0,(K$1-$G4)*Hoja1!$A$1/K$1))","v":-1131.1640389131164},{"$f":"IF(L$1>$E$11,0,IF($G4=0,0,(L$1-$G4)*Hoja1!$A$1/L$1))","v":63.669366098855207},{"$f":"IF(M$1>$E$11,0,IF($G4=0,0,(M$1-$G4)*Hoja1!$A$1/M$1))","v":915.57043769433164},{"$f":"IF(N$1>$E$11,0,IF($G4=0,0,(N$1-$G4)*Hoja1!$A$1/N$1))","v":1553.6498640451789},{"$f":"IF(O$1>$E$11,0,IF($G4=0,0,(O$1-$G4)*Hoja1!$A$1/O$1))","v":2049.4331908567187},{"$f":"IF(P$1>$E$11,0,IF($G4=0,0,(P$1-$G4)*Hoja1!$A$1/P$1))","v":2445.7448587192785},{"$f":"IF(Q$1>$E$11,0,IF($G4=0,0,(Q$1-$G4)*Hoja1!$A$1/Q$1))","v":2769.791824950616},{"$f":"IF(R$1>$E$11,0,IF($G4=0,0,(R$1-$G4)*Hoja1!$A$1/R$1))","v":3039.6880657290076},{"$f":"IF(S$1>$E$11,0,IF($G4=0,0,(S$1-$G4)*Hoja1!$A$1/S$1))","v":3267.9604163989211},{"$f":"IF(T$1>$E$11,0,IF($G4=0,0,(T$1-$G4)*Hoja1!$A$1/T$1))","v":3463.5485025653265},{"$f":"IF(U$1>$E$11,0,IF($G4=0,0,(U$1-$G4)*Hoja1!$A$1/U$1))","v":3633.0030063467325},{"$f":"IF(V$1>$E$11,0,IF($G4=0,0,(V$1-$G4)*Hoja1!$A$1/V$1))","v":3781.2336916814534},{"$f":"IF(W$1>$E$11,0,IF($G4=0,0,(W$1-$G4)*Hoja1!$A$1/W$1))","v":3911.9929280031429},{"$f":"IF(X$1>$E$11,0,IF($G4=0,0,(X$1-$G4)*Hoja1!$A$1/X$1))","v":4028.1977553102679},{"$f":"IF(Y$1>$E$11,0,IF($G4=0,0,(Y$1-$G4)*Hoja1!$A$1/Y$1))","v":4132.1500746858801},{"$f":"IF(Z$1>$E$11,0,IF($G4=0,0,(Z$1-$G4)*Hoja1!$A$1/Z$1))","v":4225.6906769050993},{"$f":"IF(AA$1>$E$11,0,IF($G4=0,0,(AA$1-$G4)*Hoja1!$A$1/AA$1))","v":4310.309196407281},{"$f":"IF(AB$1>$E$11,0,IF($G4=0,0,(AB$1-$G4)*Hoja1!$A$1/AB$1))","v":4387.2240345952505},{"$f":"IF(AC$1>$E$11,0,IF($G4=0,0,(AC$1-$G4)*Hoja1!$A$1/AC$1))","v":4457.4414048327408},{"$f":"IF(AD$1>$E$11,0,IF($G4=0,0,(AD$1-$G4)*Hoja1!$A$1/AD$1))","v":4521.7995966900771},{"$f":"IF(AE$1>$E$11,0,IF($G4=0,0,(AE$1-$G4)*Hoja1!$A$1/AE$1))","v":4581.0026032975102},{"$f":"IF(AF$1>$E$11,0,IF($G4=0,0,(AF$1-$G4)*Hoja1!$A$1/AF$1))","v":0},{"$f":"IF(AG$1>$E$11,0,IF($G4=0,0,(AG$1-$G4)*Hoja1!$A$1/AG$1))","v":0},{"$f":"IF(AH$1>$E$11,0,IF($G4=0,0,(AH$1-$G4)*Hoja1!$A$1/AH$1))","v":0},{"$f":"IF(AI$1>$E$11,0,IF($G4=0,0,(AI$1-$G4)*Hoja1!$A$1/AI$1))","v":0},{"$f":"IF(AJ$1>$E$11,0,IF($G4=0,0,(AJ$1-$G4)*Hoja1!$A$1/AJ$1))","v":0},{"$f":"IF(AK$1>$E$11,0,IF($G4=0,0,(AK$1-$G4)*Hoja1!$A$1/AK$1))","v":0},{"$f":"IF(AL$1>$E$11,0,IF($G4=0,0,(AL$1-$G4)*Hoja1!$A$1/AL$1))","v":0},{"$f":"IF(AM$1>$E$11,0,IF($G4=0,0,(AM$1-$G4)*Hoja1!$A$1/AM$1))","v":0},{"$f":"IF(AN$1>$E$11,0,IF($G4=0,0,(AN$1-$G4)*Hoja1!$A$1/AN$1))","v":0},{"$f":"IF(AO$1>$E$11,0,IF($G4=0,0,(AO$1-$G4)*Hoja1!$A$1/AO$1))","v":0},{"$f":"IF(AP$1>$E$11,0,IF($G4=0,0,(AP$1-$G4)*Hoja1!$A$1/AP$1))","v":0},{"$f":"IF(AQ$1>$E$11,0,IF($G4=0,0,(AQ$1-$G4)*Hoja1!$A$1/AQ$1))","v":0},{"$f":"IF(AR$1>$E$11,0,IF($G4=0,0,(AR$1-$G4)*Hoja1!$A$1/AR$1))","v":0},{"$f":"IF(AS$1>$E$11,0,IF($G4=0,0,(AS$1-$G4)*Hoja1!$A$1/AS$1))","v":0},{"$f":"IF(AT$1>$E$11,0,IF($G4=0,0,(AT$1-$G4)*Hoja1!$A$1/AT$1))","v":0},{"$f":"IF(AU$1>$E$11,0,IF($G4=0,0,(AU$1-$G4)*Hoja1!$A$1/AU$1))","v":0},{"$f":"IF(AV$1>$E$11,0,IF($G4=0,0,(AV$1-$G4)*Hoja1!$A$1/AV$1))","v":0},{"$f":"IF(AW$1>$E$11,0,IF($G4=0,0,(AW$1-$G4)*Hoja1!$A$1/AW$1))","v":0},{"$f":"IF(AX$1>$E$11,0,IF($G4=0,0,(AX$1-$G4)*Hoja1!$A$1/AX$1))","v":0},{"$f":"IF(AY$1>$E$11,0,IF($G4=0,0,(AY$1-$G4)*Hoja1!$A$1/AY$1))","v":0},{"$f":"IF(AZ$1>$E$11,0,IF($G4=0,0,(AZ$1-$G4)*Hoja1!$A$1/AZ$1))","v":0},{"$f":"IF(BA$1>$E$11,0,IF($G4=0,0,(BA$1-$G4)*Hoja1!$A$1/BA$1))","v":0},{"$f":"IF(BB$1>$E$11,0,IF($G4=0,0,(BB$1-$G4)*Hoja1!$A$1/BB$1))","v":0},{"$f":"IF(BC$1>$E$11,0,IF($G4=0,0,(BC$1-$G4)*Hoja1!$A$1/BC$1))","v":0},{"$f":"IF(BD$1>$E$11,0,IF($G4=0,0,(BD$1-$G4)*Hoja1!$A$1/BD$1))","v":0},{"$f":"IF(BE$1>$E$11,0,IF($G4=0,0,(BE$1-$G4)*Hoja1!$A$1/BE$1))","v":0},{"$f":"IF(BF$1>$E$11,0,IF($G4=0,0,(BF$1-$G4)*Hoja1!$A$1/BF$1))","v":0},{"$f":"IF(BG$1>$E$11,0,IF($G4=0,0,(BG$1-$G4)*Hoja1!$A$1/BG$1))","v":0},{"$f":"IF(BH$1>$E$11,0,IF($G4=0,0,(BH$1-$G4)*Hoja1!$A$1/BH$1))","v":0},{"$f":"IF(BI$1>$E$11,0,IF($G4=0,0,(BI$1-$G4)*Hoja1!$A$1/BI$1))","v":0},{"$f":"IF(BJ$1>$E$11,0,IF($G4=0,0,(BJ$1-$G4)*Hoja1!$A$1/BJ$1))","v":0},{"$f":"IF(BK$1>$E$11,0,IF($G4=0,0,(BK$1-$G4)*Hoja1!$A$1/BK$1))","v":0},{"$f":"IF(BL$1>$E$11,0,IF($G4=0,0,(BL$1-$G4)*Hoja1!$A$1/BL$1))","v":0},{"$f":"IF(BM$1>$E$11,0,IF($G4=0,0,(BM$1-$G4)*Hoja1!$A$1/BM$1))","v":0},{"$f":"IF(BN$1>$E$11,0,IF($G4=0,0,(BN$1-$G4)*Hoja1!$A$1/BN$1))","v":0},{"$f":"IF(BO$1>$E$11,0,IF($G4=0,0,(BO$1-$G4)*Hoja1!$A$1/BO$1))","v":0},{"$f":"IF(BP$1>$E$11,0,IF($G4=0,0,(BP$1-$G4)*Hoja1!$A$1/BP$1))","v":0},{"$f":"IF(BQ$1>$E$11,0,IF($G4=0,0,(BQ$1-$G4)*Hoja1!$A$1/BQ$1))","v":0},{"$f":"IF(BR$1>$E$11,0,IF($G4=0,0,(BR$1-$G4)*Hoja1!$A$1/BR$1))","v":0},{"$f":"IF(BS$1>$E$11,0,IF($G4=0,0,(BS$1-$G4)*Hoja1!$A$1/BS$1))","v":0},{"$f":"IF(BT$1>$E$11,0,IF($G4=0,0,(BT$1-$G4)*Hoja1!$A$1/BT$1))","v":0},{"$f":"IF(BU$1>$E$11,0,IF($G4=0,0,(BU$1-$G4)*Hoja1!$A$1/BU$1))","v":0},{"$f":"IF(BV$1>$E$11,0,IF($G4=0,0,(BV$1-$G4)*Hoja1!$A$1/BV$1))","v":0},{"$f":"IF(BW$1>$E$11,0,IF($G4=0,0,(BW$1-$G4)*Hoja1!$A$1/BW$1))","v":0},{"$f":"IF(BX$1>$E$11,0,IF($G4=0,0,(BX$1-$G4)*Hoja1!$A$1/BX$1))","v":0},{"$f":"IF(BY$1>$E$11,0,IF($G4=0,0,(BY$1-$G4)*Hoja1!$A$1/BY$1))","v":0},{"$f":"IF(BZ$1>$E$11,0,IF($G4=0,0,(BZ$1-$G4)*Hoja1!$A$1/BZ$1))","v":0},{"$f":"IF(CA$1>$E$11,0,IF($G4=0,0,(CA$1-$G4)*Hoja1!$A$1/CA$1))","v":0},{"$f":"IF(CB$1>$E$11,0,IF($G4=0,0,(CB$1-$G4)*Hoja1!$A$1/CB$1))","v":0},{"$f":"IF(CC$1>$E$11,0,IF($G4=0,0,(CC$1-$G4)*Hoja1!$A$1/CC$1))","v":0},{"$f":"IF(CD$1>$E$11,0,IF($G4=0,0,(CD$1-$G4)*Hoja1!$A$1/CD$1))","v":0},{"$f":"IF(CE$1>$E$11,0,IF($G4=0,0,(CE$1-$G4)*Hoja1!$A$1/CE$1))","v":0},{"$f":"IF(CF$1>$E$11,0,IF($G4=0,0,(CF$1-$G4)*Hoja1!$A$1/CF$1))","v":0},{"$f":"IF(CG$1>$E$11,0,IF($G4=0,0,(CG$1-$G4)*Hoja1!$A$1/CG$1))","v":0},{"$f":"IF(CH$1>$E$11,0,IF($G4=0,0,(CH$1-$G4)*Hoja1!$A$1/CH$1))","v":0},{"$f":"IF(CI$1>$E$11,0,IF($G4=0,0,(CI$1-$G4)*Hoja1!$A$1/CI$1))","v":0},{"$f":"IF(CJ$1>$E$11,0,IF($G4=0,0,(CJ$1-$G4)*Hoja1!$A$1/CJ$1))","v":0},{"$f":"IF(CK$1>$E$11,0,IF($G4=0,0,(CK$1-$G4)*Hoja1!$A$1/CK$1))","v":0},{"$f":"IF(CL$1>$E$11,0,IF($G4=0,0,(CL$1-$G4)*Hoja1!$A$1/CL$1))","v":0},{"$f":"IF(CM$1>$E$11,0,IF($G4=0,0,(CM$1-$G4)*Hoja1!$A$1/CM$1))","v":0},{"$f":"IF(CN$1>$E$11,0,IF($G4=0,0,(CN$1-$G4)*Hoja1!$A$1/CN$1))","v":0},{"$f":"IF(CO$1>$E$11,0,IF($G4=0,0,(CO$1-$G4)*Hoja1!$A$1/CO$1))","v":0},{"$f":"IF(CP$1>$E$11,0,IF($G4=0,0,(CP$1-$G4)*Hoja1!$A$1/CP$1))","v":0},{"$f":"IF(CQ$1>$E$11,0,IF($G4=0,0,(CQ$1-$G4)*Hoja1!$A$1/CQ$1))","v":0},{"$f":"IF(CR$1>$E$11,0,IF($G4=0,0,(CR$1-$G4)*Hoja1!$A$1/CR$1))","v":0},{"$f":"IF(CS$1>$E$11,0,IF($G4=0,0,(CS$1-$G4)*Hoja1!$A$1/CS$1))","v":0},{"$f":"IF(CT$1>$E$11,0,IF($G4=0,0,(CT$1-$G4)*Hoja1!$A$1/CT$1))","v":0},{"$f":"IF(CU$1>$E$11,0,IF($G4=0,0,(CU$1-$G4)*Hoja1!$A$1/CU$1))","v":0},{"$f":"IF(CV$1>$E$11,0,IF($G4=0,0,(CV$1-$G4)*Hoja1!$A$1/CV$1))","v":0},{"$f":"IF(CW$1>$E$11,0,IF($G4=0,0,(CW$1-$G4)*Hoja1!$A$1/CW$1))","v":0},{"$f":"IF(CX$1>$E$11,0,IF($G4=0,0,(CX$1-$G4)*Hoja1!$A$1/CX$1))","v":0},{"$f":"IF(CY$1>$E$11,0,IF($G4=0,0,(CY$1-$G4)*Hoja1!$A$1/CY$1))","v":0},{"$f":"IF(CZ$1>$E$11,0,IF($G4=0,0,(CZ$1-$G4)*Hoja1!$A$1/CZ$1))","v":0},{"$f":"IF(DA$1>$E$11,0,IF($G4=0,0,(DA$1-$G4)*Hoja1!$A$1/DA$1))","v":0},{"$f":"IF(DB$1>$E$11,0,IF($G4=0,0,(DB$1-$G4)*Hoja1!$A$1/DB$1))","v":0},{"$f":"IF(DC$1>$E$11,0,IF($G4=0,0,(DC$1-$G4)*Hoja1!$A$1/DC$1))","v":0},{"$f":"IF(DD$1>$E$11,0,IF($G4=0,0,(DD$1-$G4)*Hoja1!$A$1/DD$1))","v":0},{"$f":"IF(DE$1>$E$11,0,IF($G4=0,0,(DE$1-$G4)*Hoja1!$A$1/DE$1))","v":0},{"$f":"IF(DF$1>$E$11,0,IF($G4=0,0,(DF$1-$G4)*Hoja1!$A$1/DF$1))","v":0},{"$f":"IF(DG$1>$E$11,0,IF($G4=0,0,(DG$1-$G4)*Hoja1!$A$1/DG$1))","v":0},{"$f":"IF(DH$1>$E$11,0,IF($G4=0,0,(DH$1-$G4)*Hoja1!$A$1/DH$1))","v":0},{"$f":"IF(DI$1>$E$11,0,IF($G4=0,0,(DI$1-$G4)*Hoja1!$A$1/DI$1))","v":0},{"$f":"IF(DJ$1>$E$11,0,IF($G4=0,0,(DJ$1-$G4)*Hoja1!$A$1/DJ$1))","v":0},{"$f":"IF(DK$1>$E$11,0,IF($G4=0,0,(DK$1-$G4)*Hoja1!$A$1/DK$1))","v":0},{"$f":"IF(DL$1>$E$11,0,IF($G4=0,0,(DL$1-$G4)*Hoja1!$A$1/DL$1))","v":0},{"$f":"IF(DM$1>$E$11,0,IF($G4=0,0,(DM$1-$G4)*Hoja1!$A$1/DM$1))","v":0}]
[null,"R",{"$f":"Hoja2!G17","v":5.9049999999999994},{"$f":"C10-C5-C5","v":13.19},null,{"$f":"F4+D$6","v":19.094999999999999},19.094999999999999,{"$f":"IF(H$1>$E$11,0,IF($G5=0,0,(H$1-$G5)*Hoja1!$A$1/H$1))","v":-52206.604572396274},{"$f":"IF(I$1>$E$11,0,IF($G5=0,0,(I$1-$G5)*Hoja1!$A$1/I$1))","v":-32597.417181358789},{"$f":"IF(J$1>$E$11,0,IF($G5=0,0,(J$1-$G5)*Hoja1!$A$1/J$1))","v":-22871.062578748424},{"$f":"IF(K$1>$E$11,0,IF($G5=0,0,(K$1-$G5)*Hoja1!$A$1/K$1))","v":-17060.046964106004},{"$f":"IF(L$1>$E$11,0,IF($G5=0,0,(L$1-$G5)*Hoja1!$A$1/L$1))","v":-13196.313878804802},{"$f":"IF(M$1>$E$11,0,IF($G5=0,0,(M$1-$G5)*Hoja1!$A$1/M$1))","v":-10441.521167184883},{"$f":"IF(N$1>$E$11,0,IF($G5=0,0,(N$1-$G5)*Hoja1!$A$1/N$1))","v":-8378.1635641079265},{"$f":"IF(O$1>$E$11,0,IF($G5=0,0,(O$1-$G5)*Hoja1!$A$1/O$1))","v":-6774.9488942575717},{"$f":"IF(P$1>$E$11,0,IF($G5=0,0,(P$1-$G5)*Hoja1!$A$1/P$1))","v":-5493.3957532185241},{"$f":"IF(Q$1>$E$11,0,IF($G5=0,0,(Q$1-$G5)*Hoja1!$A$1/Q$1))","v":-4445.524996201184},{"$f":"IF(R$1>$E$11,0,IF($G5=0,0,(R$1-$G5)*Hoja1!$A$1/R$1))","v":-3572.7614538365124},{"$f":"IF(S$1>$E$11,0,IF($G5=0,0,(S$1-$G5)*Hoja1!$A$1/S$1))","v":-2834.5970954890108},{"$f":"IF(T$1>$E$11,0,IF($G5=0,0,(T$1-$G5)*Hoja1!$A$1/T$1))","v":-2202.1238515690247},{"$f":"IF(U$1>$E$11,0,IF($G5=0,0,(U$1-$G5)*Hoja1!$A$1/U$1))","v":-1654.1587796459187},{"$f":"IF(V$1>$E$11,0,IF($G5=0,0,(V$1-$G5)*Hoja1!$A$1/V$1))","v":-1174.8251748251744},{"$f":"IF(W$1>$E$11,0,IF($G5=0,0,(W$1-$G5)*Hoja1!$A$1/W$1))","v":-751.98899911599983},{"$f":"IF(X$1>$E$11,0,IF($G5=0,0,(X$1-$G5)*Hoja1!$A$1/X$1))","v":-376.21741953436549},{"$f":"IF(Y$1>$E$11,0,IF($G5=0,0,(Y$1-$G5)*Hoja1!$A$1/Y$1))","v":-40.06677796327164},{"$f":"IF(Z$1>$E$11,0,IF($G5=0,0,(Z$1-$G5)*Hoja1!$A$1/Z$1))","v":262.41549119439156},{"$f":"IF(AA$1>$E$11,0,IF($G5=0,0,(AA$1-$G5)*Hoja1!$A$1/AA$1))","v":536.0464192035613},{"$f":"IF(AB$1>$E$11,0,IF($G5=0,0,(AB$1-$G5)*Hoja1!$A$1/AB$1))","v":784.76595099006181},{"$f":"IF(AC$1>$E$11,0,IF($G5=0,0,(AC$1-$G5)*Hoja1!$A$1/AC$1))","v":1011.827878963791},{"$f":"IF(AD$1>$E$11,0,IF($G5=0,0,(AD$1-$G5)*Hoja1!$A$1/AD$1))","v":1219.9429803212574},{"$f":"IF(AE$1>$E$11,0,IF($G5=0,0,(AE$1-$G5)*Hoja1!$A$1/AE$1))","v":1411.3877578265806},{"$f":"IF(AF$1>$E$11,0,IF($G5=0,0,(AF$1-$G5)*Hoja1!$A$1/AF$1))","v":0},{"$f":"IF(AG$1>$E$11,0,IF($G5=0,0,(AG$1-$G5)*Hoja1!$A$1/AG$1))","v":0},{"$f":"IF(AH$1>$E$11,0,IF($G5=0,0,(AH$1-$G5)*Hoja1!$A$1/AH$1))","v":0},{"$f":"IF(AI$1>$E$11,0,IF($G5=0,0,(AI$1-$G5)*Hoja1!$A$1/AI$1))","v":0},{"$f":"IF(AJ$1>$E$11,0,IF($G5=0,0,(AJ$1-$G5)*Hoja1!$A$1/AJ$1))","v":0},{"$f":"IF(AK$1>$E$11,0,IF($G5=0,0,(AK$1-$G5)*Hoja1!$A$1/AK$1))","v":0},{"$f":"IF(AL$1>$E$11,0,IF($G5=0,0,(AL$1-$G5)*Hoja1!$A$1/AL$1))","v":0},{"$f":"IF(AM$1>$E$11,0,IF($G5=0,0,(AM$1-$G5)*Hoja1!$A$1/AM$1))","v":0},{"$f":"IF(AN$1>$E$11,0,IF($G5=0,0,(AN$1-$G5)*Hoja1!$A$1/AN$1))","v":0},{"$f":"IF(AO$1>$E$11,0,IF($G5=0,0,(AO$1-$G5)*Hoja1!$A$1/AO$1))","v":0},{"$f":"IF(AP$1>$E$11,0,IF($G5=0,0,(AP$1-$G5)*Hoja1!$A$1/AP$1))","v":0},{"$f":"IF(AQ$1>$E$11,0,IF($G5=0,0,(AQ$1-$G5)*Hoja1!$A$1/AQ$1))","v":0},{"$f":"IF(AR$1>$E$11,0,IF($G5=0,0,(AR$1-$G5)*Hoja1!$A$1/AR$1))","v":0},{"$f":"IF(AS$1>$E$11,0,IF($G5=0,0,(AS$1-$G5)*Hoja1!$A$1/AS$1))","v":0},{"$f":"IF(AT$1>$E$11,0,IF($G5=0,0,(AT$1-$G5)*Hoja1!$A$1/AT$1))","v":0},{"$f":"IF(AU$1>$E$11,0,IF($G5=0,0,(AU$1-$G5)*Hoja1!$A$1/AU$1))","v":0},{"$f":"IF(AV$1>$E$11,0,IF($G5=0,0,(AV$1-$G5)*Hoja1!$A$1/AV$1))","v":0},{"$f":"IF(AW$1>$E$11,0,IF($G5=0,0,(AW$1-$G5)*Hoja1!$A$1/AW$1))","v":0},{"$f":"IF(AX$1>$E$11,0,IF($G5=0,0,(AX$1-$G5)*Hoja1!$A$1/AX$1))","v":0},{"$f":"IF(AY$1>$E$11,0,IF($G5=0,0,(AY$1-$G5)*Hoja1!$A$1/AY$1))","v":0},{"$f":"IF(AZ$1>$E$11,0,IF($G5=0,0,(AZ$1-$G5)*Hoja1!$A$1/AZ$1))","v":0},{"$f":"IF(BA$1>$E$11,0,IF($G5=0,0,(BA$1-$G5)*Hoja1!$A$1/BA$1))","v":0},{"$f":"IF(BB$1>$E$11,0,IF($G5=0,0,(BB$1-$G5)*Hoja1!$A$1/BB$1))","v":0},{"$f":"IF(BC$1>$E$11,0,IF($G5=0,0,(BC$1-$G5)*Hoja1!$A$1/BC$1))","v":0},{"$f":"IF(BD$1>$E$11,0,IF($G5=0,0,(BD$1-$G5)*Hoja1!$A$1/BD$1))","v":0},{"$f":"IF(BE$1>$E$11,0,IF($G5=0,0,(BE$1-$G5)*Hoja1!$A$1/BE$1))","v":0},{"$f":"IF(BF$1>$E$11,0,IF($G5=0,0,(BF$1-$G5)*Hoja1!$A$1/BF$1))","v":0},{"$f":"IF(BG$1>$E$11,0,IF($G5=0,0,(BG$1-$G5)*Hoja1!$A$1/BG$1))","v":0},{"$f":"IF(BH$1>$E$11,0,IF($G5=0,0,(BH$1-$G5)*Hoja1!$A$1/BH$1))","v":0},{"$f":"IF(BI$1>$E$11,0,IF($G5=0,0,(BI$1-$G5)*Hoja1!$A$1/BI$1))","v":0},{"$f":"IF(BJ$1>$E$11,0,IF($G5=0,0,(BJ$1-$G5)*Hoja1!$A$1/BJ$1))","v":0},{"$f":"IF(BK$1>$E$11,0,IF($G5=0,0,(BK$1-$G5)*Hoja1!$A$1/BK$1))","v":0},{"$f":"IF(BL$1>$E$11,0,IF($G5=0,0,(BL$1-$G5)*Hoja1!$A$1/BL$1))","v":0},{"$f":"IF(BM$1>$E$11,0,IF($G5=0,0,(BM$1-$G5)*Hoja1!$A$1/BM$1))","v":0},{"$f":"IF(BN$1>$E$11,0,IF($G5=0,0,(BN$1-$G5)*Hoja1!$A$1/BN$1))","v":0},{"$f":"IF(BO$1>$E$11,0,IF($G5=0,0,(BO$1-$G5)*Hoja1!$A$1/BO$1))","v":0},{"$f":"IF(BP$1>$E$11,0,IF($G5=0,0,(BP$1-$G5)*Hoja1!$A$1/BP$1))","v":0},{"$f":"IF(BQ$1>$E$11,0,IF($G5=0,0,(BQ$1-$G5)*Hoja1!$A$1/BQ$1))","v":0},{"$f":"IF(BR$1>$E$11,0,IF($G5=0,0,(BR$1-$G5)*Hoja1!$A$1/BR$1))","v":0},{"$f":"IF(BS$1>$E$11,0,IF($G5=0,0,(BS$1-$G5)*Hoja1!$A$1/BS$1))","v":0},{"$f":"IF(BT$1>$E$11,0,IF($G5=0,0,(BT$1-$G5)*Hoja1!$A$1/BT$1))","v":0},{"$f":"IF(BU$1>$E$11,0,IF($G5=0,0,(BU$1-$G5)*Hoja1!$A$1/BU$1))","v":0},{"$f":"IF(BV$1>$E$11,0,IF($G5=0,0,(BV$1-$G5)*Hoja1!$A$1/BV$1))","v":0},{"$f":"IF(BW$1>$E$11,0,IF($G5=0,0,(BW$1-$G5)*Hoja1!$A$1/BW$1))","v":0},{"$f":"IF(BX$1>$E$11,0,IF($G5=0,0,(BX$1-$G5)*Hoja1!$A$1/BX$1))","v":0},{"$f":"IF(BY$1>$E$11,0,IF($G5=0,0,(BY$1-$G5)*Hoja1!$A$1/BY$1))","v":0},{"$f":"IF(BZ$1>$E$11,0,IF($G5=0,0,(BZ$1-$G5)*Hoja1!$A$1/BZ$1))","v":0},{"$f":"IF(CA$1>$E$11,0,IF($G5=0,0,(CA$1-$G5)*Hoja1!$A$1/CA$1))","v":0},{"$f":"IF(CB$1>$E$11,0,IF($G5=0,0,(CB$1-$G5)*Hoja1!$A$1/CB$1))","v":0},{"$f":"IF(CC$1>$E$11,0,IF($G5=0,0,(CC$1-$G5)*Hoja1!$A$1/CC$1))","v":0},{"$f":"IF(CD$1>$E$11,0,IF($G5=0,0,(CD$1-$G5)*Hoja1!$A$1/CD$1))","v":0},{"$f":"IF(CE$1>$E$11,0,IF($G5=0,0,(CE$1-$G5)*Hoja1!$A$1/CE$1))","v":0},{"$f":"IF(CF$1>$E$11,0,IF($G5=0,0,(CF$1-$G5)*Hoja1!$A$1/CF$1))","v":0},{"$f":"IF(CG$1>$E$11,0,IF($G5=0,0,(CG$1-$G5)*Hoja1!$A$1/CG$1))","v":0},{"$f":"IF(CH$1>$E$11,0,IF($G5=0,0,(CH$1-$G5)*Hoja1!$A$1/CH$1))","v":0},{"$f":"IF(CI$1>$E$11,0,IF($G5=0,0,(CI$1-$G5)*Hoja1!$A$1/CI$1))","v":0},{"$f":"IF(CJ$1>$E$11,0,IF($G5=0,0,(CJ$1-$G5)*Hoja1!$A$1/CJ$1))","v":0},{"$f":"IF(CK$1>$E$11,0,IF($G5=0,0,(CK$1-$G5)*Hoja1!$A$1/CK$1))","v":0},{"$f":"IF(CL$1>$E$11,0,IF($G5=0,0,(CL$1-$G5)*Hoja1!$A$1/CL$1))","v":0},{"$f":"IF(CM$1>$E$11,0,IF($G5=0,0,(CM$1-$G5)*Hoja1!$A$1/CM$1))","v":0},{"$f":"IF(CN$1>$E$11,0,IF($G5=0,0,(CN$1-$G5)*Hoja1!$A$1/CN$1))","v":0},{"$f":"IF(CO$1>$E$11,0,IF($G5=0,0,(CO$1-$G5)*Hoja1!$A$1/CO$1))","v":0},{"$f":"IF(CP$1>$E$11,0,IF($G5=0,0,(CP$1-$G5)*Hoja1!$A$1/CP$1))","v":0},{"$f":"IF(CQ$1>$E$11,0,IF($G5=0,0,(CQ$1-$G5)*Hoja1!$A$1/CQ$1))","v":0},{"$f":"IF(CR$1>$E$11,0,IF($G5=0,0,(CR$1-$G5)*Hoja1!$A$1/CR$1))","v":0},{"$f":"IF(CS$1>$E$11,0,IF($G5=0,0,(CS$1-$G5)*Hoja1!$A$1/CS$1))","v":0},{"$f":"IF(CT$1>$E$11,0,IF($G5=0,0,(CT$1-$G5)*Hoja1!$A$1/CT$1))","v":0},{"$f":"IF(CU$1>$E$11,0,IF($G5=0,0,(CU$1-$G5)*Hoja1!$A$1/CU$1))","v":0},{"$f":"IF(CV$1>$E$11,0,IF($G5=0,0,(CV$1-$G5)*Hoja1!$A$1/CV$1))","v":0},{"$f":"IF(CW$1>$E$11,0,IF($G5=0,0,(CW$1-$G5)*Hoja1!$A$1/CW$1))","v":0},{"$f":"IF(CX$1>$E$11,0,IF($G5=0,0,(CX$1-$G5)*Hoja1!$A$1/CX$1))","v":0},{"$f":"IF(CY$1>$E$11,0,IF($G5=0,0,(CY$1-$G5)*Hoja1!$A$1/CY$1))","v":0},{"$f":"IF(CZ$1>$E$11,0,IF($G5=0,0,(CZ$1-$G5)*Hoja1!$A$1/CZ$1))","v":0},{"$f":"IF(DA$1>$E$11,0,IF($G5=0,0,(DA$1-$G5)*Hoja1!$A$1/DA$1))","v":0},{"$f":"IF(DB$1>$E$11,0,IF($G5=0,0,(DB$1-$G5)*Hoja1!$A$1/DB$1))","v":0},{"$f":"IF(DC$1>$E$11,0,IF($G5=0,0,(DC$1-$G5)*Hoja1!$A$1/DC$1))","v":0},{"$f":"IF(DD$1>$E$11,0,IF($G5=0,0,(DD$1-$G5)*Hoja1!$A$1/DD$1))","v":0},{"$f":"IF(DE$1>$E$11,0,IF($G5=0,0,(DE$1-$G5)*Hoja1!$A$1/DE$1))","v":0},{"$f":"IF(DF$1>$E$11,0,IF($G5=0,0,(DF$1-$G5)*Hoja1!$A$1/DF$1))","v":0},{"$f":"IF(DG$1>$E$11,0,IF($G5=0,0,(DG$1-$G5)*Hoja1!$A$1/DG$1))","v":0},{"$f":"IF(DH$1>$E$11,0,IF($G5=0,0,(DH$1-$G5)*Hoja1!$A$1/DH$1))","v":0},{"$f":"IF(DI$1>$E$11,0,IF($G5=0,0,(DI$1-$G5)*Hoja1!$A$1/DI$1))","v":0},{"$f":"IF(DJ$1>$E$11,0,IF($G5=0,0,(DJ$1-$G5)*Hoja1!$A$1/DJ$1))","v":0},{"$f":"IF(DK$1>$E$11,0,IF($G5=0,0,(DK$1-$G5)*Hoja1!$A$1/DK$1))","v":0},{"$f":"IF(DL$1>$E$11,0,IF($G5=0,0,(DL$1-$G5)*Hoja1!$A$1/DL$1))","v":0},{"$f":"IF(DM$1>$E$11,0,IF($G5=0,0,(DM$1-$G5)*Hoja1!$A$1/DM$1))","v":0}]
[null,"X=",{"$f":"Hoja2!M11","v":3},{"$f":"D5/(C7-1)","v":13.19},null,{"$f":"F5+D$6","v":32.284999999999997},0,{"$f":"IF(H$1>$E$11,0,IF($G6=0,0,(H$1-$G6)*Hoja1!$A$1/H$1))","v":0},{"$f":"IF(I$1>$E$11,0,IF($G6=0,0,(I$1-$G6)*Hoja1!$A$1/I$1))","v":0},{"$f":"IF(J$1>$E$11,0,IF($G6=0,0,(J$1-$G6)*Hoja1!$A$1/J$1))","v":0},{"$f":"IF(K$1>$E$11,0,IF($G6=0,0,(K$1-$G6)*Hoja1!$A$1/K$1))","v":0},{"$f":"IF(L$1>$E$11,0,IF($G6=0,0,(L$1-$G6)*Hoja1!$A$1/L$1))","v":0},{"$f":"IF(M$1>$E$11,0,IF($G6=0,0,(M$1-$G6)*Hoja1!$A$1/M$1))","v":0},{"$f":"IF(N$1>$E$11,0,IF($G6=0,0,(N$1-$G6)*Hoja1!$A$1/N$1))","v":0},{"$f":"IF(O$1>$E$11,0,IF($G6=0,0,(O$1-$G6)*Hoja1!$A$1/O$1))","v":0},{"$f":"IF(P$1>$E$11,0,IF($G6=0,0,(P$1-$G6)*Hoja1!$A$1/P$1))","v":0},{"$f":"IF(Q$1>$E$11,0,IF($G6=0,0,(Q$1-$G6)*Hoja1!$A$1/Q$1))","v":0},{"$f":"IF(R$1>$E$11,0,IF($G6=0,0,(R$1-$G6)*Hoja1!$A$1/R$1))","v":0},{"$f":"IF(S$1>$E$11,0,IF($G6=0,0,(S$1-$G6)*Hoja1!$A$1/S$1))","v":0},{"$f":"IF(T$1>$E$11,0,IF($G6=0,0,(T$1-$G6)*Hoja1!$A$1/T$1))","v":0},{"$f":"IF(U$1>$E$11,0,IF($G6=0,0,(U$1-$G6)*Hoja1!$A$1/U$1))","v":0},{"$f":"IF(V$1>$E$11,0,IF($G6=0,0,(V$1-$G6)*Hoja1!$A$1/V$1))","v":0},{"$f":"IF(W$1>$E$11,0,IF($G6=0,0,(W$1-$G6)*Hoja1!$A$1/W$1))","v":0},{"$f":"IF(X$1>$E$11,0,IF($G6=0,0,(X$1-$G6)*Hoja1!$A$1/X$1))","v":0},{"$f":"IF(Y$1>$E$11,0,IF($G6=0,0,(Y$1-$G6)*Hoja1!$A$1/Y$1))","v":0},{"$f":"IF(Z$1>$E$11,0,IF($G6=0,0,(Z$1-$G6)*Hoja1!$A$1/Z$1))","v":0},{"$f":"IF(AA$1>$E$11,0,IF($G6=0,0,(AA$1-$G6)*Hoja1!$A$1/AA$1))","v":0},{"$f":"IF(AB$1>$E$11,0,IF($G6=0,0,(AB$1-$G6)*Hoja1!$A$1/AB$1))","v":0},{"$f":"IF(AC$1>$E$11,0,IF($G6=0,0,(AC$1-$G6)*Hoja1!$A$1/AC$1))","v":0},{"$f":"IF(AD$1>$E$11,0,IF($G6=0,0,(AD$1-$G6)*Hoja1!$A$1/AD$1))","v":0},{"$f":"IF(AE$1>$E$11,0,IF($G6=0,0,(AE$1-$G6)*Hoja1!$A$1/AE$1))","v":0},{"$f":"IF(AF$1>$E$11,0,IF($G6=0,0,(AF$1-$G6)*Hoja1!$A$1/AF$1))","v":0},{"$f":"IF(AG$1>$E$11,0,IF($G6=0,0,(AG$1-$G6)*Hoja1!$A$1/AG$1))","v":0},{"$f":"IF(AH$1>$E$11,0,IF($G6=0,0,(AH$1-$G6)*Hoja1!$A$1/AH$1))","v":0},{"$f":"IF(AI$1>$E$11,0,IF($G6=0,0,(AI$1-$G6)*Hoja1!$A$1/AI$1))","v":0},{"$f":"IF(AJ$1>$E$11,0,IF($G6=0,0,(AJ$1-$G6)*Hoja1!$A$1/AJ$1))","v":0},{"$f":"IF(AK$1>$E$11,0,IF($G6=0,0,(AK$1-$G6)*Hoja1!$A$1/AK$1))","v":0},{"$f":"IF(AL$1>$E$11,0,IF($G6=0,0,(AL$1-$G6)*Hoja1!$A$1/AL$1))","v":0},{"$f":"IF(AM$1>$E$11,0,IF($G6=0,0,(AM$1-$G6)*Hoja1!$A$1/AM$1))","v":0},{"$f":"IF(AN$1>$E$11,0,IF($G6=0,0,(AN$1-$G6)*Hoja1!$A$1/AN$1))","v":0},{"$f":"IF(AO$1>$E$11,0,IF($G6=0,0,(AO$1-$G6)*Hoja1!$A$1/AO$1))","v":0},{"$f":"IF(AP$1>$E$11,0,IF($G6=0,0,(AP$1-$G6)*Hoja1!$A$1/AP$1))","v":0},{"$f":"IF(AQ$1>$E$11,0,IF($G6=0,0,(AQ$1-$G6)*Hoja1!$A$1/AQ$1))","v":0},{"$f":"IF(AR$1>$E$11,0,IF($G6=0,0,(AR$1-$G6)*Hoja1!$A$1/AR$1))","v":0},{"$f":"IF(AS$1>$E$11,0,IF($G6=0,0,(AS$1-$G6)*Hoja1!$A$1/AS$1))","v":0},{"$f":"IF(AT$1>$E$11,0,IF($G6=0,0,(AT$1-$G6)*Hoja1!$A$1/AT$1))","v":0},{"$f":"IF(AU$1>$E$11,0,IF($G6=0,0,(AU$1-$G6)*Hoja1!$A$1/AU$1))","v":0},{"$f":"IF(AV$1>$E$11,0,IF($G6=0,0,(AV$1-$G6)*Hoja1!$A$1/AV$1))","v":0},{"$f":"IF(AW$1>$E$11,0,IF($G6=0,0,(AW$1-$G6)*Hoja1!$A$1/AW$1))","v":0},{"$f":"IF(AX$1>$E$11,0,IF($G6=0,0,(AX$1-$G6)*Hoja1!$A$1/AX$1))","v":0},{"$f":"IF(AY$1>$E$11,0,IF($G6=0,0,(AY$1-$G6)*Hoja1!$A$1/AY$1))","v":0},{"$f":"IF(AZ$1>$E$11,0,IF($G6=0,0,(AZ$1-$G6)*Hoja1!$A$1/AZ$1))","v":0},{"$f":"IF(BA$1>$E$11,0,IF($G6=0,0,(BA$1-$G6)*Hoja1!$A$1/BA$1))","v":0},{"$f":"IF(BB$1>$E$11,0,IF($G6=0,0,(BB$1-$G6)*Hoja1!$A$1/BB$1))","v":0},{"$f":"IF(BC$1>$E$11,0,IF($G6=0,0,(BC$1-$G6)*Hoja1!$A$1/BC$1))","v":0},{"$f":"IF(BD$1>$E$11,0,IF($G6=0,0,(BD$1-$G6)*Hoja1!$A$1/BD$1))","v":0},{"$f":"IF(BE$1>$E$11,0,IF($G6=0,0,(BE$1-$G6)*Hoja1!$A$1/BE$1))","v":0},{"$f":"IF(BF$1>$E$11,0,IF($G6=0,0,(BF$1-$G6)*Hoja1!$A$1/BF$1))","v":0},{"$f":"IF(BG$1>$E$11,0,IF($G6=0,0,(BG$1-$G6)*Hoja1!$A$1/BG$1))","v":0},{"$f":"IF(BH$1>$E$11,0,IF($G6=0,0,(BH$1-$G6)*Hoja1!$A$1/BH$1))","v":0},{"$f":"IF(BI$1>$E$11,0,IF($G6=0,0,(BI$1-$G6)*Hoja1!$A$1/BI$1))","v":0},{"$f":"IF(BJ$1>$E$11,0,IF($G6=0,0,(BJ$1-$G6)*Hoja1!$A$1/BJ$1))","v":0},{"$f":"IF(BK$1>$E$11,0,IF($G6=0,0,(BK$1-$G6)*Hoja1!$A$1/BK$1))","v":0},{"$f":"IF(BL$1>$E$11,0,IF($G6=0,0,(BL$1-$G6)*Hoja1!$A$1/BL$1))","v":0},{"$f":"IF(BM$1>$E$11,0,IF($G6=0,0,(BM$1-$G6)*Hoja1!$A$1/BM$1))","v":0},{"$f":"IF(BN$1>$E$11,0,IF($G6=0,0,(BN$1-$G6)*Hoja1!$A$1/BN$1))","v":0},{"$f":"IF(BO$1>$E$11,0,IF($G6=0,0,(BO$1-$G6)*Hoja1!$A$1/BO$1))","v":0},{"$f":"IF(BP$1>$E$11,0,IF($G6=0,0,(BP$1-$G6)*Hoja1!$A$1/BP$1))","v":0},{"$f":"IF(BQ$1>$E$11,0,IF($G6=0,0,(BQ$1-$G6)*Hoja1!$A$1/BQ$1))","v":0},{"$f":"IF(BR$1>$E$11,0,IF($G6=0,0,(BR$1-$G6)*Hoja1!$A$1/BR$1))","v":0},{"$f":"IF(BS$1>$E$11,0,IF($G6=0,0,(BS$1-$G6)*Hoja1!$A$1/BS$1))","v":0},{"$f":"IF(BT$1>$E$11,0,IF($G6=0,0,(BT$1-$G6)*Hoja1!$A$1/BT$1))","v":0},{"$f":"IF(BU$1>$E$11,0,IF($G6=0,0,(BU$1-$G6)*Hoja1!$A$1/BU$1))","v":0},{"$f":"IF(BV$1>$E$11,0,IF($G6=0,0,(BV$1-$G6)*Hoja1!$A$1/BV$1))","v":0},{"$f":"IF(BW$1>$E$11,0,IF($G6=0,0,(BW$1-$G6)*Hoja1!$A$1/BW$1))","v":0},{"$f":"IF(BX$1>$E$11,0,IF($G6=0,0,(BX$1-$G6)*Hoja1!$A$1/BX$1))","v":0},{"$f":"IF(BY$1>$E$11,0,IF($G6=0,0,(BY$1-$G6)*Hoja1!$A$1/BY$1))","v":0},{"$f":"IF(BZ$1>$E$11,0,IF($G6=0,0,(BZ$1-$G6)*Hoja1!$A$1/BZ$1))","v":0},{"$f":"IF(CA$1>$E$11,0,IF($G6=0,0,(CA$1-$G6)*Hoja1!$A$1/CA$1))","v":0},{"$f":"IF(CB$1>$E$11,0,IF($G6=0,0,(CB$1-$G6)*Hoja1!$A$1/CB$1))","v":0},{"$f":"IF(CC$1>$E$11,0,IF($G6=0,0,(CC$1-$G6)*Hoja1!$A$1/CC$1))","v":0},{"$f":"IF(CD$1>$E$11,0,IF($G6=0,0,(CD$1-$G6)*Hoja1!$A$1/CD$1))","v":0},{"$f":"IF(CE$1>$E$11,0,IF($G6=0,0,(CE$1-$G6)*Hoja1!$A$1/CE$1))","v":0},{"$f":"IF(CF$1>$E$11,0,IF($G6=0,0,(CF$1-$G6)*Hoja1!$A$1/CF$1))","v":0},{"$f":"IF(CG$1>$E$11,0,IF($G6=0,0,(CG$1-$G6)*Hoja1!$A$1/CG$1))","v":0},{"$f":"IF(CH$1>$E$11,0,IF($G6=0,0,(CH$1-$G6)*Hoja1!$A$1/CH$1))","v":0},{"$f":"IF(CI$1>$E$11,0,IF($G6=0,0,(CI$1-$G6)*Hoja1!$A$1/CI$1))","v":0},{"$f":"IF(CJ$1>$E$11,0,IF($G6=0,0,(CJ$1-$G6)*Hoja1!$A$1/CJ$1))","v":0},{"$f":"IF(CK$1>$E$11,0,IF($G6=0,0,(CK$1-$G6)*Hoja1!$A$1/CK$1))","v":0},{"$f":"IF(CL$1>$E$11,0,IF($G6=0,0,(CL$1-$G6)*Hoja1!$A$1/CL$1))","v":0},{"$f":"IF(CM$1>$E$11,0,IF($G6=0,0,(CM$1-$G6)*Hoja1!$A$1/CM$1))","v":0},{"$f":"IF(CN$1>$E$11,0,IF($G6=0,0,(CN$1-$G6)*Hoja1!$A$1/CN$1))","v":0},{"$f":"IF(CO$1>$E$11,0,IF($G6=0,0,(CO$1-$G6)*Hoja1!$A$1/CO$1))","v":0},{"$f":"IF(CP$1>$E$11,0,IF($G6=0,0,(CP$1-$G6)*Hoja1!$A$1/CP$1))","v":0},{"$f":"IF(CQ$1>$E$11,0,IF($G6=0,0,(CQ$1-$G6)*Hoja1!$A$1/CQ$1))","v":0},{"$f":"IF(CR$1>$E$11,0,IF($G6=0,0,(CR$1-$G6)*Hoja1!$A$1/CR$1))","v":0},{"$f":"IF(CS$1>$E$11,0,IF($G6=0,0,(CS$1-$G6)*Hoja1!$A$1/CS$1))","v":0},{"$f":"IF(CT$1>$E$11,0,IF($G6=0,0,(CT$1-$G6)*Hoja1!$A$1/CT$1))","v":0},{"$f":"IF(CU$1>$E$11,0,IF($G6=0,0,(CU$1-$G6)*Hoja1!$A$1/CU$1))","v":0},{"$f":"IF(CV$1>$E$11,0,IF($G6=0,0,(CV$1-$G6)*Hoja1!$A$1/CV$1))","v":0},{"$f":"IF(CW$1>$E$11,0,IF($G6=0,0,(CW$1-$G6)*Hoja1!$A$1/CW$1))","v":0},{"$f":"IF(CX$1>$E$11,0,IF($G6=0,0,(CX$1-$G6)*Hoja1!$A$1/CX$1))","v":0},{"$f":"IF(CY$1>$E$11,0,IF($G6=0,0,(CY$1-$G6)*Hoja1!$A$1/CY$1))","v":0},{"$f":"IF(CZ$1>$E$11,0,IF($G6=0,0,(CZ$1-$G6)*Hoja1!$A$1/CZ$1))","v":0},{"$f":"IF(DA$1>$E$11,0,IF($G6=0,0,(DA$1-$G6)*Hoja1!$A$1/DA$1))","v":0},{"$f":"IF(DB$1>$E$11,0,IF($G6=0,0,(DB$1-$G6)*Hoja1!$A$1/DB$1))","v":0},{"$f":"IF(DC$1>$E$11,0,IF($G6=0,0,(DC$1-$G6)*Hoja1!$A$1/DC$1))","v":0},{"$f":"IF(DD$1>$E$11,0,IF($G6=0,0,(DD$1-$G6)*Hoja1!$A$1/DD$1))","v":0},{"$f":"IF(DE$1>$E$11,0,IF($G6=0,0,(DE$1-$G6)*Hoja1!$A$1/DE$1))","v":0},{"$f":"IF(DF$1>$E$11,0,IF($G6=0,0,(DF$1-$G6)*Hoja1!$A$1/DF$1))","v":0},{"$f":"IF(DG$1>$E$11,0,IF($G6=0,0,(DG$1-$G6)*Hoja1!$A$1/DG$1))","v":0},{"$f":"IF(DH$1>$E$11,0,IF($G6=0,0,(DH$1-$G6)*Hoja1!$A$1/DH$1))","v":0},{"$f":"IF(DI$1>$E$11,0,IF($G6=0,0,(DI$1-$G6)*Hoja1!$A$1/DI$1))","v":0},{"$f":"IF(DJ$1>$E$11,0,IF($G6=0,0,(DJ$1-$G6)*Hoja1!$A$1/DJ$1))","v":0},{"$f":"IF(DK$1>$E$11,0,IF($G6=0,0,(DK$1-$G6)*Hoja1!$A$1/DK$1))","v":0},{"$f":"IF(DL$1>$E$11,0,IF($G6=0,0,(DL$1-$G6)*Hoja1!$A$1/DL$1))","v":0},{"$f":"IF(DM$1>$E$11,0,IF($G6=0,0,(DM$1-$G6)*Hoja1!$A$1/DM$1))","v":0}]
[null,"Y=",{"$f":"Hoja2!M10","v":2},null,null,45.474999999999994,0,{"$f":"IF(H$1>$E$11,0,IF($G7=0,0,(H$1-$G7)*Hoja1!$A$1/H$1))","v":0},{"$f":"IF(I$1>$E$11,0,IF($G7=0,0,(I$1-$G7)*Hoja1!$A$1/I$1))","v":0},{"$f":"IF(J$1>$E$11,0,IF($G7=0,0,(J$1-$G7)*Hoja1!$A$1/J$1))","v":0},{"$f":"IF(K$1>$E$11,0,IF($G7=0,0,(K$1-$G7)*Hoja1!$A$1/K$1))","v":0},{"$f":"IF(L$1>$E$11,0,IF($G7=0,0,(L$1-$G7)*Hoja1!$A$1/L$1))","v":0},{"$f":"IF(M$1>$E$11,0,IF($G7=0,0,(M$1-$G7)*Hoja1!$A$1/M$1))","v":0},{"$f":"IF(N$1>$E$11,0,IF($G7=0,0,(N$1-$G7)*Hoja1!$A$1/N$1))","v":0},{"$f":"IF(O$1>$E$11,0,IF($G7=0,0,(O$1-$G7)*Hoja1!$A$1/O$1))","v":0},{"$f":"IF(P$1>$E$11,0,IF($G7=0,0,(P$1-$G7)*Hoja1!$A$1/P$1))","v":0},{"$f":"IF(Q$1>$E$11,0,IF($G7=0,0,(Q$1-$G7)*Hoja1!$A$1/Q$1))","v":0},{"$f":"IF(R$1>$E$11,0,IF($G7=0,0,(R$1-$G7)*Hoja1!$A$1/R$1))","v":0},{"$f":"IF(S$1>$E$11,0,IF($G7=0,0,(S$1-$G7)*Hoja1!$A$1/S$1))","v":0},{"$f":"IF(T$1>$E$11,0,IF($G7=0,0,(T$1-$G7)*Hoja1!$A$1/T$1))","v":0},{"$f":"IF(U$1>$E$11,0,IF($G7=0,0,(U$1-$G7)*Hoja1!$A$1/U$1))","v":0},{"$f":"IF(V$1>$E$11,0,IF($G7=0,0,(V$1-$G7)*Hoja1!$A$1/V$1))","v":0},{"$f":"IF(W$1>$E$11,0,IF($G7=0,0,(W$1-$G7)*Hoja1!$A$1/W$1))","v":0},{"$f":"IF(X$1>$E$11,0,IF($G7=0,0,(X$1-$G7)*Hoja1!$A$1/X$1))","v":0},{"$f":"IF(Y$1>$E$11,0,IF($G7=0,0,(Y$1-$G7)*Hoja1!$A$1/Y$1))","v":0},{"$f":"IF(Z$1>$E$11,0,IF($G7=0,0,(Z$1-$G7)*Hoja1!$A$1/Z$1))","v":0},{"$f":"IF(AA$1>$E$11,0,IF($G7=0,0,(AA$1-$G7)*Hoja1!$A$1/AA$1))","v":0},{"$f":"IF(AB$1>$E$11,0,IF($G7=0,0,(AB$1-$G7)*Hoja1!$A$1/AB$1))","v":0},{"$f":"IF(AC$1>$E$11,0,IF($G7=0,0,(AC$1-$G7)*Hoja1!$A$1/AC$1))","v":0},{"$f":"IF(AD$1>$E$11,0,IF($G7=0,0,(AD$1-$G7)*Hoja1!$A$1/AD$1))","v":0},{"$f":"IF(AE$1>$E$11,0,IF($G7=0,0,(AE$1-$G7)*Hoja1!$A$1/AE$1))","v":0},{"$f":"IF(AF$1>$E$11,0,IF($G7=0,0,(AF$1-$G7)*Hoja1!$A$1/AF$1))","v":0},{"$f":"IF(AG$1>$E$11,0,IF($G7=0,0,(AG$1-$G7)*Hoja1!$A$1/AG$1))","v":0},{"$f":"IF(AH$1>$E$11,0,IF($G7=0,0,(AH$1-$G7)*Hoja1!$A$1/AH$1))","v":0},{"$f":"IF(AI$1>$E$11,0,IF($G7=0,0,(AI$1-$G7)*Hoja1!$A$1/AI$1))","v":0},{"$f":"IF(AJ$1>$E$11,0,IF($G7=0,0,(AJ$1-$G7)*Hoja1!$A$1/AJ$1))","v":0},{"$f":"IF(AK$1>$E$11,0,IF($G7=0,0,(AK$1-$G7)*Hoja1!$A$1/AK$1))","v":0},{"$f":"IF(AL$1>$E$11,0,IF($G7=0,0,(AL$1-$G7)*Hoja1!$A$1/AL$1))","v":0},{"$f":"IF(AM$1>$E$11,0,IF($G7=0,0,(AM$1-$G7)*Hoja1!$A$1/AM$1))","v":0},{"$f":"IF(AN$1>$E$11,0,IF($G7=0,0,(AN$1-$G7)*Hoja1!$A$1/AN$1))","v":0},{"$f":"IF(AO$1>$E$11,0,IF($G7=0,0,(AO$1-$G7)*Hoja1!$A$1/AO$1))","v":0},{"$f":"IF(AP$1>$E$11,0,IF($G7=0,0,(AP$1-$G7)*Hoja1!$A$1/AP$1))","v":0},{"$f":"IF(AQ$1>$E$11,0,IF($G7=0,0,(AQ$1-$G7)*Hoja1!$A$1/AQ$1))","v":0},{"$f":"IF(AR$1>$E$11,0,IF($G7=0,0,(AR$1-$G7)*Hoja1!$A$1/AR$1))","v":0},{"$f":"IF(AS$1>$E$11,0,IF($G7=0,0,(AS$1-$G7)*Hoja1!$A$1/AS$1))","v":0},{"$f":"IF(AT$1>$E$11,0,IF($G7=0,0,(AT$1-$G7)*Hoja1!$A$1/AT$1))","v":0},{"$f":"IF(AU$1>$E$11,0,IF($G7=0,0,(AU$1-$G7)*Hoja1!$A$1/AU$1))","v":0},{"$f":"IF(AV$1>$E$11,0,IF($G7=0,0,(AV$1-$G7)*Hoja1!$A$1/AV$1))","v":0},{"$f":"IF(AW$1>$E$11,0,IF($G7=0,0,(AW$1-$G7)*Hoja1!$A$1/AW$1))","v":0},{"$f":"IF(AX$1>$E$11,0,IF($G7=0,0,(AX$1-$G7)*Hoja1!$A$1/AX$1))","v":0},{"$f":"IF(AY$1>$E$11,0,IF($G7=0,0,(AY$1-$G7)*Hoja1!$A$1/AY$1))","v":0},{"$f":"IF(AZ$1>$E$11,0,IF($G7=0,0,(AZ$1-$G7)*Hoja1!$A$1/AZ$1))","v":0},{"$f":"IF(BA$1>$E$11,0,IF($G7=0,0,(BA$1-$G7)*Hoja1!$A$1/BA$1))","v":0},{"$f":"IF(BB$1>$E$11,0,IF($G7=0,0,(BB$1-$G7)*Hoja1!$A$1/BB$1))","v":0},{"$f":"IF(BC$1>$E$11,0,IF($G7=0,0,(BC$1-$G7)*Hoja1!$A$1/BC$1))","v":0},{"$f":"IF(BD$1>$E$11,0,IF($G7=0,0,(BD$1-$G7)*Hoja1!$A$1/BD$1))","v":0},{"$f":"IF(BE$1>$E$11,0,IF($G7=0,0,(BE$1-$G7)*Hoja1!$A$1/BE$1))","v":0},{"$f":"IF(BF$1>$E$11,0,IF($G7=0,0,(BF$1-$G7)*Hoja1!$A$1/BF$1))","v":0},{"$f":"IF(BG$1>$E$11,0,IF($G7=0,0,(BG$1-$G7)*Hoja1!$A$1/BG$1))","v":0},{"$f":"IF(BH$1>$E$11,0,IF($G7=0,0,(BH$1-$G7)*Hoja1!$A$1/BH$1))","v":0},{"$f":"IF(BI$1>$E$11,0,IF($G7=0,0,(BI$1-$G7)*Hoja1!$A$1/BI$1))","v":0},{"$f":"IF(BJ$1>$E$11,0,IF($G7=0,0,(BJ$1-$G7)*Hoja1!$A$1/BJ$1))","v":0},{"$f":"IF(BK$1>$E$11,0,IF($G7=0,0,(BK$1-$G7)*Hoja1!$A$1/BK$1))","v":0},{"$f":"IF(BL$1>$E$11,0,IF($G7=0,0,(BL$1-$G7)*Hoja1!$A$1/BL$1))","v":0},{"$f":"IF(BM$1>$E$11,0,IF($G7=0,0,(BM$1-$G7)*Hoja1!$A$1/BM$1))","v":0},{"$f":"IF(BN$1>$E$11,0,IF($G7=0,0,(BN$1-$G7)*Hoja1!$A$1/BN$1))","v":0},{"$f":"IF(BO$1>$E$11,0,IF($G7=0,0,(BO$1-$G7)*Hoja1!$A$1/BO$1))","v":0},{"$f":"IF(BP$1>$E$11,0,IF($G7=0,0,(BP$1-$G7)*Hoja1!$A$1/BP$1))","v":0},{"$f":"IF(BQ$1>$E$11,0,IF($G7=0,0,(BQ$1-$G7)*Hoja1!$A$1/BQ$1))","v":0},{"$f":"IF(BR$1>$E$11,0,IF($G7=0,0,(BR$1-$G7)*Hoja1!$A$1/BR$1))","v":0},{"$f":"IF(BS$1>$E$11,0,IF($G7=0,0,(BS$1-$G7)*Hoja1!$A$1/BS$1))","v":0},{"$f":"IF(BT$1>$E$11,0,IF($G7=0,0,(BT$1-$G7)*Hoja1!$A$1/BT$1))","v":0},{"$f":"IF(BU$1>$E$11,0,IF($G7=0,0,(BU$1-$G7)*Hoja1!$A$1/BU$1))","v":0},{"$f":"IF(BV$1>$E$11,0,IF($G7=0,0,(BV$1-$G7)*Hoja1!$A$1/BV$1))","v":0},{"$f":"IF(BW$1>$E$11,0,IF($G7=0,0,(BW$1-$G7)*Hoja1!$A$1/BW$1))","v":0},{"$f":"IF(BX$1>$E$11,0,IF($G7=0,0,(BX$1-$G7)*Hoja1!$A$1/BX$1))","v":0},{"$f":"IF(BY$1>$E$11,0,IF($G7=0,0,(BY$1-$G7)*Hoja1!$A$1/BY$1))","v":0},{"$f":"IF(BZ$1>$E$11,0,IF($G7=0,0,(BZ$1-$G7)*Hoja1!$A$1/BZ$1))","v":0},{"$f":"IF(CA$1>$E$11,0,IF($G7=0,0,(CA$1-$G7)*Hoja1!$A$1/CA$1))","v":0},{"$f":"IF(CB$1>$E$11,0,IF($G7=0,0,(CB$1-$G7)*Hoja1!$A$1/CB$1))","v":0},{"$f":"IF(CC$1>$E$11,0,IF($G7=0,0,(CC$1-$G7)*Hoja1!$A$1/CC$1))","v":0},{"$f":"IF(CD$1>$E$11,0,IF($G7=0,0,(CD$1-$G7)*Hoja1!$A$1/CD$1))","v":0},{"$f":"IF(CE$1>$E$11,0,IF($G7=0,0,(CE$1-$G7)*Hoja1!$A$1/CE$1))","v":0},{"$f":"IF(CF$1>$E$11,0,IF($G7=0,0,(CF$1-$G7)*Hoja1!$A$1/CF$1))","v":0},{"$f":"IF(CG$1>$E$11,0,IF($G7=0,0,(CG$1-$G7)*Hoja1!$A$1/CG$1))","v":0},{"$f":"IF(CH$1>$E$11,0,IF($G7=0,0,(CH$1-$G7)*Hoja1!$A$1/CH$1))","v":0},{"$f":"IF(CI$1>$E$11,0,IF($G7=0,0,(CI$1-$G7)*Hoja1!$A$1/CI$1))","v":0},{"$f":"IF(CJ$1>$E$11,0,IF($G7=0,0,(CJ$1-$G7)*Hoja1!$A$1/CJ$1))","v":0},{"$f":"IF(CK$1>$E$11,0,IF($G7=0,0,(CK$1-$G7)*Hoja1!$A$1/CK$1))","v":0},{"$f":"IF(CL$1>$E$11,0,IF($G7=0,0,(CL$1-$G7)*Hoja1!$A$1/CL$1))","v":0},{"$f":"IF(CM$1>$E$11,0,IF($G7=0,0,(CM$1-$G7)*Hoja1!$A$1/CM$1))","v":0},{"$f":"IF(CN$1>$E$11,0,IF($G7=0,0,(CN$1-$G7)*Hoja1!$A$1/CN$1))","v":0},{"$f":"IF(CO$1>$E$11,0,IF($G7=0,0,(CO$1-$G7)*Hoja1!$A$1/CO$1))","v":0},{"$f":"IF(CP$1>$E$11,0,IF($G7=0,0,(CP$1-$G7)*Hoja1!$A$1/CP$1))","v":0},{"$f":"IF(CQ$1>$E$11,0,IF($G7=0,0,(CQ$1-$G7)*Hoja1!$A$1/CQ$1))","v":0},{"$f":"IF(CR$1>$E$11,0,IF($G7=0,0,(CR$1-$G7)*Hoja1!$A$1/CR$1))","v":0},{"$f":"IF(CS$1>$E$11,0,IF($G7=0,0,(CS$1-$G7)*Hoja1!$A$1/CS$1))","v":0},{"$f":"IF(CT$1>$E$11,0,IF($G7=0,0,(CT$1-$G7)*Hoja1!$A$1/CT$1))","v":0},{"$f":"IF(CU$1>$E$11,0,IF($G7=0,0,(CU$1-$G7)*Hoja1!$A$1/CU$1))","v":0},{"$f":"IF(CV$1>$E$11,0,IF($G7=0,0,(CV$1-$G7)*Hoja1!$A$1/CV$1))","v":0},{"$f":"IF(CW$1>$E$11,0,IF($G7=0,0,(CW$1-$G7)*Hoja1!$A$1/CW$1))","v":0},{"$f":"IF(CX$1>$E$11,0,IF($G7=0,0,(CX$1-$G7)*Hoja1!$A$1/CX$1))","v":0},{"$f":"IF(CY$1>$E$11,0,IF($G7=0,0,(CY$1-$G7)*Hoja1!$A$1/CY$1))","v":0},{"$f":"IF(CZ$1>$E$11,0,IF($G7=0,0,(CZ$1-$G7)*Hoja1!$A$1/CZ$1))","v":0},{"$f":"IF(DA$1>$E$11,0,IF($G7=0,0,(DA$1-$G7)*Hoja1!$A$1/DA$1))","v":0},{"$f":"IF(DB$1>$E$11,0,IF($G7=0,0,(DB$1-$G7)*Hoja1!$A$1/DB$1))","v":0},{"$f":"IF(DC$1>$E$11,0,IF($G7=0,0,(DC$1-$G7)*Hoja1!$A$1/DC$1))","v":0},{"$f":"IF(DD$1>$E$11,0,IF($G7=0,0,(DD$1-$G7)*Hoja1!$A$1/DD$1))","v":0},{"$f":"IF(DE$1>$E$11,0,IF($G7=0,0,(DE$1-$G7)*Hoja1!$A$1/DE$1))","v":0},{"$f":"IF(DF$1>$E$11,0,IF($G7=0,0,(DF$1-$G7)*Hoja1!$A$1/DF$1))","v":0},{"$f":"IF(DG$1>$E$11,0,IF($G7=0,0,(DG$1-$G7)*Hoja1!$A$1/DG$1))","v":0},{"$f":"IF(DH$1>$E$11,0,IF($G7=0,0,(DH$1-$G7)*Hoja1!$A$1/DH$1))","v":0},{"$f":"IF(DI$1>$E$11,0,IF($G7=0,0,(DI$1-$G7)*Hoja1!$A$1/DI$1))","v":0},{"$f":"IF(DJ$1>$E$11,0,IF($G7=0,0,(DJ$1-$G7)*Hoja1!$A$1/DJ$1))","v":0},{"$f":"IF(DK$1>$E$11,0,IF($G7=0,0,(DK$1-$G7)*Hoja1!$A$1/DK$1))","v":0},{"$f":"IF(DL$1>$E$11,0,IF($G7=0,0,(DL$1-$G7)*Hoja1!$A$1/DL$1))","v":0},{"$f":"IF(DM$1>$E$11,0,IF($G7=0,0,(DM$1-$G7)*Hoja1!$A$1/DM$1))","v":0}]
[null,null,null,null,null,58.664999999999992,0,{"$f":"IF(H$1>$E$11,0,IF($G8=0,0,(H$1-$G8)*Hoja1!$A$1/H$1))","v":0},{"$f":"IF(I$1>$E$11,0,IF($G8=0,0,(I$1-$G8)*Hoja1!$A$1/I$1))","v":0},{"$f":"IF(J$1>$E$11,0,IF($G8=0,0,(J$1-$G8)*Hoja1!$A$1/J$1))","v":0},{"$f":"IF(K$1>$E$11,0,IF($G8=0,0,(K$1-$G8)*Hoja1!$A$1/K$1))","v":0},{"$f":"IF(L$1>$E$11,0,IF($G8=0,0,(L$1-$G8)*Hoja1!$A$1/L$1))","v":0},{"$f":"IF(M$1>$E$11,0,IF($G8=0,0,(M$1-$G8)*Hoja1!$A$1/M$1))","v":0},{"$f":"IF(N$1>$E$11,0,IF($G8=0,0,(N$1-$G8)*Hoja1!$A$1/N$1))","v":0},{"$f":"IF(O$1>$E$11,0,IF($G8=0,0,(O$1-$G8)*Hoja1!$A$1/O$1))","v":0},{"$f":"IF(P$1>$E$11,0,IF($G8=0,0,(P$1-$G8)*Hoja1!$A$1/P$1))","v":0},{"$f":"IF(Q$1>$E$11,0,IF($G8=0,0,(Q$1-$G8)*Hoja1!$A$1/Q$1))","v":0},{"$f":"IF(R$1>$E$11,0,IF($G8=0,0,(R$1-$G8)*Hoja1!$A$1/R$1))","v":0},{"$f":"IF(S$1>$E$11,0,IF($G8=0,0,(S$1-$G8)*Hoja1!$A$1/S$1))","v":0},{"$f":"IF(T$1>$E$11,0,IF($G8=0,0,(T$1-$G8)*Hoja1!$A$1/T$1))","v":0},{"$f":"IF(U$1>$E$11,0,IF($G8=0,0,(U$1-$G8)*Hoja1!$A$1/U$1))","v":0},{"$f":"IF(V$1>$E$11,0,IF($G8=0,0,(V$1-$G8)*Hoja1!$A$1/V$1))","v":0},{"$f":"IF(W$1>$E$11,0,IF($G8=0,0,(W$1-$G8)*Hoja1!$A$1/W$1))","v":0},{"$f":"IF(X$1>$E$11,0,IF($G8=0,0,(X$1-$G8)*Hoja1!$A$1/X$1))","v":0},{"$f":"IF(Y$1>$E$11,0,IF($G8=0,0,(Y$1-$G8)*Hoja1!$A$1/Y$1))","v":0},{"$f":"IF(Z$1>$E$11,0,IF($G8=0,0,(Z$1-$G8)*Hoja1!$A$1/Z$1))","v":0},{"$f":"IF(AA$1>$E$11,0,IF($G8=0,0,(AA$1-$G8)*Hoja1!$A$1/AA$1))","v":0},{"$f":"IF(AB$1>$E$11,0,IF($G8=0,0,(AB$1-$G8)*Hoja1!$A$1/AB$1))","v":0},{"$f":"IF(AC$1>$E$11,0,IF($G8=0,0,(AC$1-$G8)*Hoja1!$A$1/AC$1))","v":0},{"$f":"IF(AD$1>$E$11,0,IF($G8=0,0,(AD$1-$G8)*Hoja1!$A$1/AD$1))","v":0},{"$f":"IF(AE$1>$E$11,0,IF($G8=0,0,(AE$1-$G8)*Hoja1!$A$1/AE$1))","v":0},{"$f":"IF(AF$1>$E$11,0,IF($G8=0,0,(AF$1-$G8)*Hoja1!$A$1/AF$1))","v":0},{"$f":"IF(AG$1>$E$11,0,IF($G8=0,0,(AG$1-$G8)*Hoja1!$A$1/AG$1))","v":0},{"$f":"IF(AH$1>$E$11,0,IF($G8=0,0,(AH$1-$G8)*Hoja1!$A$1/AH$1))","v":0},{"$f":"IF(AI$1>$E$11,0,IF($G8=0,0,(AI$1-$G8)*Hoja1!$A$1/AI$1))","v":0},{"$f":"IF(AJ$1>$E$11,0,IF($G8=0,0,(AJ$1-$G8)*Hoja1!$A$1/AJ$1))","v":0},{"$f":"IF(AK$1>$E$11,0,IF($G8=0,0,(AK$1-$G8)*Hoja1!$A$1/AK$1))","v":0},{"$f":"IF(AL$1>$E$11,0,IF($G8=0,0,(AL$1-$G8)*Hoja1!$A$1/AL$1))","v":0},{"$f":"IF(AM$1>$E$11,0,IF($G8=0,0,(AM$1-$G8)*Hoja1!$A$1/AM$1))","v":0},{"$f":"IF(AN$1>$E$11,0,IF($G8=0,0,(AN$1-$G8)*Hoja1!$A$1/AN$1))","v":0},{"$f":"IF(AO$1>$E$11,0,IF($G8=0,0,(AO$1-$G8)*Hoja1!$A$1/AO$1))","v":0},{"$f":"IF(AP$1>$E$11,0,IF($G8=0,0,(AP$1-$G8)*Hoja1!$A$1/AP$1))","v":0},{"$f":"IF(AQ$1>$E$11,0,IF($G8=0,0,(AQ$1-$G8)*Hoja1!$A$1/AQ$1))","v":0},{"$f":"IF(AR$1>$E$11,0,IF($G8=0,0,(AR$1-$G8)*Hoja1!$A$1/AR$1))","v":0},{"$f":"IF(AS$1>$E$11,0,IF($G8=0,0,(AS$1-$G8)*Hoja1!$A$1/AS$1))","v":0},{"$f":"IF(AT$1>$E$11,0,IF($G8=0,0,(AT$1-$G8)*Hoja1!$A$1/AT$1))","v":0},{"$f":"IF(AU$1>$E$11,0,IF($G8=0,0,(AU$1-$G8)*Hoja1!$A$1/AU$1))","v":0},{"$f":"IF(AV$1>$E$11,0,IF($G8=0,0,(AV$1-$G8)*Hoja1!$A$1/AV$1))","v":0},{"$f":"IF(AW$1>$E$11,0,IF($G8=0,0,(AW$1-$G8)*Hoja1!$A$1/AW$1))","v":0},{"$f":"IF(AX$1>$E$11,0,IF($G8=0,0,(AX$1-$G8)*Hoja1!$A$1/AX$1))","v":0},{"$f":"IF(AY$1>$E$11,0,IF($G8=0,0,(AY$1-$G8)*Hoja1!$A$1/AY$1))","v":0},{"$f":"IF(AZ$1>$E$11,0,IF($G8=0,0,(AZ$1-$G8)*Hoja1!$A$1/AZ$1))","v":0},{"$f":"IF(BA$1>$E$11,0,IF($G8=0,0,(BA$1-$G8)*Hoja1!$A$1/BA$1))","v":0},{"$f":"IF(BB$1>$E$11,0,IF($G8=0,0,(BB$1-$G8)*Hoja1!$A$1/BB$1))","v":0},{"$f":"IF(BC$1>$E$11,0,IF($G8=0,0,(BC$1-$G8)*Hoja1!$A$1/BC$1))","v":0},{"$f":"IF(BD$1>$E$11,0,IF($G8=0,0,(BD$1-$G8)*Hoja1!$A$1/BD$1))","v":0},{"$f":"IF(BE$1>$E$11,0,IF($G8=0,0,(BE$1-$G8)*Hoja1!$A$1/BE$1))","v":0},{"$f":"IF(BF$1>$E$11,0,IF($G8=0,0,(BF$1-$G8)*Hoja1!$A$1/BF$1))","v":0},{"$f":"IF(BG$1>$E$11,0,IF($G8=0,0,(BG$1-$G8)*Hoja1!$A$1/BG$1))","v":0},{"$f":"IF(BH$1>$E$11,0,IF($G8=0,0,(BH$1-$G8)*Hoja1!$A$1/BH$1))","v":0},{"$f":"IF(BI$1>$E$11,0,IF($G8=0,0,(BI$1-$G8)*Hoja1!$A$1/BI$1))","v":0},{"$f":"IF(BJ$1>$E$11,0,IF($G8=0,0,(BJ$1-$G8)*Hoja1!$A$1/BJ$1))","v":0},{"$f":"IF(BK$1>$E$11,0,IF($G8=0,0,(BK$1-$G8)*Hoja1!$A$1/BK$1))","v":0},{"$f":"IF(BL$1>$E$11,0,IF($G8=0,0,(BL$1-$G8)*Hoja1!$A$1/BL$1))","v":0},{"$f":"IF(BM$1>$E$11,0,IF($G8=0,0,(BM$1-$G8)*Hoja1!$A$1/BM$1))","v":0},{"$f":"IF(BN$1>$E$11,0,IF($G8=0,0,(BN$1-$G8)*Hoja1!$A$1/BN$1))","v":0},{"$f":"IF(BO$1>$E$11,0,IF($G8=0,0,(BO$1-$G8)*Hoja1!$A$1/BO$1))","v":0},{"$f":"IF(BP$1>$E$11,0,IF($G8=0,0,(BP$1-$G8)*Hoja1!$A$1/BP$1))","v":0},{"$f":"IF(BQ$1>$E$11,0,IF($G8=0,0,(BQ$1-$G8)*Hoja1!$A$1/BQ$1))","v":0},{"$f":"IF(BR$1>$E$11,0,IF($G8=0,0,(BR$1-$G8)*Hoja1!$A$1/BR$1))","v":0},{"$f":"IF(BS$1>$E$11,0,IF($G8=0,0,(BS$1-$G8)*Hoja1!$A$1/BS$1))","v":0},{"$f":"IF(BT$1>$E$11,0,IF($G8=0,0,(BT$1-$G8)*Hoja1!$A$1/BT$1))","v":0},{"$f":"IF(BU$1>$E$11,0,IF($G8=0,0,(BU$1-$G8)*Hoja1!$A$1/BU$1))","v":0},{"$f":"IF(BV$1>$E$11,0,IF($G8=0,0,(BV$1-$G8)*Hoja1!$A$1/BV$1))","v":0},{"$f":"IF(BW$1>$E$11,0,IF($G8=0,0,(BW$1-$G8)*Hoja1!$A$1/BW$1))","v":0},{"$f":"IF(BX$1>$E$11,0,IF($G8=0,0,(BX$1-$G8)*Hoja1!$A$1/BX$1))","v":0},{"$f":"IF(BY$1>$E$11,0,IF($G8=0,0,(BY$1-$G8)*Hoja1!$A$1/BY$1))","v":0},{"$f":"IF(BZ$1>$E$11,0,IF($G8=0,0,(BZ$1-$G8)*Hoja1!$A$1/BZ$1))","v":0},{"$f":"IF(CA$1>$E$11,0,IF($G8=0,0,(CA$1-$G8)*Hoja1!$A$1/CA$1))","v":0},{"$f":"IF(CB$1>$E$11,0,IF($G8=0,0,(CB$1-$G8)*Hoja1!$A$1/CB$1))","v":0},{"$f":"IF(CC$1>$E$11,0,IF($G8=0,0,(CC$1-$G8)*Hoja1!$A$1/CC$1))","v":0},{"$f":"IF(CD$1>$E$11,0,IF($G8=0,0,(CD$1-$G8)*Hoja1!$A$1/CD$1))","v":0},{"$f":"IF(CE$1>$E$11,0,IF($G8=0,0,(CE$1-$G8)*Hoja1!$A$1/CE$1))","v":0},{"$f":"IF(CF$1>$E$11,0,IF($G8=0,0,(CF$1-$G8)*Hoja1!$A$1/CF$1))","v":0},{"$f":"IF(CG$1>$E$11,0,IF($G8=0,0,(CG$1-$G8)*Hoja1!$A$1/CG$1))","v":0},{"$f":"IF(CH$1>$E$11,0,IF($G8=0,0,(CH$1-$G8)*Hoja1!$A$1/CH$1))","v":0},{"$f":"IF(CI$1>$E$11,0,IF($G8=0,0,(CI$1-$G8)*Hoja1!$A$1/CI$1))","v":0},{"$f":"IF(CJ$1>$E$11,0,IF($G8=0,0,(CJ$1-$G8)*Hoja1!$A$1/CJ$1))","v":0},{"$f":"IF(CK$1>$E$11,0,IF($G8=0,0,(CK$1-$G8)*Hoja1!$A$1/CK$1))","v":0},{"$f":"IF(CL$1>$E$11,0,IF($G8=0,0,(CL$1-$G8)*Hoja1!$A$1/CL$1))","v":0},{"$f":"IF(CM$1>$E$11,0,IF($G8=0,0,(CM$1-$G8)*Hoja1!$A$1/CM$1))","v":0},{"$f":"IF(CN$1>$E$11,0,IF($G8=0,0,(CN$1-$G8)*Hoja1!$A$1/CN$1))","v":0},{"$f":"IF(CO$1>$E$11,0,IF($G8=0,0,(CO$1-$G8)*Hoja1!$A$1/CO$1))","v":0},{"$f":"IF(CP$1>$E$11,0,IF($G8=0,0,(CP$1-$G8)*Hoja1!$A$1/CP$1))","v":0},{"$f":"IF(CQ$1>$E$11,0,IF($G8=0,0,(CQ$1-$G8)*Hoja1!$A$1/CQ$1))","v":0},{"$f":"IF(CR$1>$E$11,0,IF($G8=0,0,(CR$1-$G8)*Hoja1!$A$1/CR$1))","v":0},{"$f":"IF(CS$1>$E$11,0,IF($G8=0,0,(CS$1-$G8)*Hoja1!$A$1/CS$1))","v":0},{"$f":"IF(CT$1>$E$11,0,IF($G8=0,0,(CT$1-$G8)*Hoja1!$A$1/CT$1))","v":0},{"$f":"IF(CU$1>$E$11,0,IF($G8=0,0,(CU$1-$G8)*Hoja1!$A$1/CU$1))","v":0},{"$f":"IF(CV$1>$E$11,0,IF($G8=0,0,(CV$1-$G8)*Hoja1!$A$1/CV$1))","v":0},{"$f":"IF(CW$1>$E$11,0,IF($G8=0,0,(CW$1-$G8)*Hoja1!$A$1/CW$1))","v":0},{"$f":"IF(CX$1>$E$11,0,IF($G8=0,0,(CX$1-$G8)*Hoja1!$A$1/CX$1))","v":0},{"$f":"IF(CY$1>$E$11,0,IF($G8=0,0,(CY$1-$G8)*Hoja1!$A$1/CY$1))","v":0},{"$f":"IF(CZ$1>$E$11,0,IF($G8=0,0,(CZ$1-$G8)*Hoja1!$A$1/CZ$1))","v":0},{"$f":"IF(DA$1>$E$11,0,IF($G8=0,0,(DA$1-$G8)*Hoja1!$A$1/DA$1))","v":0},{"$f":"IF(DB$1>$E$11,0,IF($G8=0,0,(DB$1-$G8)*Hoja1!$A$1/DB$1))","v":0},{"$f":"IF(DC$1>$E$11,0,IF($G8=0,0,(DC$1-$G8)*Hoja1!$A$1/DC$1))","v":0},{"$f":"IF(DD$1>$E$11,0,IF($G8=0,0,(DD$1-$G8)*Hoja1!$A$1/DD$1))","v":0},{"$f":"IF(DE$1>$E$11,0,IF($G8=0,0,(DE$1-$G8)*Hoja1!$A$1/DE$1))","v":0},{"$f":"IF(DF$1>$E$11,0,IF($G8=0,0,(DF$1-$G8)*Hoja1!$A$1/DF$1))","v":0},{"$f":"IF(DG$1>$E$11,0,IF($G8=0,0,(DG$1-$G8)*Hoja1!$A$1/DG$1))","v":0},{"$f":"IF(DH$1>$E$11,0,IF($G8=0,0,(DH$1-$G8)*Hoja1!$A$1/DH$1))","v":0},{"$f":"IF(DI$1>$E$11,0,IF($G8=0,0,(DI$1-$G8)*Hoja1!$A$1/DI$1))","v":0},{"$f":"IF(DJ$1>$E$11,0,IF($G8=0,0,(DJ$1-$G8)*Hoja1!$A$1/DJ$1))","v":0},{"$f":"IF(DK$1>$E$11,0,IF($G8=0,0,(DK$1-$G8)*Hoja1!$A$1/DK$1))","v":0},{"$f":"IF(DL$1>$E$11,0,IF($G8=0,0,(DL$1-$G8)*Hoja1!$A$1/DL$1))","v":0},{"$f":"IF(DM$1>$E$11,0,IF($G8=0,0,(DM$1-$G8)*Hoja1!$A$1/DM$1))","v":0}]
[null,"ANCHO X",{"$f":"Hoja2!M9","v":40},null,null,71.85499999999999,{"$f":"IF(E$10>=F9,F9,0)","v":0},{"$f":"IF(H$1>$E$11,0,IF($G9=0,0,(H$1-$G9)*Hoja1!$A$1/H$1))","v":0},{"$f":"IF(I$1>$E$11,0,IF($G9=0,0,(I$1-$G9)*Hoja1!$A$1/I$1))","v":0},{"$f":"IF(J$1>$E$11,0,IF($G9=0,0,(J$1-$G9)*Hoja1!$A$1/J$1))","v":0},{"$f":"IF(K$1>$E$11,0,IF($G9=0,0,(K$1-$G9)*Hoja1!$A$1/K$1))","v":0},{"$f":"IF(L$1>$E$11,0,IF($G9=0,0,(L$1-$G9)*Hoja1!$A$1/L$1))","v":0},{"$f":"IF(M$1>$E$11,0,IF($G9=0,0,(M$1-$G9)*Hoja1!$A$1/M$1))","v":0},{"$f":"IF(N$1>$E$11,0,IF($G9=0,0,(N$1-$G9)*Hoja1!$A$1/N$1))","v":0},{"$f":"IF(O$1>$E$11,0,IF($G9=0,0,(O$1-$G9)*Hoja1!$A$1/O$1))","v":0},{"$f":"IF(P$1>$E$11,0,IF($G9=0,0,(P$1-$G9)*Hoja1!$A$1/P$1))","v":0},{"$f":"IF(Q$1>$E$11,0,IF($G9=0,0,(Q$1-$G9)*Hoja1!$A$1/Q$1))","v":0},{"$f":"IF(R$1>$E$11,0,IF($G9=0,0,(R$1-$G9)*Hoja1!$A$1/R$1))","v":0},{"$f":"IF(S$1>$E$11,0,IF($G9=0,0,(S$1-$G9)*Hoja1!$A$1/S$1))","v":0},{"$f":"IF(T$1>$E$11,0,IF($G9=0,0,(T$1-$G9)*Hoja1!$A$1/T$1))","v":0},{"$f":"IF(U$1>$E$11,0,IF($G9=0,0,(U$1-$G9)*Hoja1!$A$1/U$1))","v":0},{"$f":"IF(V$1>$E$11,0,IF($G9=0,0,(V$1-$G9)*Hoja1!$A$1/V$1))","v":0},{"$f":"IF(W$1>$E$11,0,IF($G9=0,0,(W$1-$G9)*Hoja1!$A$1/W$1))","v":0},{"$f":"IF(X$1>$E$11,0,IF($G9=0,0,(X$1-$G9)*Hoja1!$A$1/X$1))","v":0},{"$f":"IF(Y$1>$E$11,0,IF($G9=0,0,(Y$1-$G9)*Hoja1!$A$1/Y$1))","v":0},{"$f":"IF(Z$1>$E$11,0,IF($G9=0,0,(Z$1-$G9)*Hoja1!$A$1/Z$1))","v":0},{"$f":"IF(AA$1>$E$11,0,IF($G9=0,0,(AA$1-$G9)*Hoja1!$A$1/AA$1))","v":0},{"$f":"IF(AB$1>$E$11,0,IF($G9=0,0,(AB$1-$G9)*Hoja1!$A$1/AB$1))","v":0},{"$f":"IF(AC$1>$E$11,0,IF($G9=0,0,(AC$1-$G9)*Hoja1!$A$1/AC$1))","v":0},{"$f":"IF(AD$1>$E$11,0,IF($G9=0,0,(AD$1-$G9)*Hoja1!$A$1/AD$1))","v":0},{"$f":"IF(AE$1>$E$11,0,IF($G9=0,0,(AE$1-$G9)*Hoja1!$A$1/AE$1))","v":0},{"$f":"IF(AF$1>$E$11,0,IF($G9=0,0,(AF$1-$G9)*Hoja1!$A$1/AF$1))","v":0},{"$f":"IF(AG$1>$E$11,0,IF($G9=0,0,(AG$1-$G9)*Hoja1!$A$1/AG$1))","v":0},{"$f":"IF(AH$1>$E$11,0,IF($G9=0,0,(AH$1-$G9)*Hoja1!$A$1/AH$1))","v":0},{"$f":"IF(AI$1>$E$11,0,IF($G9=0,0,(AI$1-$G9)*Hoja1!$A$1/AI$1))","v":0},{"$f":"IF(AJ$1>$E$11,0,IF($G9=0,0,(AJ$1-$G9)*Hoja1!$A$1/AJ$1))","v":0},{"$f":"IF(AK$1>$E$11,0,IF($G9=0,0,(AK$1-$G9)*Hoja1!$A$1/AK$1))","v":0},{"$f":"IF(AL$1>$E$11,0,IF($G9=0,0,(AL$1-$G9)*Hoja1!$A$1/AL$1))","v":0},{"$f":"IF(AM$1>$E$11,0,IF($G9=0,0,(AM$1-$G9)*Hoja1!$A$1/AM$1))","v":0},{"$f":"IF(AN$1>$E$11,0,IF($G9=0,0,(AN$1-$G9)*Hoja1!$A$1/AN$1))","v":0},{"$f":"IF(AO$1>$E$11,0,IF($G9=0,0,(AO$1-$G9)*Hoja1!$A$1/AO$1))","v":0},{"$f":"IF(AP$1>$E$11,0,IF($G9=0,0,(AP$1-$G9)*Hoja1!$A$1/AP$1))","v":0},{"$f":"IF(AQ$1>$E$11,0,IF($G9=0,0,(AQ$1-$G9)*Hoja1!$A$1/AQ$1))","v":0},{"$f":"IF(AR$1>$E$11,0,IF($G9=0,0,(AR$1-$G9)*Hoja1!$A$1/AR$1))","v":0},{"$f":"IF(AS$1>$E$11,0,IF($G9=0,0,(AS$1-$G9)*Hoja1!$A$1/AS$1))","v":0},{"$f":"IF(AT$1>$E$11,0,IF($G9=0,0,(AT$1-$G9)*Hoja1!$A$1/AT$1))","v":0},{"$f":"IF(AU$1>$E$11,0,IF($G9=0,0,(AU$1-$G9)*Hoja1!$A$1/AU$1))","v":0},{"$f":"IF(AV$1>$E$11,0,IF($G9=0,0,(AV$1-$G9)*Hoja1!$A$1/AV$1))","v":0},{"$f":"IF(AW$1>$E$11,0,IF($G9=0,0,(AW$1-$G9)*Hoja1!$A$1/AW$1))","v":0},{"$f":"IF(AX$1>$E$11,0,IF($G9=0,0,(AX$1-$G9)*Hoja1!$A$1/AX$1))","v":0},{"$f":"IF(AY$1>$E$11,0,IF($G9=0,0,(AY$1-$G9)*Hoja1!$A$1/AY$1))","v":0},{"$f":"IF(AZ$1>$E$11,0,IF($G9=0,0,(AZ$1-$G9)*Hoja1!$A$1/AZ$1))","v":0},{"$f":"IF(BA$1>$E$11,0,IF($G9=0,0,(BA$1-$G9)*Hoja1!$A$1/BA$1))","v":0},{"$f":"IF(BB$1>$E$11,0,IF($G9=0,0,(BB$1-$G9)*Hoja1!$A$1/BB$1))","v":0},{"$f":"IF(BC$1>$E$11,0,IF($G9=0,0,(BC$1-$G9)*Hoja1!$A$1/BC$1))","v":0},{"$f":"IF(BD$1>$E$11,0,IF($G9=0,0,(BD$1-$G9)*Hoja1!$A$1/BD$1))","v":0},{"$f":"IF(BE$1>$E$11,0,IF($G9=0,0,(BE$1-$G9)*Hoja1!$A$1/BE$1))","v":0},{"$f":"IF(BF$1>$E$11,0,IF($G9=0,0,(BF$1-$G9)*Hoja1!$A$1/BF$1))","v":0},{"$f":"IF(BG$1>$E$11,0,IF($G9=0,0,(BG$1-$G9)*Hoja1!$A$1/BG$1))","v":0},{"$f":"IF(BH$1>$E$11,0,IF($G9=0,0,(BH$1-$G9)*Hoja1!$A$1/BH$1))","v":0},{"$f":"IF(BI$1>$E$11,0,IF($G9=0,0,(BI$1-$G9)*Hoja1!$A$1/BI$1))","v":0},{"$f":"IF(BJ$1>$E$11,0,IF($G9=0,0,(BJ$1-$G9)*Hoja1!$A$1/BJ$1))","v":0},{"$f":"IF(BK$1>$E$11,0,IF($G9=0,0,(BK$1-$G9)*Hoja1!$A$1/BK$1))","v":0},{"$f":"IF(BL$1>$E$11,0,IF($G9=0,0,(BL$1-$G9)*Hoja1!$A$1/BL$1))","v":0},{"$f":"IF(BM$1>$E$11,0,IF($G9=0,0,(BM$1-$G9)*Hoja1!$A$1/BM$1))","v":0},{"$f":"IF(BN$1>$E$11,0,IF($G9=0,0,(BN$1-$G9)*Hoja1!$A$1/BN$1))","v":0},{"$f":"IF(BO$1>$E$11,0,IF($G9=0,0,(BO$1-$G9)*Hoja1!$A$1/BO$1))","v":0},{"$f":"IF(BP$1>$E$11,0,IF($G9=0,0,(BP$1-$G9)*Hoja1!$A$1/BP$1))","v":0},{"$f":"IF(BQ$1>$E$11,0,IF($G9=0,0,(BQ$1-$G9)*Hoja1!$A$1/BQ$1))","v":0},{"$f":"IF(BR$1>$E$11,0,IF($G9=0,0,(BR$1-$G9)*Hoja1!$A$1/BR$1))","v":0},{"$f":"IF(BS$1>$E$11,0,IF($G9=0,0,(BS$1-$G9)*Hoja1!$A$1/BS$1))","v":0},{"$f":"IF(BT$1>$E$11,0,IF($G9=0,0,(BT$1-$G9)*Hoja1!$A$1/BT$1))","v":0},{"$f":"IF(BU$1>$E$11,0,IF($G9=0,0,(BU$1-$G9)*Hoja1!$A$1/BU$1))","v":0},{"$f":"IF(BV$1>$E$11,0,IF($G9=0,0,(BV$1-$G9)*Hoja1!$A$1/BV$1))","v":0},{"$f":"IF(BW$1>$E$11,0,IF($G9=0,0,(BW$1-$G9)*Hoja1!$A$1/BW$1))","v":0},{"$f":"IF(BX$1>$E$11,0,IF($G9=0,0,(BX$1-$G9)*Hoja1!$A$1/BX$1))","v":0},{"$f":"IF(BY$1>$E$11,0,IF($G9=0,0,(BY$1-$G9)*Hoja1!$A$1/BY$1))","v":0},{"$f":"IF(BZ$1>$E$11,0,IF($G9=0,0,(BZ$1-$G9)*Hoja1!$A$1/BZ$1))","v":0},{"$f":"IF(CA$1>$E$11,0,IF($G9=0,0,(CA$1-$G9)*Hoja1!$A$1/CA$1))","v":0},{"$f":"IF(CB$1>$E$11,0,IF($G9=0,0,(CB$1-$G9)*Hoja1!$A$1/CB$1))","v":0},{"$f":"IF(CC$1>$E$11,0,IF($G9=0,0,(CC$1-$G9)*Hoja1!$A$1/CC$1))","v":0},{"$f":"IF(CD$1>$E$11,0,IF($G9=0,0,(CD$1-$G9)*Hoja1!$A$1/CD$1))","v":0},{"$f":"IF(CE$1>$E$11,0,IF($G9=0,0,(CE$1-$G9)*Hoja1!$A$1/CE$1))","v":0},{"$f":"IF(CF$1>$E$11,0,IF($G9=0,0,(CF$1-$G9)*Hoja1!$A$1/CF$1))","v":0},{"$f":"IF(CG$1>$E$11,0,IF($G9=0,0,(CG$1-$G9)*Hoja1!$A$1/CG$1))","v":0},{"$f":"IF(CH$1>$E$11,0,IF($G9=0,0,(CH$1-$G9)*Hoja1!$A$1/CH$1))","v":0},{"$f":"IF(CI$1>$E$11,0,IF($G9=0,0,(CI$1-$G9)*Hoja1!$A$1/CI$1))","v":0},{"$f":"IF(CJ$1>$E$11,0,IF($G9=0,0,(CJ$1-$G9)*Hoja1!$A$1/CJ$1))","v":0},{"$f":"IF(CK$1>$E$11,0,IF($G9=0,0,(CK$1-$G9)*Hoja1!$A$1/CK$1))","v":0},{"$f":"IF(CL$1>$E$11,0,IF($G9=0,0,(CL$1-$G9)*Hoja1!$A$1/CL$1))","v":0},{"$f":"IF(CM$1>$E$11,0,IF($G9=0,0,(CM$1-$G9)*Hoja1!$A$1/CM$1))","v":0},{"$f":"IF(CN$1>$E$11,0,IF($G9=0,0,(CN$1-$G9)*Hoja1!$A$1/CN$1))","v":0},{"$f":"IF(CO$1>$E$11,0,IF($G9=0,0,(CO$1-$G9)*Hoja1!$A$1/CO$1))","v":0},{"$f":"IF(CP$1>$E$11,0,IF($G9=0,0,(CP$1-$G9)*Hoja1!$A$1/CP$1))","v":0},{"$f":"IF(CQ$1>$E$11,0,IF($G9=0,0,(CQ$1-$G9)*Hoja1!$A$1/CQ$1))","v":0},{"$f":"IF(CR$1>$E$11,0,IF($G9=0,0,(CR$1-$G9)*Hoja1!$A$1/CR$1))","v":0},{"$f":"IF(CS$1>$E$11,0,IF($G9=0,0,(CS$1-$G9)*Hoja1!$A$1/CS$1))","v":0},{"$f":"IF(CT$1>$E$11,0,IF($G9=0,0,(CT$1-$G9)*Hoja1!$A$1/CT$1))","v":0},{"$f":"IF(CU$1>$E$11,0,IF($G9=0,0,(CU$1-$G9)*Hoja1!$A$1/CU$1))","v":0},{"$f":"IF(CV$1>$E$11,0,IF($G9=0,0,(CV$1-$G9)*Hoja1!$A$1/CV$1))","v":0},{"$f":"IF(CW$1>$E$11,0,IF($G9=0,0,(CW$1-$G9)*Hoja1!$A$1/CW$1))","v":0},{"$f":"IF(CX$1>$E$11,0,IF($G9=0,0,(CX$1-$G9)*Hoja1!$A$1/CX$1))","v":0},{"$f":"IF(CY$1>$E$11,0,IF($G9=0,0,(CY$1-$G9)*Hoja1!$A$1/CY$1))","v":0},{"$f":"IF(CZ$1>$E$11,0,IF($G9=0,0,(CZ$1-$G9)*Hoja1!$A$1/CZ$1))","v":0},{"$f":"IF(DA$1>$E$11,0,IF($G9=0,0,(DA$1-$G9)*Hoja1!$A$1/DA$1))","v":0},{"$f":"IF(DB$1>$E$11,0,IF($G9=0,0,(DB$1-$G9)*Hoja1!$A$1/DB$1))","v":0},{"$f":"IF(DC$1>$E$11,0,IF($G9=0,0,(DC$1-$G9)*Hoja1!$A$1/DC$1))","v":0},{"$f":"IF(DD$1>$E$11,0,IF($G9=0,0,(DD$1-$G9)*Hoja1!$A$1/DD$1))","v":0},{"$f":"IF(DE$1>$E$11,0,IF($G9=0,0,(DE$1-$G9)*Hoja1!$A$1/DE$1))","v":0},{"$f":"IF(DF$1>$E$11,0,IF($G9=0,0,(DF$1-$G9)*Hoja1!$A$1/DF$1))","v":0},{"$f":"IF(DG$1>$E$11,0,IF($G9=0,0,(DG$1-$G9)*Hoja1!$A$1/DG$1))","v":0},{"$f":"IF(DH$1>$E$11,0,IF($G9=0,0,(DH$1-$G9)*Hoja1!$A$1/DH$1))","v":0},{"$f":"IF(DI$1>$E$11,0,IF($G9=0,0,(DI$1-$G9)*Hoja1!$A$1/DI$1))","v":0},{"$f":"IF(DJ$1>$E$11,0,IF($G9=0,0,(DJ$1-$G9)*Hoja1!$A$1/DJ$1))","v":0},{"$f":"IF(DK$1>$E$11,0,IF($G9=0,0,(DK$1-$G9)*Hoja1!$A$1/DK$1))","v":0},{"$f":"IF(DL$1>$E$11,0,IF($G9=0,0,(DL$1-$G9)*Hoja1!$A$1/DL$1))","v":0},{"$f":"IF(DM$1>$E$11,0,IF($G9=0,0,(DM$1-$G9)*Hoja1!$A$1/DM$1))","v":0}]
[null,"LARGO Y",{"$f":"Hoja2!M8","v":25},"CONCTROL",{"$f":"C10-C5","v":19.094999999999999},85.044999999999987,{"$f":"IF(E$10>=F10,F10,0)","v":0},{"$f":"IF(H$1>$E$11,0,IF($G10=0,0,(H$1-$G10)*Hoja1!$A$1/H$1))","v":0},{"$f":"IF(I$1>$E$11,0,IF($G10=0,0,(I$1-$G10)*Hoja1!$A$1/I$1))","v":0},{"$f":"IF(J$1>$E$11,0,IF($G10=0,0,(J$1-$G10)*Hoja1!$A$1/J$1))","v":0},{"$f":"IF(K$1>$E$11,0,IF($G10=0,0,(K$1-$G10)*Hoja1!$A$1/K$1))","v":0},{"$f":"IF(L$1>$E$11,0,IF($G10=0,0,(L$1-$G10)*Hoja1!$A$1/L$1))","v":0},{"$f":"IF(M$1>$E$11,0,IF($G10=0,0,(M$1-$G10)*Hoja1!$A$1/M$1))","v":0},{"$f":"IF(N$1>$E$11,0,IF($G10=0,0,(N$1-$G10)*Hoja1!$A$1/N$1))","v":0},{"$f":"IF(O$1>$E$11,0,IF($G10=0,0,(O$1-$G10)*Hoja1!$A$1/O$1))","v":0},{"$f":"IF(P$1>$E$11,0,IF($G10=0,0,(P$1-$G10)*Hoja1!$A$1/P$1))","v":0},{"$f":"IF(Q$1>$E$11,0,IF($G10=0,0,(Q$1-$G10)*Hoja1!$A$1/Q$1))","v":0},{"$f":"IF(R$1>$E$11,0,IF($G10=0,0,(R$1-$G10)*Hoja1!$A$1/R$1))","v":0},{"$f":"IF(S$1>$E$11,0,IF($G10=0,0,(S$1-$G10)*Hoja1!$A$1/S$1))","v":0},{"$f":"IF(T$1>$E$11,0,IF($G10=0,0,(T$1-$G10)*Hoja1!$A$1/T$1))","v":0},{"$f":"IF(U$1>$E$11,0,IF($G10=0,0,(U$1-$G10)*Hoja1!$A$1/U$1))","v":0},{"$f":"IF(V$1>$E$11,0,IF($G10=0,0,(V$1-$G10)*Hoja1!$A$1/V$1))","v":0},{"$f":"IF(W$1>$E$11,0,IF($G10=0,0,(W$1-$G10)*Hoja1!$A$1/W$1))","v":0},{"$f":"IF(X$1>$E$11,0,IF($G10=0,0,(X$1-$G10)*Hoja1!$A$1/X$1))","v":0},{"$f":"IF(Y$1>$E$11,0,IF($G10=0,0,(Y$1-$G10)*Hoja1!$A$1/Y$1))","v":0},{"$f":"IF(Z$1>$E$11,0,IF($G10=0,0,(Z$1-$G10)*Hoja1!$A$1/Z$1))","v":0},{"$f":"IF(AA$1>$E$11,0,IF($G10=0,0,(AA$1-$G10)*Hoja1!$A$1/AA$1))","v":0},{"$f":"IF(AB$1>$E$11,0,IF($G10=0,0,(AB$1-$G10)*Hoja1!$A$1/AB$1))","v":0},{"$f":"IF(AC$1>$E$11,0,IF($G10=0,0,(AC$1-$G10)*Hoja1!$A$1/AC$1))","v":0},{"$f":"IF(AD$1>$E$11,0,IF($G10=0,0,(AD$1-$G10)*Hoja1!$A$1/AD$1))","v":0},{"$f":"IF(AE$1>$E$11,0,IF($G10=0,0,(AE$1-$G10)*Hoja1!$A$1/AE$1))","v":0},{"$f":"IF(AF$1>$E$11,0,IF($G10=0,0,(AF$1-$G10)*Hoja1!$A$1/AF$1))","v":0},{"$f":"IF(AG$1>$E$11,0,IF($G10=0,0,(AG$1-$G10)*Hoja1!$A$1/AG$1))","v":0},{"$f":"IF(AH$1>$E$11,0,IF($G10=0,0,(AH$1-$G10)*Hoja1!$A$1/AH$1))","v":0},{"$f":"IF(AI$1>$E$11,0,IF($G10=0,0,(AI$1-$G10)*Hoja1!$A$1/AI$1))","v":0},{"$f":"IF(AJ$1>$E$11,0,IF($G10=0,0,(AJ$1-$G10)*Hoja1!$A$1/AJ$1))","v":0},{"$f":"IF(AK$1>$E$11,0,IF($G10=0,0,(AK$1-$G10)*Hoja1!$A$1/AK$1))","v":0},{"$f":"IF(AL$1>$E$11,0,IF($G10=0,0,(AL$1-$G10)*Hoja1!$A$1/AL$1))","v":0},{"$f":"IF(AM$1>$E$11,0,IF($G10=0,0,(AM$1-$G10)*Hoja1!$A$1/AM$1))","v":0},{"$f":"IF(AN$1>$E$11,0,IF($G10=0,0,(AN$1-$G10)*Hoja1!$A$1/AN$1))","v":0},{"$f":"IF(AO$1>$E$11,0,IF($G10=0,0,(AO$1-$G10)*Hoja1!$A$1/AO$1))","v":0},{"$f":"IF(AP$1>$E$11,0,IF($G10=0,0,(AP$1-$G10)*Hoja1!$A$1/AP$1))","v":0},{"$f":"IF(AQ$1>$E$11,0,IF($G10=0,0,(AQ$1-$G10)*Hoja1!$A$1/AQ$1))","v":0},{"$f":"IF(AR$1>$E$11,0,IF($G10=0,0,(AR$1-$G10)*Hoja1!$A$1/AR$1))","v":0},{"$f":"IF(AS$1>$E$11,0,IF($G10=0,0,(AS$1-$G10)*Hoja1!$A$1/AS$1))","v":0},{"$f":"IF(AT$1>$E$11,0,IF($G10=0,0,(AT$1-$G10)*Hoja1!$A$1/AT$1))","v":0},{"$f":"IF(AU$1>$E$11,0,IF($G10=0,0,(AU$1-$G10)*Hoja1!$A$1/AU$1))","v":0},{"$f":"IF(AV$1>$E$11,0,IF($G10=0,0,(AV$1-$G10)*Hoja1!$A$1/AV$1))","v":0},{"$f":"IF(AW$1>$E$11,0,IF($G10=0,0,(AW$1-$G10)*Hoja1!$A$1/AW$1))","v":0},{"$f":"IF(AX$1>$E$11,0,IF($G10=0,0,(AX$1-$G10)*Hoja1!$A$1/AX$1))","v":0},{"$f":"IF(AY$1>$E$11,0,IF($G10=0,0,(AY$1-$G10)*Hoja1!$A$1/AY$1))","v":0},{"$f":"IF(AZ$1>$E$11,0,IF($G10=0,0,(AZ$1-$G10)*Hoja1!$A$1/AZ$1))","v":0},{"$f":"IF(BA$1>$E$11,0,IF($G10=0,0,(BA$1-$G10)*Hoja1!$A$1/BA$1))","v":0},{"$f":"IF(BB$1>$E$11,0,IF($G10=0,0,(BB$1-$G10)*Hoja1!$A$1/BB$1))","v":0},{"$f":"IF(BC$1>$E$11,0,IF($G10=0,0,(BC$1-$G10)*Hoja1!$A$1/BC$1))","v":0},{"$f":"IF(BD$1>$E$11,0,IF($G10=0,0,(BD$1-$G10)*Hoja1!$A$1/BD$1))","v":0},{"$f":"IF(BE$1>$E$11,0,IF($G10=0,0,(BE$1-$G10)*Hoja1!$A$1/BE$1))","v":0},{"$f":"IF(BF$1>$E$11,0,IF($G10=0,0,(BF$1-$G10)*Hoja1!$A$1/BF$1))","v":0},{"$f":"IF(BG$1>$E$11,0,IF($G10=0,0,(BG$1-$G10)*Hoja1!$A$1/BG$1))","v":0},{"$f":"IF(BH$1>$E$11,0,IF($G10=0,0,(BH$1-$G10)*Hoja1!$A$1/BH$1))","v":0},{"$f":"IF(BI$1>$E$11,0,IF($G10=0,0,(BI$1-$G10)*Hoja1!$A$1/BI$1))","v":0},{"$f":"IF(BJ$1>$E$11,0,IF($G10=0,0,(BJ$1-$G10)*Hoja1!$A$1/BJ$1))","v":0},{"$f":"IF(BK$1>$E$11,0,IF($G10=0,0,(BK$1-$G10)*Hoja1!$A$1/BK$1))","v":0},{"$f":"IF(BL$1>$E$11,0,IF($G10=0,0,(BL$1-$G10)*Hoja1!$A$1/BL$1))","v":0},{"$f":"IF(BM$1>$E$11,0,IF($G10=0,0,(BM$1-$G10)*Hoja1!$A$1/BM$1))","v":0},{"$f":"IF(BN$1>$E$11,0,IF($G10=0,0,(BN$1-$G10)*Hoja1!$A$1/BN$1))","v":0},{"$f":"IF(BO$1>$E$11,0,IF($G10=0,0,(BO$1-$G10)*Hoja1!$A$1/BO$1))","v":0},{"$f":"IF(BP$1>$E$11,0,IF($G10=0,0,(BP$1-$G10)*Hoja1!$A$1/BP$1))","v":0},{"$f":"IF(BQ$1>$E$11,0,IF($G10=0,0,(BQ$1-$G10)*Hoja1!$A$1/BQ$1))","v":0},{"$f":"IF(BR$1>$E$11,0,IF($G10=0,0,(BR$1-$G10)*Hoja1!$A$1/BR$1))","v":0},{"$f":"IF(BS$1>$E$11,0,IF($G10=0,0,(BS$1-$G10)*Hoja1!$A$1/BS$1))","v":0},{"$f":"IF(BT$1>$E$11,0,IF($G10=0,0,(BT$1-$G10)*Hoja1!$A$1/BT$1))","v":0},{"$f":"IF(BU$1>$E$11,0,IF($G10=0,0,(BU$1-$G10)*Hoja1!$A$1/BU$1))","v":0},{"$f":"IF(BV$1>$E$11,0,IF($G10=0,0,(BV$1-$G10)*Hoja1!$A$1/BV$1))","v":0},{"$f":"IF(BW$1>$E$11,0,IF($G10=0,0,(BW$1-$G10)*Hoja1!$A$1/BW$1))","v":0},{"$f":"IF(BX$1>$E$11,0,IF($G10=0,0,(BX$1-$G10)*Hoja1!$A$1/BX$1))","v":0},{"$f":"IF(BY$1>$E$11,0,IF($G10=0,0,(BY$1-$G10)*Hoja1!$A$1/BY$1))","v":0},{"$f":"IF(BZ$1>$E$11,0,IF($G10=0,0,(BZ$1-$G10)*Hoja1!$A$1/BZ$1))","v":0},{"$f":"IF(CA$1>$E$11,0,IF($G10=0,0,(CA$1-$G10)*Hoja1!$A$1/CA$1))","v":0},{"$f":"IF(CB$1>$E$11,0,IF($G10=0,0,(CB$1-$G10)*Hoja1!$A$1/CB$1))","v":0},{"$f":"IF(CC$1>$E$11,0,IF($G10=0,0,(CC$1-$G10)*Hoja1!$A$1/CC$1))","v":0},{"$f":"IF(CD$1>$E$11,0,IF($G10=0,0,(CD$1-$G10)*Hoja1!$A$1/CD$1))","v":0},{"$f":"IF(CE$1>$E$11,0,IF($G10=0,0,(CE$1-$G10)*Hoja1!$A$1/CE$1))","v":0},{"$f":"IF(CF$1>$E$11,0,IF($G10=0,0,(CF$1-$G10)*Hoja1!$A$1/CF$1))","v":0},{"$f":"IF(CG$1>$E$11,0,IF($G10=0,0,(CG$1-$G10)*Hoja1!$A$1/CG$1))","v":0},{"$f":"IF(CH$1>$E$11,0,IF($G10=0,0,(CH$1-$G10)*Hoja1!$A$1/CH$1))","v":0},{"$f":"IF(CI$1>$E$11,0,IF($G10=0,0,(CI$1-$G10)*Hoja1!$A$1/CI$1))","v":0},{"$f":"IF(CJ$1>$E$11,0,IF($G10=0,0,(CJ$1-$G10)*Hoja1!$A$1/CJ$1))","v":0},{"$f":"IF(CK$1>$E$11,0,IF($G10=0,0,(CK$1-$G10)*Hoja1!$A$1/CK$1))","v":0},{"$f":"IF(CL$1>$E$11,0,IF($G10=0,0,(CL$1-$G10)*Hoja1!$A$1/CL$1))","v":0},{"$f":"IF(CM$1>$E$11,0,IF($G10=0,0,(CM$1-$G10)*Hoja1!$A$1/CM$1))","v":0},{"$f":"IF(CN$1>$E$11,0,IF($G10=0,0,(CN$1-$G10)*Hoja1!$A$1/CN$1))","v":0},{"$f":"IF(CO$1>$E$11,0,IF($G10=0,0,(CO$1-$G10)*Hoja1!$A$1/CO$1))","v":0},{"$f":"IF(CP$1>$E$11,0,IF($G10=0,0,(CP$1-$G10)*Hoja1!$A$1/CP$1))","v":0},{"$f":"IF(CQ$1>$E$11,0,IF($G10=0,0,(CQ$1-$G10)*Hoja1!$A$1/CQ$1))","v":0},{"$f":"IF(CR$1>$E$11,0,IF($G10=0,0,(CR$1-$G10)*Hoja1!$A$1/CR$1))","v":0},{"$f":"IF(CS$1>$E$11,0,IF($G10=0,0,(CS$1-$G10)*Hoja1!$A$1/CS$1))","v":0},{"$f":"IF(CT$1>$E$11,0,IF($G10=0,0,(CT$1-$G10)*Hoja1!$A$1/CT$1))","v":0},{"$f":"IF(CU$1>$E$11,0,IF($G10=0,0,(CU$1-$G10)*Hoja1!$A$1/CU$1))","v":0},{"$f":"IF(CV$1>$E$11,0,IF($G10=0,0,(CV$1-$G10)*Hoja1!$A$1/CV$1))","v":0},{"$f":"IF(CW$1>$E$11,0,IF($G10=0,0,(CW$1-$G10)*Hoja1!$A$1/CW$1))","v":0},{"$f":"IF(CX$1>$E$11,0,IF($G10=0,0,(CX$1-$G10)*Hoja1!$A$1/CX$1))","v":0},{"$f":"IF(CY$1>$E$11,0,IF($G10=0,0,(CY$1-$G10)*Hoja1!$A$1/CY$1))","v":0},{"$f":"IF(CZ$1>$E$11,0,IF($G10=0,0,(CZ$1-$G10)*Hoja1!$A$1/CZ$1))","v":0},{"$f":"IF(DA$1>$E$11,0,IF($G10=0,0,(DA$1-$G10)*Hoja1!$A$1/DA$1))","v":0},{"$f":"IF(DB$1>$E$11,0,IF($G10=0,0,(DB$1-$G10)*Hoja1!$A$1/DB$1))","v":0},{"$f":"IF(DC$1>$E$11,0,IF($G10=0,0,(DC$1-$G10)*Hoja1!$A$1/DC$1))","v":0},{"$f":"IF(DD$1>$E$11,0,IF($G10=0,0,(DD$1-$G10)*Hoja1!$A$1/DD$1))","v":0},{"$f":"IF(DE$1>$E$11,0,IF($G10=0,0,(DE$1-$G10)*Hoja1!$A$1/DE$1))","v":0},{"$f":"IF(DF$1>$E$11,0,IF($G10=0,0,(DF$1-$G10)*Hoja1!$A$1/DF$1))","v":0},{"$f":"IF(DG$1>$E$11,0,IF($G10=0,0,(DG$1-$G10)*Hoja1!$A$1/DG$1))","v":0},{"$f":"IF(DH$1>$E$11,0,IF($G10=0,0,(DH$1-$G10)*Hoja1!$A$1/DH$1))","v":0},{"$f":"IF(DI$1>$E$11,0,IF($G10=0,0,(DI$1-$G10)*Hoja1!$A$1/DI$1))","v":0},{"$f":"IF(DJ$1>$E$11,0,IF($G10=0,0,(DJ$1-$G10)*Hoja1!$A$1/DJ$1))","v":0},{"$f":"IF(DK$1>$E$11,0,IF($G10=0,0,(DK$1-$G10)*Hoja1!$A$1/DK$1))","v":0},{"$f":"IF(DL$1>$E$11,0,IF($G10=0,0,(DL$1-$G10)*Hoja1!$A$1/DL$1))","v":0},{"$f":"IF(DM$1>$E$11,0,IF($G10=0,0,(DM$1-$G10)*Hoja1!$A$1/DM$1))","v":0}]
[null,null,null,null,{"$f":"C10","v":25},98.234999999999985,0,{"$f":"IF(H$1>$E$11,0,IF($G11=0,0,(H$1-$G11)*Hoja1!$A$1/H$1))","v":0},{"$f":"IF(I$1>$E$11,0,IF($G11=0,0,(I$1-$G11)*Hoja1!$A$1/I$1))","v":0},{"$f":"IF(J$1>$E$11,0,IF($G11=0,0,(J$1-$G11)*Hoja1!$A$1/J$1))","v":0},{"$f":"IF(K$1>$E$11,0,IF($G11=0,0,(K$1-$G11)*Hoja1!$A$1/K$1))","v":0},{"$f":"IF(L$1>$E$11,0,IF($G11=0,0,(L$1-$G11)*Hoja1!$A$1/L$1))","v":0},{"$f":"IF(M$1>$E$11,0,IF($G11=0,0,(M$1-$G11)*Hoja1!$A$1/M$1))","v":0},{"$f":"IF(N$1>$E$11,0,IF($G11=0,0,(N$1-$G11)*Hoja1!$A$1/N$1))","v":0},{"$f":"IF(O$1>$E$11,0,IF($G11=0,0,(O$1-$G11)*Hoja1!$A$1/O$1))","v":0},{"$f":"IF(P$1>$E$11,0,IF($G11=0,0,(P$1-$G11)*Hoja1!$A$1/P$1))","v":0},{"$f":"IF(Q$1>$E$11,0,IF($G11=0,0,(Q$1-$G11)*Hoja1!$A$1/Q$1))","v":0},{"$f":"IF(R$1>$E$11,0,IF($G11=0,0,(R$1-$G11)*Hoja1!$A$1/R$1))","v":0},{"$f":"IF(S$1>$E$11,0,IF($G11=0,0,(S$1-$G11)*Hoja1!$A$1/S$1))","v":0},{"$f":"IF(T$1>$E$11,0,IF($G11=0,0,(T$1-$G11)*Hoja1!$A$1/T$1))","v":0},{"$f":"IF(U$1>$E$11,0,IF($G11=0,0,(U$1-$G11)*Hoja1!$A$1/U$1))","v":0},{"$f":"IF(V$1>$E$11,0,IF($G11=0,0,(V$1-$G11)*Hoja1!$A$1/V$1))","v":0},{"$f":"IF(W$1>$E$11,0,IF($G11=0,0,(W$1-$G11)*Hoja1!$A$1/W$1))","v":0},{"$f":"IF(X$1>$E$11,0,IF($G11=0,0,(X$1-$G11)*Hoja1!$A$1/X$1))","v":0},{"$f":"IF(Y$1>$E$11,0,IF($G11=0,0,(Y$1-$G11)*Hoja1!$A$1/Y$1))","v":0},{"$f":"IF(Z$1>$E$11,0,IF($G11=0,0,(Z$1-$G11)*Hoja1!$A$1/Z$1))","v":0},{"$f":"IF(AA$1>$E$11,0,IF($G11=0,0,(AA$1-$G11)*Hoja1!$A$1/AA$1))","v":0},{"$f":"IF(AB$1>$E$11,0,IF($G11=0,0,(AB$1-$G11)*Hoja1!$A$1/AB$1))","v":0},{"$f":"IF(AC$1>$E$11,0,IF($G11=0,0,(AC$1-$G11)*Hoja1!$A$1/AC$1))","v":0},{"$f":"IF(AD$1>$E$11,0,IF($G11=0,0,(AD$1-$G11)*Hoja1!$A$1/AD$1))","v":0},{"$f":"IF(AE$1>$E$11,0,IF($G11=0,0,(AE$1-$G11)*Hoja1!$A$1/AE$1))","v":0},{"$f":"IF(AF$1>$E$11,0,IF($G11=0,0,(AF$1-$G11)*Hoja1!$A$1/AF$1))","v":0},{"$f":"IF(AG$1>$E$11,0,IF($G11=0,0,(AG$1-$G11)*Hoja1!$A$1/AG$1))","v":0},{"$f":"IF(AH$1>$E$11,0,IF($G11=0,0,(AH$1-$G11)*Hoja1!$A$1/AH$1))","v":0},{"$f":"IF(AI$1>$E$11,0,IF($G11=0,0,(AI$1-$G11)*Hoja1!$A$1/AI$1))","v":0},{"$f":"IF(AJ$1>$E$11,0,IF($G11=0,0,(AJ$1-$G11)*Hoja1!$A$1/AJ$1))","v":0},{"$f":"IF(AK$1>$E$11,0,IF($G11=0,0,(AK$1-$G11)*Hoja1!$A$1/AK$1))","v":0},{"$f":"IF(AL$1>$E$11,0,IF($G11=0,0,(AL$1-$G11)*Hoja1!$A$1/AL$1))","v":0},{"$f":"IF(AM$1>$E$11,0,IF($G11=0,0,(AM$1-$G11)*Hoja1!$A$1/AM$1))","v":0},{"$f":"IF(AN$1>$E$11,0,IF($G11=0,0,(AN$1-$G11)*Hoja1!$A$1/AN$1))","v":0},{"$f":"IF(AO$1>$E$11,0,IF($G11=0,0,(AO$1-$G11)*Hoja1!$A$1/AO$1))","v":0},{"$f":"IF(AP$1>$E$11,0,IF($G11=0,0,(AP$1-$G11)*Hoja1!$A$1/AP$1))","v":0},{"$f":"IF(AQ$1>$E$11,0,IF($G11=0,0,(AQ$1-$G11)*Hoja1!$A$1/AQ$1))","v":0},{"$f":"IF(AR$1>$E$11,0,IF($G11=0,0,(AR$1-$G11)*Hoja1!$A$1/AR$1))","v":0},{"$f":"IF(AS$1>$E$11,0,IF($G11=0,0,(AS$1-$G11)*Hoja1!$A$1/AS$1))","v":0},{"$f":"IF(AT$1>$E$11,0,IF($G11=0,0,(AT$1-$G11)*Hoja1!$A$1/AT$1))","v":0},{"$f":"IF(AU$1>$E$11,0,IF($G11=0,0,(AU$1-$G11)*Hoja1!$A$1/AU$1))","v":0},{"$f":"IF(AV$1>$E$11,0,IF($G11=0,0,(AV$1-$G11)*Hoja1!$A$1/AV$1))","v":0},{"$f":"IF(AW$1>$E$11,0,IF($G11=0,0,(AW$1-$G11)*Hoja1!$A$1/AW$1))","v":0},{"$f":"IF(AX$1>$E$11,0,IF($G11=0,0,(AX$1-$G11)*Hoja1!$A$1/AX$1))","v":0},{"$f":"IF(AY$1>$E$11,0,IF($G11=0,0,(AY$1-$G11)*Hoja1!$A$1/AY$1))","v":0},{"$f":"IF(AZ$1>$E$11,0,IF($G11=0,0,(AZ$1-$G11)*Hoja1!$A$1/AZ$1))","v":0},{"$f":"IF(BA$1>$E$11,0,IF($G11=0,0,(BA$1-$G11)*Hoja1!$A$1/BA$1))","v":0},{"$f":"IF(BB$1>$E$11,0,IF($G11=0,0,(BB$1-$G11)*Hoja1!$A$1/BB$1))","v":0},{"$f":"IF(BC$1>$E$11,0,IF($G11=0,0,(BC$1-$G11)*Hoja1!$A$1/BC$1))","v":0},{"$f":"IF(BD$1>$E$11,0,IF($G11=0,0,(BD$1-$G11)*Hoja1!$A$1/BD$1))","v":0},{"$f":"IF(BE$1>$E$11,0,IF($G11=0,0,(BE$1-$G11)*Hoja1!$A$1/BE$1))","v":0},{"$f":"IF(BF$1>$E$11,0,IF($G11=0,0,(BF$1-$G11)*Hoja1!$A$1/BF$1))","v":0},{"$f":"IF(BG$1>$E$11,0,IF($G11=0,0,(BG$1-$G11)*Hoja1!$A$1/BG$1))","v":0},{"$f":"IF(BH$1>$E$11,0,IF($G11=0,0,(BH$1-$G11)*Hoja1!$A$1/BH$1))","v":0},{"$f":"IF(BI$1>$E$11,0,IF($G11=0,0,(BI$1-$G11)*Hoja1!$A$1/BI$1))","v":0},{"$f":"IF(BJ$1>$E$11,0,IF($G11=0,0,(BJ$1-$G11)*Hoja1!$A$1/BJ$1))","v":0},{"$f":"IF(BK$1>$E$11,0,IF($G11=0,0,(BK$1-$G11)*Hoja1!$A$1/BK$1))","v":0},{"$f":"IF(BL$1>$E$11,0,IF($G11=0,0,(BL$1-$G11)*Hoja1!$A$1/BL$1))","v":0},{"$f":"IF(BM$1>$E$11,0,IF($G11=0,0,(BM$1-$G11)*Hoja1!$A$1/BM$1))","v":0},{"$f":"IF(BN$1>$E$11,0,IF($G11=0,0,(BN$1-$G11)*Hoja1!$A$1/BN$1))","v":0},{"$f":"IF(BO$1>$E$11,0,IF($G11=0,0,(BO$1-$G11)*Hoja1!$A$1/BO$1))","v":0},{"$f":"IF(BP$1>$E$11,0,IF($G11=0,0,(BP$1-$G11)*Hoja1!$A$1/BP$1))","v":0},{"$f":"IF(BQ$1>$E$11,0,IF($G11=0,0,(BQ$1-$G11)*Hoja1!$A$1/BQ$1))","v":0},{"$f":"IF(BR$1>$E$11,0,IF($G11=0,0,(BR$1-$G11)*Hoja1!$A$1/BR$1))","v":0},{"$f":"IF(BS$1>$E$11,0,IF($G11=0,0,(BS$1-$G11)*Hoja1!$A$1/BS$1))","v":0},{"$f":"IF(BT$1>$E$11,0,IF($G11=0,0,(BT$1-$G11)*Hoja1!$A$1/BT$1))","v":0},{"$f":"IF(BU$1>$E$11,0,IF($G11=0,0,(BU$1-$G11)*Hoja1!$A$1/BU$1))","v":0},{"$f":"IF(BV$1>$E$11,0,IF($G11=0,0,(BV$1-$G11)*Hoja1!$A$1/BV$1))","v":0},{"$f":"IF(BW$1>$E$11,0,IF($G11=0,0,(BW$1-$G11)*Hoja1!$A$1/BW$1))","v":0},{"$f":"IF(BX$1>$E$11,0,IF($G11=0,0,(BX$1-$G11)*Hoja1!$A$1/BX$1))","v":0},{"$f":"IF(BY$1>$E$11,0,IF($G11=0,0,(BY$1-$G11)*Hoja1!$A$1/BY$1))","v":0},{"$f":"IF(BZ$1>$E$11,0,IF($G11=0,0,(BZ$1-$G11)*Hoja1!$A$1/BZ$1))","v":0},{"$f":"IF(CA$1>$E$11,0,IF($G11=0,0,(CA$1-$G11)*Hoja1!$A$1/CA$1))","v":0},{"$f":"IF(CB$1>$E$11,0,IF($G11=0,0,(CB$1-$G11)*Hoja1!$A$1/CB$1))","v":0},{"$f":"IF(CC$1>$E$11,0,IF($G11=0,0,(CC$1-$G11)*Hoja1!$A$1/CC$1))","v":0},{"$f":"IF(CD$1>$E$11,0,IF($G11=0,0,(CD$1-$G11)*Hoja1!$A$1/CD$1))","v":0},{"$f":"IF(CE$1>$E$11,0,IF($G11=0,0,(CE$1-$G11)*Hoja1!$A$1/CE$1))","v":0},{"$f":"IF(CF$1>$E$11,0,IF($G11=0,0,(CF$1-$G11)*Hoja1!$A$1/CF$1))","v":0},{"$f":"IF(CG$1>$E$11,0,IF($G11=0,0,(CG$1-$G11)*Hoja1!$A$1/CG$1))","v":0},{"$f":"IF(CH$1>$E$11,0,IF($G11=0,0,(CH$1-$G11)*Hoja1!$A$1/CH$1))","v":0},{"$f":"IF(CI$1>$E$11,0,IF($G11=0,0,(CI$1-$G11)*Hoja1!$A$1/CI$1))","v":0},{"$f":"IF(CJ$1>$E$11,0,IF($G11=0,0,(CJ$1-$G11)*Hoja1!$A$1/CJ$1))","v":0},{"$f":"IF(CK$1>$E$11,0,IF($G11=0,0,(CK$1-$G11)*Hoja1!$A$1/CK$1))","v":0},{"$f":"IF(CL$1>$E$11,0,IF($G11=0,0,(CL$1-$G11)*Hoja1!$A$1/CL$1))","v":0},{"$f":"IF(CM$1>$E$11,0,IF($G11=0,0,(CM$1-$G11)*Hoja1!$A$1/CM$1))","v":0},{"$f":"IF(CN$1>$E$11,0,IF($G11=0,0,(CN$1-$G11)*Hoja1!$A$1/CN$1))","v":0},{"$f":"IF(CO$1>$E$11,0,IF($G11=0,0,(CO$1-$G11)*Hoja1!$A$1/CO$1))","v":0},{"$f":"IF(CP$1>$E$11,0,IF($G11=0,0,(CP$1-$G11)*Hoja1!$A$1/CP$1))","v":0},{"$f":"IF(CQ$1>$E$11,0,IF($G11=0,0,(CQ$1-$G11)*Hoja1!$A$1/CQ$1))","v":0},{"$f":"IF(CR$1>$E$11,0,IF($G11=0,0,(CR$1-$G11)*Hoja1!$A$1/CR$1))","v":0},{"$f":"IF(CS$1>$E$11,0,IF($G11=0,0,(CS$1-$G11)*Hoja1!$A$1/CS$1))","v":0},{"$f":"IF(CT$1>$E$11,0,IF($G11=0,0,(CT$1-$G11)*Hoja1!$A$1/CT$1))","v":0},{"$f":"IF(CU$1>$E$11,0,IF($G11=0,0,(CU$1-$G11)*Hoja1!$A$1/CU$1))","v":0},{"$f":"IF(CV$1>$E$11,0,IF($G11=0,0,(CV$1-$G11)*Hoja1!$A$1/CV$1))","v":0},{"$f":"IF(CW$1>$E$11,0,IF($G11=0,0,(CW$1-$G11)*Hoja1!$A$1/CW$1))","v":0},{"$f":"IF(CX$1>$E$11,0,IF($G11=0,0,(CX$1-$G11)*Hoja1!$A$1/CX$1))","v":0},{"$f":"IF(CY$1>$E$11,0,IF($G11=0,0,(CY$1-$G11)*Hoja1!$A$1/CY$1))","v":0},{"$f":"IF(CZ$1>$E$11,0,IF($G11=0,0,(CZ$1-$G11)*Hoja1!$A$1/CZ$1))","v":0},{"$f":"IF(DA$1>$E$11,0,IF($G11=0,0,(DA$1-$G11)*Hoja1!$A$1/DA$1))","v":0},{"$f":"IF(DB$1>$E$11,0,IF($G11=0,0,(DB$1-$G11)*Hoja1!$A$1/DB$1))","v":0},{"$f":"IF(DC$1>$E$11,0,IF($G11=0,0,(DC$1-$G11)*Hoja1!$A$1/DC$1))","v":0},{"$f":"IF(DD$1>$E$11,0,IF($G11=0,0,(DD$1-$G11)*Hoja1!$A$1/DD$1))","v":0},{"$f":"IF(DE$1>$E$11,0,IF($G11=0,0,(DE$1-$G11)*Hoja1!$A$1/DE$1))","v":0},{"$f":"IF(DF$1>$E$11,0,IF($G11=0,0,(DF$1-$G11)*Hoja1!$A$1/DF$1))","v":0},{"$f":"IF(DG$1>$E$11,0,IF($G11=0,0,(DG$1-$G11)*Hoja1!$A$1/DG$1))","v":0},{"$f":"IF(DH$1>$E$11,0,IF($G11=0,0,(DH$1-$G11)*Hoja1!$A$1/DH$1))","v":0},{"$f":"IF(DI$1>$E$11,0,IF($G11=0,0,(DI$1-$G11)*Hoja1!$A$1/DI$1))","v":0},{"$f":"IF(DJ$1>$E$11,0,IF($G11=0,0,(DJ$1-$G11)*Hoja1!$A$1/DJ$1))","v":0},{"$f":"IF(DK$1>$E$11,0,IF($G11=0,0,(DK$1-$G11)*Hoja1!$A$1/DK$1))","v":0},{"$f":"IF(DL$1>$E$11,0,IF($G11=0,0,(DL$1-$G11)*Hoja1!$A$1/DL$1))","v":0},{"$f":"IF(DM$1>$E$11,0,IF($G11=0,0,(DM$1-$G11)*Hoja1!$A$1/DM$1))","v":0}]
["acero",{"$f":"B37","v":2.8502295699234246},null,null,null,111.42499999999998,0,{"$f":"IF(H$1>$E$11,0,IF($G12=0,0,(H$1-$G12)*Hoja1!$A$1/H$1))","v":0},{"$f":"IF(I$1>$E$11,0,IF($G12=0,0,(I$1-$G12)*Hoja1!$A$1/I$1))","v":0},{"$f":"IF(J$1>$E$11,0,IF($G12=0,0,(J$1-$G12)*Hoja1!$A$1/J$1))","v":0},{"$f":"IF(K$1>$E$11,0,IF($G12=0,0,(K$1-$G12)*Hoja1!$A$1/K$1))","v":0},{"$f":"IF(L$1>$E$11,0,IF($G12=0,0,(L$1-$G12)*Hoja1!$A$1/L$1))","v":0},{"$f":"IF(M$1>$E$11,0,IF($G12=0,0,(M$1-$G12)*Hoja1!$A$1/M$1))","v":0},{"$f":"IF(N$1>$E$11,0,IF($G12=0,0,(N$1-$G12)*Hoja1!$A$1/N$1))","v":0},{"$f":"IF(O$1>$E$11,0,IF($G12=0,0,(O$1-$G12)*Hoja1!$A$1/O$1))","v":0},{"$f":"IF(P$1>$E$11,0,IF($G12=0,0,(P$1-$G12)*Hoja1!$A$1/P$1))","v":0},{"$f":"IF(Q$1>$E$11,0,IF($G12=0,0,(Q$1-$G12)*Hoja1!$A$1/Q$1))","v":0},{"$f":"IF(R$1>$E$11,0,IF($G12=0,0,(R$1-$G12)*Hoja1!$A$1/R$1))","v":0},{"$f":"IF(S$1>$E$11,0,IF($G12=0,0,(S$1-$G12)*Hoja1!$A$1/S$1))","v":0},{"$f":"IF(T$1>$E$11,0,IF($G12=0,0,(T$1-$G12)*Hoja1!$A$1/T$1))","v":0},{"$f":"IF(U$1>$E$11,0,IF($G12=0,0,(U$1-$G12)*Hoja1!$A$1/U$1))","v":0},{"$f":"IF(V$1>$E$11,0,IF($G12=0,0,(V$1-$G12)*Hoja1!$A$1/V$1))","v":0},{"$f":"IF(W$1>$E$11,0,IF($G12=0,0,(W$1-$G12)*Hoja1!$A$1/W$1))","v":0},{"$f":"IF(X$1>$E$11,0,IF($G12=0,0,(X$1-$G12)*Hoja1!$A$1/X$1))","v":0},{"$f":"IF(Y$1>$E$11,0,IF($G12=0,0,(Y$1-$G12)*Hoja1!$A$1/Y$1))","v":0},{"$f":"IF(Z$1>$E$11,0,IF($G12=0,0,(Z$1-$G12)*Hoja1!$A$1/Z$1))","v":0},{"$f":"IF(AA$1>$E$11,0,IF($G12=0,0,(AA$1-$G12)*Hoja1!$A$1/AA$1))","v":0},{"$f":"IF(AB$1>$E$11,0,IF($G12=0,0,(AB$1-$G12)*Hoja1!$A$1/AB$1))","v":0},{"$f":"IF(AC$1>$E$11,0,IF($G12=0,0,(AC$1-$G12)*Hoja1!$A$1/AC$1))","v":0},{"$f":"IF(AD$1>$E$11,0,IF($G12=0,0,(AD$1-$G12)*Hoja1!$A$1/AD$1))","v":0},{"$f":"IF(AE$1>$E$11,0,IF($G12=0,0,(AE$1-$G12)*Hoja1!$A$1/AE$1))","v":0},{"$f":"IF(AF$1>$E$11,0,IF($G12=0,0,(AF$1-$G12)*Hoja1!$A$1/AF$1))","v":0},{"$f":"IF(AG$1>$E$11,0,IF($G12=0,0,(AG$1-$G12)*Hoja1!$A$1/AG$1))","v":0},{"$f":"IF(AH$1>$E$11,0,IF($G12=0,0,(AH$1-$G12)*Hoja1!$A$1/AH$1))","v":0},{"$f":"IF(AI$1>$E$11,0,IF($G12=0,0,(AI$1-$G12)*Hoja1!$A$1/AI$1))","v":0},{"$f":"IF(AJ$1>$E$11,0,IF($G12=0,0,(AJ$1-$G12)*Hoja1!$A$1/AJ$1))","v":0},{"$f":"IF(AK$1>$E$11,0,IF($G12=0,0,(AK$1-$G12)*Hoja1!$A$1/AK$1))","v":0},{"$f":"IF(AL$1>$E$11,0,IF($G12=0,0,(AL$1-$G12)*Hoja1!$A$1/AL$1))","v":0},{"$f":"IF(AM$1>$E$11,0,IF($G12=0,0,(AM$1-$G12)*Hoja1!$A$1/AM$1))","v":0},{"$f":"IF(AN$1>$E$11,0,IF($G12=0,0,(AN$1-$G12)*Hoja1!$A$1/AN$1))","v":0},{"$f":"IF(AO$1>$E$11,0,IF($G12=0,0,(AO$1-$G12)*Hoja1!$A$1/AO$1))","v":0},{"$f":"IF(AP$1>$E$11,0,IF($G12=0,0,(AP$1-$G12)*Hoja1!$A$1/AP$1))","v":0},{"$f":"IF(AQ$1>$E$11,0,IF($G12=0,0,(AQ$1-$G12)*Hoja1!$A$1/AQ$1))","v":0},{"$f":"IF(AR$1>$E$11,0,IF($G12=0,0,(AR$1-$G12)*Hoja1!$A$1/AR$1))","v":0},{"$f":"IF(AS$1>$E$11,0,IF($G12=0,0,(AS$1-$G12)*Hoja1!$A$1/AS$1))","v":0},{"$f":"IF(AT$1>$E$11,0,IF($G12=0,0,(AT$1-$G12)*Hoja1!$A$1/AT$1))","v":0},{"$f":"IF(AU$1>$E$11,0,IF($G12=0,0,(AU$1-$G12)*Hoja1!$A$1/AU$1))","v":0},{"$f":"IF(AV$1>$E$11,0,IF($G12=0,0,(AV$1-$G12)*Hoja1!$A$1/AV$1))","v":0},{"$f":"IF(AW$1>$E$11,0,IF($G12=0,0,(AW$1-$G12)*Hoja1!$A$1/AW$1))","v":0},{"$f":"IF(AX$1>$E$11,0,IF($G12=0,0,(AX$1-$G12)*Hoja1!$A$1/AX$1))","v":0},{"$f":"IF(AY$1>$E$11,0,IF($G12=0,0,(AY$1-$G12)*Hoja1!$A$1/AY$1))","v":0},{"$f":"IF(AZ$1>$E$11,0,IF($G12=0,0,(AZ$1-$G12)*Hoja1!$A$1/AZ$1))","v":0},{"$f":"IF(BA$1>$E$11,0,IF($G12=0,0,(BA$1-$G12)*Hoja1!$A$1/BA$1))","v":0},{"$f":"IF(BB$1>$E$11,0,IF($G12=0,0,(BB$1-$G12)*Hoja1!$A$1/BB$1))","v":0},{"$f":"IF(BC$1>$E$11,0,IF($G12=0,0,(BC$1-$G12)*Hoja1!$A$1/BC$1))","v":0},{"$f":"IF(BD$1>$E$11,0,IF($G12=0,0,(BD$1-$G12)*Hoja1!$A$1/BD$1))","v":0},{"$f":"IF(BE$1>$E$11,0,IF($G12=0,0,(BE$1-$G12)*Hoja1!$A$1/BE$1))","v":0},{"$f":"IF(BF$1>$E$11,0,IF($G12=0,0,(BF$1-$G12)*Hoja1!$A$1/BF$1))","v":0},{"$f":"IF(BG$1>$E$11,0,IF($G12=0,0,(BG$1-$G12)*Hoja1!$A$1/BG$1))","v":0},{"$f":"IF(BH$1>$E$11,0,IF($G12=0,0,(BH$1-$G12)*Hoja1!$A$1/BH$1))","v":0},{"$f":"IF(BI$1>$E$11,0,IF($G12=0,0,(BI$1-$G12)*Hoja1!$A$1/BI$1))","v":0},{"$f":"IF(BJ$1>$E$11,0,IF($G12=0,0,(BJ$1-$G12)*Hoja1!$A$1/BJ$1))","v":0},{"$f":"IF(BK$1>$E$11,0,IF($G12=0,0,(BK$1-$G12)*Hoja1!$A$1/BK$1))","v":0},{"$f":"IF(BL$1>$E$11,0,IF($G12=0,0,(BL$1-$G12)*Hoja1!$A$1/BL$1))","v":0},{"$f":"IF(BM$1>$E$11,0,IF($G12=0,0,(BM$1-$G12)*Hoja1!$A$1/BM$1))","v":0},{"$f":"IF(BN$1>$E$11,0,IF($G12=0,0,(BN$1-$G12)*Hoja1!$A$1/BN$1))","v":0},{"$f":"IF(BO$1>$E$11,0,IF($G12=0,0,(BO$1-$G12)*Hoja1!$A$1/BO$1))","v":0},{"$f":"IF(BP$1>$E$11,0,IF($G12=0,0,(BP$1-$G12)*Hoja1!$A$1/BP$1))","v":0},{"$f":"IF(BQ$1>$E$11,0,IF($G12=0,0,(BQ$1-$G12)*Hoja1!$A$1/BQ$1))","v":0},{"$f":"IF(BR$1>$E$11,0,IF($G12=0,0,(BR$1-$G12)*Hoja1!$A$1/BR$1))","v":0},{"$f":"IF(BS$1>$E$11,0,IF($G12=0,0,(BS$1-$G12)*Hoja1!$A$1/BS$1))","v":0},{"$f":"IF(BT$1>$E$11,0,IF($G12=0,0,(BT$1-$G12)*Hoja1!$A$1/BT$1))","v":0},{"$f":"IF(BU$1>$E$11,0,IF($G12=0,0,(BU$1-$G12)*Hoja1!$A$1/BU$1))","v":0},{"$f":"IF(BV$1>$E$11,0,IF($G12=0,0,(BV$1-$G12)*Hoja1!$A$1/BV$1))","v":0},{"$f":"IF(BW$1>$E$11,0,IF($G12=0,0,(BW$1-$G12)*Hoja1!$A$1/BW$1))","v":0},{"$f":"IF(BX$1>$E$11,0,IF($G12=0,0,(BX$1-$G12)*Hoja1!$A$1/BX$1))","v":0},{"$f":"IF(BY$1>$E$11,0,IF($G12=0,0,(BY$1-$G12)*Hoja1!$A$1/BY$1))","v":0},{"$f":"IF(BZ$1>$E$11,0,IF($G12=0,0,(BZ$1-$G12)*Hoja1!$A$1/BZ$1))","v":0},{"$f":"IF(CA$1>$E$11,0,IF($G12=0,0,(CA$1-$G12)*Hoja1!$A$1/CA$1))","v":0},{"$f":"IF(CB$1>$E$11,0,IF($G12=0,0,(CB$1-$G12)*Hoja1!$A$1/CB$1))","v":0},{"$f":"IF(CC$1>$E$11,0,IF($G12=0,0,(CC$1-$G12)*Hoja1!$A$1/CC$1))","v":0},{"$f":"IF(CD$1>$E$11,0,IF($G12=0,0,(CD$1-$G12)*Hoja1!$A$1/CD$1))","v":0},{"$f":"IF(CE$1>$E$11,0,IF($G12=0,0,(CE$1-$G12)*Hoja1!$A$1/CE$1))","v":0},{"$f":"IF(CF$1>$E$11,0,IF($G12=0,0,(CF$1-$G12)*Hoja1!$A$1/CF$1))","v":0},{"$f":"IF(CG$1>$E$11,0,IF($G12=0,0,(CG$1-$G12)*Hoja1!$A$1/CG$1))","v":0},{"$f":"IF(CH$1>$E$11,0,IF($G12=0,0,(CH$1-$G12)*Hoja1!$A$1/CH$1))","v":0},{"$f":"IF(CI$1>$E$11,0,IF($G12=0,0,(CI$1-$G12)*Hoja1!$A$1/CI$1))","v":0},{"$f":"IF(CJ$1>$E$11,0,IF($G12=0,0,(CJ$1-$G12)*Hoja1!$A$1/CJ$1))","v":0},{"$f":"IF(CK$1>$E$11,0,IF($G12=0,0,(CK$1-$G12)*Hoja1!$A$1/CK$1))","v":0},{"$f":"IF(CL$1>$E$11,0,IF($G12=0,0,(CL$1-$G12)*Hoja1!$A$1/CL$1))","v":0},{"$f":"IF(CM$1>$E$11,0,IF($G12=0,0,(CM$1-$G12)*Hoja1!$A$1/CM$1))","v":0},{"$f":"IF(CN$1>$E$11,0,IF($G12=0,0,(CN$1-$G12)*Hoja1!$A$1/CN$1))","v":0},{"$f":"IF(CO$1>$E$11,0,IF($G12=0,0,(CO$1-$G12)*Hoja1!$A$1/CO$1))","v":0},{"$f":"IF(CP$1>$E$11,0,IF($G12=0,0,(CP$1-$G12)*Hoja1!$A$1/CP$1))","v":0},{"$f":"IF(CQ$1>$E$11,0,IF($G12=0,0,(CQ$1-$G12)*Hoja1!$A$1/CQ$1))","v":0},{"$f":"IF(CR$1>$E$11,0,IF($G12=0,0,(CR$1-$G12)*Hoja1!$A$1/CR$1))","v":0},{"$f":"IF(CS$1>$E$11,0,IF($G12=0,0,(CS$1-$G12)*Hoja1!$A$1/CS$1))","v":0},{"$f":"IF(CT$1>$E$11,0,IF($G12=0,0,(CT$1-$G12)*Hoja1!$A$1/CT$1))","v":0},{"$f":"IF(CU$1>$E$11,0,IF($G12=0,0,(CU$1-$G12)*Hoja1!$A$1/CU$1))","v":0},{"$f":"IF(CV$1>$E$11,0,IF($G12=0,0,(CV$1-$G12)*Hoja1!$A$1/CV$1))","v":0},{"$f":"IF(CW$1>$E$11,0,IF($G12=0,0,(CW$1-$G12)*Hoja1!$A$1/CW$1))","v":0},{"$f":"IF(CX$1>$E$11,0,IF($G12=0,0,(CX$1-$G12)*Hoja1!$A$1/CX$1))","v":0},{"$f":"IF(CY$1>$E$11,0,IF($G12=0,0,(CY$1-$G12)*Hoja1!$A$1/CY$1))","v":0},{"$f":"IF(CZ$1>$E$11,0,IF($G12=0,0,(CZ$1-$G12)*Hoja1!$A$1/CZ$1))","v":0},{"$f":"IF(DA$1>$E$11,0,IF($G12=0,0,(DA$1-$G12)*Hoja1!$A$1/DA$1))","v":0},{"$f":"IF(DB$1>$E$11,0,IF($G12=0,0,(DB$1-$G12)*Hoja1!$A$1/DB$1))","v":0},{"$f":"IF(DC$1>$E$11,0,IF($G12=0,0,(DC$1-$G12)*Hoja1!$A$1/DC$1))","v":0},{"$f":"IF(DD$1>$E$11,0,IF($G12=0,0,(DD$1-$G12)*Hoja1!$A$1/DD$1))","v":0},{"$f":"IF(DE$1>$E$11,0,IF($G12=0,0,(DE$1-$G12)*Hoja1!$A$1/DE$1))","v":0},{"$f":"IF(DF$1>$E$11,0,IF($G12=0,0,(DF$1-$G12)*Hoja1!$A$1/DF$1))","v":0},{"$f":"IF(DG$1>$E$11,0,IF($G12=0,0,(DG$1-$G12)*Hoja1!$A$1/DG$1))","v":0},{"$f":"IF(DH$1>$E$11,0,IF($G12=0,0,(DH$1-$G12)*Hoja1!$A$1/DH$1))","v":0},{"$f":"IF(DI$1>$E$11,0,IF($G12=0,0,(DI$1-$G12)*Hoja1!$A$1/DI$1))","v":0},{"$f":"IF(DJ$1>$E$11,0,IF($G12=0,0,(DJ$1-$G12)*Hoja1!$A$1/DJ$1))","v":0},{"$f":"IF(DK$1>$E$11,0,IF($G12=0,0,(DK$1-$G12)*Hoja1!$A$1/DK$1))","v":0},{"$f":"IF(DL$1>$E$11,0,IF($G12=0,0,(DL$1-$G12)*Hoja1!$A$1/DL$1))","v":0},{"$f":"IF(DM$1>$E$11,0,IF($G12=0,0,(DM$1-$G12)*Hoja1!$A$1/DM$1))","v":0}]
[null,null,{"$f":"IF(OR(B13=$C$5,B13=$E$10),$B$12*$C$6,2*$B$12)","v":5.7004591398468492},null,null,124.61499999999998,0,{"$f":"IF(H$1>$E$11,0,IF($G13=0,0,(H$1-$G13)*Hoja1!$A$1/H$1))","v":0},{"$f":"IF(I$1>$E$11,0,IF($G13=0,0,(I$1-$G13)*Hoja1!$A$1/I$1))","v":0},{"$f":"IF(J$1>$E$11,0,IF($G13=0,0,(J$1-$G13)*Hoja1!$A$1/J$1))","v":0},{"$f":"IF(K$1>$E$11,0,IF($G13=0,0,(K$1-$G13)*Hoja1!$A$1/K$1))","v":0},{"$f":"IF(L$1>$E$11,0,IF($G13=0,0,(L$1-$G13)*Hoja1!$A$1/L$1))","v":0},{"$f":"IF(M$1>$E$11,0,IF($G13=0,0,(M$1-$G13)*Hoja1!$A$1/M$1))","v":0},{"$f":"IF(N$1>$E$11,0,IF($G13=0,0,(N$1-$G13)*Hoja1!$A$1/N$1))","v":0},{"$f":"IF(O$1>$E$11,0,IF($G13=0,0,(O$1-$G13)*Hoja1!$A$1/O$1))","v":0},{"$f":"IF(P$1>$E$11,0,IF($G13=0,0,(P$1-$G13)*Hoja1!$A$1/P$1))","v":0},{"$f":"IF(Q$1>$E$11,0,IF($G13=0,0,(Q$1-$G13)*Hoja1!$A$1/Q$1))","v":0},{"$f":"IF(R$1>$E$11,0,IF($G13=0,0,(R$1-$G13)*Hoja1!$A$1/R$1))","v":0},{"$f":"IF(S$1>$E$11,0,IF($G13=0,0,(S$1-$G13)*Hoja1!$A$1/S$1))","v":0},{"$f":"IF(T$1>$E$11,0,IF($G13=0,0,(T$1-$G13)*Hoja1!$A$1/T$1))","v":0},{"$f":"IF(U$1>$E$11,0,IF($G13=0,0,(U$1-$G13)*Hoja1!$A$1/U$1))","v":0},{"$f":"IF(V$1>$E$11,0,IF($G13=0,0,(V$1-$G13)*Hoja1!$A$1/V$1))","v":0},{"$f":"IF(W$1>$E$11,0,IF($G13=0,0,(W$1-$G13)*Hoja1!$A$1/W$1))","v":0},{"$f":"IF(X$1>$E$11,0,IF($G13=0,0,(X$1-$G13)*Hoja1!$A$1/X$1))","v":0},{"$f":"IF(Y$1>$E$11,0,IF($G13=0,0,(Y$1-$G13)*Hoja1!$A$1/Y$1))","v":0},{"$f":"IF(Z$1>$E$11,0,IF($G13=0,0,(Z$1-$G13)*Hoja1!$A$1/Z$1))","v":0},{"$f":"IF(AA$1>$E$11,0,IF($G13=0,0,(AA$1-$G13)*Hoja1!$A$1/AA$1))","v":0},{"$f":"IF(AB$1>$E$11,0,IF($G13=0,0,(AB$1-$G13)*Hoja1!$A$1/AB$1))","v":0},{"$f":"IF(AC$1>$E$11,0,IF($G13=0,0,(AC$1-$G13)*Hoja1!$A$1/AC$1))","v":0},{"$f":"IF(AD$1>$E$11,0,IF($G13=0,0,(AD$1-$G13)*Hoja1!$A$1/AD$1))","v":0},{"$f":"IF(AE$1>$E$11,0,IF($G13=0,0,(AE$1-$G13)*Hoja1!$A$1/AE$1))","v":0},{"$f":"IF(AF$1>$E$11,0,IF($G13=0,0,(AF$1-$G13)*Hoja1!$A$1/AF$1))","v":0},{"$f":"IF(AG$1>$E$11,0,IF($G13=0,0,(AG$1-$G13)*Hoja1!$A$1/AG$1))","v":0},{"$f":"IF(AH$1>$E$11,0,IF($G13=0,0,(AH$1-$G13)*Hoja1!$A$1/AH$1))","v":0},{"$f":"IF(AI$1>$E$11,0,IF($G13=0,0,(AI$1-$G13)*Hoja1!$A$1/AI$1))","v":0},{"$f":"IF(AJ$1>$E$11,0,IF($G13=0,0,(AJ$1-$G13)*Hoja1!$A$1/AJ$1))","v":0},{"$f":"IF(AK$1>$E$11,0,IF($G13=0,0,(AK$1-$G13)*Hoja1!$A$1/AK$1))","v":0},{"$f":"IF(AL$1>$E$11,0,IF($G13=0,0,(AL$1-$G13)*Hoja1!$A$1/AL$1))","v":0},{"$f":"IF(AM$1>$E$11,0,IF($G13=0,0,(AM$1-$G13)*Hoja1!$A$1/AM$1))","v":0},{"$f":"IF(AN$1>$E$11,0,IF($G13=0,0,(AN$1-$G13)*Hoja1!$A$1/AN$1))","v":0},{"$f":"IF(AO$1>$E$11,0,IF($G13=0,0,(AO$1-$G13)*Hoja1!$A$1/AO$1))","v":0},{"$f":"IF(AP$1>$E$11,0,IF($G13=0,0,(AP$1-$G13)*Hoja1!$A$1/AP$1))","v":0},{"$f":"IF(AQ$1>$E$11,0,IF($G13=0,0,(AQ$1-$G13)*Hoja1!$A$1/AQ$1))","v":0},{"$f":"IF(AR$1>$E$11,0,IF($G13=0,0,(AR$1-$G13)*Hoja1!$A$1/AR$1))","v":0},{"$f":"IF(AS$1>$E$11,0,IF($G13=0,0,(AS$1-$G13)*Hoja1!$A$1/AS$1))","v":0},{"$f":"IF(AT$1>$E$11,0,IF($G13=0,0,(AT$1-$G13)*Hoja1!$A$1/AT$1))","v":0},{"$f":"IF(AU$1>$E$11,0,IF($G13=0,0,(AU$1-$G13)*Hoja1!$A$1/AU$1))","v":0},{"$f":"IF(AV$1>$E$11,0,IF($G13=0,0,(AV$1-$G13)*Hoja1!$A$1/AV$1))","v":0},{"$f":"IF(AW$1>$E$11,0,IF($G13=0,0,(AW$1-$G13)*Hoja1!$A$1/AW$1))","v":0},{"$f":"IF(AX$1>$E$11,0,IF($G13=0,0,(AX$1-$G13)*Hoja1!$A$1/AX$1))","v":0},{"$f":"IF(AY$1>$E$11,0,IF($G13=0,0,(AY$1-$G13)*Hoja1!$A$1/AY$1))","v":0},{"$f":"IF(AZ$1>$E$11,0,IF($G13=0,0,(AZ$1-$G13)*Hoja1!$A$1/AZ$1))","v":0},{"$f":"IF(BA$1>$E$11,0,IF($G13=0,0,(BA$1-$G13)*Hoja1!$A$1/BA$1))","v":0},{"$f":"IF(BB$1>$E$11,0,IF($G13=0,0,(BB$1-$G13)*Hoja1!$A$1/BB$1))","v":0},{"$f":"IF(BC$1>$E$11,0,IF($G13=0,0,(BC$1-$G13)*Hoja1!$A$1/BC$1))","v":0},{"$f":"IF(BD$1>$E$11,0,IF($G13=0,0,(BD$1-$G13)*Hoja1!$A$1/BD$1))","v":0},{"$f":"IF(BE$1>$E$11,0,IF($G13=0,0,(BE$1-$G13)*Hoja1!$A$1/BE$1))","v":0},{"$f":"IF(BF$1>$E$11,0,IF($G13=0,0,(BF$1-$G13)*Hoja1!$A$1/BF$1))","v":0},{"$f":"IF(BG$1>$E$11,0,IF($G13=0,0,(BG$1-$G13)*Hoja1!$A$1/BG$1))","v":0},{"$f":"IF(BH$1>$E$11,0,IF($G13=0,0,(BH$1-$G13)*Hoja1!$A$1/BH$1))","v":0},{"$f":"IF(BI$1>$E$11,0,IF($G13=0,0,(BI$1-$G13)*Hoja1!$A$1/BI$1))","v":0},{"$f":"IF(BJ$1>$E$11,0,IF($G13=0,0,(BJ$1-$G13)*Hoja1!$A$1/BJ$1))","v":0},{"$f":"IF(BK$1>$E$11,0,IF($G13=0,0,(BK$1-$G13)*Hoja1!$A$1/BK$1))","v":0},{"$f":"IF(BL$1>$E$11,0,IF($G13=0,0,(BL$1-$G13)*Hoja1!$A$1/BL$1))","v":0},{"$f":"IF(BM$1>$E$11,0,IF($G13=0,0,(BM$1-$G13)*Hoja1!$A$1/BM$1))","v":0},{"$f":"IF(BN$1>$E$11,0,IF($G13=0,0,(BN$1-$G13)*Hoja1!$A$1/BN$1))","v":0},{"$f":"IF(BO$1>$E$11,0,IF($G13=0,0,(BO$1-$G13)*Hoja1!$A$1/BO$1))","v":0},{"$f":"IF(BP$1>$E$11,0,IF($G13=0,0,(BP$1-$G13)*Hoja1!$A$1/BP$1))","v":0},{"$f":"IF(BQ$1>$E$11,0,IF($G13=0,0,(BQ$1-$G13)*Hoja1!$A$1/BQ$1))","v":0},{"$f":"IF(BR$1>$E$11,0,IF($G13=0,0,(BR$1-$G13)*Hoja1!$A$1/BR$1))","v":0},{"$f":"IF(BS$1>$E$11,0,IF($G13=0,0,(BS$1-$G13)*Hoja1!$A$1/BS$1))","v":0},{"$f":"IF(BT$1>$E$11,0,IF($G13=0,0,(BT$1-$G13)*Hoja1!$A$1/BT$1))","v":0},{"$f":"IF(BU$1>$E$11,0,IF($G13=0,0,(BU$1-$G13)*Hoja1!$A$1/BU$1))","v":0},{"$f":"IF(BV$1>$E$11,0,IF($G13=0,0,(BV$1-$G13)*Hoja1!$A$1/BV$1))","v":0},{"$f":"IF(BW$1>$E$11,0,IF($G13=0,0,(BW$1-$G13)*Hoja1!$A$1/BW$1))","v":0},{"$f":"IF(BX$1>$E$11,0,IF($G13=0,0,(BX$1-$G13)*Hoja1!$A$1/BX$1))","v":0},{"$f":"IF(BY$1>$E$11,0,IF($G13=0,0,(BY$1-$G13)*Hoja1!$A$1/BY$1))","v":0},{"$f":"IF(BZ$1>$E$11,0,IF($G13=0,0,(BZ$1-$G13)*Hoja1!$A$1/BZ$1))","v":0},{"$f":"IF(CA$1>$E$11,0,IF($G13=0,0,(CA$1-$G13)*Hoja1!$A$1/CA$1))","v":0},{"$f":"IF(CB$1>$E$11,0,IF($G13=0,0,(CB$1-$G13)*Hoja1!$A$1/CB$1))","v":0},{"$f":"IF(CC$1>$E$11,0,IF($G13=0,0,(CC$1-$G13)*Hoja1!$A$1/CC$1))","v":0},{"$f":"IF(CD$1>$E$11,0,IF($G13=0,0,(CD$1-$G13)*Hoja1!$A$1/CD$1))","v":0},{"$f":"IF(CE$1>$E$11,0,IF($G13=0,0,(CE$1-$G13)*Hoja1!$A$1/CE$1))","v":0},{"$f":"IF(CF$1>$E$11,0,IF($G13=0,0,(CF$1-$G13)*Hoja1!$A$1/CF$1))","v":0},{"$f":"IF(CG$1>$E$11,0,IF($G13=0,0,(CG$1-$G13)*Hoja1!$A$1/CG$1))","v":0},{"$f":"IF(CH$1>$E$11,0,IF($G13=0,0,(CH$1-$G13)*Hoja1!$A$1/CH$1))","v":0},{"$f":"IF(CI$1>$E$11,0,IF($G13=0,0,(CI$1-$G13)*Hoja1!$A$1/CI$1))","v":0},{"$f":"IF(CJ$1>$E$11,0,IF($G13=0,0,(CJ$1-$G13)*Hoja1!$A$1/CJ$1))","v":0},{"$f":"IF(CK$1>$E$11,0,IF($G13=0,0,(CK$1-$G13)*Hoja1!$A$1/CK$1))","v":0},{"$f":"IF(CL$1>$E$11,0,IF($G13=0,0,(CL$1-$G13)*Hoja1!$A$1/CL$1))","v":0},{"$f":"IF(CM$1>$E$11,0,IF($G13=0,0,(CM$1-$G13)*Hoja1!$A$1/CM$1))","v":0},{"$f":"IF(CN$1>$E$11,0,IF($G13=0,0,(CN$1-$G13)*Hoja1!$A$1/CN$1))","v":0},{"$f":"IF(CO$1>$E$11,0,IF($G13=0,0,(CO$1-$G13)*Hoja1!$A$1/CO$1))","v":0},{"$f":"IF(CP$1>$E$11,0,IF($G13=0,0,(CP$1-$G13)*Hoja1!$A$1/CP$1))","v":0},{"$f":"IF(CQ$1>$E$11,0,IF($G13=0,0,(CQ$1-$G13)*Hoja1!$A$1/CQ$1))","v":0},{"$f":"IF(CR$1>$E$11,0,IF($G13=0,0,(CR$1-$G13)*Hoja1!$A$1/CR$1))","v":0},{"$f":"IF(CS$1>$E$11,0,IF($G13=0,0,(CS$1-$G13)*Hoja1!$A$1/CS$1))","v":0},{"$f":"IF(CT$1>$E$11,0,IF($G13=0,0,(CT$1-$G13)*Hoja1!$A$1/CT$1))","v":0},{"$f":"IF(CU$1>$E$11,0,IF($G13=0,0,(CU$1-$G13)*Hoja1!$A$1/CU$1))","v":0},{"$f":"IF(CV$1>$E$11,0,IF($G13=0,0,(CV$1-$G13)*Hoja1!$A$1/CV$1))","v":0},{"$f":"IF(CW$1>$E$11,0,IF($G13=0,0,(CW$1-$G13)*Hoja1!$A$1/CW$1))","v":0},{"$f":"IF(CX$1>$E$11,0,IF($G13=0,0,(CX$1-$G13)*Hoja1!$A$1/CX$1))","v":0},{"$f":"IF(CY$1>$E$11,0,IF($G13=0,0,(CY$1-$G13)*Hoja1!$A$1/CY$1))","v":0},{"$f":"IF(CZ$1>$E$11,0,IF($G13=0,0,(CZ$1-$G13)*Hoja1!$A$1/CZ$1))","v":0},{"$f":"IF(DA$1>$E$11,0,IF($G13=0,0,(DA$1-$G13)*Hoja1!$A$1/DA$1))","v":0},{"$f":"IF(DB$1>$E$11,0,IF($G13=0,0,(DB$1-$G13)*Hoja1!$A$1/DB$1))","v":0},{"$f":"IF(DC$1>$E$11,0,IF($G13=0,0,(DC$1-$G13)*Hoja1!$A$1/DC$1))","v":0},{"$f":"IF(DD$1>$E$11,0,IF($G13=0,0,(DD$1-$G13)*Hoja1!$A$1/DD$1))","v":0},{"$f":"IF(DE$1>$E$11,0,IF($G13=0,0,(DE$1-$G13)*Hoja1!$A$1/DE$1))","v":0},{"$f":"IF(DF$1>$E$11,0,IF($G13=0,0,(DF$1-$G13)*Hoja1!$A$1/DF$1))","v":0},{"$f":"IF(DG$1>$E$11,0,IF($G13=0,0,(DG$1-$G13)*Hoja1!$A$1/DG$1))","v":0},{"$f":"IF(DH$1>$E$11,0,IF($G13=0,0,(DH$1-$G13)*Hoja1!$A$1/DH$1))","v":0},{"$f":"IF(DI$1>$E$11,0,IF($G13=0,0,(DI$1-$G13)*Hoja1!$A$1/DI$1))","v":0},{"$f":"IF(DJ$1>$E$11,0,IF($G13=0,0,(DJ$1-$G13)*Hoja1!$A$1/DJ$1))","v":0},{"$f":"IF(DK$1>$E$11,0,IF($G13=0,0,(DK$1-$G13)*Hoja1!$A$1/DK$1))","v":0},{"$f":"IF(DL$1>$E$11,0,IF($G13=0,0,(DL$1-$G13)*Hoja1!$A$1/DL$1))","v":0},{"$f":"IF(DM$1>$E$11,0,IF($G13=0,0,(DM$1-$G13)*Hoja1!$A$1/DM$1))","v":0}]
[null,null,null,null,null,137.80499999999998,0,{"$f":"IF(H$1>$E$11,0,IF($G14=0,0,(H$1-$G14)*Hoja1!$A$1/H$1))","v":0},{"$f":"IF(I$1>$E$11,0,IF($G14=0,0,(I$1-$G14)*Hoja1!$A$1/I$1))","v":0},{"$f":"IF(J$1>$E$11,0,IF($G14=0,0,(J$1-$G14)*Hoja1!$A$1/J$1))","v":0},{"$f":"IF(K$1>$E$11,0,IF($G14=0,0,(K$1-$G14)*Hoja1!$A$1/K$1))","v":0},{"$f":"IF(L$1>$E$11,0,IF($G14=0,0,(L$1-$G14)*Hoja1!$A$1/L$1))","v":0},{"$f":"IF(M$1>$E$11,0,IF($G14=0,0,(M$1-$G14)*Hoja1!$A$1/M$1))","v":0},{"$f":"IF(N$1>$E$11,0,IF($G14=0,0,(N$1-$G14)*Hoja1!$A$1/N$1))","v":0},{"$f":"IF(O$1>$E$11,0,IF($G14=0,0,(O$1-$G14)*Hoja1!$A$1/O$1))","v":0},{"$f":"IF(P$1>$E$11,0,IF($G14=0,0,(P$1-$G14)*Hoja1!$A$1/P$1))","v":0},{"$f":"IF(Q$1>$E$11,0,IF($G14=0,0,(Q$1-$G14)*Hoja1!$A$1/Q$1))","v":0},{"$f":"IF(R$1>$E$11,0,IF($G14=0,0,(R$1-$G14)*Hoja1!$A$1/R$1))","v":0},{"$f":"IF(S$1>$E$11,0,IF($G14=0,0,(S$1-$G14)*Hoja1!$A$1/S$1))","v":0},{"$f":"IF(T$1>$E$11,0,IF($G14=0,0,(T$1-$G14)*Hoja1!$A$1/T$1))","v":0},{"$f":"IF(U$1>$E$11,0,IF($G14=0,0,(U$1-$G14)*Hoja1!$A$1/U$1))","v":0},{"$f":"IF(V$1>$E$11,0,IF($G14=0,0,(V$1-$G14)*Hoja1!$A$1/V$1))","v":0},{"$f":"IF(W$1>$E$11,0,IF($G14=0,0,(W$1-$G14)*Hoja1!$A$1/W$1))","v":0},{"$f":"IF(X$1>$E$11,0,IF($G14=0,0,(X$1-$G14)*Hoja1!$A$1/X$1))","v":0},{"$f":"IF(Y$1>$E$11,0,IF($G14=0,0,(Y$1-$G14)*Hoja1!$A$1/Y$1))","v":0},{"$f":"IF(Z$1>$E$11,0,IF($G14=0,0,(Z$1-$G14)*Hoja1!$A$1/Z$1))","v":0},{"$f":"IF(AA$1>$E$11,0,IF($G14=0,0,(AA$1-$G14)*Hoja1!$A$1/AA$1))","v":0},{"$f":"IF(AB$1>$E$11,0,IF($G14=0,0,(AB$1-$G14)*Hoja1!$A$1/AB$1))","v":0},{"$f":"IF(AC$1>$E$11,0,IF($G14=0,0,(AC$1-$G14)*Hoja1!$A$1/AC$1))","v":0},{"$f":"IF(AD$1>$E$11,0,IF($G14=0,0,(AD$1-$G14)*Hoja1!$A$1/AD$1))","v":0},{"$f":"IF(AE$1>$E$11,0,IF($G14=0,0,(AE$1-$G14)*Hoja1!$A$1/AE$1))","v":0},{"$f":"IF(AF$1>$E$11,0,IF($G14=0,0,(AF$1-$G14)*Hoja1!$A$1/AF$1))","v":0},{"$f":"IF(AG$1>$E$11,0,IF($G14=0,0,(AG$1-$G14)*Hoja1!$A$1/AG$1))","v":0},{"$f":"IF(AH$1>$E$11,0,IF($G14=0,0,(AH$1-$G14)*Hoja1!$A$1/AH$1))","v":0},{"$f":"IF(AI$1>$E$11,0,IF($G14=0,0,(AI$1-$G14)*Hoja1!$A$1/AI$1))","v":0},{"$f":"IF(AJ$1>$E$11,0,IF($G14=0,0,(AJ$1-$G14)*Hoja1!$A$1/AJ$1))","v":0},{"$f":"IF(AK$1>$E$11,0,IF($G14=0,0,(AK$1-$G14)*Hoja1!$A$1/AK$1))","v":0},{"$f":"IF(AL$1>$E$11,0,IF($G14=0,0,(AL$1-$G14)*Hoja1!$A$1/AL$1))","v":0},{"$f":"IF(AM$1>$E$11,0,IF($G14=0,0,(AM$1-$G14)*Hoja1!$A$1/AM$1))","v":0},{"$f":"IF(AN$1>$E$11,0,IF($G14=0,0,(AN$1-$G14)*Hoja1!$A$1/AN$1))","v":0},{"$f":"IF(AO$1>$E$11,0,IF($G14=0,0,(AO$1-$G14)*Hoja1!$A$1/AO$1))","v":0},{"$f":"IF(AP$1>$E$11,0,IF($G14=0,0,(AP$1-$G14)*Hoja1!$A$1/AP$1))","v":0},{"$f":"IF(AQ$1>$E$11,0,IF($G14=0,0,(AQ$1-$G14)*Hoja1!$A$1/AQ$1))","v":0},{"$f":"IF(AR$1>$E$11,0,IF($G14=0,0,(AR$1-$G14)*Hoja1!$A$1/AR$1))","v":0},{"$f":"IF(AS$1>$E$11,0,IF($G14=0,0,(AS$1-$G14)*Hoja1!$A$1/AS$1))","v":0},{"$f":"IF(AT$1>$E$11,0,IF($G14=0,0,(AT$1-$G14)*Hoja1!$A$1/AT$1))","v":0},{"$f":"IF(AU$1>$E$11,0,IF($G14=0,0,(AU$1-$G14)*Hoja1!$A$1/AU$1))","v":0},{"$f":"IF(AV$1>$E$11,0,IF($G14=0,0,(AV$1-$G14)*Hoja1!$A$1/AV$1))","v":0},{"$f":"IF(AW$1>$E$11,0,IF($G14=0,0,(AW$1-$G14)*Hoja1!$A$1/AW$1))","v":0},{"$f":"IF(AX$1>$E$11,0,IF($G14=0,0,(AX$1-$G14)*Hoja1!$A$1/AX$1))","v":0},{"$f":"IF(AY$1>$E$11,0,IF($G14=0,0,(AY$1-$G14)*Hoja1!$A$1/AY$1))","v":0},{"$f":"IF(AZ$1>$E$11,0,IF($G14=0,0,(AZ$1-$G14)*Hoja1!$A$1/AZ$1))","v":0},{"$f":"IF(BA$1>$E$11,0,IF($G14=0,0,(BA$1-$G14)*Hoja1!$A$1/BA$1))","v":0},{"$f":"IF(BB$1>$E$11,0,IF($G14=0,0,(BB$1-$G14)*Hoja1!$A$1/BB$1))","v":0},{"$f":"IF(BC$1>$E$11,0,IF($G14=0,0,(BC$1-$G14)*Hoja1!$A$1/BC$1))","v":0},{"$f":"IF(BD$1>$E$11,0,IF($G14=0,0,(BD$1-$G14)*Hoja1!$A$1/BD$1))","v":0},{"$f":"IF(BE$1>$E$11,0,IF($G14=0,0,(BE$1-$G14)*Hoja1!$A$1/BE$1))","v":0},{"$f":"IF(BF$1>$E$11,0,IF($G14=0,0,(BF$1-$G14)*Hoja1!$A$1/BF$1))","v":0},{"$f":"IF(BG$1>$E$11,0,IF($G14=0,0,(BG$1-$G14)*Hoja1!$A$1/BG$1))","v":0},{"$f":"IF(BH$1>$E$11,0,IF($G14=0,0,(BH$1-$G14)*Hoja1!$A$1/BH$1))","v":0},{"$f":"IF(BI$1>$E$11,0,IF($G14=0,0,(BI$1-$G14)*Hoja1!$A$1/BI$1))","v":0},{"$f":"IF(BJ$1>$E$11,0,IF($G14=0,0,(BJ$1-$G14)*Hoja1!$A$1/BJ$1))","v":0},{"$f":"IF(BK$1>$E$11,0,IF($G14=0,0,(BK$1-$G14)*Hoja1!$A$1/BK$1))","v":0},{"$f":"IF(BL$1>$E$11,0,IF($G14=0,0,(BL$1-$G14)*Hoja1!$A$1/BL$1))","v":0},{"$f":"IF(BM$1>$E$11,0,IF($G14=0,0,(BM$1-$G14)*Hoja1!$A$1/BM$1))","v":0},{"$f":"IF(BN$1>$E$11,0,IF($G14=0,0,(BN$1-$G14)*Hoja1!$A$1/BN$1))","v":0},{"$f":"IF(BO$1>$E$11,0,IF($G14=0,0,(BO$1-$G14)*Hoja1!$A$1/BO$1))","v":0},{"$f":"IF(BP$1>$E$11,0,IF($G14=0,0,(BP$1-$G14)*Hoja1!$A$1/BP$1))","v":0},{"$f":"IF(BQ$1>$E$11,0,IF($G14=0,0,(BQ$1-$G14)*Hoja1!$A$1/BQ$1))","v":0},{"$f":"IF(BR$1>$E$11,0,IF($G14=0,0,(BR$1-$G14)*Hoja1!$A$1/BR$1))","v":0},{"$f":"IF(BS$1>$E$11,0,IF($G14=0,0,(BS$1-$G14)*Hoja1!$A$1/BS$1))","v":0},{"$f":"IF(BT$1>$E$11,0,IF($G14=0,0,(BT$1-$G14)*Hoja1!$A$1/BT$1))","v":0},{"$f":"IF(BU$1>$E$11,0,IF($G14=0,0,(BU$1-$G14)*Hoja1!$A$1/BU$1))","v":0},{"$f":"IF(BV$1>$E$11,0,IF($G14=0,0,(BV$1-$G14)*Hoja1!$A$1/BV$1))","v":0},{"$f":"IF(BW$1>$E$11,0,IF($G14=0,0,(BW$1-$G14)*Hoja1!$A$1/BW$1))","v":0},{"$f":"IF(BX$1>$E$11,0,IF($G14=0,0,(BX$1-$G14)*Hoja1!$A$1/BX$1))","v":0},{"$f":"IF(BY$1>$E$11,0,IF($G14=0,0,(BY$1-$G14)*Hoja1!$A$1/BY$1))","v":0},{"$f":"IF(BZ$1>$E$11,0,IF($G14=0,0,(BZ$1-$G14)*Hoja1!$A$1/BZ$1))","v":0},{"$f":"IF(CA$1>$E$11,0,IF($G14=0,0,(CA$1-$G14)*Hoja1!$A$1/CA$1))","v":0},{"$f":"IF(CB$1>$E$11,0,IF($G14=0,0,(CB$1-$G14)*Hoja1!$A$1/CB$1))","v":0},{"$f":"IF(CC$1>$E$11,0,IF($G14=0,0,(CC$1-$G14)*Hoja1!$A$1/CC$1))","v":0},{"$f":"IF(CD$1>$E$11,0,IF($G14=0,0,(CD$1-$G14)*Hoja1!$A$1/CD$1))","v":0},{"$f":"IF(CE$1>$E$11,0,IF($G14=0,0,(CE$1-$G14)*Hoja1!$A$1/CE$1))","v":0},{"$f":"IF(CF$1>$E$11,0,IF($G14=0,0,(CF$1-$G14)*Hoja1!$A$1/CF$1))","v":0},{"$f":"IF(CG$1>$E$11,0,IF($G14=0,0,(CG$1-$G14)*Hoja1!$A$1/CG$1))","v":0},{"$f":"IF(CH$1>$E$11,0,IF($G14=0,0,(CH$1-$G14)*Hoja1!$A$1/CH$1))","v":0},{"$f":"IF(CI$1>$E$11,0,IF($G14=0,0,(CI$1-$G14)*Hoja1!$A$1/CI$1))","v":0},{"$f":"IF(CJ$1>$E$11,0,IF($G14=0,0,(CJ$1-$G14)*Hoja1!$A$1/CJ$1))","v":0},{"$f":"IF(CK$1>$E$11,0,IF($G14=0,0,(CK$1-$G14)*Hoja1!$A$1/CK$1))","v":0},{"$f":"IF(CL$1>$E$11,0,IF($G14=0,0,(CL$1-$G14)*Hoja1!$A$1/CL$1))","v":0},{"$f":"IF(CM$1>$E$11,0,IF($G14=0,0,(CM$1-$G14)*Hoja1!$A$1/CM$1))","v":0},{"$f":"IF(CN$1>$E$11,0,IF($G14=0,0,(CN$1-$G14)*Hoja1!$A$1/CN$1))","v":0},{"$f":"IF(CO$1>$E$11,0,IF($G14=0,0,(CO$1-$G14)*Hoja1!$A$1/CO$1))","v":0},{"$f":"IF(CP$1>$E$11,0,IF($G14=0,0,(CP$1-$G14)*Hoja1!$A$1/CP$1))","v":0},{"$f":"IF(CQ$1>$E$11,0,IF($G14=0,0,(CQ$1-$G14)*Hoja1!$A$1/CQ$1))","v":0},{"$f":"IF(CR$1>$E$11,0,IF($G14=0,0,(CR$1-$G14)*Hoja1!$A$1/CR$1))","v":0},{"$f":"IF(CS$1>$E$11,0,IF($G14=0,0,(CS$1-$G14)*Hoja1!$A$1/CS$1))","v":0},{"$f":"IF(CT$1>$E$11,0,IF($G14=0,0,(CT$1-$G14)*Hoja1!$A$1/CT$1))","v":0},{"$f":"IF(CU$1>$E$11,0,IF($G14=0,0,(CU$1-$G14)*Hoja1!$A$1/CU$1))","v":0},{"$f":"IF(CV$1>$E$11,0,IF($G14=0,0,(CV$1-$G14)*Hoja1!$A$1/CV$1))","v":0},{"$f":"IF(CW$1>$E$11,0,IF($G14=0,0,(CW$1-$G14)*Hoja1!$A$1/CW$1))","v":0},{"$f":"IF(CX$1>$E$11,0,IF($G14=0,0,(CX$1-$G14)*Hoja1!$A$1/CX$1))","v":0},{"$f":"IF(CY$1>$E$11,0,IF($G14=0,0,(CY$1-$G14)*Hoja1!$A$1/CY$1))","v":0},{"$f":"IF(CZ$1>$E$11,0,IF($G14=0,0,(CZ$1-$G14)*Hoja1!$A$1/CZ$1))","v":0},{"$f":"IF(DA$1>$E$11,0,IF($G14=0,0,(DA$1-$G14)*Hoja1!$A$1/DA$1))","v":0},{"$f":"IF(DB$1>$E$11,0,IF($G14=0,0,(DB$1-$G14)*Hoja1!$A$1/DB$1))","v":0},{"$f":"IF(DC$1>$E$11,0,IF($G14=0,0,(DC$1-$G14)*Hoja1!$A$1/DC$1))","v":0},{"$f":"IF(DD$1>$E$11,0,IF($G14=0,0,(DD$1-$G14)*Hoja1!$A$1/DD$1))","v":0},{"$f":"IF(DE$1>$E$11,0,IF($G14=0,0,(DE$1-$G14)*Hoja1!$A$1/DE$1))","v":0},{"$f":"IF(DF$1>$E$11,0,IF($G14=0,0,(DF$1-$G14)*Hoja1!$A$1/DF$1))","v":0},{"$f":"IF(DG$1>$E$11,0,IF($G14=0,0,(DG$1-$G14)*Hoja1!$A$1/DG$1))","v":0},{"$f":"IF(DH$1>$E$11,0,IF($G14=0,0,(DH$1-$G14)*Hoja1!$A$1/DH$1))","v":0},{"$f":"IF(DI$1>$E$11,0,IF($G14=0,0,(DI$1-$G14)*Hoja1!$A$1/DI$1))","v":0},{"$f":"IF(DJ$1>$E$11,0,IF($G14=0,0,(DJ$1-$G14)*Hoja1!$A$1/DJ$1))","v":0},{"$f":"IF(DK$1>$E$11,0,IF($G14=0,0,(DK$1-$G14)*Hoja1!$A$1/DK$1))","v":0},{"$f":"IF(DL$1>$E$11,0,IF($G14=0,0,(DL$1-$G14)*Hoja1!$A$1/DL$1))","v":0},{"$f":"IF(DM$1>$E$11,0,IF($G14=0,0,(DM$1-$G14)*Hoja1!$A$1/DM$1))","v":0}]
["f'c=",{"$f":"Hoja2!F10","v":210},null,null,null,150.99499999999998,0,{"$f":"IF(H$1>$E$11,0,IF($G15=0,0,(H$1-$G15)*Hoja1!$A$1/H$1))","v":0},{"$f":"IF(I$1>$E$11,0,IF($G15=0,0,(I$1-$G15)*Hoja1!$A$1/I$1))","v":0},{"$f":"IF(J$1>$E$11,0,IF($G15=0,0,(J$1-$G15)*Hoja1!$A$1/J$1))","v":0},{"$f":"IF(K$1>$E$11,0,IF($G15=0,0,(K$1-$G15)*Hoja1!$A$1/K$1))","v":0},{"$f":"IF(L$1>$E$11,0,IF($G15=0,0,(L$1-$G15)*Hoja1!$A$1/L$1))","v":0},{"$f":"IF(M$1>$E$11,0,IF($G15=0,0,(M$1-$G15)*Hoja1!$A$1/M$1))","v":0},{"$f":"IF(N$1>$E$11,0,IF($G15=0,0,(N$1-$G15)*Hoja1!$A$1/N$1))","v":0},{"$f":"IF(O$1>$E$11,0,IF($G15=0,0,(O$1-$G15)*Hoja1!$A$1/O$1))","v":0},{"$f":"IF(P$1>$E$11,0,IF($G15=0,0,(P$1-$G15)*Hoja1!$A$1/P$1))","v":0},{"$f":"IF(Q$1>$E$11,0,IF($G15=0,0,(Q$1-$G15)*Hoja1!$A$1/Q$1))","v":0},{"$f":"IF(R$1>$E$11,0,IF($G15=0,0,(R$1-$G15)*Hoja1!$A$1/R$1))","v":0},{"$f":"IF(S$1>$E$11,0,IF($G15=0,0,(S$1-$G15)*Hoja1!$A$1/S$1))","v":0},{"$f":"IF(T$1>$E$11,0,IF($G15=0,0,(T$1-$G15)*Hoja1!$A$1/T$1))","v":0},{"$f":"IF(U$1>$E$11,0,IF($G15=0,0,(U$1-$G15)*Hoja1!$A$1/U$1))","v":0},{"$f":"IF(V$1>$E$11,0,IF($G15=0,0,(V$1-$G15)*Hoja1!$A$1/V$1))","v":0},{"$f":"IF(W$1>$E$11,0,IF($G15=0,0,(W$1-$G15)*Hoja1!$A$1/W$1))","v":0},{"$f":"IF(X$1>$E$11,0,IF($G15=0,0,(X$1-$G15)*Hoja1!$A$1/X$1))","v":0},{"$f":"IF(Y$1>$E$11,0,IF($G15=0,0,(Y$1-$G15)*Hoja1!$A$1/Y$1))","v":0},{"$f":"IF(Z$1>$E$11,0,IF($G15=0,0,(Z$1-$G15)*Hoja1!$A$1/Z$1))","v":0},{"$f":"IF(AA$1>$E$11,0,IF($G15=0,0,(AA$1-$G15)*Hoja1!$A$1/AA$1))","v":0},{"$f":"IF(AB$1>$E$11,0,IF($G15=0,0,(AB$1-$G15)*Hoja1!$A$1/AB$1))","v":0},{"$f":"IF(AC$1>$E$11,0,IF($G15=0,0,(AC$1-$G15)*Hoja1!$A$1/AC$1))","v":0},{"$f":"IF(AD$1>$E$11,0,IF($G15=0,0,(AD$1-$G15)*Hoja1!$A$1/AD$1))","v":0},{"$f":"IF(AE$1>$E$11,0,IF($G15=0,0,(AE$1-$G15)*Hoja1!$A$1/AE$1))","v":0},{"$f":"IF(AF$1>$E$11,0,IF($G15=0,0,(AF$1-$G15)*Hoja1!$A$1/AF$1))","v":0},{"$f":"IF(AG$1>$E$11,0,IF($G15=0,0,(AG$1-$G15)*Hoja1!$A$1/AG$1))","v":0},{"$f":"IF(AH$1>$E$11,0,IF($G15=0,0,(AH$1-$G15)*Hoja1!$A$1/AH$1))","v":0},{"$f":"IF(AI$1>$E$11,0,IF($G15=0,0,(AI$1-$G15)*Hoja1!$A$1/AI$1))","v":0},{"$f":"IF(AJ$1>$E$11,0,IF($G15=0,0,(AJ$1-$G15)*Hoja1!$A$1/AJ$1))","v":0},{"$f":"IF(AK$1>$E$11,0,IF($G15=0,0,(AK$1-$G15)*Hoja1!$A$1/AK$1))","v":0},{"$f":"IF(AL$1>$E$11,0,IF($G15=0,0,(AL$1-$G15)*Hoja1!$A$1/AL$1))","v":0},{"$f":"IF(AM$1>$E$11,0,IF($G15=0,0,(AM$1-$G15)*Hoja1!$A$1/AM$1))","v":0},{"$f":"IF(AN$1>$E$11,0,IF($G15=0,0,(AN$1-$G15)*Hoja1!$A$1/AN$1))","v":0},{"$f":"IF(AO$1>$E$11,0,IF($G15=0,0,(AO$1-$G15)*Hoja1!$A$1/AO$1))","v":0},{"$f":"IF(AP$1>$E$11,0,IF($G15=0,0,(AP$1-$G15)*Hoja1!$A$1/AP$1))","v":0},{"$f":"IF(AQ$1>$E$11,0,IF($G15=0,0,(AQ$1-$G15)*Hoja1!$A$1/AQ$1))","v":0},{"$f":"IF(AR$1>$E$11,0,IF($G15=0,0,(AR$1-$G15)*Hoja1!$A$1/AR$1))","v":0},{"$f":"IF(AS$1>$E$11,0,IF($G15=0,0,(AS$1-$G15)*Hoja1!$A$1/AS$1))","v":0},{"$f":"IF(AT$1>$E$11,0,IF($G15=0,0,(AT$1-$G15)*Hoja1!$A$1/AT$1))","v":0},{"$f":"IF(AU$1>$E$11,0,IF($G15=0,0,(AU$1-$G15)*Hoja1!$A$1/AU$1))","v":0},{"$f":"IF(AV$1>$E$11,0,IF($G15=0,0,(AV$1-$G15)*Hoja1!$A$1/AV$1))","v":0},{"$f":"IF(AW$1>$E$11,0,IF($G15=0,0,(AW$1-$G15)*Hoja1!$A$1/AW$1))","v":0},{"$f":"IF(AX$1>$E$11,0,IF($G15=0,0,(AX$1-$G15)*Hoja1!$A$1/AX$1))","v":0},{"$f":"IF(AY$1>$E$11,0,IF($G15=0,0,(AY$1-$G15)*Hoja1!$A$1/AY$1))","v":0},{"$f":"IF(AZ$1>$E$11,0,IF($G15=0,0,(AZ$1-$G15)*Hoja1!$A$1/AZ$1))","v":0},{"$f":"IF(BA$1>$E$11,0,IF($G15=0,0,(BA$1-$G15)*Hoja1!$A$1/BA$1))","v":0},{"$f":"IF(BB$1>$E$11,0,IF($G15=0,0,(BB$1-$G15)*Hoja1!$A$1/BB$1))","v":0},{"$f":"IF(BC$1>$E$11,0,IF($G15=0,0,(BC$1-$G15)*Hoja1!$A$1/BC$1))","v":0},{"$f":"IF(BD$1>$E$11,0,IF($G15=0,0,(BD$1-$G15)*Hoja1!$A$1/BD$1))","v":0},{"$f":"IF(BE$1>$E$11,0,IF($G15=0,0,(BE$1-$G15)*Hoja1!$A$1/BE$1))","v":0},{"$f":"IF(BF$1>$E$11,0,IF($G15=0,0,(BF$1-$G15)*Hoja1!$A$1/BF$1))","v":0},{"$f":"IF(BG$1>$E$11,0,IF($G15=0,0,(BG$1-$G15)*Hoja1!$A$1/BG$1))","v":0},{"$f":"IF(BH$1>$E$11,0,IF($G15=0,0,(BH$1-$G15)*Hoja1!$A$1/BH$1))","v":0},{"$f":"IF(BI$1>$E$11,0,IF($G15=0,0,(BI$1-$G15)*Hoja1!$A$1/BI$1))","v":0},{"$f":"IF(BJ$1>$E$11,0,IF($G15=0,0,(BJ$1-$G15)*Hoja1!$A$1/BJ$1))","v":0},{"$f":"IF(BK$1>$E$11,0,IF($G15=0,0,(BK$1-$G15)*Hoja1!$A$1/BK$1))","v":0},{"$f":"IF(BL$1>$E$11,0,IF($G15=0,0,(BL$1-$G15)*Hoja1!$A$1/BL$1))","v":0},{"$f":"IF(BM$1>$E$11,0,IF($G15=0,0,(BM$1-$G15)*Hoja1!$A$1/BM$1))","v":0},{"$f":"IF(BN$1>$E$11,0,IF($G15=0,0,(BN$1-$G15)*Hoja1!$A$1/BN$1))","v":0},{"$f":"IF(BO$1>$E$11,0,IF($G15=0,0,(BO$1-$G15)*Hoja1!$A$1/BO$1))","v":0},{"$f":"IF(BP$1>$E$11,0,IF($G15=0,0,(BP$1-$G15)*Hoja1!$A$1/BP$1))","v":0},{"$f":"IF(BQ$1>$E$11,0,IF($G15=0,0,(BQ$1-$G15)*Hoja1!$A$1/BQ$1))","v":0},{"$f":"IF(BR$1>$E$11,0,IF($G15=0,0,(BR$1-$G15)*Hoja1!$A$1/BR$1))","v":0},{"$f":"IF(BS$1>$E$11,0,IF($G15=0,0,(BS$1-$G15)*Hoja1!$A$1/BS$1))","v":0},{"$f":"IF(BT$1>$E$11,0,IF($G15=0,0,(BT$1-$G15)*Hoja1!$A$1/BT$1))","v":0},{"$f":"IF(BU$1>$E$11,0,IF($G15=0,0,(BU$1-$G15)*Hoja1!$A$1/BU$1))","v":0},{"$f":"IF(BV$1>$E$11,0,IF($G15=0,0,(BV$1-$G15)*Hoja1!$A$1/BV$1))","v":0},{"$f":"IF(BW$1>$E$11,0,IF($G15=0,0,(BW$1-$G15)*Hoja1!$A$1/BW$1))","v":0},{"$f":"IF(BX$1>$E$11,0,IF($G15=0,0,(BX$1-$G15)*Hoja1!$A$1/BX$1))","v":0},{"$f":"IF(BY$1>$E$11,0,IF($G15=0,0,(BY$1-$G15)*Hoja1!$A$1/BY$1))","v":0},{"$f":"IF(BZ$1>$E$11,0,IF($G15=0,0,(BZ$1-$G15)*Hoja1!$A$1/BZ$1))","v":0},{"$f":"IF(CA$1>$E$11,0,IF($G15=0,0,(CA$1-$G15)*Hoja1!$A$1/CA$1))","v":0},{"$f":"IF(CB$1>$E$11,0,IF($G15=0,0,(CB$1-$G15)*Hoja1!$A$1/CB$1))","v":0},{"$f":"IF(CC$1>$E$11,0,IF($G15=0,0,(CC$1-$G15)*Hoja1!$A$1/CC$1))","v":0},{"$f":"IF(CD$1>$E$11,0,IF($G15=0,0,(CD$1-$G15)*Hoja1!$A$1/CD$1))","v":0},{"$f":"IF(CE$1>$E$11,0,IF($G15=0,0,(CE$1-$G15)*Hoja1!$A$1/CE$1))","v":0},{"$f":"IF(CF$1>$E$11,0,IF($G15=0,0,(CF$1-$G15)*Hoja1!$A$1/CF$1))","v":0},{"$f":"IF(CG$1>$E$11,0,IF($G15=0,0,(CG$1-$G15)*Hoja1!$A$1/CG$1))","v":0},{"$f":"IF(CH$1>$E$11,0,IF($G15=0,0,(CH$1-$G15)*Hoja1!$A$1/CH$1))","v":0},{"$f":"IF(CI$1>$E$11,0,IF($G15=0,0,(CI$1-$G15)*Hoja1!$A$1/CI$1))","v":0},{"$f":"IF(CJ$1>$E$11,0,IF($G15=0,0,(CJ$1-$G15)*Hoja1!$A$1/CJ$1))","v":0},{"$f":"IF(CK$1>$E$11,0,IF($G15=0,0,(CK$1-$G15)*Hoja1!$A$1/CK$1))","v":0},{"$f":"IF(CL$1>$E$11,0,IF($G15=0,0,(CL$1-$G15)*Hoja1!$A$1/CL$1))","v":0},{"$f":"IF(CM$1>$E$11,0,IF($G15=0,0,(CM$1-$G15)*Hoja1!$A$1/CM$1))","v":0},{"$f":"IF(CN$1>$E$11,0,IF($G15=0,0,(CN$1-$G15)*Hoja1!$A$1/CN$1))","v":0},{"$f":"IF(CO$1>$E$11,0,IF($G15=0,0,(CO$1-$G15)*Hoja1!$A$1/CO$1))","v":0},{"$f":"IF(CP$1>$E$11,0,IF($G15=0,0,(CP$1-$G15)*Hoja1!$A$1/CP$1))","v":0},{"$f":"IF(CQ$1>$E$11,0,IF($G15=0,0,(CQ$1-$G15)*Hoja1!$A$1/CQ$1))","v":0},{"$f":"IF(CR$1>$E$11,0,IF($G15=0,0,(CR$1-$G15)*Hoja1!$A$1/CR$1))","v":0},{"$f":"IF(CS$1>$E$11,0,IF($G15=0,0,(CS$1-$G15)*Hoja1!$A$1/CS$1))","v":0},{"$f":"IF(CT$1>$E$11,0,IF($G15=0,0,(CT$1-$G15)*Hoja1!$A$1/CT$1))","v":0},{"$f":"IF(CU$1>$E$11,0,IF($G15=0,0,(CU$1-$G15)*Hoja1!$A$1/CU$1))","v":0},{"$f":"IF(CV$1>$E$11,0,IF($G15=0,0,(CV$1-$G15)*Hoja1!$A$1/CV$1))","v":0},{"$f":"IF(CW$1>$E$11,0,IF($G15=0,0,(CW$1-$G15)*Hoja1!$A$1/CW$1))","v":0},{"$f":"IF(CX$1>$E$11,0,IF($G15=0,0,(CX$1-$G15)*Hoja1!$A$1/CX$1))","v":0},{"$f":"IF(CY$1>$E$11,0,IF($G15=0,0,(CY$1-$G15)*Hoja1!$A$1/CY$1))","v":0},{"$f":"IF(CZ$1>$E$11,0,IF($G15=0,0,(CZ$1-$G15)*Hoja1!$A$1/CZ$1))","v":0},{"$f":"IF(DA$1>$E$11,0,IF($G15=0,0,(DA$1-$G15)*Hoja1!$A$1/DA$1))","v":0},{"$f":"IF(DB$1>$E$11,0,IF($G15=0,0,(DB$1-$G15)*Hoja1!$A$1/DB$1))","v":0},{"$f":"IF(DC$1>$E$11,0,IF($G15=0,0,(DC$1-$G15)*Hoja1!$A$1/DC$1))","v":0},{"$f":"IF(DD$1>$E$11,0,IF($G15=0,0,(DD$1-$G15)*Hoja1!$A$1/DD$1))","v":0},{"$f":"IF(DE$1>$E$11,0,IF($G15=0,0,(DE$1-$G15)*Hoja1!$A$1/DE$1))","v":0},{"$f":"IF(DF$1>$E$11,0,IF($G15=0,0,(DF$1-$G15)*Hoja1!$A$1/DF$1))","v":0},{"$f":"IF(DG$1>$E$11,0,IF($G15=0,0,(DG$1-$G15)*Hoja1!$A$1/DG$1))","v":0},{"$f":"IF(DH$1>$E$11,0,IF($G15=0,0,(DH$1-$G15)*Hoja1!$A$1/DH$1))","v":0},{"$f":"IF(DI$1>$E$11,0,IF($G15=0,0,(DI$1-$G15)*Hoja1!$A$1/DI$1))","v":0},{"$f":"IF(DJ$1>$E$11,0,IF($G15=0,0,(DJ$1-$G15)*Hoja1!$A$1/DJ$1))","v":0},{"$f":"IF(DK$1>$E$11,0,IF($G15=0,0,(DK$1-$G15)*Hoja1!$A$1/DK$1))","v":0},{"$f":"IF(DL$1>$E$11,0,IF($G15=0,0,(DL$1-$G15)*Hoja1!$A$1/DL$1))","v":0},{"$f":"IF(DM$1>$E$11,0,IF($G15=0,0,(DM$1-$G15)*Hoja1!$A$1/DM$1))","v":0}]
["B'1",{"$f":"A19","v":0.85},null,null,null,164.18499999999997,0,{"$f":"IF(H$1>$E$11,0,IF($G16=0,0,(H$1-$G16)*Hoja1!$A$1/H$1))","v":0},{"$f":"IF(I$1>$E$11,0,IF($G16=0,0,(I$1-$G16)*Hoja1!$A$1/I$1))","v":0},{"$f":"IF(J$1>$E$11,0,IF($G16=0,0,(J$1-$G16)*Hoja1!$A$1/J$1))","v":0},{"$f":"IF(K$1>$E$11,0,IF($G16=0,0,(K$1-$G16)*Hoja1!$A$1/K$1))","v":0},{"$f":"IF(L$1>$E$11,0,IF($G16=0,0,(L$1-$G16)*Hoja1!$A$1/L$1))","v":0},{"$f":"IF(M$1>$E$11,0,IF($G16=0,0,(M$1-$G16)*Hoja1!$A$1/M$1))","v":0},{"$f":"IF(N$1>$E$11,0,IF($G16=0,0,(N$1-$G16)*Hoja1!$A$1/N$1))","v":0},{"$f":"IF(O$1>$E$11,0,IF($G16=0,0,(O$1-$G16)*Hoja1!$A$1/O$1))","v":0},{"$f":"IF(P$1>$E$11,0,IF($G16=0,0,(P$1-$G16)*Hoja1!$A$1/P$1))","v":0},{"$f":"IF(Q$1>$E$11,0,IF($G16=0,0,(Q$1-$G16)*Hoja1!$A$1/Q$1))","v":0},{"$f":"IF(R$1>$E$11,0,IF($G16=0,0,(R$1-$G16)*Hoja1!$A$1/R$1))","v":0},{"$f":"IF(S$1>$E$11,0,IF($G16=0,0,(S$1-$G16)*Hoja1!$A$1/S$1))","v":0},{"$f":"IF(T$1>$E$11,0,IF($G16=0,0,(T$1-$G16)*Hoja1!$A$1/T$1))","v":0},{"$f":"IF(U$1>$E$11,0,IF($G16=0,0,(U$1-$G16)*Hoja1!$A$1/U$1))","v":0},{"$f":"IF(V$1>$E$11,0,IF($G16=0,0,(V$1-$G16)*Hoja1!$A$1/V$1))","v":0},{"$f":"IF(W$1>$E$11,0,IF($G16=0,0,(W$1-$G16)*Hoja1!$A$1/W$1))","v":0},{"$f":"IF(X$1>$E$11,0,IF($G16=0,0,(X$1-$G16)*Hoja1!$A$1/X$1))","v":0},{"$f":"IF(Y$1>$E$11,0,IF($G16=0,0,(Y$1-$G16)*Hoja1!$A$1/Y$1))","v":0},{"$f":"IF(Z$1>$E$11,0,IF($G16=0,0,(Z$1-$G16)*Hoja1!$A$1/Z$1))","v":0},{"$f":"IF(AA$1>$E$11,0,IF($G16=0,0,(AA$1-$G16)*Hoja1!$A$1/AA$1))","v":0},{"$f":"IF(AB$1>$E$11,0,IF($G16=0,0,(AB$1-$G16)*Hoja1!$A$1/AB$1))","v":0},{"$f":"IF(AC$1>$E$11,0,IF($G16=0,0,(AC$1-$G16)*Hoja1!$A$1/AC$1))","v":0},{"$f":"IF(AD$1>$E$11,0,IF($G16=0,0,(AD$1-$G16)*Hoja1!$A$1/AD$1))","v":0},{"$f":"IF(AE$1>$E$11,0,IF($G16=0,0,(AE$1-$G16)*Hoja1!$A$1/AE$1))","v":0},{"$f":"IF(AF$1>$E$11,0,IF($G16=0,0,(AF$1-$G16)*Hoja1!$A$1/AF$1))","v":0},{"$f":"IF(AG$1>$E$11,0,IF($G16=0,0,(AG$1-$G16)*Hoja1!$A$1/AG$1))","v":0},{"$f":"IF(AH$1>$E$11,0,IF($G16=0,0,(AH$1-$G16)*Hoja1!$A$1/AH$1))","v":0},{"$f":"IF(AI$1>$E$11,0,IF($G16=0,0,(AI$1-$G16)*Hoja1!$A$1/AI$1))","v":0},{"$f":"IF(AJ$1>$E$11,0,IF($G16=0,0,(AJ$1-$G16)*Hoja1!$A$1/AJ$1))","v":0},{"$f":"IF(AK$1>$E$11,0,IF($G16=0,0,(AK$1-$G16)*Hoja1!$A$1/AK$1))","v":0},{"$f":"IF(AL$1>$E$11,0,IF($G16=0,0,(AL$1-$G16)*Hoja1!$A$1/AL$1))","v":0},{"$f":"IF(AM$1>$E$11,0,IF($G16=0,0,(AM$1-$G16)*Hoja1!$A$1/AM$1))","v":0},{"$f":"IF(AN$1>$E$11,0,IF($G16=0,0,(AN$1-$G16)*Hoja1!$A$1/AN$1))","v":0},{"$f":"IF(AO$1>$E$11,0,IF($G16=0,0,(AO$1-$G16)*Hoja1!$A$1/AO$1))","v":0},{"$f":"IF(AP$1>$E$11,0,IF($G16=0,0,(AP$1-$G16)*Hoja1!$A$1/AP$1))","v":0},{"$f":"IF(AQ$1>$E$11,0,IF($G16=0,0,(AQ$1-$G16)*Hoja1!$A$1/AQ$1))","v":0},{"$f":"IF(AR$1>$E$11,0,IF($G16=0,0,(AR$1-$G16)*Hoja1!$A$1/AR$1))","v":0},{"$f":"IF(AS$1>$E$11,0,IF($G16=0,0,(AS$1-$G16)*Hoja1!$A$1/AS$1))","v":0},{"$f":"IF(AT$1>$E$11,0,IF($G16=0,0,(AT$1-$G16)*Hoja1!$A$1/AT$1))","v":0},{"$f":"IF(AU$1>$E$11,0,IF($G16=0,0,(AU$1-$G16)*Hoja1!$A$1/AU$1))","v":0},{"$f":"IF(AV$1>$E$11,0,IF($G16=0,0,(AV$1-$G16)*Hoja1!$A$1/AV$1))","v":0},{"$f":"IF(AW$1>$E$11,0,IF($G16=0,0,(AW$1-$G16)*Hoja1!$A$1/AW$1))","v":0},{"$f":"IF(AX$1>$E$11,0,IF($G16=0,0,(AX$1-$G16)*Hoja1!$A$1/AX$1))","v":0},{"$f":"IF(AY$1>$E$11,0,IF($G16=0,0,(AY$1-$G16)*Hoja1!$A$1/AY$1))","v":0},{"$f":"IF(AZ$1>$E$11,0,IF($G16=0,0,(AZ$1-$G16)*Hoja1!$A$1/AZ$1))","v":0},{"$f":"IF(BA$1>$E$11,0,IF($G16=0,0,(BA$1-$G16)*Hoja1!$A$1/BA$1))","v":0},{"$f":"IF(BB$1>$E$11,0,IF($G16=0,0,(BB$1-$G16)*Hoja1!$A$1/BB$1))","v":0},{"$f":"IF(BC$1>$E$11,0,IF($G16=0,0,(BC$1-$G16)*Hoja1!$A$1/BC$1))","v":0},{"$f":"IF(BD$1>$E$11,0,IF($G16=0,0,(BD$1-$G16)*Hoja1!$A$1/BD$1))","v":0},{"$f":"IF(BE$1>$E$11,0,IF($G16=0,0,(BE$1-$G16)*Hoja1!$A$1/BE$1))","v":0},{"$f":"IF(BF$1>$E$11,0,IF($G16=0,0,(BF$1-$G16)*Hoja1!$A$1/BF$1))","v":0},{"$f":"IF(BG$1>$E$11,0,IF($G16=0,0,(BG$1-$G16)*Hoja1!$A$1/BG$1))","v":0},{"$f":"IF(BH$1>$E$11,0,IF($G16=0,0,(BH$1-$G16)*Hoja1!$A$1/BH$1))","v":0},{"$f":"IF(BI$1>$E$11,0,IF($G16=0,0,(BI$1-$G16)*Hoja1!$A$1/BI$1))","v":0},{"$f":"IF(BJ$1>$E$11,0,IF($G16=0,0,(BJ$1-$G16)*Hoja1!$A$1/BJ$1))","v":0},{"$f":"IF(BK$1>$E$11,0,IF($G16=0,0,(BK$1-$G16)*Hoja1!$A$1/BK$1))","v":0},{"$f":"IF(BL$1>$E$11,0,IF($G16=0,0,(BL$1-$G16)*Hoja1!$A$1/BL$1))","v":0},{"$f":"IF(BM$1>$E$11,0,IF($G16=0,0,(BM$1-$G16)*Hoja1!$A$1/BM$1))","v":0},{"$f":"IF(BN$1>$E$11,0,IF($G16=0,0,(BN$1-$G16)*Hoja1!$A$1/BN$1))","v":0},{"$f":"IF(BO$1>$E$11,0,IF($G16=0,0,(BO$1-$G16)*Hoja1!$A$1/BO$1))","v":0},{"$f":"IF(BP$1>$E$11,0,IF($G16=0,0,(BP$1-$G16)*Hoja1!$A$1/BP$1))","v":0},{"$f":"IF(BQ$1>$E$11,0,IF($G16=0,0,(BQ$1-$G16)*Hoja1!$A$1/BQ$1))","v":0},{"$f":"IF(BR$1>$E$11,0,IF($G16=0,0,(BR$1-$G16)*Hoja1!$A$1/BR$1))","v":0},{"$f":"IF(BS$1>$E$11,0,IF($G16=0,0,(BS$1-$G16)*Hoja1!$A$1/BS$1))","v":0},{"$f":"IF(BT$1>$E$11,0,IF($G16=0,0,(BT$1-$G16)*Hoja1!$A$1/BT$1))","v":0},{"$f":"IF(BU$1>$E$11,0,IF($G16=0,0,(BU$1-$G16)*Hoja1!$A$1/BU$1))","v":0},{"$f":"IF(BV$1>$E$11,0,IF($G16=0,0,(BV$1-$G16)*Hoja1!$A$1/BV$1))","v":0},{"$f":"IF(BW$1>$E$11,0,IF($G16=0,0,(BW$1-$G16)*Hoja1!$A$1/BW$1))","v":0},{"$f":"IF(BX$1>$E$11,0,IF($G16=0,0,(BX$1-$G16)*Hoja1!$A$1/BX$1))","v":0},{"$f":"IF(BY$1>$E$11,0,IF($G16=0,0,(BY$1-$G16)*Hoja1!$A$1/BY$1))","v":0},{"$f":"IF(BZ$1>$E$11,0,IF($G16=0,0,(BZ$1-$G16)*Hoja1!$A$1/BZ$1))","v":0},{"$f":"IF(CA$1>$E$11,0,IF($G16=0,0,(CA$1-$G16)*Hoja1!$A$1/CA$1))","v":0},{"$f":"IF(CB$1>$E$11,0,IF($G16=0,0,(CB$1-$G16)*Hoja1!$A$1/CB$1))","v":0},{"$f":"IF(CC$1>$E$11,0,IF($G16=0,0,(CC$1-$G16)*Hoja1!$A$1/CC$1))","v":0},{"$f":"IF(CD$1>$E$11,0,IF($G16=0,0,(CD$1-$G16)*Hoja1!$A$1/CD$1))","v":0},{"$f":"IF(CE$1>$E$11,0,IF($G16=0,0,(CE$1-$G16)*Hoja1!$A$1/CE$1))","v":0},{"$f":"IF(CF$1>$E$11,0,IF($G16=0,0,(CF$1-$G16)*Hoja1!$A$1/CF$1))","v":0},{"$f":"IF(CG$1>$E$11,0,IF($G16=0,0,(CG$1-$G16)*Hoja1!$A$1/CG$1))","v":0},{"$f":"IF(CH$1>$E$11,0,IF($G16=0,0,(CH$1-$G16)*Hoja1!$A$1/CH$1))","v":0},{"$f":"IF(CI$1>$E$11,0,IF($G16=0,0,(CI$1-$G16)*Hoja1!$A$1/CI$1))","v":0},{"$f":"IF(CJ$1>$E$11,0,IF($G16=0,0,(CJ$1-$G16)*Hoja1!$A$1/CJ$1))","v":0},{"$f":"IF(CK$1>$E$11,0,IF($G16=0,0,(CK$1-$G16)*Hoja1!$A$1/CK$1))","v":0},{"$f":"IF(CL$1>$E$11,0,IF($G16=0,0,(CL$1-$G16)*Hoja1!$A$1/CL$1))","v":0},{"$f":"IF(CM$1>$E$11,0,IF($G16=0,0,(CM$1-$G16)*Hoja1!$A$1/CM$1))","v":0},{"$f":"IF(CN$1>$E$11,0,IF($G16=0,0,(CN$1-$G16)*Hoja1!$A$1/CN$1))","v":0},{"$f":"IF(CO$1>$E$11,0,IF($G16=0,0,(CO$1-$G16)*Hoja1!$A$1/CO$1))","v":0},{"$f":"IF(CP$1>$E$11,0,IF($G16=0,0,(CP$1-$G16)*Hoja1!$A$1/CP$1))","v":0},{"$f":"IF(CQ$1>$E$11,0,IF($G16=0,0,(CQ$1-$G16)*Hoja1!$A$1/CQ$1))","v":0},{"$f":"IF(CR$1>$E$11,0,IF($G16=0,0,(CR$1-$G16)*Hoja1!$A$1/CR$1))","v":0},{"$f":"IF(CS$1>$E$11,0,IF($G16=0,0,(CS$1-$G16)*Hoja1!$A$1/CS$1))","v":0},{"$f":"IF(CT$1>$E$11,0,IF($G16=0,0,(CT$1-$G16)*Hoja1!$A$1/CT$1))","v":0},{"$f":"IF(CU$1>$E$11,0,IF($G16=0,0,(CU$1-$G16)*Hoja1!$A$1/CU$1))","v":0},{"$f":"IF(CV$1>$E$11,0,IF($G16=0,0,(CV$1-$G16)*Hoja1!$A$1/CV$1))","v":0},{"$f":"IF(CW$1>$E$11,0,IF($G16=0,0,(CW$1-$G16)*Hoja1!$A$1/CW$1))","v":0},{"$f":"IF(CX$1>$E$11,0,IF($G16=0,0,(CX$1-$G16)*Hoja1!$A$1/CX$1))","v":0},{"$f":"IF(CY$1>$E$11,0,IF($G16=0,0,(CY$1-$G16)*Hoja1!$A$1/CY$1))","v":0},{"$f":"IF(CZ$1>$E$11,0,IF($G16=0,0,(CZ$1-$G16)*Hoja1!$A$1/CZ$1))","v":0},{"$f":"IF(DA$1>$E$11,0,IF($G16=0,0,(DA$1-$G16)*Hoja1!$A$1/DA$1))","v":0},{"$f":"IF(DB$1>$E$11,0,IF($G16=0,0,(DB$1-$G16)*Hoja1!$A$1/DB$1))","v":0},{"$f":"IF(DC$1>$E$11,0,IF($G16=0,0,(DC$1-$G16)*Hoja1!$A$1/DC$1))","v":0},{"$f":"IF(DD$1>$E$11,0,IF($G16=0,0,(DD$1-$G16)*Hoja1!$A$1/DD$1))","v":0},{"$f":"IF(DE$1>$E$11,0,IF($G16=0,0,(DE$1-$G16)*Hoja1!$A$1/DE$1))","v":0},{"$f":"IF(DF$1>$E$11,0,IF($G16=0,0,(DF$1-$G16)*Hoja1!$A$1/DF$1))","v":0},{"$f":"IF(DG$1>$E$11,0,IF($G16=0,0,(DG$1-$G16)*Hoja1!$A$1/DG$1))","v":0},{"$f":"IF(DH$1>$E$11,0,IF($G16=0,0,(DH$1-$G16)*Hoja1!$A$1/DH$1))","v":0},{"$f":"IF(DI$1>$E$11,0,IF($G16=0,0,(DI$1-$G16)*Hoja1!$A$1/DI$1))","v":0},{"$f":"IF(DJ$1>$E$11,0,IF($G16=0,0,(DJ$1-$G16)*Hoja1!$A$1/DJ$1))","v":0},{"$f":"IF(DK$1>$E$11,0,IF($G16=0,0,(DK$1-$G16)*Hoja1!$A$1/DK$1))","v":0},{"$f":"IF(DL$1>$E$11,0,IF($G16=0,0,(DL$1-$G16)*Hoja1!$A$1/DL$1))","v":0},{"$f":"IF(DM$1>$E$11,0,IF($G16=0,0,(DM$1-$G16)*Hoja1!$A$1/DM$1))","v":0}]
["fy",{"$f":"Hoja2!F11","v":4200},null,null,null,177.37499999999997,0,{"$f":"IF(H$1>$E$11,0,IF($G17=0,0,(H$1-$G17)*Hoja1!$A$1/H$1))","v":0},{"$f":"IF(I$1>$E$11,0,IF($G17=0,0,(I$1-$G17)*Hoja1!$A$1/I$1))","v":0},{"$f":"IF(J$1>$E$11,0,IF($G17=0,0,(J$1-$G17)*Hoja1!$A$1/J$1))","v":0},{"$f":"IF(K$1>$E$11,0,IF($G17=0,0,(K$1-$G17)*Hoja1!$A$1/K$1))","v":0},{"$f":"IF(L$1>$E$11,0,IF($G17=0,0,(L$1-$G17)*Hoja1!$A$1/L$1))","v":0},{"$f":"IF(M$1>$E$11,0,IF($G17=0,0,(M$1-$G17)*Hoja1!$A$1/M$1))","v":0},{"$f":"IF(N$1>$E$11,0,IF($G17=0,0,(N$1-$G17)*Hoja1!$A$1/N$1))","v":0},{"$f":"IF(O$1>$E$11,0,IF($G17=0,0,(O$1-$G17)*Hoja1!$A$1/O$1))","v":0},{"$f":"IF(P$1>$E$11,0,IF($G17=0,0,(P$1-$G17)*Hoja1!$A$1/P$1))","v":0},{"$f":"IF(Q$1>$E$11,0,IF($G17=0,0,(Q$1-$G17)*Hoja1!$A$1/Q$1))","v":0},{"$f":"IF(R$1>$E$11,0,IF($G17=0,0,(R$1-$G17)*Hoja1!$A$1/R$1))","v":0},{"$f":"IF(S$1>$E$11,0,IF($G17=0,0,(S$1-$G17)*Hoja1!$A$1/S$1))","v":0},{"$f":"IF(T$1>$E$11,0,IF($G17=0,0,(T$1-$G17)*Hoja1!$A$1/T$1))","v":0},{"$f":"IF(U$1>$E$11,0,IF($G17=0,0,(U$1-$G17)*Hoja1!$A$1/U$1))","v":0},{"$f":"IF(V$1>$E$11,0,IF($G17=0,0,(V$1-$G17)*Hoja1!$A$1/V$1))","v":0},{"$f":"IF(W$1>$E$11,0,IF($G17=0,0,(W$1-$G17)*Hoja1!$A$1/W$1))","v":0},{"$f":"IF(X$1>$E$11,0,IF($G17=0,0,(X$1-$G17)*Hoja1!$A$1/X$1))","v":0},{"$f":"IF(Y$1>$E$11,0,IF($G17=0,0,(Y$1-$G17)*Hoja1!$A$1/Y$1))","v":0},{"$f":"IF(Z$1>$E$11,0,IF($G17=0,0,(Z$1-$G17)*Hoja1!$A$1/Z$1))","v":0},{"$f":"IF(AA$1>$E$11,0,IF($G17=0,0,(AA$1-$G17)*Hoja1!$A$1/AA$1))","v":0},{"$f":"IF(AB$1>$E$11,0,IF($G17=0,0,(AB$1-$G17)*Hoja1!$A$1/AB$1))","v":0},{"$f":"IF(AC$1>$E$11,0,IF($G17=0,0,(AC$1-$G17)*Hoja1!$A$1/AC$1))","v":0},{"$f":"IF(AD$1>$E$11,0,IF($G17=0,0,(AD$1-$G17)*Hoja1!$A$1/AD$1))","v":0},{"$f":"IF(AE$1>$E$11,0,IF($G17=0,0,(AE$1-$G17)*Hoja1!$A$1/AE$1))","v":0},{"$f":"IF(AF$1>$E$11,0,IF($G17=0,0,(AF$1-$G17)*Hoja1!$A$1/AF$1))","v":0},{"$f":"IF(AG$1>$E$11,0,IF($G17=0,0,(AG$1-$G17)*Hoja1!$A$1/AG$1))","v":0},{"$f":"IF(AH$1>$E$11,0,IF($G17=0,0,(AH$1-$G17)*Hoja1!$A$1/AH$1))","v":0},{"$f":"IF(AI$1>$E$11,0,IF($G17=0,0,(AI$1-$G17)*Hoja1!$A$1/AI$1))","v":0},{"$f":"IF(AJ$1>$E$11,0,IF($G17=0,0,(AJ$1-$G17)*Hoja1!$A$1/AJ$1))","v":0},{"$f":"IF(AK$1>$E$11,0,IF($G17=0,0,(AK$1-$G17)*Hoja1!$A$1/AK$1))","v":0},{"$f":"IF(AL$1>$E$11,0,IF($G17=0,0,(AL$1-$G17)*Hoja1!$A$1/AL$1))","v":0},{"$f":"IF(AM$1>$E$11,0,IF($G17=0,0,(AM$1-$G17)*Hoja1!$A$1/AM$1))","v":0},{"$f":"IF(AN$1>$E$11,0,IF($G17=0,0,(AN$1-$G17)*Hoja1!$A$1/AN$1))","v":0},{"$f":"IF(AO$1>$E$11,0,IF($G17=0,0,(AO$1-$G17)*Hoja1!$A$1/AO$1))","v":0},{"$f":"IF(AP$1>$E$11,0,IF($G17=0,0,(AP$1-$G17)*Hoja1!$A$1/AP$1))","v":0},{"$f":"IF(AQ$1>$E$11,0,IF($G17=0,0,(AQ$1-$G17)*Hoja1!$A$1/AQ$1))","v":0},{"$f":"IF(AR$1>$E$11,0,IF($G17=0,0,(AR$1-$G17)*Hoja1!$A$1/AR$1))","v":0},{"$f":"IF(AS$1>$E$11,0,IF($G17=0,0,(AS$1-$G17)*Hoja1!$A$1/AS$1))","v":0},{"$f":"IF(AT$1>$E$11,0,IF($G17=0,0,(AT$1-$G17)*Hoja1!$A$1/AT$1))","v":0},{"$f":"IF(AU$1>$E$11,0,IF($G17=0,0,(AU$1-$G17)*Hoja1!$A$1/AU$1))","v":0},{"$f":"IF(AV$1>$E$11,0,IF($G17=0,0,(AV$1-$G17)*Hoja1!$A$1/AV$1))","v":0},{"$f":"IF(AW$1>$E$11,0,IF($G17=0,0,(AW$1-$G17)*Hoja1!$A$1/AW$1))","v":0},{"$f":"IF(AX$1>$E$11,0,IF($G17=0,0,(AX$1-$G17)*Hoja1!$A$1/AX$1))","v":0},{"$f":"IF(AY$1>$E$11,0,IF($G17=0,0,(AY$1-$G17)*Hoja1!$A$1/AY$1))","v":0},{"$f":"IF(AZ$1>$E$11,0,IF($G17=0,0,(AZ$1-$G17)*Hoja1!$A$1/AZ$1))","v":0},{"$f":"IF(BA$1>$E$11,0,IF($G17=0,0,(BA$1-$G17)*Hoja1!$A$1/BA$1))","v":0},{"$f":"IF(BB$1>$E$11,0,IF($G17=0,0,(BB$1-$G17)*Hoja1!$A$1/BB$1))","v":0},{"$f":"IF(BC$1>$E$11,0,IF($G17=0,0,(BC$1-$G17)*Hoja1!$A$1/BC$1))","v":0},{"$f":"IF(BD$1>$E$11,0,IF($G17=0,0,(BD$1-$G17)*Hoja1!$A$1/BD$1))","v":0},{"$f":"IF(BE$1>$E$11,0,IF($G17=0,0,(BE$1-$G17)*Hoja1!$A$1/BE$1))","v":0},{"$f":"IF(BF$1>$E$11,0,IF($G17=0,0,(BF$1-$G17)*Hoja1!$A$1/BF$1))","v":0},{"$f":"IF(BG$1>$E$11,0,IF($G17=0,0,(BG$1-$G17)*Hoja1!$A$1/BG$1))","v":0},{"$f":"IF(BH$1>$E$11,0,IF($G17=0,0,(BH$1-$G17)*Hoja1!$A$1/BH$1))","v":0},{"$f":"IF(BI$1>$E$11,0,IF($G17=0,0,(BI$1-$G17)*Hoja1!$A$1/BI$1))","v":0},{"$f":"IF(BJ$1>$E$11,0,IF($G17=0,0,(BJ$1-$G17)*Hoja1!$A$1/BJ$1))","v":0},{"$f":"IF(BK$1>$E$11,0,IF($G17=0,0,(BK$1-$G17)*Hoja1!$A$1/BK$1))","v":0},{"$f":"IF(BL$1>$E$11,0,IF($G17=0,0,(BL$1-$G17)*Hoja1!$A$1/BL$1))","v":0},{"$f":"IF(BM$1>$E$11,0,IF($G17=0,0,(BM$1-$G17)*Hoja1!$A$1/BM$1))","v":0},{"$f":"IF(BN$1>$E$11,0,IF($G17=0,0,(BN$1-$G17)*Hoja1!$A$1/BN$1))","v":0},{"$f":"IF(BO$1>$E$11,0,IF($G17=0,0,(BO$1-$G17)*Hoja1!$A$1/BO$1))","v":0},{"$f":"IF(BP$1>$E$11,0,IF($G17=0,0,(BP$1-$G17)*Hoja1!$A$1/BP$1))","v":0},{"$f":"IF(BQ$1>$E$11,0,IF($G17=0,0,(BQ$1-$G17)*Hoja1!$A$1/BQ$1))","v":0},{"$f":"IF(BR$1>$E$11,0,IF($G17=0,0,(BR$1-$G17)*Hoja1!$A$1/BR$1))","v":0},{"$f":"IF(BS$1>$E$11,0,IF($G17=0,0,(BS$1-$G17)*Hoja1!$A$1/BS$1))","v":0},{"$f":"IF(BT$1>$E$11,0,IF($G17=0,0,(BT$1-$G17)*Hoja1!$A$1/BT$1))","v":0},{"$f":"IF(BU$1>$E$11,0,IF($G17=0,0,(BU$1-$G17)*Hoja1!$A$1/BU$1))","v":0},{"$f":"IF(BV$1>$E$11,0,IF($G17=0,0,(BV$1-$G17)*Hoja1!$A$1/BV$1))","v":0},{"$f":"IF(BW$1>$E$11,0,IF($G17=0,0,(BW$1-$G17)*Hoja1!$A$1/BW$1))","v":0},{"$f":"IF(BX$1>$E$11,0,IF($G17=0,0,(BX$1-$G17)*Hoja1!$A$1/BX$1))","v":0},{"$f":"IF(BY$1>$E$11,0,IF($G17=0,0,(BY$1-$G17)*Hoja1!$A$1/BY$1))","v":0},{"$f":"IF(BZ$1>$E$11,0,IF($G17=0,0,(BZ$1-$G17)*Hoja1!$A$1/BZ$1))","v":0},{"$f":"IF(CA$1>$E$11,0,IF($G17=0,0,(CA$1-$G17)*Hoja1!$A$1/CA$1))","v":0},{"$f":"IF(CB$1>$E$11,0,IF($G17=0,0,(CB$1-$G17)*Hoja1!$A$1/CB$1))","v":0},{"$f":"IF(CC$1>$E$11,0,IF($G17=0,0,(CC$1-$G17)*Hoja1!$A$1/CC$1))","v":0},{"$f":"IF(CD$1>$E$11,0,IF($G17=0,0,(CD$1-$G17)*Hoja1!$A$1/CD$1))","v":0},{"$f":"IF(CE$1>$E$11,0,IF($G17=0,0,(CE$1-$G17)*Hoja1!$A$1/CE$1))","v":0},{"$f":"IF(CF$1>$E$11,0,IF($G17=0,0,(CF$1-$G17)*Hoja1!$A$1/CF$1))","v":0},{"$f":"IF(CG$1>$E$11,0,IF($G17=0,0,(CG$1-$G17)*Hoja1!$A$1/CG$1))","v":0},{"$f":"IF(CH$1>$E$11,0,IF($G17=0,0,(CH$1-$G17)*Hoja1!$A$1/CH$1))","v":0},{"$f":"IF(CI$1>$E$11,0,IF($G17=0,0,(CI$1-$G17)*Hoja1!$A$1/CI$1))","v":0},{"$f":"IF(CJ$1>$E$11,0,IF($G17=0,0,(CJ$1-$G17)*Hoja1!$A$1/CJ$1))","v":0},{"$f":"IF(CK$1>$E$11,0,IF($G17=0,0,(CK$1-$G17)*Hoja1!$A$1/CK$1))","v":0},{"$f":"IF(CL$1>$E$11,0,IF($G17=0,0,(CL$1-$G17)*Hoja1!$A$1/CL$1))","v":0},{"$f":"IF(CM$1>$E$11,0,IF($G17=0,0,(CM$1-$G17)*Hoja1!$A$1/CM$1))","v":0},{"$f":"IF(CN$1>$E$11,0,IF($G17=0,0,(CN$1-$G17)*Hoja1!$A$1/CN$1))","v":0},{"$f":"IF(CO$1>$E$11,0,IF($G17=0,0,(CO$1-$G17)*Hoja1!$A$1/CO$1))","v":0},{"$f":"IF(CP$1>$E$11,0,IF($G17=0,0,(CP$1-$G17)*Hoja1!$A$1/CP$1))","v":0},{"$f":"IF(CQ$1>$E$11,0,IF($G17=0,0,(CQ$1-$G17)*Hoja1!$A$1/CQ$1))","v":0},{"$f":"IF(CR$1>$E$11,0,IF($G17=0,0,(CR$1-$G17)*Hoja1!$A$1/CR$1))","v":0},{"$f":"IF(CS$1>$E$11,0,IF($G17=0,0,(CS$1-$G17)*Hoja1!$A$1/CS$1))","v":0},{"$f":"IF(CT$1>$E$11,0,IF($G17=0,0,(CT$1-$G17)*Hoja1!$A$1/CT$1))","v":0},{"$f":"IF(CU$1>$E$11,0,IF($G17=0,0,(CU$1-$G17)*Hoja1!$A$1/CU$1))","v":0},{"$f":"IF(CV$1>$E$11,0,IF($G17=0,0,(CV$1-$G17)*Hoja1!$A$1/CV$1))","v":0},{"$f":"IF(CW$1>$E$11,0,IF($G17=0,0,(CW$1-$G17)*Hoja1!$A$1/CW$1))","v":0},{"$f":"IF(CX$1>$E$11,0,IF($G17=0,0,(CX$1-$G17)*Hoja1!$A$1/CX$1))","v":0},{"$f":"IF(CY$1>$E$11,0,IF($G17=0,0,(CY$1-$G17)*Hoja1!$A$1/CY$1))","v":0},{"$f":"IF(CZ$1>$E$11,0,IF($G17=0,0,(CZ$1-$G17)*Hoja1!$A$1/CZ$1))","v":0},{"$f":"IF(DA$1>$E$11,0,IF($G17=0,0,(DA$1-$G17)*Hoja1!$A$1/DA$1))","v":0},{"$f":"IF(DB$1>$E$11,0,IF($G17=0,0,(DB$1-$G17)*Hoja1!$A$1/DB$1))","v":0},{"$f":"IF(DC$1>$E$11,0,IF($G17=0,0,(DC$1-$G17)*Hoja1!$A$1/DC$1))","v":0},{"$f":"IF(DD$1>$E$11,0,IF($G17=0,0,(DD$1-$G17)*Hoja1!$A$1/DD$1))","v":0},{"$f":"IF(DE$1>$E$11,0,IF($G17=0,0,(DE$1-$G17)*Hoja1!$A$1/DE$1))","v":0},{"$f":"IF(DF$1>$E$11,0,IF($G17=0,0,(DF$1-$G17)*Hoja1!$A$1/DF$1))","v":0},{"$f":"IF(DG$1>$E$11,0,IF($G17=0,0,(DG$1-$G17)*Hoja1!$A$1/DG$1))","v":0},{"$f":"IF(DH$1>$E$11,0,IF($G17=0,0,(DH$1-$G17)*Hoja1!$A$1/DH$1))","v":0},{"$f":"IF(DI$1>$E$11,0,IF($G17=0,0,(DI$1-$G17)*Hoja1!$A$1/DI$1))","v":0},{"$f":"IF(DJ$1>$E$11,0,IF($G17=0,0,(DJ$1-$G17)*Hoja1!$A$1/DJ$1))","v":0},{"$f":"IF(DK$1>$E$11,0,IF($G17=0,0,(DK$1-$G17)*Hoja1!$A$1/DK$1))","v":0},{"$f":"IF(DL$1>$E$11,0,IF($G17=0,0,(DL$1-$G17)*Hoja1!$A$1/DL$1))","v":0},{"$f":"IF(DM$1>$E$11,0,IF($G17=0,0,(DM$1-$G17)*Hoja1!$A$1/DM$1))","v":0}]
[null,null,null,null,null,190.56499999999997,0,{"$f":"IF(H$1>$E$11,0,IF($G18=0,0,(H$1-$G18)*Hoja1!$A$1/H$1))","v":0},{"$f":"IF(I$1>$E$11,0,IF($G18=0,0,(I$1-$G18)*Hoja1!$A$1/I$1))","v":0},{"$f":"IF(J$1>$E$11,0,IF($G18=0,0,(J$1-$G18)*Hoja1!$A$1/J$1))","v":0},{"$f":"IF(K$1>$E$11,0,IF($G18=0,0,(K$1-$G18)*Hoja1!$A$1/K$1))","v":0},{"$f":"IF(L$1>$E$11,0,IF($G18=0,0,(L$1-$G18)*Hoja1!$A$1/L$1))","v":0},{"$f":"IF(M$1>$E$11,0,IF($G18=0,0,(M$1-$G18)*Hoja1!$A$1/M$1))","v":0},{"$f":"IF(N$1>$E$11,0,IF($G18=0,0,(N$1-$G18)*Hoja1!$A$1/N$1))","v":0},{"$f":"IF(O$1>$E$11,0,IF($G18=0,0,(O$1-$G18)*Hoja1!$A$1/O$1))","v":0},{"$f":"IF(P$1>$E$11,0,IF($G18=0,0,(P$1-$G18)*Hoja1!$A$1/P$1))","v":0},{"$f":"IF(Q$1>$E$11,0,IF($G18=0,0,(Q$1-$G18)*Hoja1!$A$1/Q$1))","v":0},{"$f":"IF(R$1>$E$11,0,IF($G18=0,0,(R$1-$G18)*Hoja1!$A$1/R$1))","v":0},{"$f":"IF(S$1>$E$11,0,IF($G18=0,0,(S$1-$G18)*Hoja1!$A$1/S$1))","v":0},{"$f":"IF(T$1>$E$11,0,IF($G18=0,0,(T$1-$G18)*Hoja1!$A$1/T$1))","v":0},{"$f":"IF(U$1>$E$11,0,IF($G18=0,0,(U$1-$G18)*Hoja1!$A$1/U$1))","v":0},{"$f":"IF(V$1>$E$11,0,IF($G18=0,0,(V$1-$G18)*Hoja1!$A$1/V$1))","v":0},{"$f":"IF(W$1>$E$11,0,IF($G18=0,0,(W$1-$G18)*Hoja1!$A$1/W$1))","v":0},{"$f":"IF(X$1>$E$11,0,IF($G18=0,0,(X$1-$G18)*Hoja1!$A$1/X$1))","v":0},{"$f":"IF(Y$1>$E$11,0,IF($G18=0,0,(Y$1-$G18)*Hoja1!$A$1/Y$1))","v":0},{"$f":"IF(Z$1>$E$11,0,IF($G18=0,0,(Z$1-$G18)*Hoja1!$A$1/Z$1))","v":0},{"$f":"IF(AA$1>$E$11,0,IF($G18=0,0,(AA$1-$G18)*Hoja1!$A$1/AA$1))","v":0},{"$f":"IF(AB$1>$E$11,0,IF($G18=0,0,(AB$1-$G18)*Hoja1!$A$1/AB$1))","v":0},{"$f":"IF(AC$1>$E$11,0,IF($G18=0,0,(AC$1-$G18)*Hoja1!$A$1/AC$1))","v":0},{"$f":"IF(AD$1>$E$11,0,IF($G18=0,0,(AD$1-$G18)*Hoja1!$A$1/AD$1))","v":0},{"$f":"IF(AE$1>$E$11,0,IF($G18=0,0,(AE$1-$G18)*Hoja1!$A$1/AE$1))","v":0},{"$f":"IF(AF$1>$E$11,0,IF($G18=0,0,(AF$1-$G18)*Hoja1!$A$1/AF$1))","v":0},{"$f":"IF(AG$1>$E$11,0,IF($G18=0,0,(AG$1-$G18)*Hoja1!$A$1/AG$1))","v":0},{"$f":"IF(AH$1>$E$11,0,IF($G18=0,0,(AH$1-$G18)*Hoja1!$A$1/AH$1))","v":0},{"$f":"IF(AI$1>$E$11,0,IF($G18=0,0,(AI$1-$G18)*Hoja1!$A$1/AI$1))","v":0},{"$f":"IF(AJ$1>$E$11,0,IF($G18=0,0,(AJ$1-$G18)*Hoja1!$A$1/AJ$1))","v":0},{"$f":"IF(AK$1>$E$11,0,IF($G18=0,0,(AK$1-$G18)*Hoja1!$A$1/AK$1))","v":0},{"$f":"IF(AL$1>$E$11,0,IF($G18=0,0,(AL$1-$G18)*Hoja1!$A$1/AL$1))","v":0},{"$f":"IF(AM$1>$E$11,0,IF($G18=0,0,(AM$1-$G18)*Hoja1!$A$1/AM$1))","v":0},{"$f":"IF(AN$1>$E$11,0,IF($G18=0,0,(AN$1-$G18)*Hoja1!$A$1/AN$1))","v":0},{"$f":"IF(AO$1>$E$11,0,IF($G18=0,0,(AO$1-$G18)*Hoja1!$A$1/AO$1))","v":0},{"$f":"IF(AP$1>$E$11,0,IF($G18=0,0,(AP$1-$G18)*Hoja1!$A$1/AP$1))","v":0},{"$f":"IF(AQ$1>$E$11,0,IF($G18=0,0,(AQ$1-$G18)*Hoja1!$A$1/AQ$1))","v":0},{"$f":"IF(AR$1>$E$11,0,IF($G18=0,0,(AR$1-$G18)*Hoja1!$A$1/AR$1))","v":0},{"$f":"IF(AS$1>$E$11,0,IF($G18=0,0,(AS$1-$G18)*Hoja1!$A$1/AS$1))","v":0},{"$f":"IF(AT$1>$E$11,0,IF($G18=0,0,(AT$1-$G18)*Hoja1!$A$1/AT$1))","v":0},{"$f":"IF(AU$1>$E$11,0,IF($G18=0,0,(AU$1-$G18)*Hoja1!$A$1/AU$1))","v":0},{"$f":"IF(AV$1>$E$11,0,IF($G18=0,0,(AV$1-$G18)*Hoja1!$A$1/AV$1))","v":0},{"$f":"IF(AW$1>$E$11,0,IF($G18=0,0,(AW$1-$G18)*Hoja1!$A$1/AW$1))","v":0},{"$f":"IF(AX$1>$E$11,0,IF($G18=0,0,(AX$1-$G18)*Hoja1!$A$1/AX$1))","v":0},{"$f":"IF(AY$1>$E$11,0,IF($G18=0,0,(AY$1-$G18)*Hoja1!$A$1/AY$1))","v":0},{"$f":"IF(AZ$1>$E$11,0,IF($G18=0,0,(AZ$1-$G18)*Hoja1!$A$1/AZ$1))","v":0},{"$f":"IF(BA$1>$E$11,0,IF($G18=0,0,(BA$1-$G18)*Hoja1!$A$1/BA$1))","v":0},{"$f":"IF(BB$1>$E$11,0,IF($G18=0,0,(BB$1-$G18)*Hoja1!$A$1/BB$1))","v":0},{"$f":"IF(BC$1>$E$11,0,IF($G18=0,0,(BC$1-$G18)*Hoja1!$A$1/BC$1))","v":0},{"$f":"IF(BD$1>$E$11,0,IF($G18=0,0,(BD$1-$G18)*Hoja1!$A$1/BD$1))","v":0},{"$f":"IF(BE$1>$E$11,0,IF($G18=0,0,(BE$1-$G18)*Hoja1!$A$1/BE$1))","v":0},{"$f":"IF(BF$1>$E$11,0,IF($G18=0,0,(BF$1-$G18)*Hoja1!$A$1/BF$1))","v":0},{"$f":"IF(BG$1>$E$11,0,IF($G18=0,0,(BG$1-$G18)*Hoja1!$A$1/BG$1))","v":0},{"$f":"IF(BH$1>$E$11,0,IF($G18=0,0,(BH$1-$G18)*Hoja1!$A$1/BH$1))","v":0},{"$f":"IF(BI$1>$E$11,0,IF($G18=0,0,(BI$1-$G18)*Hoja1!$A$1/BI$1))","v":0},{"$f":"IF(BJ$1>$E$11,0,IF($G18=0,0,(BJ$1-$G18)*Hoja1!$A$1/BJ$1))","v":0},{"$f":"IF(BK$1>$E$11,0,IF($G18=0,0,(BK$1-$G18)*Hoja1!$A$1/BK$1))","v":0},{"$f":"IF(BL$1>$E$11,0,IF($G18=0,0,(BL$1-$G18)*Hoja1!$A$1/BL$1))","v":0},{"$f":"IF(BM$1>$E$11,0,IF($G18=0,0,(BM$1-$G18)*Hoja1!$A$1/BM$1))","v":0},{"$f":"IF(BN$1>$E$11,0,IF($G18=0,0,(BN$1-$G18)*Hoja1!$A$1/BN$1))","v":0},{"$f":"IF(BO$1>$E$11,0,IF($G18=0,0,(BO$1-$G18)*Hoja1!$A$1/BO$1))","v":0},{"$f":"IF(BP$1>$E$11,0,IF($G18=0,0,(BP$1-$G18)*Hoja1!$A$1/BP$1))","v":0},{"$f":"IF(BQ$1>$E$11,0,IF($G18=0,0,(BQ$1-$G18)*Hoja1!$A$1/BQ$1))","v":0},{"$f":"IF(BR$1>$E$11,0,IF($G18=0,0,(BR$1-$G18)*Hoja1!$A$1/BR$1))","v":0},{"$f":"IF(BS$1>$E$11,0,IF($G18=0,0,(BS$1-$G18)*Hoja1!$A$1/BS$1))","v":0},{"$f":"IF(BT$1>$E$11,0,IF($G18=0,0,(BT$1-$G18)*Hoja1!$A$1/BT$1))","v":0},{"$f":"IF(BU$1>$E$11,0,IF($G18=0,0,(BU$1-$G18)*Hoja1!$A$1/BU$1))","v":0},{"$f":"IF(BV$1>$E$11,0,IF($G18=0,0,(BV$1-$G18)*Hoja1!$A$1/BV$1))","v":0},{"$f":"IF(BW$1>$E$11,0,IF($G18=0,0,(BW$1-$G18)*Hoja1!$A$1/BW$1))","v":0},{"$f":"IF(BX$1>$E$11,0,IF($G18=0,0,(BX$1-$G18)*Hoja1!$A$1/BX$1))","v":0},{"$f":"IF(BY$1>$E$11,0,IF($G18=0,0,(BY$1-$G18)*Hoja1!$A$1/BY$1))","v":0},{"$f":"IF(BZ$1>$E$11,0,IF($G18=0,0,(BZ$1-$G18)*Hoja1!$A$1/BZ$1))","v":0},{"$f":"IF(CA$1>$E$11,0,IF($G18=0,0,(CA$1-$G18)*Hoja1!$A$1/CA$1))","v":0},{"$f":"IF(CB$1>$E$11,0,IF($G18=0,0,(CB$1-$G18)*Hoja1!$A$1/CB$1))","v":0},{"$f":"IF(CC$1>$E$11,0,IF($G18=0,0,(CC$1-$G18)*Hoja1!$A$1/CC$1))","v":0},{"$f":"IF(CD$1>$E$11,0,IF($G18=0,0,(CD$1-$G18)*Hoja1!$A$1/CD$1))","v":0},{"$f":"IF(CE$1>$E$11,0,IF($G18=0,0,(CE$1-$G18)*Hoja1!$A$1/CE$1))","v":0},{"$f":"IF(CF$1>$E$11,0,IF($G18=0,0,(CF$1-$G18)*Hoja1!$A$1/CF$1))","v":0},{"$f":"IF(CG$1>$E$11,0,IF($G18=0,0,(CG$1-$G18)*Hoja1!$A$1/CG$1))","v":0},{"$f":"IF(CH$1>$E$11,0,IF($G18=0,0,(CH$1-$G18)*Hoja1!$A$1/CH$1))","v":0},{"$f":"IF(CI$1>$E$11,0,IF($G18=0,0,(CI$1-$G18)*Hoja1!$A$1/CI$1))","v":0},{"$f":"IF(CJ$1>$E$11,0,IF($G18=0,0,(CJ$1-$G18)*Hoja1!$A$1/CJ$1))","v":0},{"$f":"IF(CK$1>$E$11,0,IF($G18=0,0,(CK$1-$G18)*Hoja1!$A$1/CK$1))","v":0},{"$f":"IF(CL$1>$E$11,0,IF($G18=0,0,(CL$1-$G18)*Hoja1!$A$1/CL$1))","v":0},{"$f":"IF(CM$1>$E$11,0,IF($G18=0,0,(CM$1-$G18)*Hoja1!$A$1/CM$1))","v":0},{"$f":"IF(CN$1>$E$11,0,IF($G18=0,0,(CN$1-$G18)*Hoja1!$A$1/CN$1))","v":0},{"$f":"IF(CO$1>$E$11,0,IF($G18=0,0,(CO$1-$G18)*Hoja1!$A$1/CO$1))","v":0},{"$f":"IF(CP$1>$E$11,0,IF($G18=0,0,(CP$1-$G18)*Hoja1!$A$1/CP$1))","v":0},{"$f":"IF(CQ$1>$E$11,0,IF($G18=0,0,(CQ$1-$G18)*Hoja1!$A$1/CQ$1))","v":0},{"$f":"IF(CR$1>$E$11,0,IF($G18=0,0,(CR$1-$G18)*Hoja1!$A$1/CR$1))","v":0},{"$f":"IF(CS$1>$E$11,0,IF($G18=0,0,(CS$1-$G18)*Hoja1!$A$1/CS$1))","v":0},{"$f":"IF(CT$1>$E$11,0,IF($G18=0,0,(CT$1-$G18)*Hoja1!$A$1/CT$1))","v":0},{"$f":"IF(CU$1>$E$11,0,IF($G18=0,0,(CU$1-$G18)*Hoja1!$A$1/CU$1))","v":0},{"$f":"IF(CV$1>$E$11,0,IF($G18=0,0,(CV$1-$G18)*Hoja1!$A$1/CV$1))","v":0},{"$f":"IF(CW$1>$E$11,0,IF($G18=0,0,(CW$1-$G18)*Hoja1!$A$1/CW$1))","v":0},{"$f":"IF(CX$1>$E$11,0,IF($G18=0,0,(CX$1-$G18)*Hoja1!$A$1/CX$1))","v":0},{"$f":"IF(CY$1>$E$11,0,IF($G18=0,0,(CY$1-$G18)*Hoja1!$A$1/CY$1))","v":0},{"$f":"IF(CZ$1>$E$11,0,IF($G18=0,0,(CZ$1-$G18)*Hoja1!$A$1/CZ$1))","v":0},{"$f":"IF(DA$1>$E$11,0,IF($G18=0,0,(DA$1-$G18)*Hoja1!$A$1/DA$1))","v":0},{"$f":"IF(DB$1>$E$11,0,IF($G18=0,0,(DB$1-$G18)*Hoja1!$A$1/DB$1))","v":0},{"$f":"IF(DC$1>$E$11,0,IF($G18=0,0,(DC$1-$G18)*Hoja1!$A$1/DC$1))","v":0},{"$f":"IF(DD$1>$E$11,0,IF($G18=0,0,(DD$1-$G18)*Hoja1!$A$1/DD$1))","v":0},{"$f":"IF(DE$1>$E$11,0,IF($G18=0,0,(DE$1-$G18)*Hoja1!$A$1/DE$1))","v":0},{"$f":"IF(DF$1>$E$11,0,IF($G18=0,0,(DF$1-$G18)*Hoja1!$A$1/DF$1))","v":0},{"$f":"IF(DG$1>$E$11,0,IF($G18=0,0,(DG$1-$G18)*Hoja1!$A$1/DG$1))","v":0},{"$f":"IF(DH$1>$E$11,0,IF($G18=0,0,(DH$1-$G18)*Hoja1!$A$1/DH$1))","v":0},{"$f":"IF(DI$1>$E$11,0,IF($G18=0,0,(DI$1-$G18)*Hoja1!$A$1/DI$1))","v":0},{"$f":"IF(DJ$1>$E$11,0,IF($G18=0,0,(DJ$1-$G18)*Hoja1!$A$1/DJ$1))","v":0},{"$f":"IF(DK$1>$E$11,0,IF($G18=0,0,(DK$1-$G18)*Hoja1!$A$1/DK$1))","v":0},{"$f":"IF(DL$1>$E$11,0,IF($G18=0,0,(DL$1-$G18)*Hoja1!$A$1/DL$1))","v":0},{"$f":"IF(DM$1>$E$11,0,IF($G18=0,0,(DM$1-$G18)*Hoja1!$A$1/DM$1))","v":0}]
[{"$f":"IF(B19>=0.65,B19,0.65)","v":0.85},{"$f":"IF(280>=B15,0.85,0.85-0.05*(B15-280)/70)","v":0.85},null,null,null,203.75499999999997,0,{"$f":"IF(H$1>$E$11,0,IF($G19=0,0,(H$1-$G19)*Hoja1!$A$1/H$1))","v":0},{"$f":"IF(I$1>$E$11,0,IF($G19=0,0,(I$1-$G19)*Hoja1!$A$1/I$1))","v":0},{"$f":"IF(J$1>$E$11,0,IF($G19=0,0,(J$1-$G19)*Hoja1!$A$1/J$1))","v":0},{"$f":"IF(K$1>$E$11,0,IF($G19=0,0,(K$1-$G19)*Hoja1!$A$1/K$1))","v":0},{"$f":"IF(L$1>$E$11,0,IF($G19=0,0,(L$1-$G19)*Hoja1!$A$1/L$1))","v":0},{"$f":"IF(M$1>$E$11,0,IF($G19=0,0,(M$1-$G19)*Hoja1!$A$1/M$1))","v":0},{"$f":"IF(N$1>$E$11,0,IF($G19=0,0,(N$1-$G19)*Hoja1!$A$1/N$1))","v":0},{"$f":"IF(O$1>$E$11,0,IF($G19=0,0,(O$1-$G19)*Hoja1!$A$1/O$1))","v":0},{"$f":"IF(P$1>$E$11,0,IF($G19=0,0,(P$1-$G19)*Hoja1!$A$1/P$1))","v":0},{"$f":"IF(Q$1>$E$11,0,IF($G19=0,0,(Q$1-$G19)*Hoja1!$A$1/Q$1))","v":0},{"$f":"IF(R$1>$E$11,0,IF($G19=0,0,(R$1-$G19)*Hoja1!$A$1/R$1))","v":0},{"$f":"IF(S$1>$E$11,0,IF($G19=0,0,(S$1-$G19)*Hoja1!$A$1/S$1))","v":0},{"$f":"IF(T$1>$E$11,0,IF($G19=0,0,(T$1-$G19)*Hoja1!$A$1/T$1))","v":0},{"$f":"IF(U$1>$E$11,0,IF($G19=0,0,(U$1-$G19)*Hoja1!$A$1/U$1))","v":0},{"$f":"IF(V$1>$E$11,0,IF($G19=0,0,(V$1-$G19)*Hoja1!$A$1/V$1))","v":0},{"$f":"IF(W$1>$E$11,0,IF($G19=0,0,(W$1-$G19)*Hoja1!$A$1/W$1))","v":0},{"$f":"IF(X$1>$E$11,0,IF($G19=0,0,(X$1-$G19)*Hoja1!$A$1/X$1))","v":0},{"$f":"IF(Y$1>$E$11,0,IF($G19=0,0,(Y$1-$G19)*Hoja1!$A$1/Y$1))","v":0},{"$f":"IF(Z$1>$E$11,0,IF($G19=0,0,(Z$1-$G19)*Hoja1!$A$1/Z$1))","v":0},{"$f":"IF(AA$1>$E$11,0,IF($G19=0,0,(AA$1-$G19)*Hoja1!$A$1/AA$1))","v":0},{"$f":"IF(AB$1>$E$11,0,IF($G19=0,0,(AB$1-$G19)*Hoja1!$A$1/AB$1))","v":0},{"$f":"IF(AC$1>$E$11,0,IF($G19=0,0,(AC$1-$G19)*Hoja1!$A$1/AC$1))","v":0},{"$f":"IF(AD$1>$E$11,0,IF($G19=0,0,(AD$1-$G19)*Hoja1!$A$1/AD$1))","v":0},{"$f":"IF(AE$1>$E$11,0,IF($G19=0,0,(AE$1-$G19)*Hoja1!$A$1/AE$1))","v":0},{"$f":"IF(AF$1>$E$11,0,IF($G19=0,0,(AF$1-$G19)*Hoja1!$A$1/AF$1))","v":0},{"$f":"IF(AG$1>$E$11,0,IF($G19=0,0,(AG$1-$G19)*Hoja1!$A$1/AG$1))","v":0},{"$f":"IF(AH$1>$E$11,0,IF($G19=0,0,(AH$1-$G19)*Hoja1!$A$1/AH$1))","v":0},{"$f":"IF(AI$1>$E$11,0,IF($G19=0,0,(AI$1-$G19)*Hoja1!$A$1/AI$1))","v":0},{"$f":"IF(AJ$1>$E$11,0,IF($G19=0,0,(AJ$1-$G19)*Hoja1!$A$1/AJ$1))","v":0},{"$f":"IF(AK$1>$E$11,0,IF($G19=0,0,(AK$1-$G19)*Hoja1!$A$1/AK$1))","v":0},{"$f":"IF(AL$1>$E$11,0,IF($G19=0,0,(AL$1-$G19)*Hoja1!$A$1/AL$1))","v":0},{"$f":"IF(AM$1>$E$11,0,IF($G19=0,0,(AM$1-$G19)*Hoja1!$A$1/AM$1))","v":0},{"$f":"IF(AN$1>$E$11,0,IF($G19=0,0,(AN$1-$G19)*Hoja1!$A$1/AN$1))","v":0},{"$f":"IF(AO$1>$E$11,0,IF($G19=0,0,(AO$1-$G19)*Hoja1!$A$1/AO$1))","v":0},{"$f":"IF(AP$1>$E$11,0,IF($G19=0,0,(AP$1-$G19)*Hoja1!$A$1/AP$1))","v":0},{"$f":"IF(AQ$1>$E$11,0,IF($G19=0,0,(AQ$1-$G19)*Hoja1!$A$1/AQ$1))","v":0},{"$f":"IF(AR$1>$E$11,0,IF($G19=0,0,(AR$1-$G19)*Hoja1!$A$1/AR$1))","v":0},{"$f":"IF(AS$1>$E$11,0,IF($G19=0,0,(AS$1-$G19)*Hoja1!$A$1/AS$1))","v":0},{"$f":"IF(AT$1>$E$11,0,IF($G19=0,0,(AT$1-$G19)*Hoja1!$A$1/AT$1))","v":0},{"$f":"IF(AU$1>$E$11,0,IF($G19=0,0,(AU$1-$G19)*Hoja1!$A$1/AU$1))","v":0},{"$f":"IF(AV$1>$E$11,0,IF($G19=0,0,(AV$1-$G19)*Hoja1!$A$1/AV$1))","v":0},{"$f":"IF(AW$1>$E$11,0,IF($G19=0,0,(AW$1-$G19)*Hoja1!$A$1/AW$1))","v":0},{"$f":"IF(AX$1>$E$11,0,IF($G19=0,0,(AX$1-$G19)*Hoja1!$A$1/AX$1))","v":0},{"$f":"IF(AY$1>$E$11,0,IF($G19=0,0,(AY$1-$G19)*Hoja1!$A$1/AY$1))","v":0},{"$f":"IF(AZ$1>$E$11,0,IF($G19=0,0,(AZ$1-$G19)*Hoja1!$A$1/AZ$1))","v":0},{"$f":"IF(BA$1>$E$11,0,IF($G19=0,0,(BA$1-$G19)*Hoja1!$A$1/BA$1))","v":0},{"$f":"IF(BB$1>$E$11,0,IF($G19=0,0,(BB$1-$G19)*Hoja1!$A$1/BB$1))","v":0},{"$f":"IF(BC$1>$E$11,0,IF($G19=0,0,(BC$1-$G19)*Hoja1!$A$1/BC$1))","v":0},{"$f":"IF(BD$1>$E$11,0,IF($G19=0,0,(BD$1-$G19)*Hoja1!$A$1/BD$1))","v":0},{"$f":"IF(BE$1>$E$11,0,IF($G19=0,0,(BE$1-$G19)*Hoja1!$A$1/BE$1))","v":0},{"$f":"IF(BF$1>$E$11,0,IF($G19=0,0,(BF$1-$G19)*Hoja1!$A$1/BF$1))","v":0},{"$f":"IF(BG$1>$E$11,0,IF($G19=0,0,(BG$1-$G19)*Hoja1!$A$1/BG$1))","v":0},{"$f":"IF(BH$1>$E$11,0,IF($G19=0,0,(BH$1-$G19)*Hoja1!$A$1/BH$1))","v":0},{"$f":"IF(BI$1>$E$11,0,IF($G19=0,0,(BI$1-$G19)*Hoja1!$A$1/BI$1))","v":0},{"$f":"IF(BJ$1>$E$11,0,IF($G19=0,0,(BJ$1-$G19)*Hoja1!$A$1/BJ$1))","v":0},{"$f":"IF(BK$1>$E$11,0,IF($G19=0,0,(BK$1-$G19)*Hoja1!$A$1/BK$1))","v":0},{"$f":"IF(BL$1>$E$11,0,IF($G19=0,0,(BL$1-$G19)*Hoja1!$A$1/BL$1))","v":0},{"$f":"IF(BM$1>$E$11,0,IF($G19=0,0,(BM$1-$G19)*Hoja1!$A$1/BM$1))","v":0},{"$f":"IF(BN$1>$E$11,0,IF($G19=0,0,(BN$1-$G19)*Hoja1!$A$1/BN$1))","v":0},{"$f":"IF(BO$1>$E$11,0,IF($G19=0,0,(BO$1-$G19)*Hoja1!$A$1/BO$1))","v":0},{"$f":"IF(BP$1>$E$11,0,IF($G19=0,0,(BP$1-$G19)*Hoja1!$A$1/BP$1))","v":0},{"$f":"IF(BQ$1>$E$11,0,IF($G19=0,0,(BQ$1-$G19)*Hoja1!$A$1/BQ$1))","v":0},{"$f":"IF(BR$1>$E$11,0,IF($G19=0,0,(BR$1-$G19)*Hoja1!$A$1/BR$1))","v":0},{"$f":"IF(BS$1>$E$11,0,IF($G19=0,0,(BS$1-$G19)*Hoja1!$A$1/BS$1))","v":0},{"$f":"IF(BT$1>$E$11,0,IF($G19=0,0,(BT$1-$G19)*Hoja1!$A$1/BT$1))","v":0},{"$f":"IF(BU$1>$E$11,0,IF($G19=0,0,(BU$1-$G19)*Hoja1!$A$1/BU$1))","v":0},{"$f":"IF(BV$1>$E$11,0,IF($G19=0,0,(BV$1-$G19)*Hoja1!$A$1/BV$1))","v":0},{"$f":"IF(BW$1>$E$11,0,IF($G19=0,0,(BW$1-$G19)*Hoja1!$A$1/BW$1))","v":0},{"$f":"IF(BX$1>$E$11,0,IF($G19=0,0,(BX$1-$G19)*Hoja1!$A$1/BX$1))","v":0},{"$f":"IF(BY$1>$E$11,0,IF($G19=0,0,(BY$1-$G19)*Hoja1!$A$1/BY$1))","v":0},{"$f":"IF(BZ$1>$E$11,0,IF($G19=0,0,(BZ$1-$G19)*Hoja1!$A$1/BZ$1))","v":0},{"$f":"IF(CA$1>$E$11,0,IF($G19=0,0,(CA$1-$G19)*Hoja1!$A$1/CA$1))","v":0},{"$f":"IF(CB$1>$E$11,0,IF($G19=0,0,(CB$1-$G19)*Hoja1!$A$1/CB$1))","v":0},{"$f":"IF(CC$1>$E$11,0,IF($G19=0,0,(CC$1-$G19)*Hoja1!$A$1/CC$1))","v":0},{"$f":"IF(CD$1>$E$11,0,IF($G19=0,0,(CD$1-$G19)*Hoja1!$A$1/CD$1))","v":0},{"$f":"IF(CE$1>$E$11,0,IF($G19=0,0,(CE$1-$G19)*Hoja1!$A$1/CE$1))","v":0},{"$f":"IF(CF$1>$E$11,0,IF($G19=0,0,(CF$1-$G19)*Hoja1!$A$1/CF$1))","v":0},{"$f":"IF(CG$1>$E$11,0,IF($G19=0,0,(CG$1-$G19)*Hoja1!$A$1/CG$1))","v":0},{"$f":"IF(CH$1>$E$11,0,IF($G19=0,0,(CH$1-$G19)*Hoja1!$A$1/CH$1))","v":0},{"$f":"IF(CI$1>$E$11,0,IF($G19=0,0,(CI$1-$G19)*Hoja1!$A$1/CI$1))","v":0},{"$f":"IF(CJ$1>$E$11,0,IF($G19=0,0,(CJ$1-$G19)*Hoja1!$A$1/CJ$1))","v":0},{"$f":"IF(CK$1>$E$11,0,IF($G19=0,0,(CK$1-$G19)*Hoja1!$A$1/CK$1))","v":0},{"$f":"IF(CL$1>$E$11,0,IF($G19=0,0,(CL$1-$G19)*Hoja1!$A$1/CL$1))","v":0},{"$f":"IF(CM$1>$E$11,0,IF($G19=0,0,(CM$1-$G19)*Hoja1!$A$1/CM$1))","v":0},{"$f":"IF(CN$1>$E$11,0,IF($G19=0,0,(CN$1-$G19)*Hoja1!$A$1/CN$1))","v":0},{"$f":"IF(CO$1>$E$11,0,IF($G19=0,0,(CO$1-$G19)*Hoja1!$A$1/CO$1))","v":0},{"$f":"IF(CP$1>$E$11,0,IF($G19=0,0,(CP$1-$G19)*Hoja1!$A$1/CP$1))","v":0},{"$f":"IF(CQ$1>$E$11,0,IF($G19=0,0,(CQ$1-$G19)*Hoja1!$A$1/CQ$1))","v":0},{"$f":"IF(CR$1>$E$11,0,IF($G19=0,0,(CR$1-$G19)*Hoja1!$A$1/CR$1))","v":0},{"$f":"IF(CS$1>$E$11,0,IF($G19=0,0,(CS$1-$G19)*Hoja1!$A$1/CS$1))","v":0},{"$f":"IF(CT$1>$E$11,0,IF($G19=0,0,(CT$1-$G19)*Hoja1!$A$1/CT$1))","v":0},{"$f":"IF(CU$1>$E$11,0,IF($G19=0,0,(CU$1-$G19)*Hoja1!$A$1/CU$1))","v":0},{"$f":"IF(CV$1>$E$11,0,IF($G19=0,0,(CV$1-$G19)*Hoja1!$A$1/CV$1))","v":0},{"$f":"IF(CW$1>$E$11,0,IF($G19=0,0,(CW$1-$G19)*Hoja1!$A$1/CW$1))","v":0},{"$f":"IF(CX$1>$E$11,0,IF($G19=0,0,(CX$1-$G19)*Hoja1!$A$1/CX$1))","v":0},{"$f":"IF(CY$1>$E$11,0,IF($G19=0,0,(CY$1-$G19)*Hoja1!$A$1/CY$1))","v":0},{"$f":"IF(CZ$1>$E$11,0,IF($G19=0,0,(CZ$1-$G19)*Hoja1!$A$1/CZ$1))","v":0},{"$f":"IF(DA$1>$E$11,0,IF($G19=0,0,(DA$1-$G19)*Hoja1!$A$1/DA$1))","v":0},{"$f":"IF(DB$1>$E$11,0,IF($G19=0,0,(DB$1-$G19)*Hoja1!$A$1/DB$1))","v":0},{"$f":"IF(DC$1>$E$11,0,IF($G19=0,0,(DC$1-$G19)*Hoja1!$A$1/DC$1))","v":0},{"$f":"IF(DD$1>$E$11,0,IF($G19=0,0,(DD$1-$G19)*Hoja1!$A$1/DD$1))","v":0},{"$f":"IF(DE$1>$E$11,0,IF($G19=0,0,(DE$1-$G19)*Hoja1!$A$1/DE$1))","v":0},{"$f":"IF(DF$1>$E$11,0,IF($G19=0,0,(DF$1-$G19)*Hoja1!$A$1/DF$1))","v":0},{"$f":"IF(DG$1>$E$11,0,IF($G19=0,0,(DG$1-$G19)*Hoja1!$A$1/DG$1))","v":0},{"$f":"IF(DH$1>$E$11,0,IF($G19=0,0,(DH$1-$G19)*Hoja1!$A$1/DH$1))","v":0},{"$f":"IF(DI$1>$E$11,0,IF($G19=0,0,(DI$1-$G19)*Hoja1!$A$1/DI$1))","v":0},{"$f":"IF(DJ$1>$E$11,0,IF($G19=0,0,(DJ$1-$G19)*Hoja1!$A$1/DJ$1))","v":0},{"$f":"IF(DK$1>$E$11,0,IF($G19=0,0,(DK$1-$G19)*Hoja1!$A$1/DK$1))","v":0},{"$f":"IF(DL$1>$E$11,0,IF($G19=0,0,(DL$1-$G19)*Hoja1!$A$1/DL$1))","v":0},{"$f":"IF(DM$1>$E$11,0,IF($G19=0,0,(DM$1-$G19)*Hoja1!$A$1/DM$1))","v":0}]
[null,null,null,null,null,216.94499999999996,0,{"$f":"IF(H$1>$E$11,0,IF($G20=0,0,(H$1-$G20)*Hoja1!$A$1/H$1))","v":0},{"$f":"IF(I$1>$E$11,0,IF($G20=0,0,(I$1-$G20)*Hoja1!$A$1/I$1))","v":0},{"$f":"IF(J$1>$E$11,0,IF($G20=0,0,(J$1-$G20)*Hoja1!$A$1/J$1))","v":0},{"$f":"IF(K$1>$E$11,0,IF($G20=0,0,(K$1-$G20)*Hoja1!$A$1/K$1))","v":0},{"$f":"IF(L$1>$E$11,0,IF($G20=0,0,(L$1-$G20)*Hoja1!$A$1/L$1))","v":0},{"$f":"IF(M$1>$E$11,0,IF($G20=0,0,(M$1-$G20)*Hoja1!$A$1/M$1))","v":0},{"$f":"IF(N$1>$E$11,0,IF($G20=0,0,(N$1-$G20)*Hoja1!$A$1/N$1))","v":0},{"$f":"IF(O$1>$E$11,0,IF($G20=0,0,(O$1-$G20)*Hoja1!$A$1/O$1))","v":0},{"$f":"IF(P$1>$E$11,0,IF($G20=0,0,(P$1-$G20)*Hoja1!$A$1/P$1))","v":0},{"$f":"IF(Q$1>$E$11,0,IF($G20=0,0,(Q$1-$G20)*Hoja1!$A$1/Q$1))","v":0},{"$f":"IF(R$1>$E$11,0,IF($G20=0,0,(R$1-$G20)*Hoja1!$A$1/R$1))","v":0},{"$f":"IF(S$1>$E$11,0,IF($G20=0,0,(S$1-$G20)*Hoja1!$A$1/S$1))","v":0},{"$f":"IF(T$1>$E$11,0,IF($G20=0,0,(T$1-$G20)*Hoja1!$A$1/T$1))","v":0},{"$f":"IF(U$1>$E$11,0,IF($G20=0,0,(U$1-$G20)*Hoja1!$A$1/U$1))","v":0},{"$f":"IF(V$1>$E$11,0,IF($G20=0,0,(V$1-$G20)*Hoja1!$A$1/V$1))","v":0},{"$f":"IF(W$1>$E$11,0,IF($G20=0,0,(W$1-$G20)*Hoja1!$A$1/W$1))","v":0},{"$f":"IF(X$1>$E$11,0,IF($G20=0,0,(X$1-$G20)*Hoja1!$A$1/X$1))","v":0},{"$f":"IF(Y$1>$E$11,0,IF($G20=0,0,(Y$1-$G20)*Hoja1!$A$1/Y$1))","v":0},{"$f":"IF(Z$1>$E$11,0,IF($G20=0,0,(Z$1-$G20)*Hoja1!$A$1/Z$1))","v":0},{"$f":"IF(AA$1>$E$11,0,IF($G20=0,0,(AA$1-$G20)*Hoja1!$A$1/AA$1))","v":0},{"$f":"IF(AB$1>$E$11,0,IF($G20=0,0,(AB$1-$G20)*Hoja1!$A$1/AB$1))","v":0},{"$f":"IF(AC$1>$E$11,0,IF($G20=0,0,(AC$1-$G20)*Hoja1!$A$1/AC$1))","v":0},{"$f":"IF(AD$1>$E$11,0,IF($G20=0,0,(AD$1-$G20)*Hoja1!$A$1/AD$1))","v":0},{"$f":"IF(AE$1>$E$11,0,IF($G20=0,0,(AE$1-$G20)*Hoja1!$A$1/AE$1))","v":0},{"$f":"IF(AF$1>$E$11,0,IF($G20=0,0,(AF$1-$G20)*Hoja1!$A$1/AF$1))","v":0},{"$f":"IF(AG$1>$E$11,0,IF($G20=0,0,(AG$1-$G20)*Hoja1!$A$1/AG$1))","v":0},{"$f":"IF(AH$1>$E$11,0,IF($G20=0,0,(AH$1-$G20)*Hoja1!$A$1/AH$1))","v":0},{"$f":"IF(AI$1>$E$11,0,IF($G20=0,0,(AI$1-$G20)*Hoja1!$A$1/AI$1))","v":0},{"$f":"IF(AJ$1>$E$11,0,IF($G20=0,0,(AJ$1-$G20)*Hoja1!$A$1/AJ$1))","v":0},{"$f":"IF(AK$1>$E$11,0,IF($G20=0,0,(AK$1-$G20)*Hoja1!$A$1/AK$1))","v":0},{"$f":"IF(AL$1>$E$11,0,IF($G20=0,0,(AL$1-$G20)*Hoja1!$A$1/AL$1))","v":0},{"$f":"IF(AM$1>$E$11,0,IF($G20=0,0,(AM$1-$G20)*Hoja1!$A$1/AM$1))","v":0},{"$f":"IF(AN$1>$E$11,0,IF($G20=0,0,(AN$1-$G20)*Hoja1!$A$1/AN$1))","v":0},{"$f":"IF(AO$1>$E$11,0,IF($G20=0,0,(AO$1-$G20)*Hoja1!$A$1/AO$1))","v":0},{"$f":"IF(AP$1>$E$11,0,IF($G20=0,0,(AP$1-$G20)*Hoja1!$A$1/AP$1))","v":0},{"$f":"IF(AQ$1>$E$11,0,IF($G20=0,0,(AQ$1-$G20)*Hoja1!$A$1/AQ$1))","v":0},{"$f":"IF(AR$1>$E$11,0,IF($G20=0,0,(AR$1-$G20)*Hoja1!$A$1/AR$1))","v":0},{"$f":"IF(AS$1>$E$11,0,IF($G20=0,0,(AS$1-$G20)*Hoja1!$A$1/AS$1))","v":0},{"$f":"IF(AT$1>$E$11,0,IF($G20=0,0,(AT$1-$G20)*Hoja1!$A$1/AT$1))","v":0},{"$f":"IF(AU$1>$E$11,0,IF($G20=0,0,(AU$1-$G20)*Hoja1!$A$1/AU$1))","v":0},{"$f":"IF(AV$1>$E$11,0,IF($G20=0,0,(AV$1-$G20)*Hoja1!$A$1/AV$1))","v":0},{"$f":"IF(AW$1>$E$11,0,IF($G20=0,0,(AW$1-$G20)*Hoja1!$A$1/AW$1))","v":0},{"$f":"IF(AX$1>$E$11,0,IF($G20=0,0,(AX$1-$G20)*Hoja1!$A$1/AX$1))","v":0},{"$f":"IF(AY$1>$E$11,0,IF($G20=0,0,(AY$1-$G20)*Hoja1!$A$1/AY$1))","v":0},{"$f":"IF(AZ$1>$E$11,0,IF($G20=0,0,(AZ$1-$G20)*Hoja1!$A$1/AZ$1))","v":0},{"$f":"IF(BA$1>$E$11,0,IF($G20=0,0,(BA$1-$G20)*Hoja1!$A$1/BA$1))","v":0},{"$f":"IF(BB$1>$E$11,0,IF($G20=0,0,(BB$1-$G20)*Hoja1!$A$1/BB$1))","v":0},{"$f":"IF(BC$1>$E$11,0,IF($G20=0,0,(BC$1-$G20)*Hoja1!$A$1/BC$1))","v":0},{"$f":"IF(BD$1>$E$11,0,IF($G20=0,0,(BD$1-$G20)*Hoja1!$A$1/BD$1))","v":0},{"$f":"IF(BE$1>$E$11,0,IF($G20=0,0,(BE$1-$G20)*Hoja1!$A$1/BE$1))","v":0},{"$f":"IF(BF$1>$E$11,0,IF($G20=0,0,(BF$1-$G20)*Hoja1!$A$1/BF$1))","v":0},{"$f":"IF(BG$1>$E$11,0,IF($G20=0,0,(BG$1-$G20)*Hoja1!$A$1/BG$1))","v":0},{"$f":"IF(BH$1>$E$11,0,IF($G20=0,0,(BH$1-$G20)*Hoja1!$A$1/BH$1))","v":0},{"$f":"IF(BI$1>$E$11,0,IF($G20=0,0,(BI$1-$G20)*Hoja1!$A$1/BI$1))","v":0},{"$f":"IF(BJ$1>$E$11,0,IF($G20=0,0,(BJ$1-$G20)*Hoja1!$A$1/BJ$1))","v":0},{"$f":"IF(BK$1>$E$11,0,IF($G20=0,0,(BK$1-$G20)*Hoja1!$A$1/BK$1))","v":0},{"$f":"IF(BL$1>$E$11,0,IF($G20=0,0,(BL$1-$G20)*Hoja1!$A$1/BL$1))","v":0},{"$f":"IF(BM$1>$E$11,0,IF($G20=0,0,(BM$1-$G20)*Hoja1!$A$1/BM$1))","v":0},{"$f":"IF(BN$1>$E$11,0,IF($G20=0,0,(BN$1-$G20)*Hoja1!$A$1/BN$1))","v":0},{"$f":"IF(BO$1>$E$11,0,IF($G20=0,0,(BO$1-$G20)*Hoja1!$A$1/BO$1))","v":0},{"$f":"IF(BP$1>$E$11,0,IF($G20=0,0,(BP$1-$G20)*Hoja1!$A$1/BP$1))","v":0},{"$f":"IF(BQ$1>$E$11,0,IF($G20=0,0,(BQ$1-$G20)*Hoja1!$A$1/BQ$1))","v":0},{"$f":"IF(BR$1>$E$11,0,IF($G20=0,0,(BR$1-$G20)*Hoja1!$A$1/BR$1))","v":0},{"$f":"IF(BS$1>$E$11,0,IF($G20=0,0,(BS$1-$G20)*Hoja1!$A$1/BS$1))","v":0},{"$f":"IF(BT$1>$E$11,0,IF($G20=0,0,(BT$1-$G20)*Hoja1!$A$1/BT$1))","v":0},{"$f":"IF(BU$1>$E$11,0,IF($G20=0,0,(BU$1-$G20)*Hoja1!$A$1/BU$1))","v":0},{"$f":"IF(BV$1>$E$11,0,IF($G20=0,0,(BV$1-$G20)*Hoja1!$A$1/BV$1))","v":0},{"$f":"IF(BW$1>$E$11,0,IF($G20=0,0,(BW$1-$G20)*Hoja1!$A$1/BW$1))","v":0},{"$f":"IF(BX$1>$E$11,0,IF($G20=0,0,(BX$1-$G20)*Hoja1!$A$1/BX$1))","v":0},{"$f":"IF(BY$1>$E$11,0,IF($G20=0,0,(BY$1-$G20)*Hoja1!$A$1/BY$1))","v":0},{"$f":"IF(BZ$1>$E$11,0,IF($G20=0,0,(BZ$1-$G20)*Hoja1!$A$1/BZ$1))","v":0},{"$f":"IF(CA$1>$E$11,0,IF($G20=0,0,(CA$1-$G20)*Hoja1!$A$1/CA$1))","v":0},{"$f":"IF(CB$1>$E$11,0,IF($G20=0,0,(CB$1-$G20)*Hoja1!$A$1/CB$1))","v":0},{"$f":"IF(CC$1>$E$11,0,IF($G20=0,0,(CC$1-$G20)*Hoja1!$A$1/CC$1))","v":0},{"$f":"IF(CD$1>$E$11,0,IF($G20=0,0,(CD$1-$G20)*Hoja1!$A$1/CD$1))","v":0},{"$f":"IF(CE$1>$E$11,0,IF($G20=0,0,(CE$1-$G20)*Hoja1!$A$1/CE$1))","v":0},{"$f":"IF(CF$1>$E$11,0,IF($G20=0,0,(CF$1-$G20)*Hoja1!$A$1/CF$1))","v":0},{"$f":"IF(CG$1>$E$11,0,IF($G20=0,0,(CG$1-$G20)*Hoja1!$A$1/CG$1))","v":0},{"$f":"IF(CH$1>$E$11,0,IF($G20=0,0,(CH$1-$G20)*Hoja1!$A$1/CH$1))","v":0},{"$f":"IF(CI$1>$E$11,0,IF($G20=0,0,(CI$1-$G20)*Hoja1!$A$1/CI$1))","v":0},{"$f":"IF(CJ$1>$E$11,0,IF($G20=0,0,(CJ$1-$G20)*Hoja1!$A$1/CJ$1))","v":0},{"$f":"IF(CK$1>$E$11,0,IF($G20=0,0,(CK$1-$G20)*Hoja1!$A$1/CK$1))","v":0},{"$f":"IF(CL$1>$E$11,0,IF($G20=0,0,(CL$1-$G20)*Hoja1!$A$1/CL$1))","v":0},{"$f":"IF(CM$1>$E$11,0,IF($G20=0,0,(CM$1-$G20)*Hoja1!$A$1/CM$1))","v":0},{"$f":"IF(CN$1>$E$11,0,IF($G20=0,0,(CN$1-$G20)*Hoja1!$A$1/CN$1))","v":0},{"$f":"IF(CO$1>$E$11,0,IF($G20=0,0,(CO$1-$G20)*Hoja1!$A$1/CO$1))","v":0},{"$f":"IF(CP$1>$E$11,0,IF($G20=0,0,(CP$1-$G20)*Hoja1!$A$1/CP$1))","v":0},{"$f":"IF(CQ$1>$E$11,0,IF($G20=0,0,(CQ$1-$G20)*Hoja1!$A$1/CQ$1))","v":0},{"$f":"IF(CR$1>$E$11,0,IF($G20=0,0,(CR$1-$G20)*Hoja1!$A$1/CR$1))","v":0},{"$f":"IF(CS$1>$E$11,0,IF($G20=0,0,(CS$1-$G20)*Hoja1!$A$1/CS$1))","v":0},{"$f":"IF(CT$1>$E$11,0,IF($G20=0,0,(CT$1-$G20)*Hoja1!$A$1/CT$1))","v":0},{"$f":"IF(CU$1>$E$11,0,IF($G20=0,0,(CU$1-$G20)*Hoja1!$A$1/CU$1))","v":0},{"$f":"IF(CV$1>$E$11,0,IF($G20=0,0,(CV$1-$G20)*Hoja1!$A$1/CV$1))","v":0},{"$f":"IF(CW$1>$E$11,0,IF($G20=0,0,(CW$1-$G20)*Hoja1!$A$1/CW$1))","v":0},{"$f":"IF(CX$1>$E$11,0,IF($G20=0,0,(CX$1-$G20)*Hoja1!$A$1/CX$1))","v":0},{"$f":"IF(CY$1>$E$11,0,IF($G20=0,0,(CY$1-$G20)*Hoja1!$A$1/CY$1))","v":0},{"$f":"IF(CZ$1>$E$11,0,IF($G20=0,0,(CZ$1-$G20)*Hoja1!$A$1/CZ$1))","v":0},{"$f":"IF(DA$1>$E$11,0,IF($G20=0,0,(DA$1-$G20)*Hoja1!$A$1/DA$1))","v":0},{"$f":"IF(DB$1>$E$11,0,IF($G20=0,0,(DB$1-$G20)*Hoja1!$A$1/DB$1))","v":0},{"$f":"IF(DC$1>$E$11,0,IF($G20=0,0,(DC$1-$G20)*Hoja1!$A$1/DC$1))","v":0},{"$f":"IF(DD$1>$E$11,0,IF($G20=0,0,(DD$1-$G20)*Hoja1!$A$1/DD$1))","v":0},{"$f":"IF(DE$1>$E$11,0,IF($G20=0,0,(DE$1-$G20)*Hoja1!$A$1/DE$1))","v":0},{"$f":"IF(DF$1>$E$11,0,IF($G20=0,0,(DF$1-$G20)*Hoja1!$A$1/DF$1))","v":0},{"$f":"IF(DG$1>$E$11,0,IF($G20=0,0,(DG$1-$G20)*Hoja1!$A$1/DG$1))","v":0},{"$f":"IF(DH$1>$E$11,0,IF($G20=0,0,(DH$1-$G20)*Hoja1!$A$1/DH$1))","v":0},{"$f":"IF(DI$1>$E$11,0,IF($G20=0,0,(DI$1-$G20)*Hoja1!$A$1/DI$1))","v":0},{"$f":"IF(DJ$1>$E$11,0,IF($G20=0,0,(DJ$1-$G20)*Hoja1!$A$1/DJ$1))","v":0},{"$f":"IF(DK$1>$E$11,0,IF($G20=0,0,(DK$1-$G20)*Hoja1!$A$1/DK$1))","v":0},{"$f":"IF(DL$1>$E$11,0,IF($G20=0,0,(DL$1-$G20)*Hoja1!$A$1/DL$1))","v":0},{"$f":"IF(DM$1>$E$11,0,IF($G20=0,0,(DM$1-$G20)*Hoja1!$A$1/DM$1))","v":0}]
[null,null,null,null,null,230.13499999999996,0,{"$f":"IF(H$1>$E$11,0,IF($G21=0,0,(H$1-$G21)*Hoja1!$A$1/H$1))","v":0},{"$f":"IF(I$1>$E$11,0,IF($G21=0,0,(I$1-$G21)*Hoja1!$A$1/I$1))","v":0},{"$f":"IF(J$1>$E$11,0,IF($G21=0,0,(J$1-$G21)*Hoja1!$A$1/J$1))","v":0},{"$f":"IF(K$1>$E$11,0,IF($G21=0,0,(K$1-$G21)*Hoja1!$A$1/K$1))","v":0},{"$f":"IF(L$1>$E$11,0,IF($G21=0,0,(L$1-$G21)*Hoja1!$A$1/L$1))","v":0},{"$f":"IF(M$1>$E$11,0,IF($G21=0,0,(M$1-$G21)*Hoja1!$A$1/M$1))","v":0},{"$f":"IF(N$1>$E$11,0,IF($G21=0,0,(N$1-$G21)*Hoja1!$A$1/N$1))","v":0},{"$f":"IF(O$1>$E$11,0,IF($G21=0,0,(O$1-$G21)*Hoja1!$A$1/O$1))","v":0},{"$f":"IF(P$1>$E$11,0,IF($G21=0,0,(P$1-$G21)*Hoja1!$A$1/P$1))","v":0},{"$f":"IF(Q$1>$E$11,0,IF($G21=0,0,(Q$1-$G21)*Hoja1!$A$1/Q$1))","v":0},{"$f":"IF(R$1>$E$11,0,IF($G21=0,0,(R$1-$G21)*Hoja1!$A$1/R$1))","v":0},{"$f":"IF(S$1>$E$11,0,IF($G21=0,0,(S$1-$G21)*Hoja1!$A$1/S$1))","v":0},{"$f":"IF(T$1>$E$11,0,IF($G21=0,0,(T$1-$G21)*Hoja1!$A$1/T$1))","v":0},{"$f":"IF(U$1>$E$11,0,IF($G21=0,0,(U$1-$G21)*Hoja1!$A$1/U$1))","v":0},{"$f":"IF(V$1>$E$11,0,IF($G21=0,0,(V$1-$G21)*Hoja1!$A$1/V$1))","v":0},{"$f":"IF(W$1>$E$11,0,IF($G21=0,0,(W$1-$G21)*Hoja1!$A$1/W$1))","v":0},{"$f":"IF(X$1>$E$11,0,IF($G21=0,0,(X$1-$G21)*Hoja1!$A$1/X$1))","v":0},{"$f":"IF(Y$1>$E$11,0,IF($G21=0,0,(Y$1-$G21)*Hoja1!$A$1/Y$1))","v":0},{"$f":"IF(Z$1>$E$11,0,IF($G21=0,0,(Z$1-$G21)*Hoja1!$A$1/Z$1))","v":0},{"$f":"IF(AA$1>$E$11,0,IF($G21=0,0,(AA$1-$G21)*Hoja1!$A$1/AA$1))","v":0},{"$f":"IF(AB$1>$E$11,0,IF($G21=0,0,(AB$1-$G21)*Hoja1!$A$1/AB$1))","v":0},{"$f":"IF(AC$1>$E$11,0,IF($G21=0,0,(AC$1-$G21)*Hoja1!$A$1/AC$1))","v":0},{"$f":"IF(AD$1>$E$11,0,IF($G21=0,0,(AD$1-$G21)*Hoja1!$A$1/AD$1))","v":0},{"$f":"IF(AE$1>$E$11,0,IF($G21=0,0,(AE$1-$G21)*Hoja1!$A$1/AE$1))","v":0},{"$f":"IF(AF$1>$E$11,0,IF($G21=0,0,(AF$1-$G21)*Hoja1!$A$1/AF$1))","v":0},{"$f":"IF(AG$1>$E$11,0,IF($G21=0,0,(AG$1-$G21)*Hoja1!$A$1/AG$1))","v":0},{"$f":"IF(AH$1>$E$11,0,IF($G21=0,0,(AH$1-$G21)*Hoja1!$A$1/AH$1))","v":0},{"$f":"IF(AI$1>$E$11,0,IF($G21=0,0,(AI$1-$G21)*Hoja1!$A$1/AI$1))","v":0},{"$f":"IF(AJ$1>$E$11,0,IF($G21=0,0,(AJ$1-$G21)*Hoja1!$A$1/AJ$1))","v":0},{"$f":"IF(AK$1>$E$11,0,IF($G21=0,0,(AK$1-$G21)*Hoja1!$A$1/AK$1))","v":0},{"$f":"IF(AL$1>$E$11,0,IF($G21=0,0,(AL$1-$G21)*Hoja1!$A$1/AL$1))","v":0},{"$f":"IF(AM$1>$E$11,0,IF($G21=0,0,(AM$1-$G21)*Hoja1!$A$1/AM$1))","v":0},{"$f":"IF(AN$1>$E$11,0,IF($G21=0,0,(AN$1-$G21)*Hoja1!$A$1/AN$1))","v":0},{"$f":"IF(AO$1>$E$11,0,IF($G21=0,0,(AO$1-$G21)*Hoja1!$A$1/AO$1))","v":0},{"$f":"IF(AP$1>$E$11,0,IF($G21=0,0,(AP$1-$G21)*Hoja1!$A$1/AP$1))","v":0},{"$f":"IF(AQ$1>$E$11,0,IF($G21=0,0,(AQ$1-$G21)*Hoja1!$A$1/AQ$1))","v":0},{"$f":"IF(AR$1>$E$11,0,IF($G21=0,0,(AR$1-$G21)*Hoja1!$A$1/AR$1))","v":0},{"$f":"IF(AS$1>$E$11,0,IF($G21=0,0,(AS$1-$G21)*Hoja1!$A$1/AS$1))","v":0},{"$f":"IF(AT$1>$E$11,0,IF($G21=0,0,(AT$1-$G21)*Hoja1!$A$1/AT$1))","v":0},{"$f":"IF(AU$1>$E$11,0,IF($G21=0,0,(AU$1-$G21)*Hoja1!$A$1/AU$1))","v":0},{"$f":"IF(AV$1>$E$11,0,IF($G21=0,0,(AV$1-$G21)*Hoja1!$A$1/AV$1))","v":0},{"$f":"IF(AW$1>$E$11,0,IF($G21=0,0,(AW$1-$G21)*Hoja1!$A$1/AW$1))","v":0},{"$f":"IF(AX$1>$E$11,0,IF($G21=0,0,(AX$1-$G21)*Hoja1!$A$1/AX$1))","v":0},{"$f":"IF(AY$1>$E$11,0,IF($G21=0,0,(AY$1-$G21)*Hoja1!$A$1/AY$1))","v":0},{"$f":"IF(AZ$1>$E$11,0,IF($G21=0,0,(AZ$1-$G21)*Hoja1!$A$1/AZ$1))","v":0},{"$f":"IF(BA$1>$E$11,0,IF($G21=0,0,(BA$1-$G21)*Hoja1!$A$1/BA$1))","v":0},{"$f":"IF(BB$1>$E$11,0,IF($G21=0,0,(BB$1-$G21)*Hoja1!$A$1/BB$1))","v":0},{"$f":"IF(BC$1>$E$11,0,IF($G21=0,0,(BC$1-$G21)*Hoja1!$A$1/BC$1))","v":0},{"$f":"IF(BD$1>$E$11,0,IF($G21=0,0,(BD$1-$G21)*Hoja1!$A$1/BD$1))","v":0},{"$f":"IF(BE$1>$E$11,0,IF($G21=0,0,(BE$1-$G21)*Hoja1!$A$1/BE$1))","v":0},{"$f":"IF(BF$1>$E$11,0,IF($G21=0,0,(BF$1-$G21)*Hoja1!$A$1/BF$1))","v":0},{"$f":"IF(BG$1>$E$11,0,IF($G21=0,0,(BG$1-$G21)*Hoja1!$A$1/BG$1))","v":0},{"$f":"IF(BH$1>$E$11,0,IF($G21=0,0,(BH$1-$G21)*Hoja1!$A$1/BH$1))","v":0},{"$f":"IF(BI$1>$E$11,0,IF($G21=0,0,(BI$1-$G21)*Hoja1!$A$1/BI$1))","v":0},{"$f":"IF(BJ$1>$E$11,0,IF($G21=0,0,(BJ$1-$G21)*Hoja1!$A$1/BJ$1))","v":0},{"$f":"IF(BK$1>$E$11,0,IF($G21=0,0,(BK$1-$G21)*Hoja1!$A$1/BK$1))","v":0},{"$f":"IF(BL$1>$E$11,0,IF($G21=0,0,(BL$1-$G21)*Hoja1!$A$1/BL$1))","v":0},{"$f":"IF(BM$1>$E$11,0,IF($G21=0,0,(BM$1-$G21)*Hoja1!$A$1/BM$1))","v":0},{"$f":"IF(BN$1>$E$11,0,IF($G21=0,0,(BN$1-$G21)*Hoja1!$A$1/BN$1))","v":0},{"$f":"IF(BO$1>$E$11,0,IF($G21=0,0,(BO$1-$G21)*Hoja1!$A$1/BO$1))","v":0},{"$f":"IF(BP$1>$E$11,0,IF($G21=0,0,(BP$1-$G21)*Hoja1!$A$1/BP$1))","v":0},{"$f":"IF(BQ$1>$E$11,0,IF($G21=0,0,(BQ$1-$G21)*Hoja1!$A$1/BQ$1))","v":0},{"$f":"IF(BR$1>$E$11,0,IF($G21=0,0,(BR$1-$G21)*Hoja1!$A$1/BR$1))","v":0},{"$f":"IF(BS$1>$E$11,0,IF($G21=0,0,(BS$1-$G21)*Hoja1!$A$1/BS$1))","v":0},{"$f":"IF(BT$1>$E$11,0,IF($G21=0,0,(BT$1-$G21)*Hoja1!$A$1/BT$1))","v":0},{"$f":"IF(BU$1>$E$11,0,IF($G21=0,0,(BU$1-$G21)*Hoja1!$A$1/BU$1))","v":0},{"$f":"IF(BV$1>$E$11,0,IF($G21=0,0,(BV$1-$G21)*Hoja1!$A$1/BV$1))","v":0},{"$f":"IF(BW$1>$E$11,0,IF($G21=0,0,(BW$1-$G21)*Hoja1!$A$1/BW$1))","v":0},{"$f":"IF(BX$1>$E$11,0,IF($G21=0,0,(BX$1-$G21)*Hoja1!$A$1/BX$1))","v":0},{"$f":"IF(BY$1>$E$11,0,IF($G21=0,0,(BY$1-$G21)*Hoja1!$A$1/BY$1))","v":0},{"$f":"IF(BZ$1>$E$11,0,IF($G21=0,0,(BZ$1-$G21)*Hoja1!$A$1/BZ$1))","v":0},{"$f":"IF(CA$1>$E$11,0,IF($G21=0,0,(CA$1-$G21)*Hoja1!$A$1/CA$1))","v":0},{"$f":"IF(CB$1>$E$11,0,IF($G21=0,0,(CB$1-$G21)*Hoja1!$A$1/CB$1))","v":0},{"$f":"IF(CC$1>$E$11,0,IF($G21=0,0,(CC$1-$G21)*Hoja1!$A$1/CC$1))","v":0},{"$f":"IF(CD$1>$E$11,0,IF($G21=0,0,(CD$1-$G21)*Hoja1!$A$1/CD$1))","v":0},{"$f":"IF(CE$1>$E$11,0,IF($G21=0,0,(CE$1-$G21)*Hoja1!$A$1/CE$1))","v":0},{"$f":"IF(CF$1>$E$11,0,IF($G21=0,0,(CF$1-$G21)*Hoja1!$A$1/CF$1))","v":0},{"$f":"IF(CG$1>$E$11,0,IF($G21=0,0,(CG$1-$G21)*Hoja1!$A$1/CG$1))","v":0},{"$f":"IF(CH$1>$E$11,0,IF($G21=0,0,(CH$1-$G21)*Hoja1!$A$1/CH$1))","v":0},{"$f":"IF(CI$1>$E$11,0,IF($G21=0,0,(CI$1-$G21)*Hoja1!$A$1/CI$1))","v":0},{"$f":"IF(CJ$1>$E$11,0,IF($G21=0,0,(CJ$1-$G21)*Hoja1!$A$1/CJ$1))","v":0},{"$f":"IF(CK$1>$E$11,0,IF($G21=0,0,(CK$1-$G21)*Hoja1!$A$1/CK$1))","v":0},{"$f":"IF(CL$1>$E$11,0,IF($G21=0,0,(CL$1-$G21)*Hoja1!$A$1/CL$1))","v":0},{"$f":"IF(CM$1>$E$11,0,IF($G21=0,0,(CM$1-$G21)*Hoja1!$A$1/CM$1))","v":0},{"$f":"IF(CN$1>$E$11,0,IF($G21=0,0,(CN$1-$G21)*Hoja1!$A$1/CN$1))","v":0},{"$f":"IF(CO$1>$E$11,0,IF($G21=0,0,(CO$1-$G21)*Hoja1!$A$1/CO$1))","v":0},{"$f":"IF(CP$1>$E$11,0,IF($G21=0,0,(CP$1-$G21)*Hoja1!$A$1/CP$1))","v":0},{"$f":"IF(CQ$1>$E$11,0,IF($G21=0,0,(CQ$1-$G21)*Hoja1!$A$1/CQ$1))","v":0},{"$f":"IF(CR$1>$E$11,0,IF($G21=0,0,(CR$1-$G21)*Hoja1!$A$1/CR$1))","v":0},{"$f":"IF(CS$1>$E$11,0,IF($G21=0,0,(CS$1-$G21)*Hoja1!$A$1/CS$1))","v":0},{"$f":"IF(CT$1>$E$11,0,IF($G21=0,0,(CT$1-$G21)*Hoja1!$A$1/CT$1))","v":0},{"$f":"IF(CU$1>$E$11,0,IF($G21=0,0,(CU$1-$G21)*Hoja1!$A$1/CU$1))","v":0},{"$f":"IF(CV$1>$E$11,0,IF($G21=0,0,(CV$1-$G21)*Hoja1!$A$1/CV$1))","v":0},{"$f":"IF(CW$1>$E$11,0,IF($G21=0,0,(CW$1-$G21)*Hoja1!$A$1/CW$1))","v":0},{"$f":"IF(CX$1>$E$11,0,IF($G21=0,0,(CX$1-$G21)*Hoja1!$A$1/CX$1))","v":0},{"$f":"IF(CY$1>$E$11,0,IF($G21=0,0,(CY$1-$G21)*Hoja1!$A$1/CY$1))","v":0},{"$f":"IF(CZ$1>$E$11,0,IF($G21=0,0,(CZ$1-$G21)*Hoja1!$A$1/CZ$1))","v":0},{"$f":"IF(DA$1>$E$11,0,IF($G21=0,0,(DA$1-$G21)*Hoja1!$A$1/DA$1))","v":0},{"$f":"IF(DB$1>$E$11,0,IF($G21=0,0,(DB$1-$G21)*Hoja1!$A$1/DB$1))","v":0},{"$f":"IF(DC$1>$E$11,0,IF($G21=0,0,(DC$1-$G21)*Hoja1!$A$1/DC$1))","v":0},{"$f":"IF(DD$1>$E$11,0,IF($G21=0,0,(DD$1-$G21)*Hoja1!$A$1/DD$1))","v":0},{"$f":"IF(DE$1>$E$11,0,IF($G21=0,0,(DE$1-$G21)*Hoja1!$A$1/DE$1))","v":0},{"$f":"IF(DF$1>$E$11,0,IF($G21=0,0,(DF$1-$G21)*Hoja1!$A$1/DF$1))","v":0},{"$f":"IF(DG$1>$E$11,0,IF($G21=0,0,(DG$1-$G21)*Hoja1!$A$1/DG$1))","v":0},{"$f":"IF(DH$1>$E$11,0,IF($G21=0,0,(DH$1-$G21)*Hoja1!$A$1/DH$1))","v":0},{"$f":"IF(DI$1>$E$11,0,IF($G21=0,0,(DI$1-$G21)*Hoja1!$A$1/DI$1))","v":0},{"$f":"IF(DJ$1>$E$11,0,IF($G21=0,0,(DJ$1-$G21)*Hoja1!$A$1/DJ$1))","v":0},{"$f":"IF(DK$1>$E$11,0,IF($G21=0,0,(DK$1-$G21)*Hoja1!$A$1/DK$1))","v":0},{"$f":"IF(DL$1>$E$11,0,IF($G21=0,0,(DL$1-$G21)*Hoja1!$A$1/DL$1))","v":0},{"$f":"IF(DM$1>$E$11,0,IF($G21=0,0,(DM$1-$G21)*Hoja1!$A$1/DM$1))","v":0}]
[null,null,null,null,null,243.32499999999996,0,{"$f":"IF(H$1>$E$11,0,IF($G22=0,0,(H$1-$G22)*Hoja1!$A$1/H$1))","v":0},{"$f":"IF(I$1>$E$11,0,IF($G22=0,0,(I$1-$G22)*Hoja1!$A$1/I$1))","v":0},{"$f":"IF(J$1>$E$11,0,IF($G22=0,0,(J$1-$G22)*Hoja1!$A$1/J$1))","v":0},{"$f":"IF(K$1>$E$11,0,IF($G22=0,0,(K$1-$G22)*Hoja1!$A$1/K$1))","v":0},{"$f":"IF(L$1>$E$11,0,IF($G22=0,0,(L$1-$G22)*Hoja1!$A$1/L$1))","v":0},{"$f":"IF(M$1>$E$11,0,IF($G22=0,0,(M$1-$G22)*Hoja1!$A$1/M$1))","v":0},{"$f":"IF(N$1>$E$11,0,IF($G22=0,0,(N$1-$G22)*Hoja1!$A$1/N$1))","v":0},{"$f":"IF(O$1>$E$11,0,IF($G22=0,0,(O$1-$G22)*Hoja1!$A$1/O$1))","v":0},{"$f":"IF(P$1>$E$11,0,IF($G22=0,0,(P$1-$G22)*Hoja1!$A$1/P$1))","v":0},{"$f":"IF(Q$1>$E$11,0,IF($G22=0,0,(Q$1-$G22)*Hoja1!$A$1/Q$1))","v":0},{"$f":"IF(R$1>$E$11,0,IF($G22=0,0,(R$1-$G22)*Hoja1!$A$1/R$1))","v":0},{"$f":"IF(S$1>$E$11,0,IF($G22=0,0,(S$1-$G22)*Hoja1!$A$1/S$1))","v":0},{"$f":"IF(T$1>$E$11,0,IF($G22=0,0,(T$1-$G22)*Hoja1!$A$1/T$1))","v":0},{"$f":"IF(U$1>$E$11,0,IF($G22=0,0,(U$1-$G22)*Hoja1!$A$1/U$1))","v":0},{"$f":"IF(V$1>$E$11,0,IF($G22=0,0,(V$1-$G22)*Hoja1!$A$1/V$1))","v":0},{"$f":"IF(W$1>$E$11,0,IF($G22=0,0,(W$1-$G22)*Hoja1!$A$1/W$1))","v":0},{"$f":"IF(X$1>$E$11,0,IF($G22=0,0,(X$1-$G22)*Hoja1!$A$1/X$1))","v":0},{"$f":"IF(Y$1>$E$11,0,IF($G22=0,0,(Y$1-$G22)*Hoja1!$A$1/Y$1))","v":0},{"$f":"IF(Z$1>$E$11,0,IF($G22=0,0,(Z$1-$G22)*Hoja1!$A$1/Z$1))","v":0},{"$f":"IF(AA$1>$E$11,0,IF($G22=0,0,(AA$1-$G22)*Hoja1!$A$1/AA$1))","v":0},{"$f":"IF(AB$1>$E$11,0,IF($G22=0,0,(AB$1-$G22)*Hoja1!$A$1/AB$1))","v":0},{"$f":"IF(AC$1>$E$11,0,IF($G22=0,0,(AC$1-$G22)*Hoja1!$A$1/AC$1))","v":0},{"$f":"IF(AD$1>$E$11,0,IF($G22=0,0,(AD$1-$G22)*Hoja1!$A$1/AD$1))","v":0},{"$f":"IF(AE$1>$E$11,0,IF($G22=0,0,(AE$1-$G22)*Hoja1!$A$1/AE$1))","v":0},{"$f":"IF(AF$1>$E$11,0,IF($G22=0,0,(AF$1-$G22)*Hoja1!$A$1/AF$1))","v":0},{"$f":"IF(AG$1>$E$11,0,IF($G22=0,0,(AG$1-$G22)*Hoja1!$A$1/AG$1))","v":0},{"$f":"IF(AH$1>$E$11,0,IF($G22=0,0,(AH$1-$G22)*Hoja1!$A$1/AH$1))","v":0},{"$f":"IF(AI$1>$E$11,0,IF($G22=0,0,(AI$1-$G22)*Hoja1!$A$1/AI$1))","v":0},{"$f":"IF(AJ$1>$E$11,0,IF($G22=0,0,(AJ$1-$G22)*Hoja1!$A$1/AJ$1))","v":0},{"$f":"IF(AK$1>$E$11,0,IF($G22=0,0,(AK$1-$G22)*Hoja1!$A$1/AK$1))","v":0},{"$f":"IF(AL$1>$E$11,0,IF($G22=0,0,(AL$1-$G22)*Hoja1!$A$1/AL$1))","v":0},{"$f":"IF(AM$1>$E$11,0,IF($G22=0,0,(AM$1-$G22)*Hoja1!$A$1/AM$1))","v":0},{"$f":"IF(AN$1>$E$11,0,IF($G22=0,0,(AN$1-$G22)*Hoja1!$A$1/AN$1))","v":0},{"$f":"IF(AO$1>$E$11,0,IF($G22=0,0,(AO$1-$G22)*Hoja1!$A$1/AO$1))","v":0},{"$f":"IF(AP$1>$E$11,0,IF($G22=0,0,(AP$1-$G22)*Hoja1!$A$1/AP$1))","v":0},{"$f":"IF(AQ$1>$E$11,0,IF($G22=0,0,(AQ$1-$G22)*Hoja1!$A$1/AQ$1))","v":0},{"$f":"IF(AR$1>$E$11,0,IF($G22=0,0,(AR$1-$G22)*Hoja1!$A$1/AR$1))","v":0},{"$f":"IF(AS$1>$E$11,0,IF($G22=0,0,(AS$1-$G22)*Hoja1!$A$1/AS$1))","v":0},{"$f":"IF(AT$1>$E$11,0,IF($G22=0,0,(AT$1-$G22)*Hoja1!$A$1/AT$1))","v":0},{"$f":"IF(AU$1>$E$11,0,IF($G22=0,0,(AU$1-$G22)*Hoja1!$A$1/AU$1))","v":0},{"$f":"IF(AV$1>$E$11,0,IF($G22=0,0,(AV$1-$G22)*Hoja1!$A$1/AV$1))","v":0},{"$f":"IF(AW$1>$E$11,0,IF($G22=0,0,(AW$1-$G22)*Hoja1!$A$1/AW$1))","v":0},{"$f":"IF(AX$1>$E$11,0,IF($G22=0,0,(AX$1-$G22)*Hoja1!$A$1/AX$1))","v":0},{"$f":"IF(AY$1>$E$11,0,IF($G22=0,0,(AY$1-$G22)*Hoja1!$A$1/AY$1))","v":0},{"$f":"IF(AZ$1>$E$11,0,IF($G22=0,0,(AZ$1-$G22)*Hoja1!$A$1/AZ$1))","v":0},{"$f":"IF(BA$1>$E$11,0,IF($G22=0,0,(BA$1-$G22)*Hoja1!$A$1/BA$1))","v":0},{"$f":"IF(BB$1>$E$11,0,IF($G22=0,0,(BB$1-$G22)*Hoja1!$A$1/BB$1))","v":0},{"$f":"IF(BC$1>$E$11,0,IF($G22=0,0,(BC$1-$G22)*Hoja1!$A$1/BC$1))","v":0},{"$f":"IF(BD$1>$E$11,0,IF($G22=0,0,(BD$1-$G22)*Hoja1!$A$1/BD$1))","v":0},{"$f":"IF(BE$1>$E$11,0,IF($G22=0,0,(BE$1-$G22)*Hoja1!$A$1/BE$1))","v":0},{"$f":"IF(BF$1>$E$11,0,IF($G22=0,0,(BF$1-$G22)*Hoja1!$A$1/BF$1))","v":0},{"$f":"IF(BG$1>$E$11,0,IF($G22=0,0,(BG$1-$G22)*Hoja1!$A$1/BG$1))","v":0},{"$f":"IF(BH$1>$E$11,0,IF($G22=0,0,(BH$1-$G22)*Hoja1!$A$1/BH$1))","v":0},{"$f":"IF(BI$1>$E$11,0,IF($G22=0,0,(BI$1-$G22)*Hoja1!$A$1/BI$1))","v":0},{"$f":"IF(BJ$1>$E$11,0,IF($G22=0,0,(BJ$1-$G22)*Hoja1!$A$1/BJ$1))","v":0},{"$f":"IF(BK$1>$E$11,0,IF($G22=0,0,(BK$1-$G22)*Hoja1!$A$1/BK$1))","v":0},{"$f":"IF(BL$1>$E$11,0,IF($G22=0,0,(BL$1-$G22)*Hoja1!$A$1/BL$1))","v":0},{"$f":"IF(BM$1>$E$11,0,IF($G22=0,0,(BM$1-$G22)*Hoja1!$A$1/BM$1))","v":0},{"$f":"IF(BN$1>$E$11,0,IF($G22=0,0,(BN$1-$G22)*Hoja1!$A$1/BN$1))","v":0},{"$f":"IF(BO$1>$E$11,0,IF($G22=0,0,(BO$1-$G22)*Hoja1!$A$1/BO$1))","v":0},{"$f":"IF(BP$1>$E$11,0,IF($G22=0,0,(BP$1-$G22)*Hoja1!$A$1/BP$1))","v":0},{"$f":"IF(BQ$1>$E$11,0,IF($G22=0,0,(BQ$1-$G22)*Hoja1!$A$1/BQ$1))","v":0},{"$f":"IF(BR$1>$E$11,0,IF($G22=0,0,(BR$1-$G22)*Hoja1!$A$1/BR$1))","v":0},{"$f":"IF(BS$1>$E$11,0,IF($G22=0,0,(BS$1-$G22)*Hoja1!$A$1/BS$1))","v":0},{"$f":"IF(BT$1>$E$11,0,IF($G22=0,0,(BT$1-$G22)*Hoja1!$A$1/BT$1))","v":0},{"$f":"IF(BU$1>$E$11,0,IF($G22=0,0,(BU$1-$G22)*Hoja1!$A$1/BU$1))","v":0},{"$f":"IF(BV$1>$E$11,0,IF($G22=0,0,(BV$1-$G22)*Hoja1!$A$1/BV$1))","v":0},{"$f":"IF(BW$1>$E$11,0,IF($G22=0,0,(BW$1-$G22)*Hoja1!$A$1/BW$1))","v":0},{"$f":"IF(BX$1>$E$11,0,IF($G22=0,0,(BX$1-$G22)*Hoja1!$A$1/BX$1))","v":0},{"$f":"IF(BY$1>$E$11,0,IF($G22=0,0,(BY$1-$G22)*Hoja1!$A$1/BY$1))","v":0},{"$f":"IF(BZ$1>$E$11,0,IF($G22=0,0,(BZ$1-$G22)*Hoja1!$A$1/BZ$1))","v":0},{"$f":"IF(CA$1>$E$11,0,IF($G22=0,0,(CA$1-$G22)*Hoja1!$A$1/CA$1))","v":0},{"$f":"IF(CB$1>$E$11,0,IF($G22=0,0,(CB$1-$G22)*Hoja1!$A$1/CB$1))","v":0},{"$f":"IF(CC$1>$E$11,0,IF($G22=0,0,(CC$1-$G22)*Hoja1!$A$1/CC$1))","v":0},{"$f":"IF(CD$1>$E$11,0,IF($G22=0,0,(CD$1-$G22)*Hoja1!$A$1/CD$1))","v":0},{"$f":"IF(CE$1>$E$11,0,IF($G22=0,0,(CE$1-$G22)*Hoja1!$A$1/CE$1))","v":0},{"$f":"IF(CF$1>$E$11,0,IF($G22=0,0,(CF$1-$G22)*Hoja1!$A$1/CF$1))","v":0},{"$f":"IF(CG$1>$E$11,0,IF($G22=0,0,(CG$1-$G22)*Hoja1!$A$1/CG$1))","v":0},{"$f":"IF(CH$1>$E$11,0,IF($G22=0,0,(CH$1-$G22)*Hoja1!$A$1/CH$1))","v":0},{"$f":"IF(CI$1>$E$11,0,IF($G22=0,0,(CI$1-$G22)*Hoja1!$A$1/CI$1))","v":0},{"$f":"IF(CJ$1>$E$11,0,IF($G22=0,0,(CJ$1-$G22)*Hoja1!$A$1/CJ$1))","v":0},{"$f":"IF(CK$1>$E$11,0,IF($G22=0,0,(CK$1-$G22)*Hoja1!$A$1/CK$1))","v":0},{"$f":"IF(CL$1>$E$11,0,IF($G22=0,0,(CL$1-$G22)*Hoja1!$A$1/CL$1))","v":0},{"$f":"IF(CM$1>$E$11,0,IF($G22=0,0,(CM$1-$G22)*Hoja1!$A$1/CM$1))","v":0},{"$f":"IF(CN$1>$E$11,0,IF($G22=0,0,(CN$1-$G22)*Hoja1!$A$1/CN$1))","v":0},{"$f":"IF(CO$1>$E$11,0,IF($G22=0,0,(CO$1-$G22)*Hoja1!$A$1/CO$1))","v":0},{"$f":"IF(CP$1>$E$11,0,IF($G22=0,0,(CP$1-$G22)*Hoja1!$A$1/CP$1))","v":0},{"$f":"IF(CQ$1>$E$11,0,IF($G22=0,0,(CQ$1-$G22)*Hoja1!$A$1/CQ$1))","v":0},{"$f":"IF(CR$1>$E$11,0,IF($G22=0,0,(CR$1-$G22)*Hoja1!$A$1/CR$1))","v":0},{"$f":"IF(CS$1>$E$11,0,IF($G22=0,0,(CS$1-$G22)*Hoja1!$A$1/CS$1))","v":0},{"$f":"IF(CT$1>$E$11,0,IF($G22=0,0,(CT$1-$G22)*Hoja1!$A$1/CT$1))","v":0},{"$f":"IF(CU$1>$E$11,0,IF($G22=0,0,(CU$1-$G22)*Hoja1!$A$1/CU$1))","v":0},{"$f":"IF(CV$1>$E$11,0,IF($G22=0,0,(CV$1-$G22)*Hoja1!$A$1/CV$1))","v":0},{"$f":"IF(CW$1>$E$11,0,IF($G22=0,0,(CW$1-$G22)*Hoja1!$A$1/CW$1))","v":0},{"$f":"IF(CX$1>$E$11,0,IF($G22=0,0,(CX$1-$G22)*Hoja1!$A$1/CX$1))","v":0},{"$f":"IF(CY$1>$E$11,0,IF($G22=0,0,(CY$1-$G22)*Hoja1!$A$1/CY$1))","v":0},{"$f":"IF(CZ$1>$E$11,0,IF($G22=0,0,(CZ$1-$G22)*Hoja1!$A$1/CZ$1))","v":0},{"$f":"IF(DA$1>$E$11,0,IF($G22=0,0,(DA$1-$G22)*Hoja1!$A$1/DA$1))","v":0},{"$f":"IF(DB$1>$E$11,0,IF($G22=0,0,(DB$1-$G22)*Hoja1!$A$1/DB$1))","v":0},{"$f":"IF(DC$1>$E$11,0,IF($G22=0,0,(DC$1-$G22)*Hoja1!$A$1/DC$1))","v":0},{"$f":"IF(DD$1>$E$11,0,IF($G22=0,0,(DD$1-$G22)*Hoja1!$A$1/DD$1))","v":0},{"$f":"IF(DE$1>$E$11,0,IF($G22=0,0,(DE$1-$G22)*Hoja1!$A$1/DE$1))","v":0},{"$f":"IF(DF$1>$E$11,0,IF($G22=0,0,(DF$1-$G22)*Hoja1!$A$1/DF$1))","v":0},{"$f":"IF(DG$1>$E$11,0,IF($G22=0,0,(DG$1-$G22)*Hoja1!$A$1/DG$1))","v":0},{"$f":"IF(DH$1>$E$11,0,IF($G22=0,0,(DH$1-$G22)*Hoja1!$A$1/DH$1))","v":0},{"$f":"IF(DI$1>$E$11,0,IF($G22=0,0,(DI$1-$G22)*Hoja1!$A$1/DI$1))","v":0},{"$f":"IF(DJ$1>$E$11,0,IF($G22=0,0,(DJ$1-$G22)*Hoja1!$A$1/DJ$1))","v":0},{"$f":"IF(DK$1>$E$11,0,IF($G22=0,0,(DK$1-$G22)*Hoja1!$A$1/DK$1))","v":0},{"$f":"IF(DL$1>$E$11,0,IF($G22=0,0,(DL$1-$G22)*Hoja1!$A$1/DL$1))","v":0},{"$f":"IF(DM$1>$E$11,0,IF($G22=0,0,(DM$1-$G22)*Hoja1!$A$1/DM$1))","v":0}]
[null,null,null,null,null,256.51499999999999,0,{"$f":"IF(H$1>$E$11,0,IF($G23=0,0,(H$1-$G23)*Hoja1!$A$1/H$1))","v":0},{"$f":"IF(I$1>$E$11,0,IF($G23=0,0,(I$1-$G23)*Hoja1!$A$1/I$1))","v":0},{"$f":"IF(J$1>$E$11,0,IF($G23=0,0,(J$1-$G23)*Hoja1!$A$1/J$1))","v":0},{"$f":"IF(K$1>$E$11,0,IF($G23=0,0,(K$1-$G23)*Hoja1!$A$1/K$1))","v":0},{"$f":"IF(L$1>$E$11,0,IF($G23=0,0,(L$1-$G23)*Hoja1!$A$1/L$1))","v":0},{"$f":"IF(M$1>$E$11,0,IF($G23=0,0,(M$1-$G23)*Hoja1!$A$1/M$1))","v":0},{"$f":"IF(N$1>$E$11,0,IF($G23=0,0,(N$1-$G23)*Hoja1!$A$1/N$1))","v":0},{"$f":"IF(O$1>$E$11,0,IF($G23=0,0,(O$1-$G23)*Hoja1!$A$1/O$1))","v":0},{"$f":"IF(P$1>$E$11,0,IF($G23=0,0,(P$1-$G23)*Hoja1!$A$1/P$1))","v":0},{"$f":"IF(Q$1>$E$11,0,IF($G23=0,0,(Q$1-$G23)*Hoja1!$A$1/Q$1))","v":0},{"$f":"IF(R$1>$E$11,0,IF($G23=0,0,(R$1-$G23)*Hoja1!$A$1/R$1))","v":0},{"$f":"IF(S$1>$E$11,0,IF($G23=0,0,(S$1-$G23)*Hoja1!$A$1/S$1))","v":0},{"$f":"IF(T$1>$E$11,0,IF($G23=0,0,(T$1-$G23)*Hoja1!$A$1/T$1))","v":0},{"$f":"IF(U$1>$E$11,0,IF($G23=0,0,(U$1-$G23)*Hoja1!$A$1/U$1))","v":0},{"$f":"IF(V$1>$E$11,0,IF($G23=0,0,(V$1-$G23)*Hoja1!$A$1/V$1))","v":0},{"$f":"IF(W$1>$E$11,0,IF($G23=0,0,(W$1-$G23)*Hoja1!$A$1/W$1))","v":0},{"$f":"IF(X$1>$E$11,0,IF($G23=0,0,(X$1-$G23)*Hoja1!$A$1/X$1))","v":0},{"$f":"IF(Y$1>$E$11,0,IF($G23=0,0,(Y$1-$G23)*Hoja1!$A$1/Y$1))","v":0},{"$f":"IF(Z$1>$E$11,0,IF($G23=0,0,(Z$1-$G23)*Hoja1!$A$1/Z$1))","v":0},{"$f":"IF(AA$1>$E$11,0,IF($G23=0,0,(AA$1-$G23)*Hoja1!$A$1/AA$1))","v":0},{"$f":"IF(AB$1>$E$11,0,IF($G23=0,0,(AB$1-$G23)*Hoja1!$A$1/AB$1))","v":0},{"$f":"IF(AC$1>$E$11,0,IF($G23=0,0,(AC$1-$G23)*Hoja1!$A$1/AC$1))","v":0},{"$f":"IF(AD$1>$E$11,0,IF($G23=0,0,(AD$1-$G23)*Hoja1!$A$1/AD$1))","v":0},{"$f":"IF(AE$1>$E$11,0,IF($G23=0,0,(AE$1-$G23)*Hoja1!$A$1/AE$1))","v":0},{"$f":"IF(AF$1>$E$11,0,IF($G23=0,0,(AF$1-$G23)*Hoja1!$A$1/AF$1))","v":0},{"$f":"IF(AG$1>$E$11,0,IF($G23=0,0,(AG$1-$G23)*Hoja1!$A$1/AG$1))","v":0},{"$f":"IF(AH$1>$E$11,0,IF($G23=0,0,(AH$1-$G23)*Hoja1!$A$1/AH$1))","v":0},{"$f":"IF(AI$1>$E$11,0,IF($G23=0,0,(AI$1-$G23)*Hoja1!$A$1/AI$1))","v":0},{"$f":"IF(AJ$1>$E$11,0,IF($G23=0,0,(AJ$1-$G23)*Hoja1!$A$1/AJ$1))","v":0},{"$f":"IF(AK$1>$E$11,0,IF($G23=0,0,(AK$1-$G23)*Hoja1!$A$1/AK$1))","v":0},{"$f":"IF(AL$1>$E$11,0,IF($G23=0,0,(AL$1-$G23)*Hoja1!$A$1/AL$1))","v":0},{"$f":"IF(AM$1>$E$11,0,IF($G23=0,0,(AM$1-$G23)*Hoja1!$A$1/AM$1))","v":0},{"$f":"IF(AN$1>$E$11,0,IF($G23=0,0,(AN$1-$G23)*Hoja1!$A$1/AN$1))","v":0},{"$f":"IF(AO$1>$E$11,0,IF($G23=0,0,(AO$1-$G23)*Hoja1!$A$1/AO$1))","v":0},{"$f":"IF(AP$1>$E$11,0,IF($G23=0,0,(AP$1-$G23)*Hoja1!$A$1/AP$1))","v":0},{"$f":"IF(AQ$1>$E$11,0,IF($G23=0,0,(AQ$1-$G23)*Hoja1!$A$1/AQ$1))","v":0},{"$f":"IF(AR$1>$E$11,0,IF($G23=0,0,(AR$1-$G23)*Hoja1!$A$1/AR$1))","v":0},{"$f":"IF(AS$1>$E$11,0,IF($G23=0,0,(AS$1-$G23)*Hoja1!$A$1/AS$1))","v":0},{"$f":"IF(AT$1>$E$11,0,IF($G23=0,0,(AT$1-$G23)*Hoja1!$A$1/AT$1))","v":0},{"$f":"IF(AU$1>$E$11,0,IF($G23=0,0,(AU$1-$G23)*Hoja1!$A$1/AU$1))","v":0},{"$f":"IF(AV$1>$E$11,0,IF($G23=0,0,(AV$1-$G23)*Hoja1!$A$1/AV$1))","v":0},{"$f":"IF(AW$1>$E$11,0,IF($G23=0,0,(AW$1-$G23)*Hoja1!$A$1/AW$1))","v":0},{"$f":"IF(AX$1>$E$11,0,IF($G23=0,0,(AX$1-$G23)*Hoja1!$A$1/AX$1))","v":0},{"$f":"IF(AY$1>$E$11,0,IF($G23=0,0,(AY$1-$G23)*Hoja1!$A$1/AY$1))","v":0},{"$f":"IF(AZ$1>$E$11,0,IF($G23=0,0,(AZ$1-$G23)*Hoja1!$A$1/AZ$1))","v":0},{"$f":"IF(BA$1>$E$11,0,IF($G23=0,0,(BA$1-$G23)*Hoja1!$A$1/BA$1))","v":0},{"$f":"IF(BB$1>$E$11,0,IF($G23=0,0,(BB$1-$G23)*Hoja1!$A$1/BB$1))","v":0},{"$f":"IF(BC$1>$E$11,0,IF($G23=0,0,(BC$1-$G23)*Hoja1!$A$1/BC$1))","v":0},{"$f":"IF(BD$1>$E$11,0,IF($G23=0,0,(BD$1-$G23)*Hoja1!$A$1/BD$1))","v":0},{"$f":"IF(BE$1>$E$11,0,IF($G23=0,0,(BE$1-$G23)*Hoja1!$A$1/BE$1))","v":0},{"$f":"IF(BF$1>$E$11,0,IF($G23=0,0,(BF$1-$G23)*Hoja1!$A$1/BF$1))","v":0},{"$f":"IF(BG$1>$E$11,0,IF($G23=0,0,(BG$1-$G23)*Hoja1!$A$1/BG$1))","v":0},{"$f":"IF(BH$1>$E$11,0,IF($G23=0,0,(BH$1-$G23)*Hoja1!$A$1/BH$1))","v":0},{"$f":"IF(BI$1>$E$11,0,IF($G23=0,0,(BI$1-$G23)*Hoja1!$A$1/BI$1))","v":0},{"$f":"IF(BJ$1>$E$11,0,IF($G23=0,0,(BJ$1-$G23)*Hoja1!$A$1/BJ$1))","v":0},{"$f":"IF(BK$1>$E$11,0,IF($G23=0,0,(BK$1-$G23)*Hoja1!$A$1/BK$1))","v":0},{"$f":"IF(BL$1>$E$11,0,IF($G23=0,0,(BL$1-$G23)*Hoja1!$A$1/BL$1))","v":0},{"$f":"IF(BM$1>$E$11,0,IF($G23=0,0,(BM$1-$G23)*Hoja1!$A$1/BM$1))","v":0},{"$f":"IF(BN$1>$E$11,0,IF($G23=0,0,(BN$1-$G23)*Hoja1!$A$1/BN$1))","v":0},{"$f":"IF(BO$1>$E$11,0,IF($G23=0,0,(BO$1-$G23)*Hoja1!$A$1/BO$1))","v":0},{"$f":"IF(BP$1>$E$11,0,IF($G23=0,0,(BP$1-$G23)*Hoja1!$A$1/BP$1))","v":0},{"$f":"IF(BQ$1>$E$11,0,IF($G23=0,0,(BQ$1-$G23)*Hoja1!$A$1/BQ$1))","v":0},{"$f":"IF(BR$1>$E$11,0,IF($G23=0,0,(BR$1-$G23)*Hoja1!$A$1/BR$1))","v":0},{"$f":"IF(BS$1>$E$11,0,IF($G23=0,0,(BS$1-$G23)*Hoja1!$A$1/BS$1))","v":0},{"$f":"IF(BT$1>$E$11,0,IF($G23=0,0,(BT$1-$G23)*Hoja1!$A$1/BT$1))","v":0},{"$f":"IF(BU$1>$E$11,0,IF($G23=0,0,(BU$1-$G23)*Hoja1!$A$1/BU$1))","v":0},{"$f":"IF(BV$1>$E$11,0,IF($G23=0,0,(BV$1-$G23)*Hoja1!$A$1/BV$1))","v":0},{"$f":"IF(BW$1>$E$11,0,IF($G23=0,0,(BW$1-$G23)*Hoja1!$A$1/BW$1))","v":0},{"$f":"IF(BX$1>$E$11,0,IF($G23=0,0,(BX$1-$G23)*Hoja1!$A$1/BX$1))","v":0},{"$f":"IF(BY$1>$E$11,0,IF($G23=0,0,(BY$1-$G23)*Hoja1!$A$1/BY$1))","v":0},{"$f":"IF(BZ$1>$E$11,0,IF($G23=0,0,(BZ$1-$G23)*Hoja1!$A$1/BZ$1))","v":0},{"$f":"IF(CA$1>$E$11,0,IF($G23=0,0,(CA$1-$G23)*Hoja1!$A$1/CA$1))","v":0},{"$f":"IF(CB$1>$E$11,0,IF($G23=0,0,(CB$1-$G23)*Hoja1!$A$1/CB$1))","v":0},{"$f":"IF(CC$1>$E$11,0,IF($G23=0,0,(CC$1-$G23)*Hoja1!$A$1/CC$1))","v":0},{"$f":"IF(CD$1>$E$11,0,IF($G23=0,0,(CD$1-$G23)*Hoja1!$A$1/CD$1))","v":0},{"$f":"IF(CE$1>$E$11,0,IF($G23=0,0,(CE$1-$G23)*Hoja1!$A$1/CE$1))","v":0},{"$f":"IF(CF$1>$E$11,0,IF($G23=0,0,(CF$1-$G23)*Hoja1!$A$1/CF$1))","v":0},{"$f":"IF(CG$1>$E$11,0,IF($G23=0,0,(CG$1-$G23)*Hoja1!$A$1/CG$1))","v":0},{"$f":"IF(CH$1>$E$11,0,IF($G23=0,0,(CH$1-$G23)*Hoja1!$A$1/CH$1))","v":0},{"$f":"IF(CI$1>$E$11,0,IF($G23=0,0,(CI$1-$G23)*Hoja1!$A$1/CI$1))","v":0},{"$f":"IF(CJ$1>$E$11,0,IF($G23=0,0,(CJ$1-$G23)*Hoja1!$A$1/CJ$1))","v":0},{"$f":"IF(CK$1>$E$11,0,IF($G23=0,0,(CK$1-$G23)*Hoja1!$A$1/CK$1))","v":0},{"$f":"IF(CL$1>$E$11,0,IF($G23=0,0,(CL$1-$G23)*Hoja1!$A$1/CL$1))","v":0},{"$f":"IF(CM$1>$E$11,0,IF($G23=0,0,(CM$1-$G23)*Hoja1!$A$1/CM$1))","v":0},{"$f":"IF(CN$1>$E$11,0,IF($G23=0,0,(CN$1-$G23)*Hoja1!$A$1/CN$1))","v":0},{"$f":"IF(CO$1>$E$11,0,IF($G23=0,0,(CO$1-$G23)*Hoja1!$A$1/CO$1))","v":0},{"$f":"IF(CP$1>$E$11,0,IF($G23=0,0,(CP$1-$G23)*Hoja1!$A$1/CP$1))","v":0},{"$f":"IF(CQ$1>$E$11,0,IF($G23=0,0,(CQ$1-$G23)*Hoja1!$A$1/CQ$1))","v":0},{"$f":"IF(CR$1>$E$11,0,IF($G23=0,0,(CR$1-$G23)*Hoja1!$A$1/CR$1))","v":0},{"$f":"IF(CS$1>$E$11,0,IF($G23=0,0,(CS$1-$G23)*Hoja1!$A$1/CS$1))","v":0},{"$f":"IF(CT$1>$E$11,0,IF($G23=0,0,(CT$1-$G23)*Hoja1!$A$1/CT$1))","v":0},{"$f":"IF(CU$1>$E$11,0,IF($G23=0,0,(CU$1-$G23)*Hoja1!$A$1/CU$1))","v":0},{"$f":"IF(CV$1>$E$11,0,IF($G23=0,0,(CV$1-$G23)*Hoja1!$A$1/CV$1))","v":0},{"$f":"IF(CW$1>$E$11,0,IF($G23=0,0,(CW$1-$G23)*Hoja1!$A$1/CW$1))","v":0},{"$f":"IF(CX$1>$E$11,0,IF($G23=0,0,(CX$1-$G23)*Hoja1!$A$1/CX$1))","v":0},{"$f":"IF(CY$1>$E$11,0,IF($G23=0,0,(CY$1-$G23)*Hoja1!$A$1/CY$1))","v":0},{"$f":"IF(CZ$1>$E$11,0,IF($G23=0,0,(CZ$1-$G23)*Hoja1!$A$1/CZ$1))","v":0},{"$f":"IF(DA$1>$E$11,0,IF($G23=0,0,(DA$1-$G23)*Hoja1!$A$1/DA$1))","v":0},{"$f":"IF(DB$1>$E$11,0,IF($G23=0,0,(DB$1-$G23)*Hoja1!$A$1/DB$1))","v":0},{"$f":"IF(DC$1>$E$11,0,IF($G23=0,0,(DC$1-$G23)*Hoja1!$A$1/DC$1))","v":0},{"$f":"IF(DD$1>$E$11,0,IF($G23=0,0,(DD$1-$G23)*Hoja1!$A$1/DD$1))","v":0},{"$f":"IF(DE$1>$E$11,0,IF($G23=0,0,(DE$1-$G23)*Hoja1!$A$1/DE$1))","v":0},{"$f":"IF(DF$1>$E$11,0,IF($G23=0,0,(DF$1-$G23)*Hoja1!$A$1/DF$1))","v":0},{"$f":"IF(DG$1>$E$11,0,IF($G23=0,0,(DG$1-$G23)*Hoja1!$A$1/DG$1))","v":0},{"$f":"IF(DH$1>$E$11,0,IF($G23=0,0,(DH$1-$G23)*Hoja1!$A$1/DH$1))","v":0},{"$f":"IF(DI$1>$E$11,0,IF($G23=0,0,(DI$1-$G23)*Hoja1!$A$1/DI$1))","v":0},{"$f":"IF(DJ$1>$E$11,0,IF($G23=0,0,(DJ$1-$G23)*Hoja1!$A$1/DJ$1))","v":0},{"$f":"IF(DK$1>$E$11,0,IF($G23=0,0,(DK$1-$G23)*Hoja1!$A$1/DK$1))","v":0},{"$f":"IF(DL$1>$E$11,0,IF($G23=0,0,(DL$1-$G23)*Hoja1!$A$1/DL$1))","v":0},{"$f":"IF(DM$1>$E$11,0,IF($G23=0,0,(DM$1-$G23)*Hoja1!$A$1/DM$1))","v":0}]
[null,null,null,null,null,269.70499999999998,0,{"$f":"IF(H$1>$E$11,0,IF($G24=0,0,(H$1-$G24)*Hoja1!$A$1/H$1))","v":0},{"$f":"IF(I$1>$E$11,0,IF($G24=0,0,(I$1-$G24)*Hoja1!$A$1/I$1))","v":0},{"$f":"IF(J$1>$E$11,0,IF($G24=0,0,(J$1-$G24)*Hoja1!$A$1/J$1))","v":0},{"$f":"IF(K$1>$E$11,0,IF($G24=0,0,(K$1-$G24)*Hoja1!$A$1/K$1))","v":0},{"$f":"IF(L$1>$E$11,0,IF($G24=0,0,(L$1-$G24)*Hoja1!$A$1/L$1))","v":0},{"$f":"IF(M$1>$E$11,0,IF($G24=0,0,(M$1-$G24)*Hoja1!$A$1/M$1))","v":0},{"$f":"IF(N$1>$E$11,0,IF($G24=0,0,(N$1-$G24)*Hoja1!$A$1/N$1))","v":0},{"$f":"IF(O$1>$E$11,0,IF($G24=0,0,(O$1-$G24)*Hoja1!$A$1/O$1))","v":0},{"$f":"IF(P$1>$E$11,0,IF($G24=0,0,(P$1-$G24)*Hoja1!$A$1/P$1))","v":0},{"$f":"IF(Q$1>$E$11,0,IF($G24=0,0,(Q$1-$G24)*Hoja1!$A$1/Q$1))","v":0},{"$f":"IF(R$1>$E$11,0,IF($G24=0,0,(R$1-$G24)*Hoja1!$A$1/R$1))","v":0},{"$f":"IF(S$1>$E$11,0,IF($G24=0,0,(S$1-$G24)*Hoja1!$A$1/S$1))","v":0},{"$f":"IF(T$1>$E$11,0,IF($G24=0,0,(T$1-$G24)*Hoja1!$A$1/T$1))","v":0},{"$f":"IF(U$1>$E$11,0,IF($G24=0,0,(U$1-$G24)*Hoja1!$A$1/U$1))","v":0},{"$f":"IF(V$1>$E$11,0,IF($G24=0,0,(V$1-$G24)*Hoja1!$A$1/V$1))","v":0},{"$f":"IF(W$1>$E$11,0,IF($G24=0,0,(W$1-$G24)*Hoja1!$A$1/W$1))","v":0},{"$f":"IF(X$1>$E$11,0,IF($G24=0,0,(X$1-$G24)*Hoja1!$A$1/X$1))","v":0},{"$f":"IF(Y$1>$E$11,0,IF($G24=0,0,(Y$1-$G24)*Hoja1!$A$1/Y$1))","v":0},{"$f":"IF(Z$1>$E$11,0,IF($G24=0,0,(Z$1-$G24)*Hoja1!$A$1/Z$1))","v":0},{"$f":"IF(AA$1>$E$11,0,IF($G24=0,0,(AA$1-$G24)*Hoja1!$A$1/AA$1))","v":0},{"$f":"IF(AB$1>$E$11,0,IF($G24=0,0,(AB$1-$G24)*Hoja1!$A$1/AB$1))","v":0},{"$f":"IF(AC$1>$E$11,0,IF($G24=0,0,(AC$1-$G24)*Hoja1!$A$1/AC$1))","v":0},{"$f":"IF(AD$1>$E$11,0,IF($G24=0,0,(AD$1-$G24)*Hoja1!$A$1/AD$1))","v":0},{"$f":"IF(AE$1>$E$11,0,IF($G24=0,0,(AE$1-$G24)*Hoja1!$A$1/AE$1))","v":0},{"$f":"IF(AF$1>$E$11,0,IF($G24=0,0,(AF$1-$G24)*Hoja1!$A$1/AF$1))","v":0},{"$f":"IF(AG$1>$E$11,0,IF($G24=0,0,(AG$1-$G24)*Hoja1!$A$1/AG$1))","v":0},{"$f":"IF(AH$1>$E$11,0,IF($G24=0,0,(AH$1-$G24)*Hoja1!$A$1/AH$1))","v":0},{"$f":"IF(AI$1>$E$11,0,IF($G24=0,0,(AI$1-$G24)*Hoja1!$A$1/AI$1))","v":0},{"$f":"IF(AJ$1>$E$11,0,IF($G24=0,0,(AJ$1-$G24)*Hoja1!$A$1/AJ$1))","v":0},{"$f":"IF(AK$1>$E$11,0,IF($G24=0,0,(AK$1-$G24)*Hoja1!$A$1/AK$1))","v":0},{"$f":"IF(AL$1>$E$11,0,IF($G24=0,0,(AL$1-$G24)*Hoja1!$A$1/AL$1))","v":0},{"$f":"IF(AM$1>$E$11,0,IF($G24=0,0,(AM$1-$G24)*Hoja1!$A$1/AM$1))","v":0},{"$f":"IF(AN$1>$E$11,0,IF($G24=0,0,(AN$1-$G24)*Hoja1!$A$1/AN$1))","v":0},{"$f":"IF(AO$1>$E$11,0,IF($G24=0,0,(AO$1-$G24)*Hoja1!$A$1/AO$1))","v":0},{"$f":"IF(AP$1>$E$11,0,IF($G24=0,0,(AP$1-$G24)*Hoja1!$A$1/AP$1))","v":0},{"$f":"IF(AQ$1>$E$11,0,IF($G24=0,0,(AQ$1-$G24)*Hoja1!$A$1/AQ$1))","v":0},{"$f":"IF(AR$1>$E$11,0,IF($G24=0,0,(AR$1-$G24)*Hoja1!$A$1/AR$1))","v":0},{"$f":"IF(AS$1>$E$11,0,IF($G24=0,0,(AS$1-$G24)*Hoja1!$A$1/AS$1))","v":0},{"$f":"IF(AT$1>$E$11,0,IF($G24=0,0,(AT$1-$G24)*Hoja1!$A$1/AT$1))","v":0},{"$f":"IF(AU$1>$E$11,0,IF($G24=0,0,(AU$1-$G24)*Hoja1!$A$1/AU$1))","v":0},{"$f":"IF(AV$1>$E$11,0,IF($G24=0,0,(AV$1-$G24)*Hoja1!$A$1/AV$1))","v":0},{"$f":"IF(AW$1>$E$11,0,IF($G24=0,0,(AW$1-$G24)*Hoja1!$A$1/AW$1))","v":0},{"$f":"IF(AX$1>$E$11,0,IF($G24=0,0,(AX$1-$G24)*Hoja1!$A$1/AX$1))","v":0},{"$f":"IF(AY$1>$E$11,0,IF($G24=0,0,(AY$1-$G24)*Hoja1!$A$1/AY$1))","v":0},{"$f":"IF(AZ$1>$E$11,0,IF($G24=0,0,(AZ$1-$G24)*Hoja1!$A$1/AZ$1))","v":0},{"$f":"IF(BA$1>$E$11,0,IF($G24=0,0,(BA$1-$G24)*Hoja1!$A$1/BA$1))","v":0},{"$f":"IF(BB$1>$E$11,0,IF($G24=0,0,(BB$1-$G24)*Hoja1!$A$1/BB$1))","v":0},{"$f":"IF(BC$1>$E$11,0,IF($G24=0,0,(BC$1-$G24)*Hoja1!$A$1/BC$1))","v":0},{"$f":"IF(BD$1>$E$11,0,IF($G24=0,0,(BD$1-$G24)*Hoja1!$A$1/BD$1))","v":0},{"$f":"IF(BE$1>$E$11,0,IF($G24=0,0,(BE$1-$G24)*Hoja1!$A$1/BE$1))","v":0},{"$f":"IF(BF$1>$E$11,0,IF($G24=0,0,(BF$1-$G24)*Hoja1!$A$1/BF$1))","v":0},{"$f":"IF(BG$1>$E$11,0,IF($G24=0,0,(BG$1-$G24)*Hoja1!$A$1/BG$1))","v":0},{"$f":"IF(BH$1>$E$11,0,IF($G24=0,0,(BH$1-$G24)*Hoja1!$A$1/BH$1))","v":0},{"$f":"IF(BI$1>$E$11,0,IF($G24=0,0,(BI$1-$G24)*Hoja1!$A$1/BI$1))","v":0},{"$f":"IF(BJ$1>$E$11,0,IF($G24=0,0,(BJ$1-$G24)*Hoja1!$A$1/BJ$1))","v":0},{"$f":"IF(BK$1>$E$11,0,IF($G24=0,0,(BK$1-$G24)*Hoja1!$A$1/BK$1))","v":0},{"$f":"IF(BL$1>$E$11,0,IF($G24=0,0,(BL$1-$G24)*Hoja1!$A$1/BL$1))","v":0},{"$f":"IF(BM$1>$E$11,0,IF($G24=0,0,(BM$1-$G24)*Hoja1!$A$1/BM$1))","v":0},{"$f":"IF(BN$1>$E$11,0,IF($G24=0,0,(BN$1-$G24)*Hoja1!$A$1/BN$1))","v":0},{"$f":"IF(BO$1>$E$11,0,IF($G24=0,0,(BO$1-$G24)*Hoja1!$A$1/BO$1))","v":0},{"$f":"IF(BP$1>$E$11,0,IF($G24=0,0,(BP$1-$G24)*Hoja1!$A$1/BP$1))","v":0},{"$f":"IF(BQ$1>$E$11,0,IF($G24=0,0,(BQ$1-$G24)*Hoja1!$A$1/BQ$1))","v":0},{"$f":"IF(BR$1>$E$11,0,IF($G24=0,0,(BR$1-$G24)*Hoja1!$A$1/BR$1))","v":0},{"$f":"IF(BS$1>$E$11,0,IF($G24=0,0,(BS$1-$G24)*Hoja1!$A$1/BS$1))","v":0},{"$f":"IF(BT$1>$E$11,0,IF($G24=0,0,(BT$1-$G24)*Hoja1!$A$1/BT$1))","v":0},{"$f":"IF(BU$1>$E$11,0,IF($G24=0,0,(BU$1-$G24)*Hoja1!$A$1/BU$1))","v":0},{"$f":"IF(BV$1>$E$11,0,IF($G24=0,0,(BV$1-$G24)*Hoja1!$A$1/BV$1))","v":0},{"$f":"IF(BW$1>$E$11,0,IF($G24=0,0,(BW$1-$G24)*Hoja1!$A$1/BW$1))","v":0},{"$f":"IF(BX$1>$E$11,0,IF($G24=0,0,(BX$1-$G24)*Hoja1!$A$1/BX$1))","v":0},{"$f":"IF(BY$1>$E$11,0,IF($G24=0,0,(BY$1-$G24)*Hoja1!$A$1/BY$1))","v":0},{"$f":"IF(BZ$1>$E$11,0,IF($G24=0,0,(BZ$1-$G24)*Hoja1!$A$1/BZ$1))","v":0},{"$f":"IF(CA$1>$E$11,0,IF($G24=0,0,(CA$1-$G24)*Hoja1!$A$1/CA$1))","v":0},{"$f":"IF(CB$1>$E$11,0,IF($G24=0,0,(CB$1-$G24)*Hoja1!$A$1/CB$1))","v":0},{"$f":"IF(CC$1>$E$11,0,IF($G24=0,0,(CC$1-$G24)*Hoja1!$A$1/CC$1))","v":0},{"$f":"IF(CD$1>$E$11,0,IF($G24=0,0,(CD$1-$G24)*Hoja1!$A$1/CD$1))","v":0},{"$f":"IF(CE$1>$E$11,0,IF($G24=0,0,(CE$1-$G24)*Hoja1!$A$1/CE$1))","v":0},{"$f":"IF(CF$1>$E$11,0,IF($G24=0,0,(CF$1-$G24)*Hoja1!$A$1/CF$1))","v":0},{"$f":"IF(CG$1>$E$11,0,IF($G24=0,0,(CG$1-$G24)*Hoja1!$A$1/CG$1))","v":0},{"$f":"IF(CH$1>$E$11,0,IF($G24=0,0,(CH$1-$G24)*Hoja1!$A$1/CH$1))","v":0},{"$f":"IF(CI$1>$E$11,0,IF($G24=0,0,(CI$1-$G24)*Hoja1!$A$1/CI$1))","v":0},{"$f":"IF(CJ$1>$E$11,0,IF($G24=0,0,(CJ$1-$G24)*Hoja1!$A$1/CJ$1))","v":0},{"$f":"IF(CK$1>$E$11,0,IF($G24=0,0,(CK$1-$G24)*Hoja1!$A$1/CK$1))","v":0},{"$f":"IF(CL$1>$E$11,0,IF($G24=0,0,(CL$1-$G24)*Hoja1!$A$1/CL$1))","v":0},{"$f":"IF(CM$1>$E$11,0,IF($G24=0,0,(CM$1-$G24)*Hoja1!$A$1/CM$1))","v":0},{"$f":"IF(CN$1>$E$11,0,IF($G24=0,0,(CN$1-$G24)*Hoja1!$A$1/CN$1))","v":0},{"$f":"IF(CO$1>$E$11,0,IF($G24=0,0,(CO$1-$G24)*Hoja1!$A$1/CO$1))","v":0},{"$f":"IF(CP$1>$E$11,0,IF($G24=0,0,(CP$1-$G24)*Hoja1!$A$1/CP$1))","v":0},{"$f":"IF(CQ$1>$E$11,0,IF($G24=0,0,(CQ$1-$G24)*Hoja1!$A$1/CQ$1))","v":0},{"$f":"IF(CR$1>$E$11,0,IF($G24=0,0,(CR$1-$G24)*Hoja1!$A$1/CR$1))","v":0},{"$f":"IF(CS$1>$E$11,0,IF($G24=0,0,(CS$1-$G24)*Hoja1!$A$1/CS$1))","v":0},{"$f":"IF(CT$1>$E$11,0,IF($G24=0,0,(CT$1-$G24)*Hoja1!$A$1/CT$1))","v":0},{"$f":"IF(CU$1>$E$11,0,IF($G24=0,0,(CU$1-$G24)*Hoja1!$A$1/CU$1))","v":0},{"$f":"IF(CV$1>$E$11,0,IF($G24=0,0,(CV$1-$G24)*Hoja1!$A$1/CV$1))","v":0},{"$f":"IF(CW$1>$E$11,0,IF($G24=0,0,(CW$1-$G24)*Hoja1!$A$1/CW$1))","v":0},{"$f":"IF(CX$1>$E$11,0,IF($G24=0,0,(CX$1-$G24)*Hoja1!$A$1/CX$1))","v":0},{"$f":"IF(CY$1>$E$11,0,IF($G24=0,0,(CY$1-$G24)*Hoja1!$A$1/CY$1))","v":0},{"$f":"IF(CZ$1>$E$11,0,IF($G24=0,0,(CZ$1-$G24)*Hoja1!$A$1/CZ$1))","v":0},{"$f":"IF(DA$1>$E$11,0,IF($G24=0,0,(DA$1-$G24)*Hoja1!$A$1/DA$1))","v":0},{"$f":"IF(DB$1>$E$11,0,IF($G24=0,0,(DB$1-$G24)*Hoja1!$A$1/DB$1))","v":0},{"$f":"IF(DC$1>$E$11,0,IF($G24=0,0,(DC$1-$G24)*Hoja1!$A$1/DC$1))","v":0},{"$f":"IF(DD$1>$E$11,0,IF($G24=0,0,(DD$1-$G24)*Hoja1!$A$1/DD$1))","v":0},{"$f":"IF(DE$1>$E$11,0,IF($G24=0,0,(DE$1-$G24)*Hoja1!$A$1/DE$1))","v":0},{"$f":"IF(DF$1>$E$11,0,IF($G24=0,0,(DF$1-$G24)*Hoja1!$A$1/DF$1))","v":0},{"$f":"IF(DG$1>$E$11,0,IF($G24=0,0,(DG$1-$G24)*Hoja1!$A$1/DG$1))","v":0},{"$f":"IF(DH$1>$E$11,0,IF($G24=0,0,(DH$1-$G24)*Hoja1!$A$1/DH$1))","v":0},{"$f":"IF(DI$1>$E$11,0,IF($G24=0,0,(DI$1-$G24)*Hoja1!$A$1/DI$1))","v":0},{"$f":"IF(DJ$1>$E$11,0,IF($G24=0,0,(DJ$1-$G24)*Hoja1!$A$1/DJ$1))","v":0},{"$f":"IF(DK$1>$E$11,0,IF($G24=0,0,(DK$1-$G24)*Hoja1!$A$1/DK$1))","v":0},{"$f":"IF(DL$1>$E$11,0,IF($G24=0,0,(DL$1-$G24)*Hoja1!$A$1/DL$1))","v":0},{"$f":"IF(DM$1>$E$11,0,IF($G24=0,0,(DM$1-$G24)*Hoja1!$A$1/DM$1))","v":0}]
[1,3,"3/8\"",{"$f":"(B25*2.54/8)*(B25*2.54/8)*PI()/4","v":0.71255739248085614},{"$f":"B25*2.54/8","v":0.95250000000000001},282.89499999999998,0,{"$f":"IF(H$1>$E$11,0,IF($G25=0,0,(H$1-$G25)*Hoja1!$A$1/H$1))","v":0},{"$f":"IF(I$1>$E$11,0,IF($G25=0,0,(I$1-$G25)*Hoja1!$A$1/I$1))","v":0},{"$f":"IF(J$1>$E$11,0,IF($G25=0,0,(J$1-$G25)*Hoja1!$A$1/J$1))","v":0},{"$f":"IF(K$1>$E$11,0,IF($G25=0,0,(K$1-$G25)*Hoja1!$A$1/K$1))","v":0},{"$f":"IF(L$1>$E$11,0,IF($G25=0,0,(L$1-$G25)*Hoja1!$A$1/L$1))","v":0},{"$f":"IF(M$1>$E$11,0,IF($G25=0,0,(M$1-$G25)*Hoja1!$A$1/M$1))","v":0},{"$f":"IF(N$1>$E$11,0,IF($G25=0,0,(N$1-$G25)*Hoja1!$A$1/N$1))","v":0},{"$f":"IF(O$1>$E$11,0,IF($G25=0,0,(O$1-$G25)*Hoja1!$A$1/O$1))","v":0},{"$f":"IF(P$1>$E$11,0,IF($G25=0,0,(P$1-$G25)*Hoja1!$A$1/P$1))","v":0},{"$f":"IF(Q$1>$E$11,0,IF($G25=0,0,(Q$1-$G25)*Hoja1!$A$1/Q$1))","v":0},{"$f":"IF(R$1>$E$11,0,IF($G25=0,0,(R$1-$G25)*Hoja1!$A$1/R$1))","v":0},{"$f":"IF(S$1>$E$11,0,IF($G25=0,0,(S$1-$G25)*Hoja1!$A$1/S$1))","v":0},{"$f":"IF(T$1>$E$11,0,IF($G25=0,0,(T$1-$G25)*Hoja1!$A$1/T$1))","v":0},{"$f":"IF(U$1>$E$11,0,IF($G25=0,0,(U$1-$G25)*Hoja1!$A$1/U$1))","v":0},{"$f":"IF(V$1>$E$11,0,IF($G25=0,0,(V$1-$G25)*Hoja1!$A$1/V$1))","v":0},{"$f":"IF(W$1>$E$11,0,IF($G25=0,0,(W$1-$G25)*Hoja1!$A$1/W$1))","v":0},{"$f":"IF(X$1>$E$11,0,IF($G25=0,0,(X$1-$G25)*Hoja1!$A$1/X$1))","v":0},{"$f":"IF(Y$1>$E$11,0,IF($G25=0,0,(Y$1-$G25)*Hoja1!$A$1/Y$1))","v":0},{"$f":"IF(Z$1>$E$11,0,IF($G25=0,0,(Z$1-$G25)*Hoja1!$A$1/Z$1))","v":0},{"$f":"IF(AA$1>$E$11,0,IF($G25=0,0,(AA$1-$G25)*Hoja1!$A$1/AA$1))","v":0},{"$f":"IF(AB$1>$E$11,0,IF($G25=0,0,(AB$1-$G25)*Hoja1!$A$1/AB$1))","v":0},{"$f":"IF(AC$1>$E$11,0,IF($G25=0,0,(AC$1-$G25)*Hoja1!$A$1/AC$1))","v":0},{"$f":"IF(AD$1>$E$11,0,IF($G25=0,0,(AD$1-$G25)*Hoja1!$A$1/AD$1))","v":0},{"$f":"IF(AE$1>$E$11,0,IF($G25=0,0,(AE$1-$G25)*Hoja1!$A$1/AE$1))","v":0},{"$f":"IF(AF$1>$E$11,0,IF($G25=0,0,(AF$1-$G25)*Hoja1!$A$1/AF$1))","v":0},{"$f":"IF(AG$1>$E$11,0,IF($G25=0,0,(AG$1-$G25)*Hoja1!$A$1/AG$1))","v":0},{"$f":"IF(AH$1>$E$11,0,IF($G25=0,0,(AH$1-$G25)*Hoja1!$A$1/AH$1))","v":0},{"$f":"IF(AI$1>$E$11,0,IF($G25=0,0,(AI$1-$G25)*Hoja1!$A$1/AI$1))","v":0},{"$f":"IF(AJ$1>$E$11,0,IF($G25=0,0,(AJ$1-$G25)*Hoja1!$A$1/AJ$1))","v":0},{"$f":"IF(AK$1>$E$11,0,IF($G25=0,0,(AK$1-$G25)*Hoja1!$A$1/AK$1))","v":0},{"$f":"IF(AL$1>$E$11,0,IF($G25=0,0,(AL$1-$G25)*Hoja1!$A$1/AL$1))","v":0},{"$f":"IF(AM$1>$E$11,0,IF($G25=0,0,(AM$1-$G25)*Hoja1!$A$1/AM$1))","v":0},{"$f":"IF(AN$1>$E$11,0,IF($G25=0,0,(AN$1-$G25)*Hoja1!$A$1/AN$1))","v":0},{"$f":"IF(AO$1>$E$11,0,IF($G25=0,0,(AO$1-$G25)*Hoja1!$A$1/AO$1))","v":0},{"$f":"IF(AP$1>$E$11,0,IF($G25=0,0,(AP$1-$G25)*Hoja1!$A$1/AP$1))","v":0},{"$f":"IF(AQ$1>$E$11,0,IF($G25=0,0,(AQ$1-$G25)*Hoja1!$A$1/AQ$1))","v":0},{"$f":"IF(AR$1>$E$11,0,IF($G25=0,0,(AR$1-$G25)*Hoja1!$A$1/AR$1))","v":0},{"$f":"IF(AS$1>$E$11,0,IF($G25=0,0,(AS$1-$G25)*Hoja1!$A$1/AS$1))","v":0},{"$f":"IF(AT$1>$E$11,0,IF($G25=0,0,(AT$1-$G25)*Hoja1!$A$1/AT$1))","v":0},{"$f":"IF(AU$1>$E$11,0,IF($G25=0,0,(AU$1-$G25)*Hoja1!$A$1/AU$1))","v":0},{"$f":"IF(AV$1>$E$11,0,IF($G25=0,0,(AV$1-$G25)*Hoja1!$A$1/AV$1))","v":0},{"$f":"IF(AW$1>$E$11,0,IF($G25=0,0,(AW$1-$G25)*Hoja1!$A$1/AW$1))","v":0},{"$f":"IF(AX$1>$E$11,0,IF($G25=0,0,(AX$1-$G25)*Hoja1!$A$1/AX$1))","v":0},{"$f":"IF(AY$1>$E$11,0,IF($G25=0,0,(AY$1-$G25)*Hoja1!$A$1/AY$1))","v":0},{"$f":"IF(AZ$1>$E$11,0,IF($G25=0,0,(AZ$1-$G25)*Hoja1!$A$1/AZ$1))","v":0},{"$f":"IF(BA$1>$E$11,0,IF($G25=0,0,(BA$1-$G25)*Hoja1!$A$1/BA$1))","v":0},{"$f":"IF(BB$1>$E$11,0,IF($G25=0,0,(BB$1-$G25)*Hoja1!$A$1/BB$1))","v":0},{"$f":"IF(BC$1>$E$11,0,IF($G25=0,0,(BC$1-$G25)*Hoja1!$A$1/BC$1))","v":0},{"$f":"IF(BD$1>$E$11,0,IF($G25=0,0,(BD$1-$G25)*Hoja1!$A$1/BD$1))","v":0},{"$f":"IF(BE$1>$E$11,0,IF($G25=0,0,(BE$1-$G25)*Hoja1!$A$1/BE$1))","v":0},{"$f":"IF(BF$1>$E$11,0,IF($G25=0,0,(BF$1-$G25)*Hoja1!$A$1/BF$1))","v":0},{"$f":"IF(BG$1>$E$11,0,IF($G25=0,0,(BG$1-$G25)*Hoja1!$A$1/BG$1))","v":0},{"$f":"IF(BH$1>$E$11,0,IF($G25=0,0,(BH$1-$G25)*Hoja1!$A$1/BH$1))","v":0},{"$f":"IF(BI$1>$E$11,0,IF($G25=0,0,(BI$1-$G25)*Hoja1!$A$1/BI$1))","v":0},{"$f":"IF(BJ$1>$E$11,0,IF($G25=0,0,(BJ$1-$G25)*Hoja1!$A$1/BJ$1))","v":0},{"$f":"IF(BK$1>$E$11,0,IF($G25=0,0,(BK$1-$G25)*Hoja1!$A$1/BK$1))","v":0},{"$f":"IF(BL$1>$E$11,0,IF($G25=0,0,(BL$1-$G25)*Hoja1!$A$1/BL$1))","v":0},{"$f":"IF(BM$1>$E$11,0,IF($G25=0,0,(BM$1-$G25)*Hoja1!$A$1/BM$1))","v":0},{"$f":"IF(BN$1>$E$11,0,IF($G25=0,0,(BN$1-$G25)*Hoja1!$A$1/BN$1))","v":0},{"$f":"IF(BO$1>$E$11,0,IF($G25=0,0,(BO$1-$G25)*Hoja1!$A$1/BO$1))","v":0},{"$f":"IF(BP$1>$E$11,0,IF($G25=0,0,(BP$1-$G25)*Hoja1!$A$1/BP$1))","v":0},{"$f":"IF(BQ$1>$E$11,0,IF($G25=0,0,(BQ$1-$G25)*Hoja1!$A$1/BQ$1))","v":0},{"$f":"IF(BR$1>$E$11,0,IF($G25=0,0,(BR$1-$G25)*Hoja1!$A$1/BR$1))","v":0},{"$f":"IF(BS$1>$E$11,0,IF($G25=0,0,(BS$1-$G25)*Hoja1!$A$1/BS$1))","v":0},{"$f":"IF(BT$1>$E$11,0,IF($G25=0,0,(BT$1-$G25)*Hoja1!$A$1/BT$1))","v":0},{"$f":"IF(BU$1>$E$11,0,IF($G25=0,0,(BU$1-$G25)*Hoja1!$A$1/BU$1))","v":0},{"$f":"IF(BV$1>$E$11,0,IF($G25=0,0,(BV$1-$G25)*Hoja1!$A$1/BV$1))","v":0},{"$f":"IF(BW$1>$E$11,0,IF($G25=0,0,(BW$1-$G25)*Hoja1!$A$1/BW$1))","v":0},{"$f":"IF(BX$1>$E$11,0,IF($G25=0,0,(BX$1-$G25)*Hoja1!$A$1/BX$1))","v":0},{"$f":"IF(BY$1>$E$11,0,IF($G25=0,0,(BY$1-$G25)*Hoja1!$A$1/BY$1))","v":0},{"$f":"IF(BZ$1>$E$11,0,IF($G25=0,0,(BZ$1-$G25)*Hoja1!$A$1/BZ$1))","v":0},{"$f":"IF(CA$1>$E$11,0,IF($G25=0,0,(CA$1-$G25)*Hoja1!$A$1/CA$1))","v":0},{"$f":"IF(CB$1>$E$11,0,IF($G25=0,0,(CB$1-$G25)*Hoja1!$A$1/CB$1))","v":0},{"$f":"IF(CC$1>$E$11,0,IF($G25=0,0,(CC$1-$G25)*Hoja1!$A$1/CC$1))","v":0},{"$f":"IF(CD$1>$E$11,0,IF($G25=0,0,(CD$1-$G25)*Hoja1!$A$1/CD$1))","v":0},{"$f":"IF(CE$1>$E$11,0,IF($G25=0,0,(CE$1-$G25)*Hoja1!$A$1/CE$1))","v":0},{"$f":"IF(CF$1>$E$11,0,IF($G25=0,0,(CF$1-$G25)*Hoja1!$A$1/CF$1))","v":0},{"$f":"IF(CG$1>$E$11,0,IF($G25=0,0,(CG$1-$G25)*Hoja1!$A$1/CG$1))","v":0},{"$f":"IF(CH$1>$E$11,0,IF($G25=0,0,(CH$1-$G25)*Hoja1!$A$1/CH$1))","v":0},{"$f":"IF(CI$1>$E$11,0,IF($G25=0,0,(CI$1-$G25)*Hoja1!$A$1/CI$1))","v":0},{"$f":"IF(CJ$1>$E$11,0,IF($G25=0,0,(CJ$1-$G25)*Hoja1!$A$1/CJ$1))","v":0},{"$f":"IF(CK$1>$E$11,0,IF($G25=0,0,(CK$1-$G25)*Hoja1!$A$1/CK$1))","v":0},{"$f":"IF(CL$1>$E$11,0,IF($G25=0,0,(CL$1-$G25)*Hoja1!$A$1/CL$1))","v":0},{"$f":"IF(CM$1>$E$11,0,IF($G25=0,0,(CM$1-$G25)*Hoja1!$A$1/CM$1))","v":0},{"$f":"IF(CN$1>$E$11,0,IF($G25=0,0,(CN$1-$G25)*Hoja1!$A$1/CN$1))","v":0},{"$f":"IF(CO$1>$E$11,0,IF($G25=0,0,(CO$1-$G25)*Hoja1!$A$1/CO$1))","v":0},{"$f":"IF(CP$1>$E$11,0,IF($G25=0,0,(CP$1-$G25)*Hoja1!$A$1/CP$1))","v":0},{"$f":"IF(CQ$1>$E$11,0,IF($G25=0,0,(CQ$1-$G25)*Hoja1!$A$1/CQ$1))","v":0},{"$f":"IF(CR$1>$E$11,0,IF($G25=0,0,(CR$1-$G25)*Hoja1!$A$1/CR$1))","v":0},{"$f":"IF(CS$1>$E$11,0,IF($G25=0,0,(CS$1-$G25)*Hoja1!$A$1/CS$1))","v":0},{"$f":"IF(CT$1>$E$11,0,IF($G25=0,0,(CT$1-$G25)*Hoja1!$A$1/CT$1))","v":0},{"$f":"IF(CU$1>$E$11,0,IF($G25=0,0,(CU$1-$G25)*Hoja1!$A$1/CU$1))","v":0},{"$f":"IF(CV$1>$E$11,0,IF($G25=0,0,(CV$1-$G25)*Hoja1!$A$1/CV$1))","v":0},{"$f":"IF(CW$1>$E$11,0,IF($G25=0,0,(CW$1-$G25)*Hoja1!$A$1/CW$1))","v":0},{"$f":"IF(CX$1>$E$11,0,IF($G25=0,0,(CX$1-$G25)*Hoja1!$A$1/CX$1))","v":0},{"$f":"IF(CY$1>$E$11,0,IF($G25=0,0,(CY$1-$G25)*Hoja1!$A$1/CY$1))","v":0},{"$f":"IF(CZ$1>$E$11,0,IF($G25=0,0,(CZ$1-$G25)*Hoja1!$A$1/CZ$1))","v":0},{"$f":"IF(DA$1>$E$11,0,IF($G25=0,0,(DA$1-$G25)*Hoja1!$A$1/DA$1))","v":0},{"$f":"IF(DB$1>$E$11,0,IF($G25=0,0,(DB$1-$G25)*Hoja1!$A$1/DB$1))","v":0},{"$f":"IF(DC$1>$E$11,0,IF($G25=0,0,(DC$1-$G25)*Hoja1!$A$1/DC$1))","v":0},{"$f":"IF(DD$1>$E$11,0,IF($G25=0,0,(DD$1-$G25)*Hoja1!$A$1/DD$1))","v":0},{"$f":"IF(DE$1>$E$11,0,IF($G25=0,0,(DE$1-$G25)*Hoja1!$A$1/DE$1))","v":0},{"$f":"IF(DF$1>$E$11,0,IF($G25=0,0,(DF$1-$G25)*Hoja1!$A$1/DF$1))","v":0},{"$f":"IF(DG$1>$E$11,0,IF($G25=0,0,(DG$1-$G25)*Hoja1!$A$1/DG$1))","v":0},{"$f":"IF(DH$1>$E$11,0,IF($G25=0,0,(DH$1-$G25)*Hoja1!$A$1/DH$1))","v":0},{"$f":"IF(DI$1>$E$11,0,IF($G25=0,0,(DI$1-$G25)*Hoja1!$A$1/DI$1))","v":0},{"$f":"IF(DJ$1>$E$11,0,IF($G25=0,0,(DJ$1-$G25)*Hoja1!$A$1/DJ$1))","v":0},{"$f":"IF(DK$1>$E$11,0,IF($G25=0,0,(DK$1-$G25)*Hoja1!$A$1/DK$1))","v":0},{"$f":"IF(DL$1>$E$11,0,IF($G25=0,0,(DL$1-$G25)*Hoja1!$A$1/DL$1))","v":0},{"$f":"IF(DM$1>$E$11,0,IF($G25=0,0,(DM$1-$G25)*Hoja1!$A$1/DM$1))","v":0}]
[2,4,"1/2\"",{"$f":"(B26*2.54/8)*(B26*2.54/8)*PI()/4","v":1.2667686977437442},{"$f":"B26*2.54/8","v":1.27},296.08499999999998,0,{"$f":"IF(H$1>$E$11,0,IF($G26=0,0,(H$1-$G26)*Hoja1!$A$1/H$1))","v":0},{"$f":"IF(I$1>$E$11,0,IF($G26=0,0,(I$1-$G26)*Hoja1!$A$1/I$1))","v":0},{"$f":"IF(J$1>$E$11,0,IF($G26=0,0,(J$1-$G26)*Hoja1!$A$1/J$1))","v":0},{"$f":"IF(K$1>$E$11,0,IF($G26=0,0,(K$1-$G26)*Hoja1!$A$1/K$1))","v":0},{"$f":"IF(L$1>$E$11,0,IF($G26=0,0,(L$1-$G26)*Hoja1!$A$1/L$1))","v":0},{"$f":"IF(M$1>$E$11,0,IF($G26=0,0,(M$1-$G26)*Hoja1!$A$1/M$1))","v":0},{"$f":"IF(N$1>$E$11,0,IF($G26=0,0,(N$1-$G26)*Hoja1!$A$1/N$1))","v":0},{"$f":"IF(O$1>$E$11,0,IF($G26=0,0,(O$1-$G26)*Hoja1!$A$1/O$1))","v":0},{"$f":"IF(P$1>$E$11,0,IF($G26=0,0,(P$1-$G26)*Hoja1!$A$1/P$1))","v":0},{"$f":"IF(Q$1>$E$11,0,IF($G26=0,0,(Q$1-$G26)*Hoja1!$A$1/Q$1))","v":0},{"$f":"IF(R$1>$E$11,0,IF($G26=0,0,(R$1-$G26)*Hoja1!$A$1/R$1))","v":0},{"$f":"IF(S$1>$E$11,0,IF($G26=0,0,(S$1-$G26)*Hoja1!$A$1/S$1))","v":0},{"$f":"IF(T$1>$E$11,0,IF($G26=0,0,(T$1-$G26)*Hoja1!$A$1/T$1))","v":0},{"$f":"IF(U$1>$E$11,0,IF($G26=0,0,(U$1-$G26)*Hoja1!$A$1/U$1))","v":0},{"$f":"IF(V$1>$E$11,0,IF($G26=0,0,(V$1-$G26)*Hoja1!$A$1/V$1))","v":0},{"$f":"IF(W$1>$E$11,0,IF($G26=0,0,(W$1-$G26)*Hoja1!$A$1/W$1))","v":0},{"$f":"IF(X$1>$E$11,0,IF($G26=0,0,(X$1-$G26)*Hoja1!$A$1/X$1))","v":0},{"$f":"IF(Y$1>$E$11,0,IF($G26=0,0,(Y$1-$G26)*Hoja1!$A$1/Y$1))","v":0},{"$f":"IF(Z$1>$E$11,0,IF($G26=0,0,(Z$1-$G26)*Hoja1!$A$1/Z$1))","v":0},{"$f":"IF(AA$1>$E$11,0,IF($G26=0,0,(AA$1-$G26)*Hoja1!$A$1/AA$1))","v":0},{"$f":"IF(AB$1>$E$11,0,IF($G26=0,0,(AB$1-$G26)*Hoja1!$A$1/AB$1))","v":0},{"$f":"IF(AC$1>$E$11,0,IF($G26=0,0,(AC$1-$G26)*Hoja1!$A$1/AC$1))","v":0},{"$f":"IF(AD$1>$E$11,0,IF($G26=0,0,(AD$1-$G26)*Hoja1!$A$1/AD$1))","v":0},{"$f":"IF(AE$1>$E$11,0,IF($G26=0,0,(AE$1-$G26)*Hoja1!$A$1/AE$1))","v":0},{"$f":"IF(AF$1>$E$11,0,IF($G26=0,0,(AF$1-$G26)*Hoja1!$A$1/AF$1))","v":0},{"$f":"IF(AG$1>$E$11,0,IF($G26=0,0,(AG$1-$G26)*Hoja1!$A$1/AG$1))","v":0},{"$f":"IF(AH$1>$E$11,0,IF($G26=0,0,(AH$1-$G26)*Hoja1!$A$1/AH$1))","v":0},{"$f":"IF(AI$1>$E$11,0,IF($G26=0,0,(AI$1-$G26)*Hoja1!$A$1/AI$1))","v":0},{"$f":"IF(AJ$1>$E$11,0,IF($G26=0,0,(AJ$1-$G26)*Hoja1!$A$1/AJ$1))","v":0},{"$f":"IF(AK$1>$E$11,0,IF($G26=0,0,(AK$1-$G26)*Hoja1!$A$1/AK$1))","v":0},{"$f":"IF(AL$1>$E$11,0,IF($G26=0,0,(AL$1-$G26)*Hoja1!$A$1/AL$1))","v":0},{"$f":"IF(AM$1>$E$11,0,IF($G26=0,0,(AM$1-$G26)*Hoja1!$A$1/AM$1))","v":0},{"$f":"IF(AN$1>$E$11,0,IF($G26=0,0,(AN$1-$G26)*Hoja1!$A$1/AN$1))","v":0},{"$f":"IF(AO$1>$E$11,0,IF($G26=0,0,(AO$1-$G26)*Hoja1!$A$1/AO$1))","v":0},{"$f":"IF(AP$1>$E$11,0,IF($G26=0,0,(AP$1-$G26)*Hoja1!$A$1/AP$1))","v":0},{"$f":"IF(AQ$1>$E$11,0,IF($G26=0,0,(AQ$1-$G26)*Hoja1!$A$1/AQ$1))","v":0},{"$f":"IF(AR$1>$E$11,0,IF($G26=0,0,(AR$1-$G26)*Hoja1!$A$1/AR$1))","v":0},{"$f":"IF(AS$1>$E$11,0,IF($G26=0,0,(AS$1-$G26)*Hoja1!$A$1/AS$1))","v":0},{"$f":"IF(AT$1>$E$11,0,IF($G26=0,0,(AT$1-$G26)*Hoja1!$A$1/AT$1))","v":0},{"$f":"IF(AU$1>$E$11,0,IF($G26=0,0,(AU$1-$G26)*Hoja1!$A$1/AU$1))","v":0},{"$f":"IF(AV$1>$E$11,0,IF($G26=0,0,(AV$1-$G26)*Hoja1!$A$1/AV$1))","v":0},{"$f":"IF(AW$1>$E$11,0,IF($G26=0,0,(AW$1-$G26)*Hoja1!$A$1/AW$1))","v":0},{"$f":"IF(AX$1>$E$11,0,IF($G26=0,0,(AX$1-$G26)*Hoja1!$A$1/AX$1))","v":0},{"$f":"IF(AY$1>$E$11,0,IF($G26=0,0,(AY$1-$G26)*Hoja1!$A$1/AY$1))","v":0},{"$f":"IF(AZ$1>$E$11,0,IF($G26=0,0,(AZ$1-$G26)*Hoja1!$A$1/AZ$1))","v":0},{"$f":"IF(BA$1>$E$11,0,IF($G26=0,0,(BA$1-$G26)*Hoja1!$A$1/BA$1))","v":0},{"$f":"IF(BB$1>$E$11,0,IF($G26=0,0,(BB$1-$G26)*Hoja1!$A$1/BB$1))","v":0},{"$f":"IF(BC$1>$E$11,0,IF($G26=0,0,(BC$1-$G26)*Hoja1!$A$1/BC$1))","v":0},{"$f":"IF(BD$1>$E$11,0,IF($G26=0,0,(BD$1-$G26)*Hoja1!$A$1/BD$1))","v":0},{"$f":"IF(BE$1>$E$11,0,IF($G26=0,0,(BE$1-$G26)*Hoja1!$A$1/BE$1))","v":0},{"$f":"IF(BF$1>$E$11,0,IF($G26=0,0,(BF$1-$G26)*Hoja1!$A$1/BF$1))","v":0},{"$f":"IF(BG$1>$E$11,0,IF($G26=0,0,(BG$1-$G26)*Hoja1!$A$1/BG$1))","v":0},{"$f":"IF(BH$1>$E$11,0,IF($G26=0,0,(BH$1-$G26)*Hoja1!$A$1/BH$1))","v":0},{"$f":"IF(BI$1>$E$11,0,IF($G26=0,0,(BI$1-$G26)*Hoja1!$A$1/BI$1))","v":0},{"$f":"IF(BJ$1>$E$11,0,IF($G26=0,0,(BJ$1-$G26)*Hoja1!$A$1/BJ$1))","v":0},{"$f":"IF(BK$1>$E$11,0,IF($G26=0,0,(BK$1-$G26)*Hoja1!$A$1/BK$1))","v":0},{"$f":"IF(BL$1>$E$11,0,IF($G26=0,0,(BL$1-$G26)*Hoja1!$A$1/BL$1))","v":0},{"$f":"IF(BM$1>$E$11,0,IF($G26=0,0,(BM$1-$G26)*Hoja1!$A$1/BM$1))","v":0},{"$f":"IF(BN$1>$E$11,0,IF($G26=0,0,(BN$1-$G26)*Hoja1!$A$1/BN$1))","v":0},{"$f":"IF(BO$1>$E$11,0,IF($G26=0,0,(BO$1-$G26)*Hoja1!$A$1/BO$1))","v":0},{"$f":"IF(BP$1>$E$11,0,IF($G26=0,0,(BP$1-$G26)*Hoja1!$A$1/BP$1))","v":0},{"$f":"IF(BQ$1>$E$11,0,IF($G26=0,0,(BQ$1-$G26)*Hoja1!$A$1/BQ$1))","v":0},{"$f":"IF(BR$1>$E$11,0,IF($G26=0,0,(BR$1-$G26)*Hoja1!$A$1/BR$1))","v":0},{"$f":"IF(BS$1>$E$11,0,IF($G26=0,0,(BS$1-$G26)*Hoja1!$A$1/BS$1))","v":0},{"$f":"IF(BT$1>$E$11,0,IF($G26=0,0,(BT$1-$G26)*Hoja1!$A$1/BT$1))","v":0},{"$f":"IF(BU$1>$E$11,0,IF($G26=0,0,(BU$1-$G26)*Hoja1!$A$1/BU$1))","v":0},{"$f":"IF(BV$1>$E$11,0,IF($G26=0,0,(BV$1-$G26)*Hoja1!$A$1/BV$1))","v":0},{"$f":"IF(BW$1>$E$11,0,IF($G26=0,0,(BW$1-$G26)*Hoja1!$A$1/BW$1))","v":0},{"$f":"IF(BX$1>$E$11,0,IF($G26=0,0,(BX$1-$G26)*Hoja1!$A$1/BX$1))","v":0},{"$f":"IF(BY$1>$E$11,0,IF($G26=0,0,(BY$1-$G26)*Hoja1!$A$1/BY$1))","v":0},{"$f":"IF(BZ$1>$E$11,0,IF($G26=0,0,(BZ$1-$G26)*Hoja1!$A$1/BZ$1))","v":0},{"$f":"IF(CA$1>$E$11,0,IF($G26=0,0,(CA$1-$G26)*Hoja1!$A$1/CA$1))","v":0},{"$f":"IF(CB$1>$E$11,0,IF($G26=0,0,(CB$1-$G26)*Hoja1!$A$1/CB$1))","v":0},{"$f":"IF(CC$1>$E$11,0,IF($G26=0,0,(CC$1-$G26)*Hoja1!$A$1/CC$1))","v":0},{"$f":"IF(CD$1>$E$11,0,IF($G26=0,0,(CD$1-$G26)*Hoja1!$A$1/CD$1))","v":0},{"$f":"IF(CE$1>$E$11,0,IF($G26=0,0,(CE$1-$G26)*Hoja1!$A$1/CE$1))","v":0},{"$f":"IF(CF$1>$E$11,0,IF($G26=0,0,(CF$1-$G26)*Hoja1!$A$1/CF$1))","v":0},{"$f":"IF(CG$1>$E$11,0,IF($G26=0,0,(CG$1-$G26)*Hoja1!$A$1/CG$1))","v":0},{"$f":"IF(CH$1>$E$11,0,IF($G26=0,0,(CH$1-$G26)*Hoja1!$A$1/CH$1))","v":0},{"$f":"IF(CI$1>$E$11,0,IF($G26=0,0,(CI$1-$G26)*Hoja1!$A$1/CI$1))","v":0},{"$f":"IF(CJ$1>$E$11,0,IF($G26=0,0,(CJ$1-$G26)*Hoja1!$A$1/CJ$1))","v":0},{"$f":"IF(CK$1>$E$11,0,IF($G26=0,0,(CK$1-$G26)*Hoja1!$A$1/CK$1))","v":0},{"$f":"IF(CL$1>$E$11,0,IF($G26=0,0,(CL$1-$G26)*Hoja1!$A$1/CL$1))","v":0},{"$f":"IF(CM$1>$E$11,0,IF($G26=0,0,(CM$1-$G26)*Hoja1!$A$1/CM$1))","v":0},{"$f":"IF(CN$1>$E$11,0,IF($G26=0,0,(CN$1-$G26)*Hoja1!$A$1/CN$1))","v":0},{"$f":"IF(CO$1>$E$11,0,IF($G26=0,0,(CO$1-$G26)*Hoja1!$A$1/CO$1))","v":0},{"$f":"IF(CP$1>$E$11,0,IF($G26=0,0,(CP$1-$G26)*Hoja1!$A$1/CP$1))","v":0},{"$f":"IF(CQ$1>$E$11,0,IF($G26=0,0,(CQ$1-$G26)*Hoja1!$A$1/CQ$1))","v":0},{"$f":"IF(CR$1>$E$11,0,IF($G26=0,0,(CR$1-$G26)*Hoja1!$A$1/CR$1))","v":0},{"$f":"IF(CS$1>$E$11,0,IF($G26=0,0,(CS$1-$G26)*Hoja1!$A$1/CS$1))","v":0},{"$f":"IF(CT$1>$E$11,0,IF($G26=0,0,(CT$1-$G26)*Hoja1!$A$1/CT$1))","v":0},{"$f":"IF(CU$1>$E$11,0,IF($G26=0,0,(CU$1-$G26)*Hoja1!$A$1/CU$1))","v":0},{"$f":"IF(CV$1>$E$11,0,IF($G26=0,0,(CV$1-$G26)*Hoja1!$A$1/CV$1))","v":0},{"$f":"IF(CW$1>$E$11,0,IF($G26=0,0,(CW$1-$G26)*Hoja1!$A$1/CW$1))","v":0},{"$f":"IF(CX$1>$E$11,0,IF($G26=0,0,(CX$1-$G26)*Hoja1!$A$1/CX$1))","v":0},{"$f":"IF(CY$1>$E$11,0,IF($G26=0,0,(CY$1-$G26)*Hoja1!$A$1/CY$1))","v":0},{"$f":"IF(CZ$1>$E$11,0,IF($G26=0,0,(CZ$1-$G26)*Hoja1!$A$1/CZ$1))","v":0},{"$f":"IF(DA$1>$E$11,0,IF($G26=0,0,(DA$1-$G26)*Hoja1!$A$1/DA$1))","v":0},{"$f":"IF(DB$1>$E$11,0,IF($G26=0,0,(DB$1-$G26)*Hoja1!$A$1/DB$1))","v":0},{"$f":"IF(DC$1>$E$11,0,IF($G26=0,0,(DC$1-$G26)*Hoja1!$A$1/DC$1))","v":0},{"$f":"IF(DD$1>$E$11,0,IF($G26=0,0,(DD$1-$G26)*Hoja1!$A$1/DD$1))","v":0},{"$f":"IF(DE$1>$E$11,0,IF($G26=0,0,(DE$1-$G26)*Hoja1!$A$1/DE$1))","v":0},{"$f":"IF(DF$1>$E$11,0,IF($G26=0,0,(DF$1-$G26)*Hoja1!$A$1/DF$1))","v":0},{"$f":"IF(DG$1>$E$11,0,IF($G26=0,0,(DG$1-$G26)*Hoja1!$A$1/DG$1))","v":0},{"$f":"IF(DH$1>$E$11,0,IF($G26=0,0,(DH$1-$G26)*Hoja1!$A$1/DH$1))","v":0},{"$f":"IF(DI$1>$E$11,0,IF($G26=0,0,(DI$1-$G26)*Hoja1!$A$1/DI$1))","v":0},{"$f":"IF(DJ$1>$E$11,0,IF($G26=0,0,(DJ$1-$G26)*Hoja1!$A$1/DJ$1))","v":0},{"$f":"IF(DK$1>$E$11,0,IF($G26=0,0,(DK$1-$G26)*Hoja1!$A$1/DK$1))","v":0},{"$f":"IF(DL$1>$E$11,0,IF($G26=0,0,(DL$1-$G26)*Hoja1!$A$1/DL$1))","v":0},{"$f":"IF(DM$1>$E$11,0,IF($G26=0,0,(DM$1-$G26)*Hoja1!$A$1/DM$1))","v":0}]
[3,5,"5/8\"",1.9793260902246004,1.5874999999999999,309.27499999999998,0,{"$f":"IF(H$1>$E$11,0,IF($G27=0,0,(H$1-$G27)*Hoja1!$A$1/H$1))","v":0},{"$f":"IF(I$1>$E$11,0,IF($G27=0,0,(I$1-$G27)*Hoja1!$A$1/I$1))","v":0},{"$f":"IF(J$1>$E$11,0,IF($G27=0,0,(J$1-$G27)*Hoja1!$A$1/J$1))","v":0},{"$f":"IF(K$1>$E$11,0,IF($G27=0,0,(K$1-$G27)*Hoja1!$A$1/K$1))","v":0},{"$f":"IF(L$1>$E$11,0,IF($G27=0,0,(L$1-$G27)*Hoja1!$A$1/L$1))","v":0},{"$f":"IF(M$1>$E$11,0,IF($G27=0,0,(M$1-$G27)*Hoja1!$A$1/M$1))","v":0},{"$f":"IF(N$1>$E$11,0,IF($G27=0,0,(N$1-$G27)*Hoja1!$A$1/N$1))","v":0},{"$f":"IF(O$1>$E$11,0,IF($G27=0,0,(O$1-$G27)*Hoja1!$A$1/O$1))","v":0},{"$f":"IF(P$1>$E$11,0,IF($G27=0,0,(P$1-$G27)*Hoja1!$A$1/P$1))","v":0},{"$f":"IF(Q$1>$E$11,0,IF($G27=0,0,(Q$1-$G27)*Hoja1!$A$1/Q$1))","v":0},{"$f":"IF(R$1>$E$11,0,IF($G27=0,0,(R$1-$G27)*Hoja1!$A$1/R$1))","v":0},{"$f":"IF(S$1>$E$11,0,IF($G27=0,0,(S$1-$G27)*Hoja1!$A$1/S$1))","v":0},{"$f":"IF(T$1>$E$11,0,IF($G27=0,0,(T$1-$G27)*Hoja1!$A$1/T$1))","v":0},{"$f":"IF(U$1>$E$11,0,IF($G27=0,0,(U$1-$G27)*Hoja1!$A$1/U$1))","v":0},{"$f":"IF(V$1>$E$11,0,IF($G27=0,0,(V$1-$G27)*Hoja1!$A$1/V$1))","v":0},{"$f":"IF(W$1>$E$11,0,IF($G27=0,0,(W$1-$G27)*Hoja1!$A$1/W$1))","v":0},{"$f":"IF(X$1>$E$11,0,IF($G27=0,0,(X$1-$G27)*Hoja1!$A$1/X$1))","v":0},{"$f":"IF(Y$1>$E$11,0,IF($G27=0,0,(Y$1-$G27)*Hoja1!$A$1/Y$1))","v":0},{"$f":"IF(Z$1>$E$11,0,IF($G27=0,0,(Z$1-$G27)*Hoja1!$A$1/Z$1))","v":0},{"$f":"IF(AA$1>$E$11,0,IF($G27=0,0,(AA$1-$G27)*Hoja1!$A$1/AA$1))","v":0},{"$f":"IF(AB$1>$E$11,0,IF($G27=0,0,(AB$1-$G27)*Hoja1!$A$1/AB$1))","v":0},{"$f":"IF(AC$1>$E$11,0,IF($G27=0,0,(AC$1-$G27)*Hoja1!$A$1/AC$1))","v":0},{"$f":"IF(AD$1>$E$11,0,IF($G27=0,0,(AD$1-$G27)*Hoja1!$A$1/AD$1))","v":0},{"$f":"IF(AE$1>$E$11,0,IF($G27=0,0,(AE$1-$G27)*Hoja1!$A$1/AE$1))","v":0},{"$f":"IF(AF$1>$E$11,0,IF($G27=0,0,(AF$1-$G27)*Hoja1!$A$1/AF$1))","v":0},{"$f":"IF(AG$1>$E$11,0,IF($G27=0,0,(AG$1-$G27)*Hoja1!$A$1/AG$1))","v":0},{"$f":"IF(AH$1>$E$11,0,IF($G27=0,0,(AH$1-$G27)*Hoja1!$A$1/AH$1))","v":0},{"$f":"IF(AI$1>$E$11,0,IF($G27=0,0,(AI$1-$G27)*Hoja1!$A$1/AI$1))","v":0},{"$f":"IF(AJ$1>$E$11,0,IF($G27=0,0,(AJ$1-$G27)*Hoja1!$A$1/AJ$1))","v":0},{"$f":"IF(AK$1>$E$11,0,IF($G27=0,0,(AK$1-$G27)*Hoja1!$A$1/AK$1))","v":0},{"$f":"IF(AL$1>$E$11,0,IF($G27=0,0,(AL$1-$G27)*Hoja1!$A$1/AL$1))","v":0},{"$f":"IF(AM$1>$E$11,0,IF($G27=0,0,(AM$1-$G27)*Hoja1!$A$1/AM$1))","v":0},{"$f":"IF(AN$1>$E$11,0,IF($G27=0,0,(AN$1-$G27)*Hoja1!$A$1/AN$1))","v":0},{"$f":"IF(AO$1>$E$11,0,IF($G27=0,0,(AO$1-$G27)*Hoja1!$A$1/AO$1))","v":0},{"$f":"IF(AP$1>$E$11,0,IF($G27=0,0,(AP$1-$G27)*Hoja1!$A$1/AP$1))","v":0},{"$f":"IF(AQ$1>$E$11,0,IF($G27=0,0,(AQ$1-$G27)*Hoja1!$A$1/AQ$1))","v":0},{"$f":"IF(AR$1>$E$11,0,IF($G27=0,0,(AR$1-$G27)*Hoja1!$A$1/AR$1))","v":0},{"$f":"IF(AS$1>$E$11,0,IF($G27=0,0,(AS$1-$G27)*Hoja1!$A$1/AS$1))","v":0},{"$f":"IF(AT$1>$E$11,0,IF($G27=0,0,(AT$1-$G27)*Hoja1!$A$1/AT$1))","v":0},{"$f":"IF(AU$1>$E$11,0,IF($G27=0,0,(AU$1-$G27)*Hoja1!$A$1/AU$1))","v":0},{"$f":"IF(AV$1>$E$11,0,IF($G27=0,0,(AV$1-$G27)*Hoja1!$A$1/AV$1))","v":0},{"$f":"IF(AW$1>$E$11,0,IF($G27=0,0,(AW$1-$G27)*Hoja1!$A$1/AW$1))","v":0},{"$f":"IF(AX$1>$E$11,0,IF($G27=0,0,(AX$1-$G27)*Hoja1!$A$1/AX$1))","v":0},{"$f":"IF(AY$1>$E$11,0,IF($G27=0,0,(AY$1-$G27)*Hoja1!$A$1/AY$1))","v":0},{"$f":"IF(AZ$1>$E$11,0,IF($G27=0,0,(AZ$1-$G27)*Hoja1!$A$1/AZ$1))","v":0},{"$f":"IF(BA$1>$E$11,0,IF($G27=0,0,(BA$1-$G27)*Hoja1!$A$1/BA$1))","v":0},{"$f":"IF(BB$1>$E$11,0,IF($G27=0,0,(BB$1-$G27)*Hoja1!$A$1/BB$1))","v":0},{"$f":"IF(BC$1>$E$11,0,IF($G27=0,0,(BC$1-$G27)*Hoja1!$A$1/BC$1))","v":0},{"$f":"IF(BD$1>$E$11,0,IF($G27=0,0,(BD$1-$G27)*Hoja1!$A$1/BD$1))","v":0},{"$f":"IF(BE$1>$E$11,0,IF($G27=0,0,(BE$1-$G27)*Hoja1!$A$1/BE$1))","v":0},{"$f":"IF(BF$1>$E$11,0,IF($G27=0,0,(BF$1-$G27)*Hoja1!$A$1/BF$1))","v":0},{"$f":"IF(BG$1>$E$11,0,IF($G27=0,0,(BG$1-$G27)*Hoja1!$A$1/BG$1))","v":0},{"$f":"IF(BH$1>$E$11,0,IF($G27=0,0,(BH$1-$G27)*Hoja1!$A$1/BH$1))","v":0},{"$f":"IF(BI$1>$E$11,0,IF($G27=0,0,(BI$1-$G27)*Hoja1!$A$1/BI$1))","v":0},{"$f":"IF(BJ$1>$E$11,0,IF($G27=0,0,(BJ$1-$G27)*Hoja1!$A$1/BJ$1))","v":0},{"$f":"IF(BK$1>$E$11,0,IF($G27=0,0,(BK$1-$G27)*Hoja1!$A$1/BK$1))","v":0},{"$f":"IF(BL$1>$E$11,0,IF($G27=0,0,(BL$1-$G27)*Hoja1!$A$1/BL$1))","v":0},{"$f":"IF(BM$1>$E$11,0,IF($G27=0,0,(BM$1-$G27)*Hoja1!$A$1/BM$1))","v":0},{"$f":"IF(BN$1>$E$11,0,IF($G27=0,0,(BN$1-$G27)*Hoja1!$A$1/BN$1))","v":0},{"$f":"IF(BO$1>$E$11,0,IF($G27=0,0,(BO$1-$G27)*Hoja1!$A$1/BO$1))","v":0},{"$f":"IF(BP$1>$E$11,0,IF($G27=0,0,(BP$1-$G27)*Hoja1!$A$1/BP$1))","v":0},{"$f":"IF(BQ$1>$E$11,0,IF($G27=0,0,(BQ$1-$G27)*Hoja1!$A$1/BQ$1))","v":0},{"$f":"IF(BR$1>$E$11,0,IF($G27=0,0,(BR$1-$G27)*Hoja1!$A$1/BR$1))","v":0},{"$f":"IF(BS$1>$E$11,0,IF($G27=0,0,(BS$1-$G27)*Hoja1!$A$1/BS$1))","v":0},{"$f":"IF(BT$1>$E$11,0,IF($G27=0,0,(BT$1-$G27)*Hoja1!$A$1/BT$1))","v":0},{"$f":"IF(BU$1>$E$11,0,IF($G27=0,0,(BU$1-$G27)*Hoja1!$A$1/BU$1))","v":0},{"$f":"IF(BV$1>$E$11,0,IF($G27=0,0,(BV$1-$G27)*Hoja1!$A$1/BV$1))","v":0},{"$f":"IF(BW$1>$E$11,0,IF($G27=0,0,(BW$1-$G27)*Hoja1!$A$1/BW$1))","v":0},{"$f":"IF(BX$1>$E$11,0,IF($G27=0,0,(BX$1-$G27)*Hoja1!$A$1/BX$1))","v":0},{"$f":"IF(BY$1>$E$11,0,IF($G27=0,0,(BY$1-$G27)*Hoja1!$A$1/BY$1))","v":0},{"$f":"IF(BZ$1>$E$11,0,IF($G27=0,0,(BZ$1-$G27)*Hoja1!$A$1/BZ$1))","v":0},{"$f":"IF(CA$1>$E$11,0,IF($G27=0,0,(CA$1-$G27)*Hoja1!$A$1/CA$1))","v":0},{"$f":"IF(CB$1>$E$11,0,IF($G27=0,0,(CB$1-$G27)*Hoja1!$A$1/CB$1))","v":0},{"$f":"IF(CC$1>$E$11,0,IF($G27=0,0,(CC$1-$G27)*Hoja1!$A$1/CC$1))","v":0},{"$f":"IF(CD$1>$E$11,0,IF($G27=0,0,(CD$1-$G27)*Hoja1!$A$1/CD$1))","v":0},{"$f":"IF(CE$1>$E$11,0,IF($G27=0,0,(CE$1-$G27)*Hoja1!$A$1/CE$1))","v":0},{"$f":"IF(CF$1>$E$11,0,IF($G27=0,0,(CF$1-$G27)*Hoja1!$A$1/CF$1))","v":0},{"$f":"IF(CG$1>$E$11,0,IF($G27=0,0,(CG$1-$G27)*Hoja1!$A$1/CG$1))","v":0},{"$f":"IF(CH$1>$E$11,0,IF($G27=0,0,(CH$1-$G27)*Hoja1!$A$1/CH$1))","v":0},{"$f":"IF(CI$1>$E$11,0,IF($G27=0,0,(CI$1-$G27)*Hoja1!$A$1/CI$1))","v":0},{"$f":"IF(CJ$1>$E$11,0,IF($G27=0,0,(CJ$1-$G27)*Hoja1!$A$1/CJ$1))","v":0},{"$f":"IF(CK$1>$E$11,0,IF($G27=0,0,(CK$1-$G27)*Hoja1!$A$1/CK$1))","v":0},{"$f":"IF(CL$1>$E$11,0,IF($G27=0,0,(CL$1-$G27)*Hoja1!$A$1/CL$1))","v":0},{"$f":"IF(CM$1>$E$11,0,IF($G27=0,0,(CM$1-$G27)*Hoja1!$A$1/CM$1))","v":0},{"$f":"IF(CN$1>$E$11,0,IF($G27=0,0,(CN$1-$G27)*Hoja1!$A$1/CN$1))","v":0},{"$f":"IF(CO$1>$E$11,0,IF($G27=0,0,(CO$1-$G27)*Hoja1!$A$1/CO$1))","v":0},{"$f":"IF(CP$1>$E$11,0,IF($G27=0,0,(CP$1-$G27)*Hoja1!$A$1/CP$1))","v":0},{"$f":"IF(CQ$1>$E$11,0,IF($G27=0,0,(CQ$1-$G27)*Hoja1!$A$1/CQ$1))","v":0},{"$f":"IF(CR$1>$E$11,0,IF($G27=0,0,(CR$1-$G27)*Hoja1!$A$1/CR$1))","v":0},{"$f":"IF(CS$1>$E$11,0,IF($G27=0,0,(CS$1-$G27)*Hoja1!$A$1/CS$1))","v":0},{"$f":"IF(CT$1>$E$11,0,IF($G27=0,0,(CT$1-$G27)*Hoja1!$A$1/CT$1))","v":0},{"$f":"IF(CU$1>$E$11,0,IF($G27=0,0,(CU$1-$G27)*Hoja1!$A$1/CU$1))","v":0},{"$f":"IF(CV$1>$E$11,0,IF($G27=0,0,(CV$1-$G27)*Hoja1!$A$1/CV$1))","v":0},{"$f":"IF(CW$1>$E$11,0,IF($G27=0,0,(CW$1-$G27)*Hoja1!$A$1/CW$1))","v":0},{"$f":"IF(CX$1>$E$11,0,IF($G27=0,0,(CX$1-$G27)*Hoja1!$A$1/CX$1))","v":0},{"$f":"IF(CY$1>$E$11,0,IF($G27=0,0,(CY$1-$G27)*Hoja1!$A$1/CY$1))","v":0},{"$f":"IF(CZ$1>$E$11,0,IF($G27=0,0,(CZ$1-$G27)*Hoja1!$A$1/CZ$1))","v":0},{"$f":"IF(DA$1>$E$11,0,IF($G27=0,0,(DA$1-$G27)*Hoja1!$A$1/DA$1))","v":0},{"$f":"IF(DB$1>$E$11,0,IF($G27=0,0,(DB$1-$G27)*Hoja1!$A$1/DB$1))","v":0},{"$f":"IF(DC$1>$E$11,0,IF($G27=0,0,(DC$1-$G27)*Hoja1!$A$1/DC$1))","v":0},{"$f":"IF(DD$1>$E$11,0,IF($G27=0,0,(DD$1-$G27)*Hoja1!$A$1/DD$1))","v":0},{"$f":"IF(DE$1>$E$11,0,IF($G27=0,0,(DE$1-$G27)*Hoja1!$A$1/DE$1))","v":0},{"$f":"IF(DF$1>$E$11,0,IF($G27=0,0,(DF$1-$G27)*Hoja1!$A$1/DF$1))","v":0},{"$f":"IF(DG$1>$E$11,0,IF($G27=0,0,(DG$1-$G27)*Hoja1!$A$1/DG$1))","v":0},{"$f":"IF(DH$1>$E$11,0,IF($G27=0,0,(DH$1-$G27)*Hoja1!$A$1/DH$1))","v":0},{"$f":"IF(DI$1>$E$11,0,IF($G27=0,0,(DI$1-$G27)*Hoja1!$A$1/DI$1))","v":0},{"$f":"IF(DJ$1>$E$11,0,IF($G27=0,0,(DJ$1-$G27)*Hoja1!$A$1/DJ$1))","v":0},{"$f":"IF(DK$1>$E$11,0,IF($G27=0,0,(DK$1-$G27)*Hoja1!$A$1/DK$1))","v":0},{"$f":"IF(DL$1>$E$11,0,IF($G27=0,0,(DL$1-$G27)*Hoja1!$A$1/DL$1))","v":0},{"$f":"IF(DM$1>$E$11,0,IF($G27=0,0,(DM$1-$G27)*Hoja1!$A$1/DM$1))","v":0}]
[4,6,"3/4\"",2.8502295699234246,1.905,322.46499999999997,0,{"$f":"IF(H$1>$E$11,0,IF($G28=0,0,(H$1-$G28)*Hoja1!$A$1/H$1))","v":0},{"$f":"IF(I$1>$E$11,0,IF($G28=0,0,(I$1-$G28)*Hoja1!$A$1/I$1))","v":0},{"$f":"IF(J$1>$E$11,0,IF($G28=0,0,(J$1-$G28)*Hoja1!$A$1/J$1))","v":0},{"$f":"IF(K$1>$E$11,0,IF($G28=0,0,(K$1-$G28)*Hoja1!$A$1/K$1))","v":0},{"$f":"IF(L$1>$E$11,0,IF($G28=0,0,(L$1-$G28)*Hoja1!$A$1/L$1))","v":0},{"$f":"IF(M$1>$E$11,0,IF($G28=0,0,(M$1-$G28)*Hoja1!$A$1/M$1))","v":0},{"$f":"IF(N$1>$E$11,0,IF($G28=0,0,(N$1-$G28)*Hoja1!$A$1/N$1))","v":0},{"$f":"IF(O$1>$E$11,0,IF($G28=0,0,(O$1-$G28)*Hoja1!$A$1/O$1))","v":0},{"$f":"IF(P$1>$E$11,0,IF($G28=0,0,(P$1-$G28)*Hoja1!$A$1/P$1))","v":0},{"$f":"IF(Q$1>$E$11,0,IF($G28=0,0,(Q$1-$G28)*Hoja1!$A$1/Q$1))","v":0},{"$f":"IF(R$1>$E$11,0,IF($G28=0,0,(R$1-$G28)*Hoja1!$A$1/R$1))","v":0},{"$f":"IF(S$1>$E$11,0,IF($G28=0,0,(S$1-$G28)*Hoja1!$A$1/S$1))","v":0},{"$f":"IF(T$1>$E$11,0,IF($G28=0,0,(T$1-$G28)*Hoja1!$A$1/T$1))","v":0},{"$f":"IF(U$1>$E$11,0,IF($G28=0,0,(U$1-$G28)*Hoja1!$A$1/U$1))","v":0},{"$f":"IF(V$1>$E$11,0,IF($G28=0,0,(V$1-$G28)*Hoja1!$A$1/V$1))","v":0},{"$f":"IF(W$1>$E$11,0,IF($G28=0,0,(W$1-$G28)*Hoja1!$A$1/W$1))","v":0},{"$f":"IF(X$1>$E$11,0,IF($G28=0,0,(X$1-$G28)*Hoja1!$A$1/X$1))","v":0},{"$f":"IF(Y$1>$E$11,0,IF($G28=0,0,(Y$1-$G28)*Hoja1!$A$1/Y$1))","v":0},{"$f":"IF(Z$1>$E$11,0,IF($G28=0,0,(Z$1-$G28)*Hoja1!$A$1/Z$1))","v":0},{"$f":"IF(AA$1>$E$11,0,IF($G28=0,0,(AA$1-$G28)*Hoja1!$A$1/AA$1))","v":0},{"$f":"IF(AB$1>$E$11,0,IF($G28=0,0,(AB$1-$G28)*Hoja1!$A$1/AB$1))","v":0},{"$f":"IF(AC$1>$E$11,0,IF($G28=0,0,(AC$1-$G28)*Hoja1!$A$1/AC$1))","v":0},{"$f":"IF(AD$1>$E$11,0,IF($G28=0,0,(AD$1-$G28)*Hoja1!$A$1/AD$1))","v":0},{"$f":"IF(AE$1>$E$11,0,IF($G28=0,0,(AE$1-$G28)*Hoja1!$A$1/AE$1))","v":0},{"$f":"IF(AF$1>$E$11,0,IF($G28=0,0,(AF$1-$G28)*Hoja1!$A$1/AF$1))","v":0},{"$f":"IF(AG$1>$E$11,0,IF($G28=0,0,(AG$1-$G28)*Hoja1!$A$1/AG$1))","v":0},{"$f":"IF(AH$1>$E$11,0,IF($G28=0,0,(AH$1-$G28)*Hoja1!$A$1/AH$1))","v":0},{"$f":"IF(AI$1>$E$11,0,IF($G28=0,0,(AI$1-$G28)*Hoja1!$A$1/AI$1))","v":0},{"$f":"IF(AJ$1>$E$11,0,IF($G28=0,0,(AJ$1-$G28)*Hoja1!$A$1/AJ$1))","v":0},{"$f":"IF(AK$1>$E$11,0,IF($G28=0,0,(AK$1-$G28)*Hoja1!$A$1/AK$1))","v":0},{"$f":"IF(AL$1>$E$11,0,IF($G28=0,0,(AL$1-$G28)*Hoja1!$A$1/AL$1))","v":0},{"$f":"IF(AM$1>$E$11,0,IF($G28=0,0,(AM$1-$G28)*Hoja1!$A$1/AM$1))","v":0},{"$f":"IF(AN$1>$E$11,0,IF($G28=0,0,(AN$1-$G28)*Hoja1!$A$1/AN$1))","v":0},{"$f":"IF(AO$1>$E$11,0,IF($G28=0,0,(AO$1-$G28)*Hoja1!$A$1/AO$1))","v":0},{"$f":"IF(AP$1>$E$11,0,IF($G28=0,0,(AP$1-$G28)*Hoja1!$A$1/AP$1))","v":0},{"$f":"IF(AQ$1>$E$11,0,IF($G28=0,0,(AQ$1-$G28)*Hoja1!$A$1/AQ$1))","v":0},{"$f":"IF(AR$1>$E$11,0,IF($G28=0,0,(AR$1-$G28)*Hoja1!$A$1/AR$1))","v":0},{"$f":"IF(AS$1>$E$11,0,IF($G28=0,0,(AS$1-$G28)*Hoja1!$A$1/AS$1))","v":0},{"$f":"IF(AT$1>$E$11,0,IF($G28=0,0,(AT$1-$G28)*Hoja1!$A$1/AT$1))","v":0},{"$f":"IF(AU$1>$E$11,0,IF($G28=0,0,(AU$1-$G28)*Hoja1!$A$1/AU$1))","v":0},{"$f":"IF(AV$1>$E$11,0,IF($G28=0,0,(AV$1-$G28)*Hoja1!$A$1/AV$1))","v":0},{"$f":"IF(AW$1>$E$11,0,IF($G28=0,0,(AW$1-$G28)*Hoja1!$A$1/AW$1))","v":0},{"$f":"IF(AX$1>$E$11,0,IF($G28=0,0,(AX$1-$G28)*Hoja1!$A$1/AX$1))","v":0},{"$f":"IF(AY$1>$E$11,0,IF($G28=0,0,(AY$1-$G28)*Hoja1!$A$1/AY$1))","v":0},{"$f":"IF(AZ$1>$E$11,0,IF($G28=0,0,(AZ$1-$G28)*Hoja1!$A$1/AZ$1))","v":0},{"$f":"IF(BA$1>$E$11,0,IF($G28=0,0,(BA$1-$G28)*Hoja1!$A$1/BA$1))","v":0},{"$f":"IF(BB$1>$E$11,0,IF($G28=0,0,(BB$1-$G28)*Hoja1!$A$1/BB$1))","v":0},{"$f":"IF(BC$1>$E$11,0,IF($G28=0,0,(BC$1-$G28)*Hoja1!$A$1/BC$1))","v":0},{"$f":"IF(BD$1>$E$11,0,IF($G28=0,0,(BD$1-$G28)*Hoja1!$A$1/BD$1))","v":0},{"$f":"IF(BE$1>$E$11,0,IF($G28=0,0,(BE$1-$G28)*Hoja1!$A$1/BE$1))","v":0},{"$f":"IF(BF$1>$E$11,0,IF($G28=0,0,(BF$1-$G28)*Hoja1!$A$1/BF$1))","v":0},{"$f":"IF(BG$1>$E$11,0,IF($G28=0,0,(BG$1-$G28)*Hoja1!$A$1/BG$1))","v":0},{"$f":"IF(BH$1>$E$11,0,IF($G28=0,0,(BH$1-$G28)*Hoja1!$A$1/BH$1))","v":0},{"$f":"IF(BI$1>$E$11,0,IF($G28=0,0,(BI$1-$G28)*Hoja1!$A$1/BI$1))","v":0},{"$f":"IF(BJ$1>$E$11,0,IF($G28=0,0,(BJ$1-$G28)*Hoja1!$A$1/BJ$1))","v":0},{"$f":"IF(BK$1>$E$11,0,IF($G28=0,0,(BK$1-$G28)*Hoja1!$A$1/BK$1))","v":0},{"$f":"IF(BL$1>$E$11,0,IF($G28=0,0,(BL$1-$G28)*Hoja1!$A$1/BL$1))","v":0},{"$f":"IF(BM$1>$E$11,0,IF($G28=0,0,(BM$1-$G28)*Hoja1!$A$1/BM$1))","v":0},{"$f":"IF(BN$1>$E$11,0,IF($G28=0,0,(BN$1-$G28)*Hoja1!$A$1/BN$1))","v":0},{"$f":"IF(BO$1>$E$11,0,IF($G28=0,0,(BO$1-$G28)*Hoja1!$A$1/BO$1))","v":0},{"$f":"IF(BP$1>$E$11,0,IF($G28=0,0,(BP$1-$G28)*Hoja1!$A$1/BP$1))","v":0},{"$f":"IF(BQ$1>$E$11,0,IF($G28=0,0,(BQ$1-$G28)*Hoja1!$A$1/BQ$1))","v":0},{"$f":"IF(BR$1>$E$11,0,IF($G28=0,0,(BR$1-$G28)*Hoja1!$A$1/BR$1))","v":0},{"$f":"IF(BS$1>$E$11,0,IF($G28=0,0,(BS$1-$G28)*Hoja1!$A$1/BS$1))","v":0},{"$f":"IF(BT$1>$E$11,0,IF($G28=0,0,(BT$1-$G28)*Hoja1!$A$1/BT$1))","v":0},{"$f":"IF(BU$1>$E$11,0,IF($G28=0,0,(BU$1-$G28)*Hoja1!$A$1/BU$1))","v":0},{"$f":"IF(BV$1>$E$11,0,IF($G28=0,0,(BV$1-$G28)*Hoja1!$A$1/BV$1))","v":0},{"$f":"IF(BW$1>$E$11,0,IF($G28=0,0,(BW$1-$G28)*Hoja1!$A$1/BW$1))","v":0},{"$f":"IF(BX$1>$E$11,0,IF($G28=0,0,(BX$1-$G28)*Hoja1!$A$1/BX$1))","v":0},{"$f":"IF(BY$1>$E$11,0,IF($G28=0,0,(BY$1-$G28)*Hoja1!$A$1/BY$1))","v":0},{"$f":"IF(BZ$1>$E$11,0,IF($G28=0,0,(BZ$1-$G28)*Hoja1!$A$1/BZ$1))","v":0},{"$f":"IF(CA$1>$E$11,0,IF($G28=0,0,(CA$1-$G28)*Hoja1!$A$1/CA$1))","v":0},{"$f":"IF(CB$1>$E$11,0,IF($G28=0,0,(CB$1-$G28)*Hoja1!$A$1/CB$1))","v":0},{"$f":"IF(CC$1>$E$11,0,IF($G28=0,0,(CC$1-$G28)*Hoja1!$A$1/CC$1))","v":0},{"$f":"IF(CD$1>$E$11,0,IF($G28=0,0,(CD$1-$G28)*Hoja1!$A$1/CD$1))","v":0},{"$f":"IF(CE$1>$E$11,0,IF($G28=0,0,(CE$1-$G28)*Hoja1!$A$1/CE$1))","v":0},{"$f":"IF(CF$1>$E$11,0,IF($G28=0,0,(CF$1-$G28)*Hoja1!$A$1/CF$1))","v":0},{"$f":"IF(CG$1>$E$11,0,IF($G28=0,0,(CG$1-$G28)*Hoja1!$A$1/CG$1))","v":0},{"$f":"IF(CH$1>$E$11,0,IF($G28=0,0,(CH$1-$G28)*Hoja1!$A$1/CH$1))","v":0},{"$f":"IF(CI$1>$E$11,0,IF($G28=0,0,(CI$1-$G28)*Hoja1!$A$1/CI$1))","v":0},{"$f":"IF(CJ$1>$E$11,0,IF($G28=0,0,(CJ$1-$G28)*Hoja1!$A$1/CJ$1))","v":0},{"$f":"IF(CK$1>$E$11,0,IF($G28=0,0,(CK$1-$G28)*Hoja1!$A$1/CK$1))","v":0},{"$f":"IF(CL$1>$E$11,0,IF($G28=0,0,(CL$1-$G28)*Hoja1!$A$1/CL$1))","v":0},{"$f":"IF(CM$1>$E$11,0,IF($G28=0,0,(CM$1-$G28)*Hoja1!$A$1/CM$1))","v":0},{"$f":"IF(CN$1>$E$11,0,IF($G28=0,0,(CN$1-$G28)*Hoja1!$A$1/CN$1))","v":0},{"$f":"IF(CO$1>$E$11,0,IF($G28=0,0,(CO$1-$G28)*Hoja1!$A$1/CO$1))","v":0},{"$f":"IF(CP$1>$E$11,0,IF($G28=0,0,(CP$1-$G28)*Hoja1!$A$1/CP$1))","v":0},{"$f":"IF(CQ$1>$E$11,0,IF($G28=0,0,(CQ$1-$G28)*Hoja1!$A$1/CQ$1))","v":0},{"$f":"IF(CR$1>$E$11,0,IF($G28=0,0,(CR$1-$G28)*Hoja1!$A$1/CR$1))","v":0},{"$f":"IF(CS$1>$E$11,0,IF($G28=0,0,(CS$1-$G28)*Hoja1!$A$1/CS$1))","v":0},{"$f":"IF(CT$1>$E$11,0,IF($G28=0,0,(CT$1-$G28)*Hoja1!$A$1/CT$1))","v":0},{"$f":"IF(CU$1>$E$11,0,IF($G28=0,0,(CU$1-$G28)*Hoja1!$A$1/CU$1))","v":0},{"$f":"IF(CV$1>$E$11,0,IF($G28=0,0,(CV$1-$G28)*Hoja1!$A$1/CV$1))","v":0},{"$f":"IF(CW$1>$E$11,0,IF($G28=0,0,(CW$1-$G28)*Hoja1!$A$1/CW$1))","v":0},{"$f":"IF(CX$1>$E$11,0,IF($G28=0,0,(CX$1-$G28)*Hoja1!$A$1/CX$1))","v":0},{"$f":"IF(CY$1>$E$11,0,IF($G28=0,0,(CY$1-$G28)*Hoja1!$A$1/CY$1))","v":0},{"$f":"IF(CZ$1>$E$11,0,IF($G28=0,0,(CZ$1-$G28)*Hoja1!$A$1/CZ$1))","v":0},{"$f":"IF(DA$1>$E$11,0,IF($G28=0,0,(DA$1-$G28)*Hoja1!$A$1/DA$1))","v":0},{"$f":"IF(DB$1>$E$11,0,IF($G28=0,0,(DB$1-$G28)*Hoja1!$A$1/DB$1))","v":0},{"$f":"IF(DC$1>$E$11,0,IF($G28=0,0,(DC$1-$G28)*Hoja1!$A$1/DC$1))","v":0},{"$f":"IF(DD$1>$E$11,0,IF($G28=0,0,(DD$1-$G28)*Hoja1!$A$1/DD$1))","v":0},{"$f":"IF(DE$1>$E$11,0,IF($G28=0,0,(DE$1-$G28)*Hoja1!$A$1/DE$1))","v":0},{"$f":"IF(DF$1>$E$11,0,IF($G28=0,0,(DF$1-$G28)*Hoja1!$A$1/DF$1))","v":0},{"$f":"IF(DG$1>$E$11,0,IF($G28=0,0,(DG$1-$G28)*Hoja1!$A$1/DG$1))","v":0},{"$f":"IF(DH$1>$E$11,0,IF($G28=0,0,(DH$1-$G28)*Hoja1!$A$1/DH$1))","v":0},{"$f":"IF(DI$1>$E$11,0,IF($G28=0,0,(DI$1-$G28)*Hoja1!$A$1/DI$1))","v":0},{"$f":"IF(DJ$1>$E$11,0,IF($G28=0,0,(DJ$1-$G28)*Hoja1!$A$1/DJ$1))","v":0},{"$f":"IF(DK$1>$E$11,0,IF($G28=0,0,(DK$1-$G28)*Hoja1!$A$1/DK$1))","v":0},{"$f":"IF(DL$1>$E$11,0,IF($G28=0,0,(DL$1-$G28)*Hoja1!$A$1/DL$1))","v":0},{"$f":"IF(DM$1>$E$11,0,IF($G28=0,0,(DM$1-$G28)*Hoja1!$A$1/DM$1))","v":0}]
[5,7,"7/8\"",3.8794791368402177,2.2225000000000001,335.65499999999997,0,{"$f":"IF(H$1>$E$11,0,IF($G29=0,0,(H$1-$G29)*Hoja1!$A$1/H$1))","v":0},{"$f":"IF(I$1>$E$11,0,IF($G29=0,0,(I$1-$G29)*Hoja1!$A$1/I$1))","v":0},{"$f":"IF(J$1>$E$11,0,IF($G29=0,0,(J$1-$G29)*Hoja1!$A$1/J$1))","v":0},{"$f":"IF(K$1>$E$11,0,IF($G29=0,0,(K$1-$G29)*Hoja1!$A$1/K$1))","v":0},{"$f":"IF(L$1>$E$11,0,IF($G29=0,0,(L$1-$G29)*Hoja1!$A$1/L$1))","v":0},{"$f":"IF(M$1>$E$11,0,IF($G29=0,0,(M$1-$G29)*Hoja1!$A$1/M$1))","v":0},{"$f":"IF(N$1>$E$11,0,IF($G29=0,0,(N$1-$G29)*Hoja1!$A$1/N$1))","v":0},{"$f":"IF(O$1>$E$11,0,IF($G29=0,0,(O$1-$G29)*Hoja1!$A$1/O$1))","v":0},{"$f":"IF(P$1>$E$11,0,IF($G29=0,0,(P$1-$G29)*Hoja1!$A$1/P$1))","v":0},{"$f":"IF(Q$1>$E$11,0,IF($G29=0,0,(Q$1-$G29)*Hoja1!$A$1/Q$1))","v":0},{"$f":"IF(R$1>$E$11,0,IF($G29=0,0,(R$1-$G29)*Hoja1!$A$1/R$1))","v":0},{"$f":"IF(S$1>$E$11,0,IF($G29=0,0,(S$1-$G29)*Hoja1!$A$1/S$1))","v":0},{"$f":"IF(T$1>$E$11,0,IF($G29=0,0,(T$1-$G29)*Hoja1!$A$1/T$1))","v":0},{"$f":"IF(U$1>$E$11,0,IF($G29=0,0,(U$1-$G29)*Hoja1!$A$1/U$1))","v":0},{"$f":"IF(V$1>$E$11,0,IF($G29=0,0,(V$1-$G29)*Hoja1!$A$1/V$1))","v":0},{"$f":"IF(W$1>$E$11,0,IF($G29=0,0,(W$1-$G29)*Hoja1!$A$1/W$1))","v":0},{"$f":"IF(X$1>$E$11,0,IF($G29=0,0,(X$1-$G29)*Hoja1!$A$1/X$1))","v":0},{"$f":"IF(Y$1>$E$11,0,IF($G29=0,0,(Y$1-$G29)*Hoja1!$A$1/Y$1))","v":0},{"$f":"IF(Z$1>$E$11,0,IF($G29=0,0,(Z$1-$G29)*Hoja1!$A$1/Z$1))","v":0},{"$f":"IF(AA$1>$E$11,0,IF($G29=0,0,(AA$1-$G29)*Hoja1!$A$1/AA$1))","v":0},{"$f":"IF(AB$1>$E$11,0,IF($G29=0,0,(AB$1-$G29)*Hoja1!$A$1/AB$1))","v":0},{"$f":"IF(AC$1>$E$11,0,IF($G29=0,0,(AC$1-$G29)*Hoja1!$A$1/AC$1))","v":0},{"$f":"IF(AD$1>$E$11,0,IF($G29=0,0,(AD$1-$G29)*Hoja1!$A$1/AD$1))","v":0},{"$f":"IF(AE$1>$E$11,0,IF($G29=0,0,(AE$1-$G29)*Hoja1!$A$1/AE$1))","v":0},{"$f":"IF(AF$1>$E$11,0,IF($G29=0,0,(AF$1-$G29)*Hoja1!$A$1/AF$1))","v":0},{"$f":"IF(AG$1>$E$11,0,IF($G29=0,0,(AG$1-$G29)*Hoja1!$A$1/AG$1))","v":0},{"$f":"IF(AH$1>$E$11,0,IF($G29=0,0,(AH$1-$G29)*Hoja1!$A$1/AH$1))","v":0},{"$f":"IF(AI$1>$E$11,0,IF($G29=0,0,(AI$1-$G29)*Hoja1!$A$1/AI$1))","v":0},{"$f":"IF(AJ$1>$E$11,0,IF($G29=0,0,(AJ$1-$G29)*Hoja1!$A$1/AJ$1))","v":0},{"$f":"IF(AK$1>$E$11,0,IF($G29=0,0,(AK$1-$G29)*Hoja1!$A$1/AK$1))","v":0},{"$f":"IF(AL$1>$E$11,0,IF($G29=0,0,(AL$1-$G29)*Hoja1!$A$1/AL$1))","v":0},{"$f":"IF(AM$1>$E$11,0,IF($G29=0,0,(AM$1-$G29)*Hoja1!$A$1/AM$1))","v":0},{"$f":"IF(AN$1>$E$11,0,IF($G29=0,0,(AN$1-$G29)*Hoja1!$A$1/AN$1))","v":0},{"$f":"IF(AO$1>$E$11,0,IF($G29=0,0,(AO$1-$G29)*Hoja1!$A$1/AO$1))","v":0},{"$f":"IF(AP$1>$E$11,0,IF($G29=0,0,(AP$1-$G29)*Hoja1!$A$1/AP$1))","v":0},{"$f":"IF(AQ$1>$E$11,0,IF($G29=0,0,(AQ$1-$G29)*Hoja1!$A$1/AQ$1))","v":0},{"$f":"IF(AR$1>$E$11,0,IF($G29=0,0,(AR$1-$G29)*Hoja1!$A$1/AR$1))","v":0},{"$f":"IF(AS$1>$E$11,0,IF($G29=0,0,(AS$1-$G29)*Hoja1!$A$1/AS$1))","v":0},{"$f":"IF(AT$1>$E$11,0,IF($G29=0,0,(AT$1-$G29)*Hoja1!$A$1/AT$1))","v":0},{"$f":"IF(AU$1>$E$11,0,IF($G29=0,0,(AU$1-$G29)*Hoja1!$A$1/AU$1))","v":0},{"$f":"IF(AV$1>$E$11,0,IF($G29=0,0,(AV$1-$G29)*Hoja1!$A$1/AV$1))","v":0},{"$f":"IF(AW$1>$E$11,0,IF($G29=0,0,(AW$1-$G29)*Hoja1!$A$1/AW$1))","v":0},{"$f":"IF(AX$1>$E$11,0,IF($G29=0,0,(AX$1-$G29)*Hoja1!$A$1/AX$1))","v":0},{"$f":"IF(AY$1>$E$11,0,IF($G29=0,0,(AY$1-$G29)*Hoja1!$A$1/AY$1))","v":0},{"$f":"IF(AZ$1>$E$11,0,IF($G29=0,0,(AZ$1-$G29)*Hoja1!$A$1/AZ$1))","v":0},{"$f":"IF(BA$1>$E$11,0,IF($G29=0,0,(BA$1-$G29)*Hoja1!$A$1/BA$1))","v":0},{"$f":"IF(BB$1>$E$11,0,IF($G29=0,0,(BB$1-$G29)*Hoja1!$A$1/BB$1))","v":0},{"$f":"IF(BC$1>$E$11,0,IF($G29=0,0,(BC$1-$G29)*Hoja1!$A$1/BC$1))","v":0},{"$f":"IF(BD$1>$E$11,0,IF($G29=0,0,(BD$1-$G29)*Hoja1!$A$1/BD$1))","v":0},{"$f":"IF(BE$1>$E$11,0,IF($G29=0,0,(BE$1-$G29)*Hoja1!$A$1/BE$1))","v":0},{"$f":"IF(BF$1>$E$11,0,IF($G29=0,0,(BF$1-$G29)*Hoja1!$A$1/BF$1))","v":0},{"$f":"IF(BG$1>$E$11,0,IF($G29=0,0,(BG$1-$G29)*Hoja1!$A$1/BG$1))","v":0},{"$f":"IF(BH$1>$E$11,0,IF($G29=0,0,(BH$1-$G29)*Hoja1!$A$1/BH$1))","v":0},{"$f":"IF(BI$1>$E$11,0,IF($G29=0,0,(BI$1-$G29)*Hoja1!$A$1/BI$1))","v":0},{"$f":"IF(BJ$1>$E$11,0,IF($G29=0,0,(BJ$1-$G29)*Hoja1!$A$1/BJ$1))","v":0},{"$f":"IF(BK$1>$E$11,0,IF($G29=0,0,(BK$1-$G29)*Hoja1!$A$1/BK$1))","v":0},{"$f":"IF(BL$1>$E$11,0,IF($G29=0,0,(BL$1-$G29)*Hoja1!$A$1/BL$1))","v":0},{"$f":"IF(BM$1>$E$11,0,IF($G29=0,0,(BM$1-$G29)*Hoja1!$A$1/BM$1))","v":0},{"$f":"IF(BN$1>$E$11,0,IF($G29=0,0,(BN$1-$G29)*Hoja1!$A$1/BN$1))","v":0},{"$f":"IF(BO$1>$E$11,0,IF($G29=0,0,(BO$1-$G29)*Hoja1!$A$1/BO$1))","v":0},{"$f":"IF(BP$1>$E$11,0,IF($G29=0,0,(BP$1-$G29)*Hoja1!$A$1/BP$1))","v":0},{"$f":"IF(BQ$1>$E$11,0,IF($G29=0,0,(BQ$1-$G29)*Hoja1!$A$1/BQ$1))","v":0},{"$f":"IF(BR$1>$E$11,0,IF($G29=0,0,(BR$1-$G29)*Hoja1!$A$1/BR$1))","v":0},{"$f":"IF(BS$1>$E$11,0,IF($G29=0,0,(BS$1-$G29)*Hoja1!$A$1/BS$1))","v":0},{"$f":"IF(BT$1>$E$11,0,IF($G29=0,0,(BT$1-$G29)*Hoja1!$A$1/BT$1))","v":0},{"$f":"IF(BU$1>$E$11,0,IF($G29=0,0,(BU$1-$G29)*Hoja1!$A$1/BU$1))","v":0},{"$f":"IF(BV$1>$E$11,0,IF($G29=0,0,(BV$1-$G29)*Hoja1!$A$1/BV$1))","v":0},{"$f":"IF(BW$1>$E$11,0,IF($G29=0,0,(BW$1-$G29)*Hoja1!$A$1/BW$1))","v":0},{"$f":"IF(BX$1>$E$11,0,IF($G29=0,0,(BX$1-$G29)*Hoja1!$A$1/BX$1))","v":0},{"$f":"IF(BY$1>$E$11,0,IF($G29=0,0,(BY$1-$G29)*Hoja1!$A$1/BY$1))","v":0},{"$f":"IF(BZ$1>$E$11,0,IF($G29=0,0,(BZ$1-$G29)*Hoja1!$A$1/BZ$1))","v":0},{"$f":"IF(CA$1>$E$11,0,IF($G29=0,0,(CA$1-$G29)*Hoja1!$A$1/CA$1))","v":0},{"$f":"IF(CB$1>$E$11,0,IF($G29=0,0,(CB$1-$G29)*Hoja1!$A$1/CB$1))","v":0},{"$f":"IF(CC$1>$E$11,0,IF($G29=0,0,(CC$1-$G29)*Hoja1!$A$1/CC$1))","v":0},{"$f":"IF(CD$1>$E$11,0,IF($G29=0,0,(CD$1-$G29)*Hoja1!$A$1/CD$1))","v":0},{"$f":"IF(CE$1>$E$11,0,IF($G29=0,0,(CE$1-$G29)*Hoja1!$A$1/CE$1))","v":0},{"$f":"IF(CF$1>$E$11,0,IF($G29=0,0,(CF$1-$G29)*Hoja1!$A$1/CF$1))","v":0},{"$f":"IF(CG$1>$E$11,0,IF($G29=0,0,(CG$1-$G29)*Hoja1!$A$1/CG$1))","v":0},{"$f":"IF(CH$1>$E$11,0,IF($G29=0,0,(CH$1-$G29)*Hoja1!$A$1/CH$1))","v":0},{"$f":"IF(CI$1>$E$11,0,IF($G29=0,0,(CI$1-$G29)*Hoja1!$A$1/CI$1))","v":0},{"$f":"IF(CJ$1>$E$11,0,IF($G29=0,0,(CJ$1-$G29)*Hoja1!$A$1/CJ$1))","v":0},{"$f":"IF(CK$1>$E$11,0,IF($G29=0,0,(CK$1-$G29)*Hoja1!$A$1/CK$1))","v":0},{"$f":"IF(CL$1>$E$11,0,IF($G29=0,0,(CL$1-$G29)*Hoja1!$A$1/CL$1))","v":0},{"$f":"IF(CM$1>$E$11,0,IF($G29=0,0,(CM$1-$G29)*Hoja1!$A$1/CM$1))","v":0},{"$f":"IF(CN$1>$E$11,0,IF($G29=0,0,(CN$1-$G29)*Hoja1!$A$1/CN$1))","v":0},{"$f":"IF(CO$1>$E$11,0,IF($G29=0,0,(CO$1-$G29)*Hoja1!$A$1/CO$1))","v":0},{"$f":"IF(CP$1>$E$11,0,IF($G29=0,0,(CP$1-$G29)*Hoja1!$A$1/CP$1))","v":0},{"$f":"IF(CQ$1>$E$11,0,IF($G29=0,0,(CQ$1-$G29)*Hoja1!$A$1/CQ$1))","v":0},{"$f":"IF(CR$1>$E$11,0,IF($G29=0,0,(CR$1-$G29)*Hoja1!$A$1/CR$1))","v":0},{"$f":"IF(CS$1>$E$11,0,IF($G29=0,0,(CS$1-$G29)*Hoja1!$A$1/CS$1))","v":0},{"$f":"IF(CT$1>$E$11,0,IF($G29=0,0,(CT$1-$G29)*Hoja1!$A$1/CT$1))","v":0},{"$f":"IF(CU$1>$E$11,0,IF($G29=0,0,(CU$1-$G29)*Hoja1!$A$1/CU$1))","v":0},{"$f":"IF(CV$1>$E$11,0,IF($G29=0,0,(CV$1-$G29)*Hoja1!$A$1/CV$1))","v":0},{"$f":"IF(CW$1>$E$11,0,IF($G29=0,0,(CW$1-$G29)*Hoja1!$A$1/CW$1))","v":0},{"$f":"IF(CX$1>$E$11,0,IF($G29=0,0,(CX$1-$G29)*Hoja1!$A$1/CX$1))","v":0},{"$f":"IF(CY$1>$E$11,0,IF($G29=0,0,(CY$1-$G29)*Hoja1!$A$1/CY$1))","v":0},{"$f":"IF(CZ$1>$E$11,0,IF($G29=0,0,(CZ$1-$G29)*Hoja1!$A$1/CZ$1))","v":0},{"$f":"IF(DA$1>$E$11,0,IF($G29=0,0,(DA$1-$G29)*Hoja1!$A$1/DA$1))","v":0},{"$f":"IF(DB$1>$E$11,0,IF($G29=0,0,(DB$1-$G29)*Hoja1!$A$1/DB$1))","v":0},{"$f":"IF(DC$1>$E$11,0,IF($G29=0,0,(DC$1-$G29)*Hoja1!$A$1/DC$1))","v":0},{"$f":"IF(DD$1>$E$11,0,IF($G29=0,0,(DD$1-$G29)*Hoja1!$A$1/DD$1))","v":0},{"$f":"IF(DE$1>$E$11,0,IF($G29=0,0,(DE$1-$G29)*Hoja1!$A$1/DE$1))","v":0},{"$f":"IF(DF$1>$E$11,0,IF($G29=0,0,(DF$1-$G29)*Hoja1!$A$1/DF$1))","v":0},{"$f":"IF(DG$1>$E$11,0,IF($G29=0,0,(DG$1-$G29)*Hoja1!$A$1/DG$1))","v":0},{"$f":"IF(DH$1>$E$11,0,IF($G29=0,0,(DH$1-$G29)*Hoja1!$A$1/DH$1))","v":0},{"$f":"IF(DI$1>$E$11,0,IF($G29=0,0,(DI$1-$G29)*Hoja1!$A$1/DI$1))","v":0},{"$f":"IF(DJ$1>$E$11,0,IF($G29=0,0,(DJ$1-$G29)*Hoja1!$A$1/DJ$1))","v":0},{"$f":"IF(DK$1>$E$11,0,IF($G29=0,0,(DK$1-$G29)*Hoja1!$A$1/DK$1))","v":0},{"$f":"IF(DL$1>$E$11,0,IF($G29=0,0,(DL$1-$G29)*Hoja1!$A$1/DL$1))","v":0},{"$f":"IF(DM$1>$E$11,0,IF($G29=0,0,(DM$1-$G29)*Hoja1!$A$1/DM$1))","v":0}]
[6,8,"1\"",5.0670747909749769,2.54,348.84499999999997,0,{"$f":"IF(H$1>$E$11,0,IF($G30=0,0,(H$1-$G30)*Hoja1!$A$1/H$1))","v":0},{"$f":"IF(I$1>$E$11,0,IF($G30=0,0,(I$1-$G30)*Hoja1!$A$1/I$1))","v":0},{"$f":"IF(J$1>$E$11,0,IF($G30=0,0,(J$1-$G30)*Hoja1!$A$1/J$1))","v":0},{"$f":"IF(K$1>$E$11,0,IF($G30=0,0,(K$1-$G30)*Hoja1!$A$1/K$1))","v":0},{"$f":"IF(L$1>$E$11,0,IF($G30=0,0,(L$1-$G30)*Hoja1!$A$1/L$1))","v":0},{"$f":"IF(M$1>$E$11,0,IF($G30=0,0,(M$1-$G30)*Hoja1!$A$1/M$1))","v":0},{"$f":"IF(N$1>$E$11,0,IF($G30=0,0,(N$1-$G30)*Hoja1!$A$1/N$1))","v":0},{"$f":"IF(O$1>$E$11,0,IF($G30=0,0,(O$1-$G30)*Hoja1!$A$1/O$1))","v":0},{"$f":"IF(P$1>$E$11,0,IF($G30=0,0,(P$1-$G30)*Hoja1!$A$1/P$1))","v":0},{"$f":"IF(Q$1>$E$11,0,IF($G30=0,0,(Q$1-$G30)*Hoja1!$A$1/Q$1))","v":0},{"$f":"IF(R$1>$E$11,0,IF($G30=0,0,(R$1-$G30)*Hoja1!$A$1/R$1))","v":0},{"$f":"IF(S$1>$E$11,0,IF($G30=0,0,(S$1-$G30)*Hoja1!$A$1/S$1))","v":0},{"$f":"IF(T$1>$E$11,0,IF($G30=0,0,(T$1-$G30)*Hoja1!$A$1/T$1))","v":0},{"$f":"IF(U$1>$E$11,0,IF($G30=0,0,(U$1-$G30)*Hoja1!$A$1/U$1))","v":0},{"$f":"IF(V$1>$E$11,0,IF($G30=0,0,(V$1-$G30)*Hoja1!$A$1/V$1))","v":0},{"$f":"IF(W$1>$E$11,0,IF($G30=0,0,(W$1-$G30)*Hoja1!$A$1/W$1))","v":0},{"$f":"IF(X$1>$E$11,0,IF($G30=0,0,(X$1-$G30)*Hoja1!$A$1/X$1))","v":0},{"$f":"IF(Y$1>$E$11,0,IF($G30=0,0,(Y$1-$G30)*Hoja1!$A$1/Y$1))","v":0},{"$f":"IF(Z$1>$E$11,0,IF($G30=0,0,(Z$1-$G30)*Hoja1!$A$1/Z$1))","v":0},{"$f":"IF(AA$1>$E$11,0,IF($G30=0,0,(AA$1-$G30)*Hoja1!$A$1/AA$1))","v":0},{"$f":"IF(AB$1>$E$11,0,IF($G30=0,0,(AB$1-$G30)*Hoja1!$A$1/AB$1))","v":0},{"$f":"IF(AC$1>$E$11,0,IF($G30=0,0,(AC$1-$G30)*Hoja1!$A$1/AC$1))","v":0},{"$f":"IF(AD$1>$E$11,0,IF($G30=0,0,(AD$1-$G30)*Hoja1!$A$1/AD$1))","v":0},{"$f":"IF(AE$1>$E$11,0,IF($G30=0,0,(AE$1-$G30)*Hoja1!$A$1/AE$1))","v":0},{"$f":"IF(AF$1>$E$11,0,IF($G30=0,0,(AF$1-$G30)*Hoja1!$A$1/AF$1))","v":0},{"$f":"IF(AG$1>$E$11,0,IF($G30=0,0,(AG$1-$G30)*Hoja1!$A$1/AG$1))","v":0},{"$f":"IF(AH$1>$E$11,0,IF($G30=0,0,(AH$1-$G30)*Hoja1!$A$1/AH$1))","v":0},{"$f":"IF(AI$1>$E$11,0,IF($G30=0,0,(AI$1-$G30)*Hoja1!$A$1/AI$1))","v":0},{"$f":"IF(AJ$1>$E$11,0,IF($G30=0,0,(AJ$1-$G30)*Hoja1!$A$1/AJ$1))","v":0},{"$f":"IF(AK$1>$E$11,0,IF($G30=0,0,(AK$1-$G30)*Hoja1!$A$1/AK$1))","v":0},{"$f":"IF(AL$1>$E$11,0,IF($G30=0,0,(AL$1-$G30)*Hoja1!$A$1/AL$1))","v":0},{"$f":"IF(AM$1>$E$11,0,IF($G30=0,0,(AM$1-$G30)*Hoja1!$A$1/AM$1))","v":0},{"$f":"IF(AN$1>$E$11,0,IF($G30=0,0,(AN$1-$G30)*Hoja1!$A$1/AN$1))","v":0},{"$f":"IF(AO$1>$E$11,0,IF($G30=0,0,(AO$1-$G30)*Hoja1!$A$1/AO$1))","v":0},{"$f":"IF(AP$1>$E$11,0,IF($G30=0,0,(AP$1-$G30)*Hoja1!$A$1/AP$1))","v":0},{"$f":"IF(AQ$1>$E$11,0,IF($G30=0,0,(AQ$1-$G30)*Hoja1!$A$1/AQ$1))","v":0},{"$f":"IF(AR$1>$E$11,0,IF($G30=0,0,(AR$1-$G30)*Hoja1!$A$1/AR$1))","v":0},{"$f":"IF(AS$1>$E$11,0,IF($G30=0,0,(AS$1-$G30)*Hoja1!$A$1/AS$1))","v":0},{"$f":"IF(AT$1>$E$11,0,IF($G30=0,0,(AT$1-$G30)*Hoja1!$A$1/AT$1))","v":0},{"$f":"IF(AU$1>$E$11,0,IF($G30=0,0,(AU$1-$G30)*Hoja1!$A$1/AU$1))","v":0},{"$f":"IF(AV$1>$E$11,0,IF($G30=0,0,(AV$1-$G30)*Hoja1!$A$1/AV$1))","v":0},{"$f":"IF(AW$1>$E$11,0,IF($G30=0,0,(AW$1-$G30)*Hoja1!$A$1/AW$1))","v":0},{"$f":"IF(AX$1>$E$11,0,IF($G30=0,0,(AX$1-$G30)*Hoja1!$A$1/AX$1))","v":0},{"$f":"IF(AY$1>$E$11,0,IF($G30=0,0,(AY$1-$G30)*Hoja1!$A$1/AY$1))","v":0},{"$f":"IF(AZ$1>$E$11,0,IF($G30=0,0,(AZ$1-$G30)*Hoja1!$A$1/AZ$1))","v":0},{"$f":"IF(BA$1>$E$11,0,IF($G30=0,0,(BA$1-$G30)*Hoja1!$A$1/BA$1))","v":0},{"$f":"IF(BB$1>$E$11,0,IF($G30=0,0,(BB$1-$G30)*Hoja1!$A$1/BB$1))","v":0},{"$f":"IF(BC$1>$E$11,0,IF($G30=0,0,(BC$1-$G30)*Hoja1!$A$1/BC$1))","v":0},{"$f":"IF(BD$1>$E$11,0,IF($G30=0,0,(BD$1-$G30)*Hoja1!$A$1/BD$1))","v":0},{"$f":"IF(BE$1>$E$11,0,IF($G30=0,0,(BE$1-$G30)*Hoja1!$A$1/BE$1))","v":0},{"$f":"IF(BF$1>$E$11,0,IF($G30=0,0,(BF$1-$G30)*Hoja1!$A$1/BF$1))","v":0},{"$f":"IF(BG$1>$E$11,0,IF($G30=0,0,(BG$1-$G30)*Hoja1!$A$1/BG$1))","v":0},{"$f":"IF(BH$1>$E$11,0,IF($G30=0,0,(BH$1-$G30)*Hoja1!$A$1/BH$1))","v":0},{"$f":"IF(BI$1>$E$11,0,IF($G30=0,0,(BI$1-$G30)*Hoja1!$A$1/BI$1))","v":0},{"$f":"IF(BJ$1>$E$11,0,IF($G30=0,0,(BJ$1-$G30)*Hoja1!$A$1/BJ$1))","v":0},{"$f":"IF(BK$1>$E$11,0,IF($G30=0,0,(BK$1-$G30)*Hoja1!$A$1/BK$1))","v":0},{"$f":"IF(BL$1>$E$11,0,IF($G30=0,0,(BL$1-$G30)*Hoja1!$A$1/BL$1))","v":0},{"$f":"IF(BM$1>$E$11,0,IF($G30=0,0,(BM$1-$G30)*Hoja1!$A$1/BM$1))","v":0},{"$f":"IF(BN$1>$E$11,0,IF($G30=0,0,(BN$1-$G30)*Hoja1!$A$1/BN$1))","v":0},{"$f":"IF(BO$1>$E$11,0,IF($G30=0,0,(BO$1-$G30)*Hoja1!$A$1/BO$1))","v":0},{"$f":"IF(BP$1>$E$11,0,IF($G30=0,0,(BP$1-$G30)*Hoja1!$A$1/BP$1))","v":0},{"$f":"IF(BQ$1>$E$11,0,IF($G30=0,0,(BQ$1-$G30)*Hoja1!$A$1/BQ$1))","v":0},{"$f":"IF(BR$1>$E$11,0,IF($G30=0,0,(BR$1-$G30)*Hoja1!$A$1/BR$1))","v":0},{"$f":"IF(BS$1>$E$11,0,IF($G30=0,0,(BS$1-$G30)*Hoja1!$A$1/BS$1))","v":0},{"$f":"IF(BT$1>$E$11,0,IF($G30=0,0,(BT$1-$G30)*Hoja1!$A$1/BT$1))","v":0},{"$f":"IF(BU$1>$E$11,0,IF($G30=0,0,(BU$1-$G30)*Hoja1!$A$1/BU$1))","v":0},{"$f":"IF(BV$1>$E$11,0,IF($G30=0,0,(BV$1-$G30)*Hoja1!$A$1/BV$1))","v":0},{"$f":"IF(BW$1>$E$11,0,IF($G30=0,0,(BW$1-$G30)*Hoja1!$A$1/BW$1))","v":0},{"$f":"IF(BX$1>$E$11,0,IF($G30=0,0,(BX$1-$G30)*Hoja1!$A$1/BX$1))","v":0},{"$f":"IF(BY$1>$E$11,0,IF($G30=0,0,(BY$1-$G30)*Hoja1!$A$1/BY$1))","v":0},{"$f":"IF(BZ$1>$E$11,0,IF($G30=0,0,(BZ$1-$G30)*Hoja1!$A$1/BZ$1))","v":0},{"$f":"IF(CA$1>$E$11,0,IF($G30=0,0,(CA$1-$G30)*Hoja1!$A$1/CA$1))","v":0},{"$f":"IF(CB$1>$E$11,0,IF($G30=0,0,(CB$1-$G30)*Hoja1!$A$1/CB$1))","v":0},{"$f":"IF(CC$1>$E$11,0,IF($G30=0,0,(CC$1-$G30)*Hoja1!$A$1/CC$1))","v":0},{"$f":"IF(CD$1>$E$11,0,IF($G30=0,0,(CD$1-$G30)*Hoja1!$A$1/CD$1))","v":0},{"$f":"IF(CE$1>$E$11,0,IF($G30=0,0,(CE$1-$G30)*Hoja1!$A$1/CE$1))","v":0},{"$f":"IF(CF$1>$E$11,0,IF($G30=0,0,(CF$1-$G30)*Hoja1!$A$1/CF$1))","v":0},{"$f":"IF(CG$1>$E$11,0,IF($G30=0,0,(CG$1-$G30)*Hoja1!$A$1/CG$1))","v":0},{"$f":"IF(CH$1>$E$11,0,IF($G30=0,0,(CH$1-$G30)*Hoja1!$A$1/CH$1))","v":0},{"$f":"IF(CI$1>$E$11,0,IF($G30=0,0,(CI$1-$G30)*Hoja1!$A$1/CI$1))","v":0},{"$f":"IF(CJ$1>$E$11,0,IF($G30=0,0,(CJ$1-$G30)*Hoja1!$A$1/CJ$1))","v":0},{"$f":"IF(CK$1>$E$11,0,IF($G30=0,0,(CK$1-$G30)*Hoja1!$A$1/CK$1))","v":0},{"$f":"IF(CL$1>$E$11,0,IF($G30=0,0,(CL$1-$G30)*Hoja1!$A$1/CL$1))","v":0},{"$f":"IF(CM$1>$E$11,0,IF($G30=0,0,(CM$1-$G30)*Hoja1!$A$1/CM$1))","v":0},{"$f":"IF(CN$1>$E$11,0,IF($G30=0,0,(CN$1-$G30)*Hoja1!$A$1/CN$1))","v":0},{"$f":"IF(CO$1>$E$11,0,IF($G30=0,0,(CO$1-$G30)*Hoja1!$A$1/CO$1))","v":0},{"$f":"IF(CP$1>$E$11,0,IF($G30=0,0,(CP$1-$G30)*Hoja1!$A$1/CP$1))","v":0},{"$f":"IF(CQ$1>$E$11,0,IF($G30=0,0,(CQ$1-$G30)*Hoja1!$A$1/CQ$1))","v":0},{"$f":"IF(CR$1>$E$11,0,IF($G30=0,0,(CR$1-$G30)*Hoja1!$A$1/CR$1))","v":0},{"$f":"IF(CS$1>$E$11,0,IF($G30=0,0,(CS$1-$G30)*Hoja1!$A$1/CS$1))","v":0},{"$f":"IF(CT$1>$E$11,0,IF($G30=0,0,(CT$1-$G30)*Hoja1!$A$1/CT$1))","v":0},{"$f":"IF(CU$1>$E$11,0,IF($G30=0,0,(CU$1-$G30)*Hoja1!$A$1/CU$1))","v":0},{"$f":"IF(CV$1>$E$11,0,IF($G30=0,0,(CV$1-$G30)*Hoja1!$A$1/CV$1))","v":0},{"$f":"IF(CW$1>$E$11,0,IF($G30=0,0,(CW$1-$G30)*Hoja1!$A$1/CW$1))","v":0},{"$f":"IF(CX$1>$E$11,0,IF($G30=0,0,(CX$1-$G30)*Hoja1!$A$1/CX$1))","v":0},{"$f":"IF(CY$1>$E$11,0,IF($G30=0,0,(CY$1-$G30)*Hoja1!$A$1/CY$1))","v":0},{"$f":"IF(CZ$1>$E$11,0,IF($G30=0,0,(CZ$1-$G30)*Hoja1!$A$1/CZ$1))","v":0},{"$f":"IF(DA$1>$E$11,0,IF($G30=0,0,(DA$1-$G30)*Hoja1!$A$1/DA$1))","v":0},{"$f":"IF(DB$1>$E$11,0,IF($G30=0,0,(DB$1-$G30)*Hoja1!$A$1/DB$1))","v":0},{"$f":"IF(DC$1>$E$11,0,IF($G30=0,0,(DC$1-$G30)*Hoja1!$A$1/DC$1))","v":0},{"$f":"IF(DD$1>$E$11,0,IF($G30=0,0,(DD$1-$G30)*Hoja1!$A$1/DD$1))","v":0},{"$f":"IF(DE$1>$E$11,0,IF($G30=0,0,(DE$1-$G30)*Hoja1!$A$1/DE$1))","v":0},{"$f":"IF(DF$1>$E$11,0,IF($G30=0,0,(DF$1-$G30)*Hoja1!$A$1/DF$1))","v":0},{"$f":"IF(DG$1>$E$11,0,IF($G30=0,0,(DG$1-$G30)*Hoja1!$A$1/DG$1))","v":0},{"$f":"IF(DH$1>$E$11,0,IF($G30=0,0,(DH$1-$G30)*Hoja1!$A$1/DH$1))","v":0},{"$f":"IF(DI$1>$E$11,0,IF($G30=0,0,(DI$1-$G30)*Hoja1!$A$1/DI$1))","v":0},{"$f":"IF(DJ$1>$E$11,0,IF($G30=0,0,(DJ$1-$G30)*Hoja1!$A$1/DJ$1))","v":0},{"$f":"IF(DK$1>$E$11,0,IF($G30=0,0,(DK$1-$G30)*Hoja1!$A$1/DK$1))","v":0},{"$f":"IF(DL$1>$E$11,0,IF($G30=0,0,(DL$1-$G30)*Hoja1!$A$1/DL$1))","v":0},{"$f":"IF(DM$1>$E$11,0,IF($G30=0,0,(DM$1-$G30)*Hoja1!$A$1/DM$1))","v":0}]
[7,9,"1  1/8\"",6.4130165323277062,2.8574999999999999,362.03499999999997,0,{"$f":"IF(H$1>$E$11,0,IF($G31=0,0,(H$1-$G31)*Hoja1!$A$1/H$1))","v":0},{"$f":"IF(I$1>$E$11,0,IF($G31=0,0,(I$1-$G31)*Hoja1!$A$1/I$1))","v":0},{"$f":"IF(J$1>$E$11,0,IF($G31=0,0,(J$1-$G31)*Hoja1!$A$1/J$1))","v":0},{"$f":"IF(K$1>$E$11,0,IF($G31=0,0,(K$1-$G31)*Hoja1!$A$1/K$1))","v":0},{"$f":"IF(L$1>$E$11,0,IF($G31=0,0,(L$1-$G31)*Hoja1!$A$1/L$1))","v":0},{"$f":"IF(M$1>$E$11,0,IF($G31=0,0,(M$1-$G31)*Hoja1!$A$1/M$1))","v":0},{"$f":"IF(N$1>$E$11,0,IF($G31=0,0,(N$1-$G31)*Hoja1!$A$1/N$1))","v":0},{"$f":"IF(O$1>$E$11,0,IF($G31=0,0,(O$1-$G31)*Hoja1!$A$1/O$1))","v":0},{"$f":"IF(P$1>$E$11,0,IF($G31=0,0,(P$1-$G31)*Hoja1!$A$1/P$1))","v":0},{"$f":"IF(Q$1>$E$11,0,IF($G31=0,0,(Q$1-$G31)*Hoja1!$A$1/Q$1))","v":0},{"$f":"IF(R$1>$E$11,0,IF($G31=0,0,(R$1-$G31)*Hoja1!$A$1/R$1))","v":0},{"$f":"IF(S$1>$E$11,0,IF($G31=0,0,(S$1-$G31)*Hoja1!$A$1/S$1))","v":0},{"$f":"IF(T$1>$E$11,0,IF($G31=0,0,(T$1-$G31)*Hoja1!$A$1/T$1))","v":0},{"$f":"IF(U$1>$E$11,0,IF($G31=0,0,(U$1-$G31)*Hoja1!$A$1/U$1))","v":0},{"$f":"IF(V$1>$E$11,0,IF($G31=0,0,(V$1-$G31)*Hoja1!$A$1/V$1))","v":0},{"$f":"IF(W$1>$E$11,0,IF($G31=0,0,(W$1-$G31)*Hoja1!$A$1/W$1))","v":0},{"$f":"IF(X$1>$E$11,0,IF($G31=0,0,(X$1-$G31)*Hoja1!$A$1/X$1))","v":0},{"$f":"IF(Y$1>$E$11,0,IF($G31=0,0,(Y$1-$G31)*Hoja1!$A$1/Y$1))","v":0},{"$f":"IF(Z$1>$E$11,0,IF($G31=0,0,(Z$1-$G31)*Hoja1!$A$1/Z$1))","v":0},{"$f":"IF(AA$1>$E$11,0,IF($G31=0,0,(AA$1-$G31)*Hoja1!$A$1/AA$1))","v":0},{"$f":"IF(AB$1>$E$11,0,IF($G31=0,0,(AB$1-$G31)*Hoja1!$A$1/AB$1))","v":0},{"$f":"IF(AC$1>$E$11,0,IF($G31=0,0,(AC$1-$G31)*Hoja1!$A$1/AC$1))","v":0},{"$f":"IF(AD$1>$E$11,0,IF($G31=0,0,(AD$1-$G31)*Hoja1!$A$1/AD$1))","v":0},{"$f":"IF(AE$1>$E$11,0,IF($G31=0,0,(AE$1-$G31)*Hoja1!$A$1/AE$1))","v":0},{"$f":"IF(AF$1>$E$11,0,IF($G31=0,0,(AF$1-$G31)*Hoja1!$A$1/AF$1))","v":0},{"$f":"IF(AG$1>$E$11,0,IF($G31=0,0,(AG$1-$G31)*Hoja1!$A$1/AG$1))","v":0},{"$f":"IF(AH$1>$E$11,0,IF($G31=0,0,(AH$1-$G31)*Hoja1!$A$1/AH$1))","v":0},{"$f":"IF(AI$1>$E$11,0,IF($G31=0,0,(AI$1-$G31)*Hoja1!$A$1/AI$1))","v":0},{"$f":"IF(AJ$1>$E$11,0,IF($G31=0,0,(AJ$1-$G31)*Hoja1!$A$1/AJ$1))","v":0},{"$f":"IF(AK$1>$E$11,0,IF($G31=0,0,(AK$1-$G31)*Hoja1!$A$1/AK$1))","v":0},{"$f":"IF(AL$1>$E$11,0,IF($G31=0,0,(AL$1-$G31)*Hoja1!$A$1/AL$1))","v":0},{"$f":"IF(AM$1>$E$11,0,IF($G31=0,0,(AM$1-$G31)*Hoja1!$A$1/AM$1))","v":0},{"$f":"IF(AN$1>$E$11,0,IF($G31=0,0,(AN$1-$G31)*Hoja1!$A$1/AN$1))","v":0},{"$f":"IF(AO$1>$E$11,0,IF($G31=0,0,(AO$1-$G31)*Hoja1!$A$1/AO$1))","v":0},{"$f":"IF(AP$1>$E$11,0,IF($G31=0,0,(AP$1-$G31)*Hoja1!$A$1/AP$1))","v":0},{"$f":"IF(AQ$1>$E$11,0,IF($G31=0,0,(AQ$1-$G31)*Hoja1!$A$1/AQ$1))","v":0},{"$f":"IF(AR$1>$E$11,0,IF($G31=0,0,(AR$1-$G31)*Hoja1!$A$1/AR$1))","v":0},{"$f":"IF(AS$1>$E$11,0,IF($G31=0,0,(AS$1-$G31)*Hoja1!$A$1/AS$1))","v":0},{"$f":"IF(AT$1>$E$11,0,IF($G31=0,0,(AT$1-$G31)*Hoja1!$A$1/AT$1))","v":0},{"$f":"IF(AU$1>$E$11,0,IF($G31=0,0,(AU$1-$G31)*Hoja1!$A$1/AU$1))","v":0},{"$f":"IF(AV$1>$E$11,0,IF($G31=0,0,(AV$1-$G31)*Hoja1!$A$1/AV$1))","v":0},{"$f":"IF(AW$1>$E$11,0,IF($G31=0,0,(AW$1-$G31)*Hoja1!$A$1/AW$1))","v":0},{"$f":"IF(AX$1>$E$11,0,IF($G31=0,0,(AX$1-$G31)*Hoja1!$A$1/AX$1))","v":0},{"$f":"IF(AY$1>$E$11,0,IF($G31=0,0,(AY$1-$G31)*Hoja1!$A$1/AY$1))","v":0},{"$f":"IF(AZ$1>$E$11,0,IF($G31=0,0,(AZ$1-$G31)*Hoja1!$A$1/AZ$1))","v":0},{"$f":"IF(BA$1>$E$11,0,IF($G31=0,0,(BA$1-$G31)*Hoja1!$A$1/BA$1))","v":0},{"$f":"IF(BB$1>$E$11,0,IF($G31=0,0,(BB$1-$G31)*Hoja1!$A$1/BB$1))","v":0},{"$f":"IF(BC$1>$E$11,0,IF($G31=0,0,(BC$1-$G31)*Hoja1!$A$1/BC$1))","v":0},{"$f":"IF(BD$1>$E$11,0,IF($G31=0,0,(BD$1-$G31)*Hoja1!$A$1/BD$1))","v":0},{"$f":"IF(BE$1>$E$11,0,IF($G31=0,0,(BE$1-$G31)*Hoja1!$A$1/BE$1))","v":0},{"$f":"IF(BF$1>$E$11,0,IF($G31=0,0,(BF$1-$G31)*Hoja1!$A$1/BF$1))","v":0},{"$f":"IF(BG$1>$E$11,0,IF($G31=0,0,(BG$1-$G31)*Hoja1!$A$1/BG$1))","v":0},{"$f":"IF(BH$1>$E$11,0,IF($G31=0,0,(BH$1-$G31)*Hoja1!$A$1/BH$1))","v":0},{"$f":"IF(BI$1>$E$11,0,IF($G31=0,0,(BI$1-$G31)*Hoja1!$A$1/BI$1))","v":0},{"$f":"IF(BJ$1>$E$11,0,IF($G31=0,0,(BJ$1-$G31)*Hoja1!$A$1/BJ$1))","v":0},{"$f":"IF(BK$1>$E$11,0,IF($G31=0,0,(BK$1-$G31)*Hoja1!$A$1/BK$1))","v":0},{"$f":"IF(BL$1>$E$11,0,IF($G31=0,0,(BL$1-$G31)*Hoja1!$A$1/BL$1))","v":0},{"$f":"IF(BM$1>$E$11,0,IF($G31=0,0,(BM$1-$G31)*Hoja1!$A$1/BM$1))","v":0},{"$f":"IF(BN$1>$E$11,0,IF($G31=0,0,(BN$1-$G31)*Hoja1!$A$1/BN$1))","v":0},{"$f":"IF(BO$1>$E$11,0,IF($G31=0,0,(BO$1-$G31)*Hoja1!$A$1/BO$1))","v":0},{"$f":"IF(BP$1>$E$11,0,IF($G31=0,0,(BP$1-$G31)*Hoja1!$A$1/BP$1))","v":0},{"$f":"IF(BQ$1>$E$11,0,IF($G31=0,0,(BQ$1-$G31)*Hoja1!$A$1/BQ$1))","v":0},{"$f":"IF(BR$1>$E$11,0,IF($G31=0,0,(BR$1-$G31)*Hoja1!$A$1/BR$1))","v":0},{"$f":"IF(BS$1>$E$11,0,IF($G31=0,0,(BS$1-$G31)*Hoja1!$A$1/BS$1))","v":0},{"$f":"IF(BT$1>$E$11,0,IF($G31=0,0,(BT$1-$G31)*Hoja1!$A$1/BT$1))","v":0},{"$f":"IF(BU$1>$E$11,0,IF($G31=0,0,(BU$1-$G31)*Hoja1!$A$1/BU$1))","v":0},{"$f":"IF(BV$1>$E$11,0,IF($G31=0,0,(BV$1-$G31)*Hoja1!$A$1/BV$1))","v":0},{"$f":"IF(BW$1>$E$11,0,IF($G31=0,0,(BW$1-$G31)*Hoja1!$A$1/BW$1))","v":0},{"$f":"IF(BX$1>$E$11,0,IF($G31=0,0,(BX$1-$G31)*Hoja1!$A$1/BX$1))","v":0},{"$f":"IF(BY$1>$E$11,0,IF($G31=0,0,(BY$1-$G31)*Hoja1!$A$1/BY$1))","v":0},{"$f":"IF(BZ$1>$E$11,0,IF($G31=0,0,(BZ$1-$G31)*Hoja1!$A$1/BZ$1))","v":0},{"$f":"IF(CA$1>$E$11,0,IF($G31=0,0,(CA$1-$G31)*Hoja1!$A$1/CA$1))","v":0},{"$f":"IF(CB$1>$E$11,0,IF($G31=0,0,(CB$1-$G31)*Hoja1!$A$1/CB$1))","v":0},{"$f":"IF(CC$1>$E$11,0,IF($G31=0,0,(CC$1-$G31)*Hoja1!$A$1/CC$1))","v":0},{"$f":"IF(CD$1>$E$11,0,IF($G31=0,0,(CD$1-$G31)*Hoja1!$A$1/CD$1))","v":0},{"$f":"IF(CE$1>$E$11,0,IF($G31=0,0,(CE$1-$G31)*Hoja1!$A$1/CE$1))","v":0},{"$f":"IF(CF$1>$E$11,0,IF($G31=0,0,(CF$1-$G31)*Hoja1!$A$1/CF$1))","v":0},{"$f":"IF(CG$1>$E$11,0,IF($G31=0,0,(CG$1-$G31)*Hoja1!$A$1/CG$1))","v":0},{"$f":"IF(CH$1>$E$11,0,IF($G31=0,0,(CH$1-$G31)*Hoja1!$A$1/CH$1))","v":0},{"$f":"IF(CI$1>$E$11,0,IF($G31=0,0,(CI$1-$G31)*Hoja1!$A$1/CI$1))","v":0},{"$f":"IF(CJ$1>$E$11,0,IF($G31=0,0,(CJ$1-$G31)*Hoja1!$A$1/CJ$1))","v":0},{"$f":"IF(CK$1>$E$11,0,IF($G31=0,0,(CK$1-$G31)*Hoja1!$A$1/CK$1))","v":0},{"$f":"IF(CL$1>$E$11,0,IF($G31=0,0,(CL$1-$G31)*Hoja1!$A$1/CL$1))","v":0},{"$f":"IF(CM$1>$E$11,0,IF($G31=0,0,(CM$1-$G31)*Hoja1!$A$1/CM$1))","v":0},{"$f":"IF(CN$1>$E$11,0,IF($G31=0,0,(CN$1-$G31)*Hoja1!$A$1/CN$1))","v":0},{"$f":"IF(CO$1>$E$11,0,IF($G31=0,0,(CO$1-$G31)*Hoja1!$A$1/CO$1))","v":0},{"$f":"IF(CP$1>$E$11,0,IF($G31=0,0,(CP$1-$G31)*Hoja1!$A$1/CP$1))","v":0},{"$f":"IF(CQ$1>$E$11,0,IF($G31=0,0,(CQ$1-$G31)*Hoja1!$A$1/CQ$1))","v":0},{"$f":"IF(CR$1>$E$11,0,IF($G31=0,0,(CR$1-$G31)*Hoja1!$A$1/CR$1))","v":0},{"$f":"IF(CS$1>$E$11,0,IF($G31=0,0,(CS$1-$G31)*Hoja1!$A$1/CS$1))","v":0},{"$f":"IF(CT$1>$E$11,0,IF($G31=0,0,(CT$1-$G31)*Hoja1!$A$1/CT$1))","v":0},{"$f":"IF(CU$1>$E$11,0,IF($G31=0,0,(CU$1-$G31)*Hoja1!$A$1/CU$1))","v":0},{"$f":"IF(CV$1>$E$11,0,IF($G31=0,0,(CV$1-$G31)*Hoja1!$A$1/CV$1))","v":0},{"$f":"IF(CW$1>$E$11,0,IF($G31=0,0,(CW$1-$G31)*Hoja1!$A$1/CW$1))","v":0},{"$f":"IF(CX$1>$E$11,0,IF($G31=0,0,(CX$1-$G31)*Hoja1!$A$1/CX$1))","v":0},{"$f":"IF(CY$1>$E$11,0,IF($G31=0,0,(CY$1-$G31)*Hoja1!$A$1/CY$1))","v":0},{"$f":"IF(CZ$1>$E$11,0,IF($G31=0,0,(CZ$1-$G31)*Hoja1!$A$1/CZ$1))","v":0},{"$f":"IF(DA$1>$E$11,0,IF($G31=0,0,(DA$1-$G31)*Hoja1!$A$1/DA$1))","v":0},{"$f":"IF(DB$1>$E$11,0,IF($G31=0,0,(DB$1-$G31)*Hoja1!$A$1/DB$1))","v":0},{"$f":"IF(DC$1>$E$11,0,IF($G31=0,0,(DC$1-$G31)*Hoja1!$A$1/DC$1))","v":0},{"$f":"IF(DD$1>$E$11,0,IF($G31=0,0,(DD$1-$G31)*Hoja1!$A$1/DD$1))","v":0},{"$f":"IF(DE$1>$E$11,0,IF($G31=0,0,(DE$1-$G31)*Hoja1!$A$1/DE$1))","v":0},{"$f":"IF(DF$1>$E$11,0,IF($G31=0,0,(DF$1-$G31)*Hoja1!$A$1/DF$1))","v":0},{"$f":"IF(DG$1>$E$11,0,IF($G31=0,0,(DG$1-$G31)*Hoja1!$A$1/DG$1))","v":0},{"$f":"IF(DH$1>$E$11,0,IF($G31=0,0,(DH$1-$G31)*Hoja1!$A$1/DH$1))","v":0},{"$f":"IF(DI$1>$E$11,0,IF($G31=0,0,(DI$1-$G31)*Hoja1!$A$1/DI$1))","v":0},{"$f":"IF(DJ$1>$E$11,0,IF($G31=0,0,(DJ$1-$G31)*Hoja1!$A$1/DJ$1))","v":0},{"$f":"IF(DK$1>$E$11,0,IF($G31=0,0,(DK$1-$G31)*Hoja1!$A$1/DK$1))","v":0},{"$f":"IF(DL$1>$E$11,0,IF($G31=0,0,(DL$1-$G31)*Hoja1!$A$1/DL$1))","v":0},{"$f":"IF(DM$1>$E$11,0,IF($G31=0,0,(DM$1-$G31)*Hoja1!$A$1/DM$1))","v":0}]
[8,10,"1  1/4\"",7.9173043608984015,3.1749999999999998,375.22499999999997,0,{"$f":"IF(H$1>$E$11,0,IF($G32=0,0,(H$1-$G32)*Hoja1!$A$1/H$1))","v":0},{"$f":"IF(I$1>$E$11,0,IF($G32=0,0,(I$1-$G32)*Hoja1!$A$1/I$1))","v":0},{"$f":"IF(J$1>$E$11,0,IF($G32=0,0,(J$1-$G32)*Hoja1!$A$1/J$1))","v":0},{"$f":"IF(K$1>$E$11,0,IF($G32=0,0,(K$1-$G32)*Hoja1!$A$1/K$1))","v":0},{"$f":"IF(L$1>$E$11,0,IF($G32=0,0,(L$1-$G32)*Hoja1!$A$1/L$1))","v":0},{"$f":"IF(M$1>$E$11,0,IF($G32=0,0,(M$1-$G32)*Hoja1!$A$1/M$1))","v":0},{"$f":"IF(N$1>$E$11,0,IF($G32=0,0,(N$1-$G32)*Hoja1!$A$1/N$1))","v":0},{"$f":"IF(O$1>$E$11,0,IF($G32=0,0,(O$1-$G32)*Hoja1!$A$1/O$1))","v":0},{"$f":"IF(P$1>$E$11,0,IF($G32=0,0,(P$1-$G32)*Hoja1!$A$1/P$1))","v":0},{"$f":"IF(Q$1>$E$11,0,IF($G32=0,0,(Q$1-$G32)*Hoja1!$A$1/Q$1))","v":0},{"$f":"IF(R$1>$E$11,0,IF($G32=0,0,(R$1-$G32)*Hoja1!$A$1/R$1))","v":0},{"$f":"IF(S$1>$E$11,0,IF($G32=0,0,(S$1-$G32)*Hoja1!$A$1/S$1))","v":0},{"$f":"IF(T$1>$E$11,0,IF($G32=0,0,(T$1-$G32)*Hoja1!$A$1/T$1))","v":0},{"$f":"IF(U$1>$E$11,0,IF($G32=0,0,(U$1-$G32)*Hoja1!$A$1/U$1))","v":0},{"$f":"IF(V$1>$E$11,0,IF($G32=0,0,(V$1-$G32)*Hoja1!$A$1/V$1))","v":0},{"$f":"IF(W$1>$E$11,0,IF($G32=0,0,(W$1-$G32)*Hoja1!$A$1/W$1))","v":0},{"$f":"IF(X$1>$E$11,0,IF($G32=0,0,(X$1-$G32)*Hoja1!$A$1/X$1))","v":0},{"$f":"IF(Y$1>$E$11,0,IF($G32=0,0,(Y$1-$G32)*Hoja1!$A$1/Y$1))","v":0},{"$f":"IF(Z$1>$E$11,0,IF($G32=0,0,(Z$1-$G32)*Hoja1!$A$1/Z$1))","v":0},{"$f":"IF(AA$1>$E$11,0,IF($G32=0,0,(AA$1-$G32)*Hoja1!$A$1/AA$1))","v":0},{"$f":"IF(AB$1>$E$11,0,IF($G32=0,0,(AB$1-$G32)*Hoja1!$A$1/AB$1))","v":0},{"$f":"IF(AC$1>$E$11,0,IF($G32=0,0,(AC$1-$G32)*Hoja1!$A$1/AC$1))","v":0},{"$f":"IF(AD$1>$E$11,0,IF($G32=0,0,(AD$1-$G32)*Hoja1!$A$1/AD$1))","v":0},{"$f":"IF(AE$1>$E$11,0,IF($G32=0,0,(AE$1-$G32)*Hoja1!$A$1/AE$1))","v":0},{"$f":"IF(AF$1>$E$11,0,IF($G32=0,0,(AF$1-$G32)*Hoja1!$A$1/AF$1))","v":0},{"$f":"IF(AG$1>$E$11,0,IF($G32=0,0,(AG$1-$G32)*Hoja1!$A$1/AG$1))","v":0},{"$f":"IF(AH$1>$E$11,0,IF($G32=0,0,(AH$1-$G32)*Hoja1!$A$1/AH$1))","v":0},{"$f":"IF(AI$1>$E$11,0,IF($G32=0,0,(AI$1-$G32)*Hoja1!$A$1/AI$1))","v":0},{"$f":"IF(AJ$1>$E$11,0,IF($G32=0,0,(AJ$1-$G32)*Hoja1!$A$1/AJ$1))","v":0},{"$f":"IF(AK$1>$E$11,0,IF($G32=0,0,(AK$1-$G32)*Hoja1!$A$1/AK$1))","v":0},{"$f":"IF(AL$1>$E$11,0,IF($G32=0,0,(AL$1-$G32)*Hoja1!$A$1/AL$1))","v":0},{"$f":"IF(AM$1>$E$11,0,IF($G32=0,0,(AM$1-$G32)*Hoja1!$A$1/AM$1))","v":0},{"$f":"IF(AN$1>$E$11,0,IF($G32=0,0,(AN$1-$G32)*Hoja1!$A$1/AN$1))","v":0},{"$f":"IF(AO$1>$E$11,0,IF($G32=0,0,(AO$1-$G32)*Hoja1!$A$1/AO$1))","v":0},{"$f":"IF(AP$1>$E$11,0,IF($G32=0,0,(AP$1-$G32)*Hoja1!$A$1/AP$1))","v":0},{"$f":"IF(AQ$1>$E$11,0,IF($G32=0,0,(AQ$1-$G32)*Hoja1!$A$1/AQ$1))","v":0},{"$f":"IF(AR$1>$E$11,0,IF($G32=0,0,(AR$1-$G32)*Hoja1!$A$1/AR$1))","v":0},{"$f":"IF(AS$1>$E$11,0,IF($G32=0,0,(AS$1-$G32)*Hoja1!$A$1/AS$1))","v":0},{"$f":"IF(AT$1>$E$11,0,IF($G32=0,0,(AT$1-$G32)*Hoja1!$A$1/AT$1))","v":0},{"$f":"IF(AU$1>$E$11,0,IF($G32=0,0,(AU$1-$G32)*Hoja1!$A$1/AU$1))","v":0},{"$f":"IF(AV$1>$E$11,0,IF($G32=0,0,(AV$1-$G32)*Hoja1!$A$1/AV$1))","v":0},{"$f":"IF(AW$1>$E$11,0,IF($G32=0,0,(AW$1-$G32)*Hoja1!$A$1/AW$1))","v":0},{"$f":"IF(AX$1>$E$11,0,IF($G32=0,0,(AX$1-$G32)*Hoja1!$A$1/AX$1))","v":0},{"$f":"IF(AY$1>$E$11,0,IF($G32=0,0,(AY$1-$G32)*Hoja1!$A$1/AY$1))","v":0},{"$f":"IF(AZ$1>$E$11,0,IF($G32=0,0,(AZ$1-$G32)*Hoja1!$A$1/AZ$1))","v":0},{"$f":"IF(BA$1>$E$11,0,IF($G32=0,0,(BA$1-$G32)*Hoja1!$A$1/BA$1))","v":0},{"$f":"IF(BB$1>$E$11,0,IF($G32=0,0,(BB$1-$G32)*Hoja1!$A$1/BB$1))","v":0},{"$f":"IF(BC$1>$E$11,0,IF($G32=0,0,(BC$1-$G32)*Hoja1!$A$1/BC$1))","v":0},{"$f":"IF(BD$1>$E$11,0,IF($G32=0,0,(BD$1-$G32)*Hoja1!$A$1/BD$1))","v":0},{"$f":"IF(BE$1>$E$11,0,IF($G32=0,0,(BE$1-$G32)*Hoja1!$A$1/BE$1))","v":0},{"$f":"IF(BF$1>$E$11,0,IF($G32=0,0,(BF$1-$G32)*Hoja1!$A$1/BF$1))","v":0},{"$f":"IF(BG$1>$E$11,0,IF($G32=0,0,(BG$1-$G32)*Hoja1!$A$1/BG$1))","v":0},{"$f":"IF(BH$1>$E$11,0,IF($G32=0,0,(BH$1-$G32)*Hoja1!$A$1/BH$1))","v":0},{"$f":"IF(BI$1>$E$11,0,IF($G32=0,0,(BI$1-$G32)*Hoja1!$A$1/BI$1))","v":0},{"$f":"IF(BJ$1>$E$11,0,IF($G32=0,0,(BJ$1-$G32)*Hoja1!$A$1/BJ$1))","v":0},{"$f":"IF(BK$1>$E$11,0,IF($G32=0,0,(BK$1-$G32)*Hoja1!$A$1/BK$1))","v":0},{"$f":"IF(BL$1>$E$11,0,IF($G32=0,0,(BL$1-$G32)*Hoja1!$A$1/BL$1))","v":0},{"$f":"IF(BM$1>$E$11,0,IF($G32=0,0,(BM$1-$G32)*Hoja1!$A$1/BM$1))","v":0},{"$f":"IF(BN$1>$E$11,0,IF($G32=0,0,(BN$1-$G32)*Hoja1!$A$1/BN$1))","v":0},{"$f":"IF(BO$1>$E$11,0,IF($G32=0,0,(BO$1-$G32)*Hoja1!$A$1/BO$1))","v":0},{"$f":"IF(BP$1>$E$11,0,IF($G32=0,0,(BP$1-$G32)*Hoja1!$A$1/BP$1))","v":0},{"$f":"IF(BQ$1>$E$11,0,IF($G32=0,0,(BQ$1-$G32)*Hoja1!$A$1/BQ$1))","v":0},{"$f":"IF(BR$1>$E$11,0,IF($G32=0,0,(BR$1-$G32)*Hoja1!$A$1/BR$1))","v":0},{"$f":"IF(BS$1>$E$11,0,IF($G32=0,0,(BS$1-$G32)*Hoja1!$A$1/BS$1))","v":0},{"$f":"IF(BT$1>$E$11,0,IF($G32=0,0,(BT$1-$G32)*Hoja1!$A$1/BT$1))","v":0},{"$f":"IF(BU$1>$E$11,0,IF($G32=0,0,(BU$1-$G32)*Hoja1!$A$1/BU$1))","v":0},{"$f":"IF(BV$1>$E$11,0,IF($G32=0,0,(BV$1-$G32)*Hoja1!$A$1/BV$1))","v":0},{"$f":"IF(BW$1>$E$11,0,IF($G32=0,0,(BW$1-$G32)*Hoja1!$A$1/BW$1))","v":0},{"$f":"IF(BX$1>$E$11,0,IF($G32=0,0,(BX$1-$G32)*Hoja1!$A$1/BX$1))","v":0},{"$f":"IF(BY$1>$E$11,0,IF($G32=0,0,(BY$1-$G32)*Hoja1!$A$1/BY$1))","v":0},{"$f":"IF(BZ$1>$E$11,0,IF($G32=0,0,(BZ$1-$G32)*Hoja1!$A$1/BZ$1))","v":0},{"$f":"IF(CA$1>$E$11,0,IF($G32=0,0,(CA$1-$G32)*Hoja1!$A$1/CA$1))","v":0},{"$f":"IF(CB$1>$E$11,0,IF($G32=0,0,(CB$1-$G32)*Hoja1!$A$1/CB$1))","v":0},{"$f":"IF(CC$1>$E$11,0,IF($G32=0,0,(CC$1-$G32)*Hoja1!$A$1/CC$1))","v":0},{"$f":"IF(CD$1>$E$11,0,IF($G32=0,0,(CD$1-$G32)*Hoja1!$A$1/CD$1))","v":0},{"$f":"IF(CE$1>$E$11,0,IF($G32=0,0,(CE$1-$G32)*Hoja1!$A$1/CE$1))","v":0},{"$f":"IF(CF$1>$E$11,0,IF($G32=0,0,(CF$1-$G32)*Hoja1!$A$1/CF$1))","v":0},{"$f":"IF(CG$1>$E$11,0,IF($G32=0,0,(CG$1-$G32)*Hoja1!$A$1/CG$1))","v":0},{"$f":"IF(CH$1>$E$11,0,IF($G32=0,0,(CH$1-$G32)*Hoja1!$A$1/CH$1))","v":0},{"$f":"IF(CI$1>$E$11,0,IF($G32=0,0,(CI$1-$G32)*Hoja1!$A$1/CI$1))","v":0},{"$f":"IF(CJ$1>$E$11,0,IF($G32=0,0,(CJ$1-$G32)*Hoja1!$A$1/CJ$1))","v":0},{"$f":"IF(CK$1>$E$11,0,IF($G32=0,0,(CK$1-$G32)*Hoja1!$A$1/CK$1))","v":0},{"$f":"IF(CL$1>$E$11,0,IF($G32=0,0,(CL$1-$G32)*Hoja1!$A$1/CL$1))","v":0},{"$f":"IF(CM$1>$E$11,0,IF($G32=0,0,(CM$1-$G32)*Hoja1!$A$1/CM$1))","v":0},{"$f":"IF(CN$1>$E$11,0,IF($G32=0,0,(CN$1-$G32)*Hoja1!$A$1/CN$1))","v":0},{"$f":"IF(CO$1>$E$11,0,IF($G32=0,0,(CO$1-$G32)*Hoja1!$A$1/CO$1))","v":0},{"$f":"IF(CP$1>$E$11,0,IF($G32=0,0,(CP$1-$G32)*Hoja1!$A$1/CP$1))","v":0},{"$f":"IF(CQ$1>$E$11,0,IF($G32=0,0,(CQ$1-$G32)*Hoja1!$A$1/CQ$1))","v":0},{"$f":"IF(CR$1>$E$11,0,IF($G32=0,0,(CR$1-$G32)*Hoja1!$A$1/CR$1))","v":0},{"$f":"IF(CS$1>$E$11,0,IF($G32=0,0,(CS$1-$G32)*Hoja1!$A$1/CS$1))","v":0},{"$f":"IF(CT$1>$E$11,0,IF($G32=0,0,(CT$1-$G32)*Hoja1!$A$1/CT$1))","v":0},{"$f":"IF(CU$1>$E$11,0,IF($G32=0,0,(CU$1-$G32)*Hoja1!$A$1/CU$1))","v":0},{"$f":"IF(CV$1>$E$11,0,IF($G32=0,0,(CV$1-$G32)*Hoja1!$A$1/CV$1))","v":0},{"$f":"IF(CW$1>$E$11,0,IF($G32=0,0,(CW$1-$G32)*Hoja1!$A$1/CW$1))","v":0},{"$f":"IF(CX$1>$E$11,0,IF($G32=0,0,(CX$1-$G32)*Hoja1!$A$1/CX$1))","v":0},{"$f":"IF(CY$1>$E$11,0,IF($G32=0,0,(CY$1-$G32)*Hoja1!$A$1/CY$1))","v":0},{"$f":"IF(CZ$1>$E$11,0,IF($G32=0,0,(CZ$1-$G32)*Hoja1!$A$1/CZ$1))","v":0},{"$f":"IF(DA$1>$E$11,0,IF($G32=0,0,(DA$1-$G32)*Hoja1!$A$1/DA$1))","v":0},{"$f":"IF(DB$1>$E$11,0,IF($G32=0,0,(DB$1-$G32)*Hoja1!$A$1/DB$1))","v":0},{"$f":"IF(DC$1>$E$11,0,IF($G32=0,0,(DC$1-$G32)*Hoja1!$A$1/DC$1))","v":0},{"$f":"IF(DD$1>$E$11,0,IF($G32=0,0,(DD$1-$G32)*Hoja1!$A$1/DD$1))","v":0},{"$f":"IF(DE$1>$E$11,0,IF($G32=0,0,(DE$1-$G32)*Hoja1!$A$1/DE$1))","v":0},{"$f":"IF(DF$1>$E$11,0,IF($G32=0,0,(DF$1-$G32)*Hoja1!$A$1/DF$1))","v":0},{"$f":"IF(DG$1>$E$11,0,IF($G32=0,0,(DG$1-$G32)*Hoja1!$A$1/DG$1))","v":0},{"$f":"IF(DH$1>$E$11,0,IF($G32=0,0,(DH$1-$G32)*Hoja1!$A$1/DH$1))","v":0},{"$f":"IF(DI$1>$E$11,0,IF($G32=0,0,(DI$1-$G32)*Hoja1!$A$1/DI$1))","v":0},{"$f":"IF(DJ$1>$E$11,0,IF($G32=0,0,(DJ$1-$G32)*Hoja1!$A$1/DJ$1))","v":0},{"$f":"IF(DK$1>$E$11,0,IF($G32=0,0,(DK$1-$G32)*Hoja1!$A$1/DK$1))","v":0},{"$f":"IF(DL$1>$E$11,0,IF($G32=0,0,(DL$1-$G32)*Hoja1!$A$1/DL$1))","v":0},{"$f":"IF(DM$1>$E$11,0,IF($G32=0,0,(DM$1-$G32)*Hoja1!$A$1/DM$1))","v":0}]
[9,11,"1  3/8\"",9.5799382766870682,3.4925000000000002,388.41499999999996,0,{"$f":"IF(H$1>$E$11,0,IF($G33=0,0,(H$1-$G33)*Hoja1!$A$1/H$1))","v":0},{"$f":"IF(I$1>$E$11,0,IF($G33=0,0,(I$1-$G33)*Hoja1!$A$1/I$1))","v":0},{"$f":"IF(J$1>$E$11,0,IF($G33=0,0,(J$1-$G33)*Hoja1!$A$1/J$1))","v":0},{"$f":"IF(K$1>$E$11,0,IF($G33=0,0,(K$1-$G33)*Hoja1!$A$1/K$1))","v":0},{"$f":"IF(L$1>$E$11,0,IF($G33=0,0,(L$1-$G33)*Hoja1!$A$1/L$1))","v":0},{"$f":"IF(M$1>$E$11,0,IF($G33=0,0,(M$1-$G33)*Hoja1!$A$1/M$1))","v":0},{"$f":"IF(N$1>$E$11,0,IF($G33=0,0,(N$1-$G33)*Hoja1!$A$1/N$1))","v":0},{"$f":"IF(O$1>$E$11,0,IF($G33=0,0,(O$1-$G33)*Hoja1!$A$1/O$1))","v":0},{"$f":"IF(P$1>$E$11,0,IF($G33=0,0,(P$1-$G33)*Hoja1!$A$1/P$1))","v":0},{"$f":"IF(Q$1>$E$11,0,IF($G33=0,0,(Q$1-$G33)*Hoja1!$A$1/Q$1))","v":0},{"$f":"IF(R$1>$E$11,0,IF($G33=0,0,(R$1-$G33)*Hoja1!$A$1/R$1))","v":0},{"$f":"IF(S$1>$E$11,0,IF($G33=0,0,(S$1-$G33)*Hoja1!$A$1/S$1))","v":0},{"$f":"IF(T$1>$E$11,0,IF($G33=0,0,(T$1-$G33)*Hoja1!$A$1/T$1))","v":0},{"$f":"IF(U$1>$E$11,0,IF($G33=0,0,(U$1-$G33)*Hoja1!$A$1/U$1))","v":0},{"$f":"IF(V$1>$E$11,0,IF($G33=0,0,(V$1-$G33)*Hoja1!$A$1/V$1))","v":0},{"$f":"IF(W$1>$E$11,0,IF($G33=0,0,(W$1-$G33)*Hoja1!$A$1/W$1))","v":0},{"$f":"IF(X$1>$E$11,0,IF($G33=0,0,(X$1-$G33)*Hoja1!$A$1/X$1))","v":0},{"$f":"IF(Y$1>$E$11,0,IF($G33=0,0,(Y$1-$G33)*Hoja1!$A$1/Y$1))","v":0},{"$f":"IF(Z$1>$E$11,0,IF($G33=0,0,(Z$1-$G33)*Hoja1!$A$1/Z$1))","v":0},{"$f":"IF(AA$1>$E$11,0,IF($G33=0,0,(AA$1-$G33)*Hoja1!$A$1/AA$1))","v":0},{"$f":"IF(AB$1>$E$11,0,IF($G33=0,0,(AB$1-$G33)*Hoja1!$A$1/AB$1))","v":0},{"$f":"IF(AC$1>$E$11,0,IF($G33=0,0,(AC$1-$G33)*Hoja1!$A$1/AC$1))","v":0},{"$f":"IF(AD$1>$E$11,0,IF($G33=0,0,(AD$1-$G33)*Hoja1!$A$1/AD$1))","v":0},{"$f":"IF(AE$1>$E$11,0,IF($G33=0,0,(AE$1-$G33)*Hoja1!$A$1/AE$1))","v":0},{"$f":"IF(AF$1>$E$11,0,IF($G33=0,0,(AF$1-$G33)*Hoja1!$A$1/AF$1))","v":0},{"$f":"IF(AG$1>$E$11,0,IF($G33=0,0,(AG$1-$G33)*Hoja1!$A$1/AG$1))","v":0},{"$f":"IF(AH$1>$E$11,0,IF($G33=0,0,(AH$1-$G33)*Hoja1!$A$1/AH$1))","v":0},{"$f":"IF(AI$1>$E$11,0,IF($G33=0,0,(AI$1-$G33)*Hoja1!$A$1/AI$1))","v":0},{"$f":"IF(AJ$1>$E$11,0,IF($G33=0,0,(AJ$1-$G33)*Hoja1!$A$1/AJ$1))","v":0},{"$f":"IF(AK$1>$E$11,0,IF($G33=0,0,(AK$1-$G33)*Hoja1!$A$1/AK$1))","v":0},{"$f":"IF(AL$1>$E$11,0,IF($G33=0,0,(AL$1-$G33)*Hoja1!$A$1/AL$1))","v":0},{"$f":"IF(AM$1>$E$11,0,IF($G33=0,0,(AM$1-$G33)*Hoja1!$A$1/AM$1))","v":0},{"$f":"IF(AN$1>$E$11,0,IF($G33=0,0,(AN$1-$G33)*Hoja1!$A$1/AN$1))","v":0},{"$f":"IF(AO$1>$E$11,0,IF($G33=0,0,(AO$1-$G33)*Hoja1!$A$1/AO$1))","v":0},{"$f":"IF(AP$1>$E$11,0,IF($G33=0,0,(AP$1-$G33)*Hoja1!$A$1/AP$1))","v":0},{"$f":"IF(AQ$1>$E$11,0,IF($G33=0,0,(AQ$1-$G33)*Hoja1!$A$1/AQ$1))","v":0},{"$f":"IF(AR$1>$E$11,0,IF($G33=0,0,(AR$1-$G33)*Hoja1!$A$1/AR$1))","v":0},{"$f":"IF(AS$1>$E$11,0,IF($G33=0,0,(AS$1-$G33)*Hoja1!$A$1/AS$1))","v":0},{"$f":"IF(AT$1>$E$11,0,IF($G33=0,0,(AT$1-$G33)*Hoja1!$A$1/AT$1))","v":0},{"$f":"IF(AU$1>$E$11,0,IF($G33=0,0,(AU$1-$G33)*Hoja1!$A$1/AU$1))","v":0},{"$f":"IF(AV$1>$E$11,0,IF($G33=0,0,(AV$1-$G33)*Hoja1!$A$1/AV$1))","v":0},{"$f":"IF(AW$1>$E$11,0,IF($G33=0,0,(AW$1-$G33)*Hoja1!$A$1/AW$1))","v":0},{"$f":"IF(AX$1>$E$11,0,IF($G33=0,0,(AX$1-$G33)*Hoja1!$A$1/AX$1))","v":0},{"$f":"IF(AY$1>$E$11,0,IF($G33=0,0,(AY$1-$G33)*Hoja1!$A$1/AY$1))","v":0},{"$f":"IF(AZ$1>$E$11,0,IF($G33=0,0,(AZ$1-$G33)*Hoja1!$A$1/AZ$1))","v":0},{"$f":"IF(BA$1>$E$11,0,IF($G33=0,0,(BA$1-$G33)*Hoja1!$A$1/BA$1))","v":0},{"$f":"IF(BB$1>$E$11,0,IF($G33=0,0,(BB$1-$G33)*Hoja1!$A$1/BB$1))","v":0},{"$f":"IF(BC$1>$E$11,0,IF($G33=0,0,(BC$1-$G33)*Hoja1!$A$1/BC$1))","v":0},{"$f":"IF(BD$1>$E$11,0,IF($G33=0,0,(BD$1-$G33)*Hoja1!$A$1/BD$1))","v":0},{"$f":"IF(BE$1>$E$11,0,IF($G33=0,0,(BE$1-$G33)*Hoja1!$A$1/BE$1))","v":0},{"$f":"IF(BF$1>$E$11,0,IF($G33=0,0,(BF$1-$G33)*Hoja1!$A$1/BF$1))","v":0},{"$f":"IF(BG$1>$E$11,0,IF($G33=0,0,(BG$1-$G33)*Hoja1!$A$1/BG$1))","v":0},{"$f":"IF(BH$1>$E$11,0,IF($G33=0,0,(BH$1-$G33)*Hoja1!$A$1/BH$1))","v":0},{"$f":"IF(BI$1>$E$11,0,IF($G33=0,0,(BI$1-$G33)*Hoja1!$A$1/BI$1))","v":0},{"$f":"IF(BJ$1>$E$11,0,IF($G33=0,0,(BJ$1-$G33)*Hoja1!$A$1/BJ$1))","v":0},{"$f":"IF(BK$1>$E$11,0,IF($G33=0,0,(BK$1-$G33)*Hoja1!$A$1/BK$1))","v":0},{"$f":"IF(BL$1>$E$11,0,IF($G33=0,0,(BL$1-$G33)*Hoja1!$A$1/BL$1))","v":0},{"$f":"IF(BM$1>$E$11,0,IF($G33=0,0,(BM$1-$G33)*Hoja1!$A$1/BM$1))","v":0},{"$f":"IF(BN$1>$E$11,0,IF($G33=0,0,(BN$1-$G33)*Hoja1!$A$1/BN$1))","v":0},{"$f":"IF(BO$1>$E$11,0,IF($G33=0,0,(BO$1-$G33)*Hoja1!$A$1/BO$1))","v":0},{"$f":"IF(BP$1>$E$11,0,IF($G33=0,0,(BP$1-$G33)*Hoja1!$A$1/BP$1))","v":0},{"$f":"IF(BQ$1>$E$11,0,IF($G33=0,0,(BQ$1-$G33)*Hoja1!$A$1/BQ$1))","v":0},{"$f":"IF(BR$1>$E$11,0,IF($G33=0,0,(BR$1-$G33)*Hoja1!$A$1/BR$1))","v":0},{"$f":"IF(BS$1>$E$11,0,IF($G33=0,0,(BS$1-$G33)*Hoja1!$A$1/BS$1))","v":0},{"$f":"IF(BT$1>$E$11,0,IF($G33=0,0,(BT$1-$G33)*Hoja1!$A$1/BT$1))","v":0},{"$f":"IF(BU$1>$E$11,0,IF($G33=0,0,(BU$1-$G33)*Hoja1!$A$1/BU$1))","v":0},{"$f":"IF(BV$1>$E$11,0,IF($G33=0,0,(BV$1-$G33)*Hoja1!$A$1/BV$1))","v":0},{"$f":"IF(BW$1>$E$11,0,IF($G33=0,0,(BW$1-$G33)*Hoja1!$A$1/BW$1))","v":0},{"$f":"IF(BX$1>$E$11,0,IF($G33=0,0,(BX$1-$G33)*Hoja1!$A$1/BX$1))","v":0},{"$f":"IF(BY$1>$E$11,0,IF($G33=0,0,(BY$1-$G33)*Hoja1!$A$1/BY$1))","v":0},{"$f":"IF(BZ$1>$E$11,0,IF($G33=0,0,(BZ$1-$G33)*Hoja1!$A$1/BZ$1))","v":0},{"$f":"IF(CA$1>$E$11,0,IF($G33=0,0,(CA$1-$G33)*Hoja1!$A$1/CA$1))","v":0},{"$f":"IF(CB$1>$E$11,0,IF($G33=0,0,(CB$1-$G33)*Hoja1!$A$1/CB$1))","v":0},{"$f":"IF(CC$1>$E$11,0,IF($G33=0,0,(CC$1-$G33)*Hoja1!$A$1/CC$1))","v":0},{"$f":"IF(CD$1>$E$11,0,IF($G33=0,0,(CD$1-$G33)*Hoja1!$A$1/CD$1))","v":0},{"$f":"IF(CE$1>$E$11,0,IF($G33=0,0,(CE$1-$G33)*Hoja1!$A$1/CE$1))","v":0},{"$f":"IF(CF$1>$E$11,0,IF($G33=0,0,(CF$1-$G33)*Hoja1!$A$1/CF$1))","v":0},{"$f":"IF(CG$1>$E$11,0,IF($G33=0,0,(CG$1-$G33)*Hoja1!$A$1/CG$1))","v":0},{"$f":"IF(CH$1>$E$11,0,IF($G33=0,0,(CH$1-$G33)*Hoja1!$A$1/CH$1))","v":0},{"$f":"IF(CI$1>$E$11,0,IF($G33=0,0,(CI$1-$G33)*Hoja1!$A$1/CI$1))","v":0},{"$f":"IF(CJ$1>$E$11,0,IF($G33=0,0,(CJ$1-$G33)*Hoja1!$A$1/CJ$1))","v":0},{"$f":"IF(CK$1>$E$11,0,IF($G33=0,0,(CK$1-$G33)*Hoja1!$A$1/CK$1))","v":0},{"$f":"IF(CL$1>$E$11,0,IF($G33=0,0,(CL$1-$G33)*Hoja1!$A$1/CL$1))","v":0},{"$f":"IF(CM$1>$E$11,0,IF($G33=0,0,(CM$1-$G33)*Hoja1!$A$1/CM$1))","v":0},{"$f":"IF(CN$1>$E$11,0,IF($G33=0,0,(CN$1-$G33)*Hoja1!$A$1/CN$1))","v":0},{"$f":"IF(CO$1>$E$11,0,IF($G33=0,0,(CO$1-$G33)*Hoja1!$A$1/CO$1))","v":0},{"$f":"IF(CP$1>$E$11,0,IF($G33=0,0,(CP$1-$G33)*Hoja1!$A$1/CP$1))","v":0},{"$f":"IF(CQ$1>$E$11,0,IF($G33=0,0,(CQ$1-$G33)*Hoja1!$A$1/CQ$1))","v":0},{"$f":"IF(CR$1>$E$11,0,IF($G33=0,0,(CR$1-$G33)*Hoja1!$A$1/CR$1))","v":0},{"$f":"IF(CS$1>$E$11,0,IF($G33=0,0,(CS$1-$G33)*Hoja1!$A$1/CS$1))","v":0},{"$f":"IF(CT$1>$E$11,0,IF($G33=0,0,(CT$1-$G33)*Hoja1!$A$1/CT$1))","v":0},{"$f":"IF(CU$1>$E$11,0,IF($G33=0,0,(CU$1-$G33)*Hoja1!$A$1/CU$1))","v":0},{"$f":"IF(CV$1>$E$11,0,IF($G33=0,0,(CV$1-$G33)*Hoja1!$A$1/CV$1))","v":0},{"$f":"IF(CW$1>$E$11,0,IF($G33=0,0,(CW$1-$G33)*Hoja1!$A$1/CW$1))","v":0},{"$f":"IF(CX$1>$E$11,0,IF($G33=0,0,(CX$1-$G33)*Hoja1!$A$1/CX$1))","v":0},{"$f":"IF(CY$1>$E$11,0,IF($G33=0,0,(CY$1-$G33)*Hoja1!$A$1/CY$1))","v":0},{"$f":"IF(CZ$1>$E$11,0,IF($G33=0,0,(CZ$1-$G33)*Hoja1!$A$1/CZ$1))","v":0},{"$f":"IF(DA$1>$E$11,0,IF($G33=0,0,(DA$1-$G33)*Hoja1!$A$1/DA$1))","v":0},{"$f":"IF(DB$1>$E$11,0,IF($G33=0,0,(DB$1-$G33)*Hoja1!$A$1/DB$1))","v":0},{"$f":"IF(DC$1>$E$11,0,IF($G33=0,0,(DC$1-$G33)*Hoja1!$A$1/DC$1))","v":0},{"$f":"IF(DD$1>$E$11,0,IF($G33=0,0,(DD$1-$G33)*Hoja1!$A$1/DD$1))","v":0},{"$f":"IF(DE$1>$E$11,0,IF($G33=0,0,(DE$1-$G33)*Hoja1!$A$1/DE$1))","v":0},{"$f":"IF(DF$1>$E$11,0,IF($G33=0,0,(DF$1-$G33)*Hoja1!$A$1/DF$1))","v":0},{"$f":"IF(DG$1>$E$11,0,IF($G33=0,0,(DG$1-$G33)*Hoja1!$A$1/DG$1))","v":0},{"$f":"IF(DH$1>$E$11,0,IF($G33=0,0,(DH$1-$G33)*Hoja1!$A$1/DH$1))","v":0},{"$f":"IF(DI$1>$E$11,0,IF($G33=0,0,(DI$1-$G33)*Hoja1!$A$1/DI$1))","v":0},{"$f":"IF(DJ$1>$E$11,0,IF($G33=0,0,(DJ$1-$G33)*Hoja1!$A$1/DJ$1))","v":0},{"$f":"IF(DK$1>$E$11,0,IF($G33=0,0,(DK$1-$G33)*Hoja1!$A$1/DK$1))","v":0},{"$f":"IF(DL$1>$E$11,0,IF($G33=0,0,(DL$1-$G33)*Hoja1!$A$1/DL$1))","v":0},{"$f":"IF(DM$1>$E$11,0,IF($G33=0,0,(DM$1-$G33)*Hoja1!$A$1/DM$1))","v":0}]
[10,12,"1  1/2\"",11.400918279693698,3.81,401.60499999999996,0,{"$f":"IF(H$1>$E$11,0,IF($G34=0,0,(H$1-$G34)*Hoja1!$A$1/H$1))","v":0},{"$f":"IF(I$1>$E$11,0,IF($G34=0,0,(I$1-$G34)*Hoja1!$A$1/I$1))","v":0},{"$f":"IF(J$1>$E$11,0,IF($G34=0,0,(J$1-$G34)*Hoja1!$A$1/J$1))","v":0},{"$f":"IF(K$1>$E$11,0,IF($G34=0,0,(K$1-$G34)*Hoja1!$A$1/K$1))","v":0},{"$f":"IF(L$1>$E$11,0,IF($G34=0,0,(L$1-$G34)*Hoja1!$A$1/L$1))","v":0},{"$f":"IF(M$1>$E$11,0,IF($G34=0,0,(M$1-$G34)*Hoja1!$A$1/M$1))","v":0},{"$f":"IF(N$1>$E$11,0,IF($G34=0,0,(N$1-$G34)*Hoja1!$A$1/N$1))","v":0},{"$f":"IF(O$1>$E$11,0,IF($G34=0,0,(O$1-$G34)*Hoja1!$A$1/O$1))","v":0},{"$f":"IF(P$1>$E$11,0,IF($G34=0,0,(P$1-$G34)*Hoja1!$A$1/P$1))","v":0},{"$f":"IF(Q$1>$E$11,0,IF($G34=0,0,(Q$1-$G34)*Hoja1!$A$1/Q$1))","v":0},{"$f":"IF(R$1>$E$11,0,IF($G34=0,0,(R$1-$G34)*Hoja1!$A$1/R$1))","v":0},{"$f":"IF(S$1>$E$11,0,IF($G34=0,0,(S$1-$G34)*Hoja1!$A$1/S$1))","v":0},{"$f":"IF(T$1>$E$11,0,IF($G34=0,0,(T$1-$G34)*Hoja1!$A$1/T$1))","v":0},{"$f":"IF(U$1>$E$11,0,IF($G34=0,0,(U$1-$G34)*Hoja1!$A$1/U$1))","v":0},{"$f":"IF(V$1>$E$11,0,IF($G34=0,0,(V$1-$G34)*Hoja1!$A$1/V$1))","v":0},{"$f":"IF(W$1>$E$11,0,IF($G34=0,0,(W$1-$G34)*Hoja1!$A$1/W$1))","v":0},{"$f":"IF(X$1>$E$11,0,IF($G34=0,0,(X$1-$G34)*Hoja1!$A$1/X$1))","v":0},{"$f":"IF(Y$1>$E$11,0,IF($G34=0,0,(Y$1-$G34)*Hoja1!$A$1/Y$1))","v":0},{"$f":"IF(Z$1>$E$11,0,IF($G34=0,0,(Z$1-$G34)*Hoja1!$A$1/Z$1))","v":0},{"$f":"IF(AA$1>$E$11,0,IF($G34=0,0,(AA$1-$G34)*Hoja1!$A$1/AA$1))","v":0},{"$f":"IF(AB$1>$E$11,0,IF($G34=0,0,(AB$1-$G34)*Hoja1!$A$1/AB$1))","v":0},{"$f":"IF(AC$1>$E$11,0,IF($G34=0,0,(AC$1-$G34)*Hoja1!$A$1/AC$1))","v":0},{"$f":"IF(AD$1>$E$11,0,IF($G34=0,0,(AD$1-$G34)*Hoja1!$A$1/AD$1))","v":0},{"$f":"IF(AE$1>$E$11,0,IF($G34=0,0,(AE$1-$G34)*Hoja1!$A$1/AE$1))","v":0},{"$f":"IF(AF$1>$E$11,0,IF($G34=0,0,(AF$1-$G34)*Hoja1!$A$1/AF$1))","v":0},{"$f":"IF(AG$1>$E$11,0,IF($G34=0,0,(AG$1-$G34)*Hoja1!$A$1/AG$1))","v":0},{"$f":"IF(AH$1>$E$11,0,IF($G34=0,0,(AH$1-$G34)*Hoja1!$A$1/AH$1))","v":0},{"$f":"IF(AI$1>$E$11,0,IF($G34=0,0,(AI$1-$G34)*Hoja1!$A$1/AI$1))","v":0},{"$f":"IF(AJ$1>$E$11,0,IF($G34=0,0,(AJ$1-$G34)*Hoja1!$A$1/AJ$1))","v":0},{"$f":"IF(AK$1>$E$11,0,IF($G34=0,0,(AK$1-$G34)*Hoja1!$A$1/AK$1))","v":0},{"$f":"IF(AL$1>$E$11,0,IF($G34=0,0,(AL$1-$G34)*Hoja1!$A$1/AL$1))","v":0},{"$f":"IF(AM$1>$E$11,0,IF($G34=0,0,(AM$1-$G34)*Hoja1!$A$1/AM$1))","v":0},{"$f":"IF(AN$1>$E$11,0,IF($G34=0,0,(AN$1-$G34)*Hoja1!$A$1/AN$1))","v":0},{"$f":"IF(AO$1>$E$11,0,IF($G34=0,0,(AO$1-$G34)*Hoja1!$A$1/AO$1))","v":0},{"$f":"IF(AP$1>$E$11,0,IF($G34=0,0,(AP$1-$G34)*Hoja1!$A$1/AP$1))","v":0},{"$f":"IF(AQ$1>$E$11,0,IF($G34=0,0,(AQ$1-$G34)*Hoja1!$A$1/AQ$1))","v":0},{"$f":"IF(AR$1>$E$11,0,IF($G34=0,0,(AR$1-$G34)*Hoja1!$A$1/AR$1))","v":0},{"$f":"IF(AS$1>$E$11,0,IF($G34=0,0,(AS$1-$G34)*Hoja1!$A$1/AS$1))","v":0},{"$f":"IF(AT$1>$E$11,0,IF($G34=0,0,(AT$1-$G34)*Hoja1!$A$1/AT$1))","v":0},{"$f":"IF(AU$1>$E$11,0,IF($G34=0,0,(AU$1-$G34)*Hoja1!$A$1/AU$1))","v":0},{"$f":"IF(AV$1>$E$11,0,IF($G34=0,0,(AV$1-$G34)*Hoja1!$A$1/AV$1))","v":0},{"$f":"IF(AW$1>$E$11,0,IF($G34=0,0,(AW$1-$G34)*Hoja1!$A$1/AW$1))","v":0},{"$f":"IF(AX$1>$E$11,0,IF($G34=0,0,(AX$1-$G34)*Hoja1!$A$1/AX$1))","v":0},{"$f":"IF(AY$1>$E$11,0,IF($G34=0,0,(AY$1-$G34)*Hoja1!$A$1/AY$1))","v":0},{"$f":"IF(AZ$1>$E$11,0,IF($G34=0,0,(AZ$1-$G34)*Hoja1!$A$1/AZ$1))","v":0},{"$f":"IF(BA$1>$E$11,0,IF($G34=0,0,(BA$1-$G34)*Hoja1!$A$1/BA$1))","v":0},{"$f":"IF(BB$1>$E$11,0,IF($G34=0,0,(BB$1-$G34)*Hoja1!$A$1/BB$1))","v":0},{"$f":"IF(BC$1>$E$11,0,IF($G34=0,0,(BC$1-$G34)*Hoja1!$A$1/BC$1))","v":0},{"$f":"IF(BD$1>$E$11,0,IF($G34=0,0,(BD$1-$G34)*Hoja1!$A$1/BD$1))","v":0},{"$f":"IF(BE$1>$E$11,0,IF($G34=0,0,(BE$1-$G34)*Hoja1!$A$1/BE$1))","v":0},{"$f":"IF(BF$1>$E$11,0,IF($G34=0,0,(BF$1-$G34)*Hoja1!$A$1/BF$1))","v":0},{"$f":"IF(BG$1>$E$11,0,IF($G34=0,0,(BG$1-$G34)*Hoja1!$A$1/BG$1))","v":0},{"$f":"IF(BH$1>$E$11,0,IF($G34=0,0,(BH$1-$G34)*Hoja1!$A$1/BH$1))","v":0},{"$f":"IF(BI$1>$E$11,0,IF($G34=0,0,(BI$1-$G34)*Hoja1!$A$1/BI$1))","v":0},{"$f":"IF(BJ$1>$E$11,0,IF($G34=0,0,(BJ$1-$G34)*Hoja1!$A$1/BJ$1))","v":0},{"$f":"IF(BK$1>$E$11,0,IF($G34=0,0,(BK$1-$G34)*Hoja1!$A$1/BK$1))","v":0},{"$f":"IF(BL$1>$E$11,0,IF($G34=0,0,(BL$1-$G34)*Hoja1!$A$1/BL$1))","v":0},{"$f":"IF(BM$1>$E$11,0,IF($G34=0,0,(BM$1-$G34)*Hoja1!$A$1/BM$1))","v":0},{"$f":"IF(BN$1>$E$11,0,IF($G34=0,0,(BN$1-$G34)*Hoja1!$A$1/BN$1))","v":0},{"$f":"IF(BO$1>$E$11,0,IF($G34=0,0,(BO$1-$G34)*Hoja1!$A$1/BO$1))","v":0},{"$f":"IF(BP$1>$E$11,0,IF($G34=0,0,(BP$1-$G34)*Hoja1!$A$1/BP$1))","v":0},{"$f":"IF(BQ$1>$E$11,0,IF($G34=0,0,(BQ$1-$G34)*Hoja1!$A$1/BQ$1))","v":0},{"$f":"IF(BR$1>$E$11,0,IF($G34=0,0,(BR$1-$G34)*Hoja1!$A$1/BR$1))","v":0},{"$f":"IF(BS$1>$E$11,0,IF($G34=0,0,(BS$1-$G34)*Hoja1!$A$1/BS$1))","v":0},{"$f":"IF(BT$1>$E$11,0,IF($G34=0,0,(BT$1-$G34)*Hoja1!$A$1/BT$1))","v":0},{"$f":"IF(BU$1>$E$11,0,IF($G34=0,0,(BU$1-$G34)*Hoja1!$A$1/BU$1))","v":0},{"$f":"IF(BV$1>$E$11,0,IF($G34=0,0,(BV$1-$G34)*Hoja1!$A$1/BV$1))","v":0},{"$f":"IF(BW$1>$E$11,0,IF($G34=0,0,(BW$1-$G34)*Hoja1!$A$1/BW$1))","v":0},{"$f":"IF(BX$1>$E$11,0,IF($G34=0,0,(BX$1-$G34)*Hoja1!$A$1/BX$1))","v":0},{"$f":"IF(BY$1>$E$11,0,IF($G34=0,0,(BY$1-$G34)*Hoja1!$A$1/BY$1))","v":0},{"$f":"IF(BZ$1>$E$11,0,IF($G34=0,0,(BZ$1-$G34)*Hoja1!$A$1/BZ$1))","v":0},{"$f":"IF(CA$1>$E$11,0,IF($G34=0,0,(CA$1-$G34)*Hoja1!$A$1/CA$1))","v":0},{"$f":"IF(CB$1>$E$11,0,IF($G34=0,0,(CB$1-$G34)*Hoja1!$A$1/CB$1))","v":0},{"$f":"IF(CC$1>$E$11,0,IF($G34=0,0,(CC$1-$G34)*Hoja1!$A$1/CC$1))","v":0},{"$f":"IF(CD$1>$E$11,0,IF($G34=0,0,(CD$1-$G34)*Hoja1!$A$1/CD$1))","v":0},{"$f":"IF(CE$1>$E$11,0,IF($G34=0,0,(CE$1-$G34)*Hoja1!$A$1/CE$1))","v":0},{"$f":"IF(CF$1>$E$11,0,IF($G34=0,0,(CF$1-$G34)*Hoja1!$A$1/CF$1))","v":0},{"$f":"IF(CG$1>$E$11,0,IF($G34=0,0,(CG$1-$G34)*Hoja1!$A$1/CG$1))","v":0},{"$f":"IF(CH$1>$E$11,0,IF($G34=0,0,(CH$1-$G34)*Hoja1!$A$1/CH$1))","v":0},{"$f":"IF(CI$1>$E$11,0,IF($G34=0,0,(CI$1-$G34)*Hoja1!$A$1/CI$1))","v":0},{"$f":"IF(CJ$1>$E$11,0,IF($G34=0,0,(CJ$1-$G34)*Hoja1!$A$1/CJ$1))","v":0},{"$f":"IF(CK$1>$E$11,0,IF($G34=0,0,(CK$1-$G34)*Hoja1!$A$1/CK$1))","v":0},{"$f":"IF(CL$1>$E$11,0,IF($G34=0,0,(CL$1-$G34)*Hoja1!$A$1/CL$1))","v":0},{"$f":"IF(CM$1>$E$11,0,IF($G34=0,0,(CM$1-$G34)*Hoja1!$A$1/CM$1))","v":0},{"$f":"IF(CN$1>$E$11,0,IF($G34=0,0,(CN$1-$G34)*Hoja1!$A$1/CN$1))","v":0},{"$f":"IF(CO$1>$E$11,0,IF($G34=0,0,(CO$1-$G34)*Hoja1!$A$1/CO$1))","v":0},{"$f":"IF(CP$1>$E$11,0,IF($G34=0,0,(CP$1-$G34)*Hoja1!$A$1/CP$1))","v":0},{"$f":"IF(CQ$1>$E$11,0,IF($G34=0,0,(CQ$1-$G34)*Hoja1!$A$1/CQ$1))","v":0},{"$f":"IF(CR$1>$E$11,0,IF($G34=0,0,(CR$1-$G34)*Hoja1!$A$1/CR$1))","v":0},{"$f":"IF(CS$1>$E$11,0,IF($G34=0,0,(CS$1-$G34)*Hoja1!$A$1/CS$1))","v":0},{"$f":"IF(CT$1>$E$11,0,IF($G34=0,0,(CT$1-$G34)*Hoja1!$A$1/CT$1))","v":0},{"$f":"IF(CU$1>$E$11,0,IF($G34=0,0,(CU$1-$G34)*Hoja1!$A$1/CU$1))","v":0},{"$f":"IF(CV$1>$E$11,0,IF($G34=0,0,(CV$1-$G34)*Hoja1!$A$1/CV$1))","v":0},{"$f":"IF(CW$1>$E$11,0,IF($G34=0,0,(CW$1-$G34)*Hoja1!$A$1/CW$1))","v":0},{"$f":"IF(CX$1>$E$11,0,IF($G34=0,0,(CX$1-$G34)*Hoja1!$A$1/CX$1))","v":0},{"$f":"IF(CY$1>$E$11,0,IF($G34=0,0,(CY$1-$G34)*Hoja1!$A$1/CY$1))","v":0},{"$f":"IF(CZ$1>$E$11,0,IF($G34=0,0,(CZ$1-$G34)*Hoja1!$A$1/CZ$1))","v":0},{"$f":"IF(DA$1>$E$11,0,IF($G34=0,0,(DA$1-$G34)*Hoja1!$A$1/DA$1))","v":0},{"$f":"IF(DB$1>$E$11,0,IF($G34=0,0,(DB$1-$G34)*Hoja1!$A$1/DB$1))","v":0},{"$f":"IF(DC$1>$E$11,0,IF($G34=0,0,(DC$1-$G34)*Hoja1!$A$1/DC$1))","v":0},{"$f":"IF(DD$1>$E$11,0,IF($G34=0,0,(DD$1-$G34)*Hoja1!$A$1/DD$1))","v":0},{"$f":"IF(DE$1>$E$11,0,IF($G34=0,0,(DE$1-$G34)*Hoja1!$A$1/DE$1))","v":0},{"$f":"IF(DF$1>$E$11,0,IF($G34=0,0,(DF$1-$G34)*Hoja1!$A$1/DF$1))","v":0},{"$f":"IF(DG$1>$E$11,0,IF($G34=0,0,(DG$1-$G34)*Hoja1!$A$1/DG$1))","v":0},{"$f":"IF(DH$1>$E$11,0,IF($G34=0,0,(DH$1-$G34)*Hoja1!$A$1/DH$1))","v":0},{"$f":"IF(DI$1>$E$11,0,IF($G34=0,0,(DI$1-$G34)*Hoja1!$A$1/DI$1))","v":0},{"$f":"IF(DJ$1>$E$11,0,IF($G34=0,0,(DJ$1-$G34)*Hoja1!$A$1/DJ$1))","v":0},{"$f":"IF(DK$1>$E$11,0,IF($G34=0,0,(DK$1-$G34)*Hoja1!$A$1/DK$1))","v":0},{"$f":"IF(DL$1>$E$11,0,IF($G34=0,0,(DL$1-$G34)*Hoja1!$A$1/DL$1))","v":0},{"$f":"IF(DM$1>$E$11,0,IF($G34=0,0,(DM$1-$G34)*Hoja1!$A$1/DM$1))","v":0}]
[null,null,null,null,null,414.79499999999996,0,{"$f":"IF(H$1>$E$11,0,IF($G35=0,0,(H$1-$G35)*Hoja1!$A$1/H$1))","v":0},{"$f":"IF(I$1>$E$11,0,IF($G35=0,0,(I$1-$G35)*Hoja1!$A$1/I$1))","v":0},{"$f":"IF(J$1>$E$11,0,IF($G35=0,0,(J$1-$G35)*Hoja1!$A$1/J$1))","v":0},{"$f":"IF(K$1>$E$11,0,IF($G35=0,0,(K$1-$G35)*Hoja1!$A$1/K$1))","v":0},{"$f":"IF(L$1>$E$11,0,IF($G35=0,0,(L$1-$G35)*Hoja1!$A$1/L$1))","v":0},{"$f":"IF(M$1>$E$11,0,IF($G35=0,0,(M$1-$G35)*Hoja1!$A$1/M$1))","v":0},{"$f":"IF(N$1>$E$11,0,IF($G35=0,0,(N$1-$G35)*Hoja1!$A$1/N$1))","v":0},{"$f":"IF(O$1>$E$11,0,IF($G35=0,0,(O$1-$G35)*Hoja1!$A$1/O$1))","v":0},{"$f":"IF(P$1>$E$11,0,IF($G35=0,0,(P$1-$G35)*Hoja1!$A$1/P$1))","v":0},{"$f":"IF(Q$1>$E$11,0,IF($G35=0,0,(Q$1-$G35)*Hoja1!$A$1/Q$1))","v":0},{"$f":"IF(R$1>$E$11,0,IF($G35=0,0,(R$1-$G35)*Hoja1!$A$1/R$1))","v":0},{"$f":"IF(S$1>$E$11,0,IF($G35=0,0,(S$1-$G35)*Hoja1!$A$1/S$1))","v":0},{"$f":"IF(T$1>$E$11,0,IF($G35=0,0,(T$1-$G35)*Hoja1!$A$1/T$1))","v":0},{"$f":"IF(U$1>$E$11,0,IF($G35=0,0,(U$1-$G35)*Hoja1!$A$1/U$1))","v":0},{"$f":"IF(V$1>$E$11,0,IF($G35=0,0,(V$1-$G35)*Hoja1!$A$1/V$1))","v":0},{"$f":"IF(W$1>$E$11,0,IF($G35=0,0,(W$1-$G35)*Hoja1!$A$1/W$1))","v":0},{"$f":"IF(X$1>$E$11,0,IF($G35=0,0,(X$1-$G35)*Hoja1!$A$1/X$1))","v":0},{"$f":"IF(Y$1>$E$11,0,IF($G35=0,0,(Y$1-$G35)*Hoja1!$A$1/Y$1))","v":0},{"$f":"IF(Z$1>$E$11,0,IF($G35=0,0,(Z$1-$G35)*Hoja1!$A$1/Z$1))","v":0},{"$f":"IF(AA$1>$E$11,0,IF($G35=0,0,(AA$1-$G35)*Hoja1!$A$1/AA$1))","v":0},{"$f":"IF(AB$1>$E$11,0,IF($G35=0,0,(AB$1-$G35)*Hoja1!$A$1/AB$1))","v":0},{"$f":"IF(AC$1>$E$11,0,IF($G35=0,0,(AC$1-$G35)*Hoja1!$A$1/AC$1))","v":0},{"$f":"IF(AD$1>$E$11,0,IF($G35=0,0,(AD$1-$G35)*Hoja1!$A$1/AD$1))","v":0},{"$f":"IF(AE$1>$E$11,0,IF($G35=0,0,(AE$1-$G35)*Hoja1!$A$1/AE$1))","v":0},{"$f":"IF(AF$1>$E$11,0,IF($G35=0,0,(AF$1-$G35)*Hoja1!$A$1/AF$1))","v":0},{"$f":"IF(AG$1>$E$11,0,IF($G35=0,0,(AG$1-$G35)*Hoja1!$A$1/AG$1))","v":0},{"$f":"IF(AH$1>$E$11,0,IF($G35=0,0,(AH$1-$G35)*Hoja1!$A$1/AH$1))","v":0},{"$f":"IF(AI$1>$E$11,0,IF($G35=0,0,(AI$1-$G35)*Hoja1!$A$1/AI$1))","v":0},{"$f":"IF(AJ$1>$E$11,0,IF($G35=0,0,(AJ$1-$G35)*Hoja1!$A$1/AJ$1))","v":0},{"$f":"IF(AK$1>$E$11,0,IF($G35=0,0,(AK$1-$G35)*Hoja1!$A$1/AK$1))","v":0},{"$f":"IF(AL$1>$E$11,0,IF($G35=0,0,(AL$1-$G35)*Hoja1!$A$1/AL$1))","v":0},{"$f":"IF(AM$1>$E$11,0,IF($G35=0,0,(AM$1-$G35)*Hoja1!$A$1/AM$1))","v":0},{"$f":"IF(AN$1>$E$11,0,IF($G35=0,0,(AN$1-$G35)*Hoja1!$A$1/AN$1))","v":0},{"$f":"IF(AO$1>$E$11,0,IF($G35=0,0,(AO$1-$G35)*Hoja1!$A$1/AO$1))","v":0},{"$f":"IF(AP$1>$E$11,0,IF($G35=0,0,(AP$1-$G35)*Hoja1!$A$1/AP$1))","v":0},{"$f":"IF(AQ$1>$E$11,0,IF($G35=0,0,(AQ$1-$G35)*Hoja1!$A$1/AQ$1))","v":0},{"$f":"IF(AR$1>$E$11,0,IF($G35=0,0,(AR$1-$G35)*Hoja1!$A$1/AR$1))","v":0},{"$f":"IF(AS$1>$E$11,0,IF($G35=0,0,(AS$1-$G35)*Hoja1!$A$1/AS$1))","v":0},{"$f":"IF(AT$1>$E$11,0,IF($G35=0,0,(AT$1-$G35)*Hoja1!$A$1/AT$1))","v":0},{"$f":"IF(AU$1>$E$11,0,IF($G35=0,0,(AU$1-$G35)*Hoja1!$A$1/AU$1))","v":0},{"$f":"IF(AV$1>$E$11,0,IF($G35=0,0,(AV$1-$G35)*Hoja1!$A$1/AV$1))","v":0},{"$f":"IF(AW$1>$E$11,0,IF($G35=0,0,(AW$1-$G35)*Hoja1!$A$1/AW$1))","v":0},{"$f":"IF(AX$1>$E$11,0,IF($G35=0,0,(AX$1-$G35)*Hoja1!$A$1/AX$1))","v":0},{"$f":"IF(AY$1>$E$11,0,IF($G35=0,0,(AY$1-$G35)*Hoja1!$A$1/AY$1))","v":0},{"$f":"IF(AZ$1>$E$11,0,IF($G35=0,0,(AZ$1-$G35)*Hoja1!$A$1/AZ$1))","v":0},{"$f":"IF(BA$1>$E$11,0,IF($G35=0,0,(BA$1-$G35)*Hoja1!$A$1/BA$1))","v":0},{"$f":"IF(BB$1>$E$11,0,IF($G35=0,0,(BB$1-$G35)*Hoja1!$A$1/BB$1))","v":0},{"$f":"IF(BC$1>$E$11,0,IF($G35=0,0,(BC$1-$G35)*Hoja1!$A$1/BC$1))","v":0},{"$f":"IF(BD$1>$E$11,0,IF($G35=0,0,(BD$1-$G35)*Hoja1!$A$1/BD$1))","v":0},{"$f":"IF(BE$1>$E$11,0,IF($G35=0,0,(BE$1-$G35)*Hoja1!$A$1/BE$1))","v":0},{"$f":"IF(BF$1>$E$11,0,IF($G35=0,0,(BF$1-$G35)*Hoja1!$A$1/BF$1))","v":0},{"$f":"IF(BG$1>$E$11,0,IF($G35=0,0,(BG$1-$G35)*Hoja1!$A$1/BG$1))","v":0},{"$f":"IF(BH$1>$E$11,0,IF($G35=0,0,(BH$1-$G35)*Hoja1!$A$1/BH$1))","v":0},{"$f":"IF(BI$1>$E$11,0,IF($G35=0,0,(BI$1-$G35)*Hoja1!$A$1/BI$1))","v":0},{"$f":"IF(BJ$1>$E$11,0,IF($G35=0,0,(BJ$1-$G35)*Hoja1!$A$1/BJ$1))","v":0},{"$f":"IF(BK$1>$E$11,0,IF($G35=0,0,(BK$1-$G35)*Hoja1!$A$1/BK$1))","v":0},{"$f":"IF(BL$1>$E$11,0,IF($G35=0,0,(BL$1-$G35)*Hoja1!$A$1/BL$1))","v":0},{"$f":"IF(BM$1>$E$11,0,IF($G35=0,0,(BM$1-$G35)*Hoja1!$A$1/BM$1))","v":0},{"$f":"IF(BN$1>$E$11,0,IF($G35=0,0,(BN$1-$G35)*Hoja1!$A$1/BN$1))","v":0},{"$f":"IF(BO$1>$E$11,0,IF($G35=0,0,(BO$1-$G35)*Hoja1!$A$1/BO$1))","v":0},{"$f":"IF(BP$1>$E$11,0,IF($G35=0,0,(BP$1-$G35)*Hoja1!$A$1/BP$1))","v":0},{"$f":"IF(BQ$1>$E$11,0,IF($G35=0,0,(BQ$1-$G35)*Hoja1!$A$1/BQ$1))","v":0},{"$f":"IF(BR$1>$E$11,0,IF($G35=0,0,(BR$1-$G35)*Hoja1!$A$1/BR$1))","v":0},{"$f":"IF(BS$1>$E$11,0,IF($G35=0,0,(BS$1-$G35)*Hoja1!$A$1/BS$1))","v":0},{"$f":"IF(BT$1>$E$11,0,IF($G35=0,0,(BT$1-$G35)*Hoja1!$A$1/BT$1))","v":0},{"$f":"IF(BU$1>$E$11,0,IF($G35=0,0,(BU$1-$G35)*Hoja1!$A$1/BU$1))","v":0},{"$f":"IF(BV$1>$E$11,0,IF($G35=0,0,(BV$1-$G35)*Hoja1!$A$1/BV$1))","v":0},{"$f":"IF(BW$1>$E$11,0,IF($G35=0,0,(BW$1-$G35)*Hoja1!$A$1/BW$1))","v":0},{"$f":"IF(BX$1>$E$11,0,IF($G35=0,0,(BX$1-$G35)*Hoja1!$A$1/BX$1))","v":0},{"$f":"IF(BY$1>$E$11,0,IF($G35=0,0,(BY$1-$G35)*Hoja1!$A$1/BY$1))","v":0},{"$f":"IF(BZ$1>$E$11,0,IF($G35=0,0,(BZ$1-$G35)*Hoja1!$A$1/BZ$1))","v":0},{"$f":"IF(CA$1>$E$11,0,IF($G35=0,0,(CA$1-$G35)*Hoja1!$A$1/CA$1))","v":0},{"$f":"IF(CB$1>$E$11,0,IF($G35=0,0,(CB$1-$G35)*Hoja1!$A$1/CB$1))","v":0},{"$f":"IF(CC$1>$E$11,0,IF($G35=0,0,(CC$1-$G35)*Hoja1!$A$1/CC$1))","v":0},{"$f":"IF(CD$1>$E$11,0,IF($G35=0,0,(CD$1-$G35)*Hoja1!$A$1/CD$1))","v":0},{"$f":"IF(CE$1>$E$11,0,IF($G35=0,0,(CE$1-$G35)*Hoja1!$A$1/CE$1))","v":0},{"$f":"IF(CF$1>$E$11,0,IF($G35=0,0,(CF$1-$G35)*Hoja1!$A$1/CF$1))","v":0},{"$f":"IF(CG$1>$E$11,0,IF($G35=0,0,(CG$1-$G35)*Hoja1!$A$1/CG$1))","v":0},{"$f":"IF(CH$1>$E$11,0,IF($G35=0,0,(CH$1-$G35)*Hoja1!$A$1/CH$1))","v":0},{"$f":"IF(CI$1>$E$11,0,IF($G35=0,0,(CI$1-$G35)*Hoja1!$A$1/CI$1))","v":0},{"$f":"IF(CJ$1>$E$11,0,IF($G35=0,0,(CJ$1-$G35)*Hoja1!$A$1/CJ$1))","v":0},{"$f":"IF(CK$1>$E$11,0,IF($G35=0,0,(CK$1-$G35)*Hoja1!$A$1/CK$1))","v":0},{"$f":"IF(CL$1>$E$11,0,IF($G35=0,0,(CL$1-$G35)*Hoja1!$A$1/CL$1))","v":0},{"$f":"IF(CM$1>$E$11,0,IF($G35=0,0,(CM$1-$G35)*Hoja1!$A$1/CM$1))","v":0},{"$f":"IF(CN$1>$E$11,0,IF($G35=0,0,(CN$1-$G35)*Hoja1!$A$1/CN$1))","v":0},{"$f":"IF(CO$1>$E$11,0,IF($G35=0,0,(CO$1-$G35)*Hoja1!$A$1/CO$1))","v":0},{"$f":"IF(CP$1>$E$11,0,IF($G35=0,0,(CP$1-$G35)*Hoja1!$A$1/CP$1))","v":0},{"$f":"IF(CQ$1>$E$11,0,IF($G35=0,0,(CQ$1-$G35)*Hoja1!$A$1/CQ$1))","v":0},{"$f":"IF(CR$1>$E$11,0,IF($G35=0,0,(CR$1-$G35)*Hoja1!$A$1/CR$1))","v":0},{"$f":"IF(CS$1>$E$11,0,IF($G35=0,0,(CS$1-$G35)*Hoja1!$A$1/CS$1))","v":0},{"$f":"IF(CT$1>$E$11,0,IF($G35=0,0,(CT$1-$G35)*Hoja1!$A$1/CT$1))","v":0},{"$f":"IF(CU$1>$E$11,0,IF($G35=0,0,(CU$1-$G35)*Hoja1!$A$1/CU$1))","v":0},{"$f":"IF(CV$1>$E$11,0,IF($G35=0,0,(CV$1-$G35)*Hoja1!$A$1/CV$1))","v":0},{"$f":"IF(CW$1>$E$11,0,IF($G35=0,0,(CW$1-$G35)*Hoja1!$A$1/CW$1))","v":0},{"$f":"IF(CX$1>$E$11,0,IF($G35=0,0,(CX$1-$G35)*Hoja1!$A$1/CX$1))","v":0},{"$f":"IF(CY$1>$E$11,0,IF($G35=0,0,(CY$1-$G35)*Hoja1!$A$1/CY$1))","v":0},{"$f":"IF(CZ$1>$E$11,0,IF($G35=0,0,(CZ$1-$G35)*Hoja1!$A$1/CZ$1))","v":0},{"$f":"IF(DA$1>$E$11,0,IF($G35=0,0,(DA$1-$G35)*Hoja1!$A$1/DA$1))","v":0},{"$f":"IF(DB$1>$E$11,0,IF($G35=0,0,(DB$1-$G35)*Hoja1!$A$1/DB$1))","v":0},{"$f":"IF(DC$1>$E$11,0,IF($G35=0,0,(DC$1-$G35)*Hoja1!$A$1/DC$1))","v":0},{"$f":"IF(DD$1>$E$11,0,IF($G35=0,0,(DD$1-$G35)*Hoja1!$A$1/DD$1))","v":0},{"$f":"IF(DE$1>$E$11,0,IF($G35=0,0,(DE$1-$G35)*Hoja1!$A$1/DE$1))","v":0},{"$f":"IF(DF$1>$E$11,0,IF($G35=0,0,(DF$1-$G35)*Hoja1!$A$1/DF$1))","v":0},{"$f":"IF(DG$1>$E$11,0,IF($G35=0,0,(DG$1-$G35)*Hoja1!$A$1/DG$1))","v":0},{"$f":"IF(DH$1>$E$11,0,IF($G35=0,0,(DH$1-$G35)*Hoja1!$A$1/DH$1))","v":0},{"$f":"IF(DI$1>$E$11,0,IF($G35=0,0,(DI$1-$G35)*Hoja1!$A$1/DI$1))","v":0},{"$f":"IF(DJ$1>$E$11,0,IF($G35=0,0,(DJ$1-$G35)*Hoja1!$A$1/DJ$1))","v":0},{"$f":"IF(DK$1>$E$11,0,IF($G35=0,0,(DK$1-$G35)*Hoja1!$A$1/DK$1))","v":0},{"$f":"IF(DL$1>$E$11,0,IF($G35=0,0,(DL$1-$G35)*Hoja1!$A$1/DL$1))","v":0},{"$f":"IF(DM$1>$E$11,0,IF($G35=0,0,(DM$1-$G35)*Hoja1!$A$1/DM$1))","v":0}]
[null,"area","diametro",null,null,427.98499999999996,0,{"$f":"IF(H$1>$E$11,0,IF($G36=0,0,(H$1-$G36)*Hoja1!$A$1/H$1))","v":0},{"$f":"IF(I$1>$E$11,0,IF($G36=0,0,(I$1-$G36)*Hoja1!$A$1/I$1))","v":0},{"$f":"IF(J$1>$E$11,0,IF($G36=0,0,(J$1-$G36)*Hoja1!$A$1/J$1))","v":0},{"$f":"IF(K$1>$E$11,0,IF($G36=0,0,(K$1-$G36)*Hoja1!$A$1/K$1))","v":0},{"$f":"IF(L$1>$E$11,0,IF($G36=0,0,(L$1-$G36)*Hoja1!$A$1/L$1))","v":0},{"$f":"IF(M$1>$E$11,0,IF($G36=0,0,(M$1-$G36)*Hoja1!$A$1/M$1))","v":0},{"$f":"IF(N$1>$E$11,0,IF($G36=0,0,(N$1-$G36)*Hoja1!$A$1/N$1))","v":0},{"$f":"IF(O$1>$E$11,0,IF($G36=0,0,(O$1-$G36)*Hoja1!$A$1/O$1))","v":0},{"$f":"IF(P$1>$E$11,0,IF($G36=0,0,(P$1-$G36)*Hoja1!$A$1/P$1))","v":0},{"$f":"IF(Q$1>$E$11,0,IF($G36=0,0,(Q$1-$G36)*Hoja1!$A$1/Q$1))","v":0},{"$f":"IF(R$1>$E$11,0,IF($G36=0,0,(R$1-$G36)*Hoja1!$A$1/R$1))","v":0},{"$f":"IF(S$1>$E$11,0,IF($G36=0,0,(S$1-$G36)*Hoja1!$A$1/S$1))","v":0},{"$f":"IF(T$1>$E$11,0,IF($G36=0,0,(T$1-$G36)*Hoja1!$A$1/T$1))","v":0},{"$f":"IF(U$1>$E$11,0,IF($G36=0,0,(U$1-$G36)*Hoja1!$A$1/U$1))","v":0},{"$f":"IF(V$1>$E$11,0,IF($G36=0,0,(V$1-$G36)*Hoja1!$A$1/V$1))","v":0},{"$f":"IF(W$1>$E$11,0,IF($G36=0,0,(W$1-$G36)*Hoja1!$A$1/W$1))","v":0},{"$f":"IF(X$1>$E$11,0,IF($G36=0,0,(X$1-$G36)*Hoja1!$A$1/X$1))","v":0},{"$f":"IF(Y$1>$E$11,0,IF($G36=0,0,(Y$1-$G36)*Hoja1!$A$1/Y$1))","v":0},{"$f":"IF(Z$1>$E$11,0,IF($G36=0,0,(Z$1-$G36)*Hoja1!$A$1/Z$1))","v":0},{"$f":"IF(AA$1>$E$11,0,IF($G36=0,0,(AA$1-$G36)*Hoja1!$A$1/AA$1))","v":0},{"$f":"IF(AB$1>$E$11,0,IF($G36=0,0,(AB$1-$G36)*Hoja1!$A$1/AB$1))","v":0},{"$f":"IF(AC$1>$E$11,0,IF($G36=0,0,(AC$1-$G36)*Hoja1!$A$1/AC$1))","v":0},{"$f":"IF(AD$1>$E$11,0,IF($G36=0,0,(AD$1-$G36)*Hoja1!$A$1/AD$1))","v":0},{"$f":"IF(AE$1>$E$11,0,IF($G36=0,0,(AE$1-$G36)*Hoja1!$A$1/AE$1))","v":0},{"$f":"IF(AF$1>$E$11,0,IF($G36=0,0,(AF$1-$G36)*Hoja1!$A$1/AF$1))","v":0},{"$f":"IF(AG$1>$E$11,0,IF($G36=0,0,(AG$1-$G36)*Hoja1!$A$1/AG$1))","v":0},{"$f":"IF(AH$1>$E$11,0,IF($G36=0,0,(AH$1-$G36)*Hoja1!$A$1/AH$1))","v":0},{"$f":"IF(AI$1>$E$11,0,IF($G36=0,0,(AI$1-$G36)*Hoja1!$A$1/AI$1))","v":0},{"$f":"IF(AJ$1>$E$11,0,IF($G36=0,0,(AJ$1-$G36)*Hoja1!$A$1/AJ$1))","v":0},{"$f":"IF(AK$1>$E$11,0,IF($G36=0,0,(AK$1-$G36)*Hoja1!$A$1/AK$1))","v":0},{"$f":"IF(AL$1>$E$11,0,IF($G36=0,0,(AL$1-$G36)*Hoja1!$A$1/AL$1))","v":0},{"$f":"IF(AM$1>$E$11,0,IF($G36=0,0,(AM$1-$G36)*Hoja1!$A$1/AM$1))","v":0},{"$f":"IF(AN$1>$E$11,0,IF($G36=0,0,(AN$1-$G36)*Hoja1!$A$1/AN$1))","v":0},{"$f":"IF(AO$1>$E$11,0,IF($G36=0,0,(AO$1-$G36)*Hoja1!$A$1/AO$1))","v":0},{"$f":"IF(AP$1>$E$11,0,IF($G36=0,0,(AP$1-$G36)*Hoja1!$A$1/AP$1))","v":0},{"$f":"IF(AQ$1>$E$11,0,IF($G36=0,0,(AQ$1-$G36)*Hoja1!$A$1/AQ$1))","v":0},{"$f":"IF(AR$1>$E$11,0,IF($G36=0,0,(AR$1-$G36)*Hoja1!$A$1/AR$1))","v":0},{"$f":"IF(AS$1>$E$11,0,IF($G36=0,0,(AS$1-$G36)*Hoja1!$A$1/AS$1))","v":0},{"$f":"IF(AT$1>$E$11,0,IF($G36=0,0,(AT$1-$G36)*Hoja1!$A$1/AT$1))","v":0},{"$f":"IF(AU$1>$E$11,0,IF($G36=0,0,(AU$1-$G36)*Hoja1!$A$1/AU$1))","v":0},{"$f":"IF(AV$1>$E$11,0,IF($G36=0,0,(AV$1-$G36)*Hoja1!$A$1/AV$1))","v":0},{"$f":"IF(AW$1>$E$11,0,IF($G36=0,0,(AW$1-$G36)*Hoja1!$A$1/AW$1))","v":0},{"$f":"IF(AX$1>$E$11,0,IF($G36=0,0,(AX$1-$G36)*Hoja1!$A$1/AX$1))","v":0},{"$f":"IF(AY$1>$E$11,0,IF($G36=0,0,(AY$1-$G36)*Hoja1!$A$1/AY$1))","v":0},{"$f":"IF(AZ$1>$E$11,0,IF($G36=0,0,(AZ$1-$G36)*Hoja1!$A$1/AZ$1))","v":0},{"$f":"IF(BA$1>$E$11,0,IF($G36=0,0,(BA$1-$G36)*Hoja1!$A$1/BA$1))","v":0},{"$f":"IF(BB$1>$E$11,0,IF($G36=0,0,(BB$1-$G36)*Hoja1!$A$1/BB$1))","v":0},{"$f":"IF(BC$1>$E$11,0,IF($G36=0,0,(BC$1-$G36)*Hoja1!$A$1/BC$1))","v":0},{"$f":"IF(BD$1>$E$11,0,IF($G36=0,0,(BD$1-$G36)*Hoja1!$A$1/BD$1))","v":0},{"$f":"IF(BE$1>$E$11,0,IF($G36=0,0,(BE$1-$G36)*Hoja1!$A$1/BE$1))","v":0},{"$f":"IF(BF$1>$E$11,0,IF($G36=0,0,(BF$1-$G36)*Hoja1!$A$1/BF$1))","v":0},{"$f":"IF(BG$1>$E$11,0,IF($G36=0,0,(BG$1-$G36)*Hoja1!$A$1/BG$1))","v":0},{"$f":"IF(BH$1>$E$11,0,IF($G36=0,0,(BH$1-$G36)*Hoja1!$A$1/BH$1))","v":0},{"$f":"IF(BI$1>$E$11,0,IF($G36=0,0,(BI$1-$G36)*Hoja1!$A$1/BI$1))","v":0},{"$f":"IF(BJ$1>$E$11,0,IF($G36=0,0,(BJ$1-$G36)*Hoja1!$A$1/BJ$1))","v":0},{"$f":"IF(BK$1>$E$11,0,IF($G36=0,0,(BK$1-$G36)*Hoja1!$A$1/BK$1))","v":0},{"$f":"IF(BL$1>$E$11,0,IF($G36=0,0,(BL$1-$G36)*Hoja1!$A$1/BL$1))","v":0},{"$f":"IF(BM$1>$E$11,0,IF($G36=0,0,(BM$1-$G36)*Hoja1!$A$1/BM$1))","v":0},{"$f":"IF(BN$1>$E$11,0,IF($G36=0,0,(BN$1-$G36)*Hoja1!$A$1/BN$1))","v":0},{"$f":"IF(BO$1>$E$11,0,IF($G36=0,0,(BO$1-$G36)*Hoja1!$A$1/BO$1))","v":0},{"$f":"IF(BP$1>$E$11,0,IF($G36=0,0,(BP$1-$G36)*Hoja1!$A$1/BP$1))","v":0},{"$f":"IF(BQ$1>$E$11,0,IF($G36=0,0,(BQ$1-$G36)*Hoja1!$A$1/BQ$1))","v":0},{"$f":"IF(BR$1>$E$11,0,IF($G36=0,0,(BR$1-$G36)*Hoja1!$A$1/BR$1))","v":0},{"$f":"IF(BS$1>$E$11,0,IF($G36=0,0,(BS$1-$G36)*Hoja1!$A$1/BS$1))","v":0},{"$f":"IF(BT$1>$E$11,0,IF($G36=0,0,(BT$1-$G36)*Hoja1!$A$1/BT$1))","v":0},{"$f":"IF(BU$1>$E$11,0,IF($G36=0,0,(BU$1-$G36)*Hoja1!$A$1/BU$1))","v":0},{"$f":"IF(BV$1>$E$11,0,IF($G36=0,0,(BV$1-$G36)*Hoja1!$A$1/BV$1))","v":0},{"$f":"IF(BW$1>$E$11,0,IF($G36=0,0,(BW$1-$G36)*Hoja1!$A$1/BW$1))","v":0},{"$f":"IF(BX$1>$E$11,0,IF($G36=0,0,(BX$1-$G36)*Hoja1!$A$1/BX$1))","v":0},{"$f":"IF(BY$1>$E$11,0,IF($G36=0,0,(BY$1-$G36)*Hoja1!$A$1/BY$1))","v":0},{"$f":"IF(BZ$1>$E$11,0,IF($G36=0,0,(BZ$1-$G36)*Hoja1!$A$1/BZ$1))","v":0},{"$f":"IF(CA$1>$E$11,0,IF($G36=0,0,(CA$1-$G36)*Hoja1!$A$1/CA$1))","v":0},{"$f":"IF(CB$1>$E$11,0,IF($G36=0,0,(CB$1-$G36)*Hoja1!$A$1/CB$1))","v":0},{"$f":"IF(CC$1>$E$11,0,IF($G36=0,0,(CC$1-$G36)*Hoja1!$A$1/CC$1))","v":0},{"$f":"IF(CD$1>$E$11,0,IF($G36=0,0,(CD$1-$G36)*Hoja1!$A$1/CD$1))","v":0},{"$f":"IF(CE$1>$E$11,0,IF($G36=0,0,(CE$1-$G36)*Hoja1!$A$1/CE$1))","v":0},{"$f":"IF(CF$1>$E$11,0,IF($G36=0,0,(CF$1-$G36)*Hoja1!$A$1/CF$1))","v":0},{"$f":"IF(CG$1>$E$11,0,IF($G36=0,0,(CG$1-$G36)*Hoja1!$A$1/CG$1))","v":0},{"$f":"IF(CH$1>$E$11,0,IF($G36=0,0,(CH$1-$G36)*Hoja1!$A$1/CH$1))","v":0},{"$f":"IF(CI$1>$E$11,0,IF($G36=0,0,(CI$1-$G36)*Hoja1!$A$1/CI$1))","v":0},{"$f":"IF(CJ$1>$E$11,0,IF($G36=0,0,(CJ$1-$G36)*Hoja1!$A$1/CJ$1))","v":0},{"$f":"IF(CK$1>$E$11,0,IF($G36=0,0,(CK$1-$G36)*Hoja1!$A$1/CK$1))","v":0},{"$f":"IF(CL$1>$E$11,0,IF($G36=0,0,(CL$1-$G36)*Hoja1!$A$1/CL$1))","v":0},{"$f":"IF(CM$1>$E$11,0,IF($G36=0,0,(CM$1-$G36)*Hoja1!$A$1/CM$1))","v":0},{"$f":"IF(CN$1>$E$11,0,IF($G36=0,0,(CN$1-$G36)*Hoja1!$A$1/CN$1))","v":0},{"$f":"IF(CO$1>$E$11,0,IF($G36=0,0,(CO$1-$G36)*Hoja1!$A$1/CO$1))","v":0},{"$f":"IF(CP$1>$E$11,0,IF($G36=0,0,(CP$1-$G36)*Hoja1!$A$1/CP$1))","v":0},{"$f":"IF(CQ$1>$E$11,0,IF($G36=0,0,(CQ$1-$G36)*Hoja1!$A$1/CQ$1))","v":0},{"$f":"IF(CR$1>$E$11,0,IF($G36=0,0,(CR$1-$G36)*Hoja1!$A$1/CR$1))","v":0},{"$f":"IF(CS$1>$E$11,0,IF($G36=0,0,(CS$1-$G36)*Hoja1!$A$1/CS$1))","v":0},{"$f":"IF(CT$1>$E$11,0,IF($G36=0,0,(CT$1-$G36)*Hoja1!$A$1/CT$1))","v":0},{"$f":"IF(CU$1>$E$11,0,IF($G36=0,0,(CU$1-$G36)*Hoja1!$A$1/CU$1))","v":0},{"$f":"IF(CV$1>$E$11,0,IF($G36=0,0,(CV$1-$G36)*Hoja1!$A$1/CV$1))","v":0},{"$f":"IF(CW$1>$E$11,0,IF($G36=0,0,(CW$1-$G36)*Hoja1!$A$1/CW$1))","v":0},{"$f":"IF(CX$1>$E$11,0,IF($G36=0,0,(CX$1-$G36)*Hoja1!$A$1/CX$1))","v":0},{"$f":"IF(CY$1>$E$11,0,IF($G36=0,0,(CY$1-$G36)*Hoja1!$A$1/CY$1))","v":0},{"$f":"IF(CZ$1>$E$11,0,IF($G36=0,0,(CZ$1-$G36)*Hoja1!$A$1/CZ$1))","v":0},{"$f":"IF(DA$1>$E$11,0,IF($G36=0,0,(DA$1-$G36)*Hoja1!$A$1/DA$1))","v":0},{"$f":"IF(DB$1>$E$11,0,IF($G36=0,0,(DB$1-$G36)*Hoja1!$A$1/DB$1))","v":0},{"$f":"IF(DC$1>$E$11,0,IF($G36=0,0,(DC$1-$G36)*Hoja1!$A$1/DC$1))","v":0},{"$f":"IF(DD$1>$E$11,0,IF($G36=0,0,(DD$1-$G36)*Hoja1!$A$1/DD$1))","v":0},{"$f":"IF(DE$1>$E$11,0,IF($G36=0,0,(DE$1-$G36)*Hoja1!$A$1/DE$1))","v":0},{"$f":"IF(DF$1>$E$11,0,IF($G36=0,0,(DF$1-$G36)*Hoja1!$A$1/DF$1))","v":0},{"$f":"IF(DG$1>$E$11,0,IF($G36=0,0,(DG$1-$G36)*Hoja1!$A$1/DG$1))","v":0},{"$f":"IF(DH$1>$E$11,0,IF($G36=0,0,(DH$1-$G36)*Hoja1!$A$1/DH$1))","v":0},{"$f":"IF(DI$1>$E$11,0,IF($G36=0,0,(DI$1-$G36)*Hoja1!$A$1/DI$1))","v":0},{"$f":"IF(DJ$1>$E$11,0,IF($G36=0,0,(DJ$1-$G36)*Hoja1!$A$1/DJ$1))","v":0},{"$f":"IF(DK$1>$E$11,0,IF($G36=0,0,(DK$1-$G36)*Hoja1!$A$1/DK$1))","v":0},{"$f":"IF(DL$1>$E$11,0,IF($G36=0,0,(DL$1-$G36)*Hoja1!$A$1/DL$1))","v":0},{"$f":"IF(DM$1>$E$11,0,IF($G36=0,0,(DM$1-$G36)*Hoja1!$A$1/DM$1))","v":0}]
[null,{"$f":"VLOOKUP(Hoja2!F13,Hoja1!C25:E34,2,0)","v":2.8502295699234246},{"$f":"VLOOKUP(Hoja2!F13,Hoja1!C25:E34,3,0)","v":1.905},null,null,441.17499999999995,0,{"$f":"IF(H$1>$E$11,0,IF($G37=0,0,(H$1-$G37)*Hoja1!$A$1/H$1))","v":0},{"$f":"IF(I$1>$E$11,0,IF($G37=0,0,(I$1-$G37)*Hoja1!$A$1/I$1))","v":0},{"$f":"IF(J$1>$E$11,0,IF($G37=0,0,(J$1-$G37)*Hoja1!$A$1/J$1))","v":0},{"$f":"IF(K$1>$E$11,0,IF($G37=0,0,(K$1-$G37)*Hoja1!$A$1/K$1))","v":0},{"$f":"IF(L$1>$E$11,0,IF($G37=0,0,(L$1-$G37)*Hoja1!$A$1/L$1))","v":0},{"$f":"IF(M$1>$E$11,0,IF($G37=0,0,(M$1-$G37)*Hoja1!$A$1/M$1))","v":0},{"$f":"IF(N$1>$E$11,0,IF($G37=0,0,(N$1-$G37)*Hoja1!$A$1/N$1))","v":0},{"$f":"IF(O$1>$E$11,0,IF($G37=0,0,(O$1-$G37)*Hoja1!$A$1/O$1))","v":0},{"$f":"IF(P$1>$E$11,0,IF($G37=0,0,(P$1-$G37)*Hoja1!$A$1/P$1))","v":0},{"$f":"IF(Q$1>$E$11,0,IF($G37=0,0,(Q$1-$G37)*Hoja1!$A$1/Q$1))","v":0},{"$f":"IF(R$1>$E$11,0,IF($G37=0,0,(R$1-$G37)*Hoja1!$A$1/R$1))","v":0},{"$f":"IF(S$1>$E$11,0,IF($G37=0,0,(S$1-$G37)*Hoja1!$A$1/S$1))","v":0},{"$f":"IF(T$1>$E$11,0,IF($G37=0,0,(T$1-$G37)*Hoja1!$A$1/T$1))","v":0},{"$f":"IF(U$1>$E$11,0,IF($G37=0,0,(U$1-$G37)*Hoja1!$A$1/U$1))","v":0},{"$f":"IF(V$1>$E$11,0,IF($G37=0,0,(V$1-$G37)*Hoja1!$A$1/V$1))","v":0},{"$f":"IF(W$1>$E$11,0,IF($G37=0,0,(W$1-$G37)*Hoja1!$A$1/W$1))","v":0},{"$f":"IF(X$1>$E$11,0,IF($G37=0,0,(X$1-$G37)*Hoja1!$A$1/X$1))","v":0},{"$f":"IF(Y$1>$E$11,0,IF($G37=0,0,(Y$1-$G37)*Hoja1!$A$1/Y$1))","v":0},{"$f":"IF(Z$1>$E$11,0,IF($G37=0,0,(Z$1-$G37)*Hoja1!$A$1/Z$1))","v":0},{"$f":"IF(AA$1>$E$11,0,IF($G37=0,0,(AA$1-$G37)*Hoja1!$A$1/AA$1))","v":0},{"$f":"IF(AB$1>$E$11,0,IF($G37=0,0,(AB$1-$G37)*Hoja1!$A$1/AB$1))","v":0},{"$f":"IF(AC$1>$E$11,0,IF($G37=0,0,(AC$1-$G37)*Hoja1!$A$1/AC$1))","v":0},{"$f":"IF(AD$1>$E$11,0,IF($G37=0,0,(AD$1-$G37)*Hoja1!$A$1/AD$1))","v":0},{"$f":"IF(AE$1>$E$11,0,IF($G37=0,0,(AE$1-$G37)*Hoja1!$A$1/AE$1))","v":0},{"$f":"IF(AF$1>$E$11,0,IF($G37=0,0,(AF$1-$G37)*Hoja1!$A$1/AF$1))","v":0},{"$f":"IF(AG$1>$E$11,0,IF($G37=0,0,(AG$1-$G37)*Hoja1!$A$1/AG$1))","v":0},{"$f":"IF(AH$1>$E$11,0,IF($G37=0,0,(AH$1-$G37)*Hoja1!$A$1/AH$1))","v":0},{"$f":"IF(AI$1>$E$11,0,IF($G37=0,0,(AI$1-$G37)*Hoja1!$A$1/AI$1))","v":0},{"$f":"IF(AJ$1>$E$11,0,IF($G37=0,0,(AJ$1-$G37)*Hoja1!$A$1/AJ$1))","v":0},{"$f":"IF(AK$1>$E$11,0,IF($G37=0,0,(AK$1-$G37)*Hoja1!$A$1/AK$1))","v":0},{"$f":"IF(AL$1>$E$11,0,IF($G37=0,0,(AL$1-$G37)*Hoja1!$A$1/AL$1))","v":0},{"$f":"IF(AM$1>$E$11,0,IF($G37=0,0,(AM$1-$G37)*Hoja1!$A$1/AM$1))","v":0},{"$f":"IF(AN$1>$E$11,0,IF($G37=0,0,(AN$1-$G37)*Hoja1!$A$1/AN$1))","v":0},{"$f":"IF(AO$1>$E$11,0,IF($G37=0,0,(AO$1-$G37)*Hoja1!$A$1/AO$1))","v":0},{"$f":"IF(AP$1>$E$11,0,IF($G37=0,0,(AP$1-$G37)*Hoja1!$A$1/AP$1))","v":0},{"$f":"IF(AQ$1>$E$11,0,IF($G37=0,0,(AQ$1-$G37)*Hoja1!$A$1/AQ$1))","v":0},{"$f":"IF(AR$1>$E$11,0,IF($G37=0,0,(AR$1-$G37)*Hoja1!$A$1/AR$1))","v":0},{"$f":"IF(AS$1>$E$11,0,IF($G37=0,0,(AS$1-$G37)*Hoja1!$A$1/AS$1))","v":0},{"$f":"IF(AT$1>$E$11,0,IF($G37=0,0,(AT$1-$G37)*Hoja1!$A$1/AT$1))","v":0},{"$f":"IF(AU$1>$E$11,0,IF($G37=0,0,(AU$1-$G37)*Hoja1!$A$1/AU$1))","v":0},{"$f":"IF(AV$1>$E$11,0,IF($G37=0,0,(AV$1-$G37)*Hoja1!$A$1/AV$1))","v":0},{"$f":"IF(AW$1>$E$11,0,IF($G37=0,0,(AW$1-$G37)*Hoja1!$A$1/AW$1))","v":0},{"$f":"IF(AX$1>$E$11,0,IF($G37=0,0,(AX$1-$G37)*Hoja1!$A$1/AX$1))","v":0},{"$f":"IF(AY$1>$E$11,0,IF($G37=0,0,(AY$1-$G37)*Hoja1!$A$1/AY$1))","v":0},{"$f":"IF(AZ$1>$E$11,0,IF($G37=0,0,(AZ$1-$G37)*Hoja1!$A$1/AZ$1))","v":0},{"$f":"IF(BA$1>$E$11,0,IF($G37=0,0,(BA$1-$G37)*Hoja1!$A$1/BA$1))","v":0},{"$f":"IF(BB$1>$E$11,0,IF($G37=0,0,(BB$1-$G37)*Hoja1!$A$1/BB$1))","v":0},{"$f":"IF(BC$1>$E$11,0,IF($G37=0,0,(BC$1-$G37)*Hoja1!$A$1/BC$1))","v":0},{"$f":"IF(BD$1>$E$11,0,IF($G37=0,0,(BD$1-$G37)*Hoja1!$A$1/BD$1))","v":0},{"$f":"IF(BE$1>$E$11,0,IF($G37=0,0,(BE$1-$G37)*Hoja1!$A$1/BE$1))","v":0},{"$f":"IF(BF$1>$E$11,0,IF($G37=0,0,(BF$1-$G37)*Hoja1!$A$1/BF$1))","v":0},{"$f":"IF(BG$1>$E$11,0,IF($G37=0,0,(BG$1-$G37)*Hoja1!$A$1/BG$1))","v":0},{"$f":"IF(BH$1>$E$11,0,IF($G37=0,0,(BH$1-$G37)*Hoja1!$A$1/BH$1))","v":0},{"$f":"IF(BI$1>$E$11,0,IF($G37=0,0,(BI$1-$G37)*Hoja1!$A$1/BI$1))","v":0},{"$f":"IF(BJ$1>$E$11,0,IF($G37=0,0,(BJ$1-$G37)*Hoja1!$A$1/BJ$1))","v":0},{"$f":"IF(BK$1>$E$11,0,IF($G37=0,0,(BK$1-$G37)*Hoja1!$A$1/BK$1))","v":0},{"$f":"IF(BL$1>$E$11,0,IF($G37=0,0,(BL$1-$G37)*Hoja1!$A$1/BL$1))","v":0},{"$f":"IF(BM$1>$E$11,0,IF($G37=0,0,(BM$1-$G37)*Hoja1!$A$1/BM$1))","v":0},{"$f":"IF(BN$1>$E$11,0,IF($G37=0,0,(BN$1-$G37)*Hoja1!$A$1/BN$1))","v":0},{"$f":"IF(BO$1>$E$11,0,IF($G37=0,0,(BO$1-$G37)*Hoja1!$A$1/BO$1))","v":0},{"$f":"IF(BP$1>$E$11,0,IF($G37=0,0,(BP$1-$G37)*Hoja1!$A$1/BP$1))","v":0},{"$f":"IF(BQ$1>$E$11,0,IF($G37=0,0,(BQ$1-$G37)*Hoja1!$A$1/BQ$1))","v":0},{"$f":"IF(BR$1>$E$11,0,IF($G37=0,0,(BR$1-$G37)*Hoja1!$A$1/BR$1))","v":0},{"$f":"IF(BS$1>$E$11,0,IF($G37=0,0,(BS$1-$G37)*Hoja1!$A$1/BS$1))","v":0},{"$f":"IF(BT$1>$E$11,0,IF($G37=0,0,(BT$1-$G37)*Hoja1!$A$1/BT$1))","v":0},{"$f":"IF(BU$1>$E$11,0,IF($G37=0,0,(BU$1-$G37)*Hoja1!$A$1/BU$1))","v":0},{"$f":"IF(BV$1>$E$11,0,IF($G37=0,0,(BV$1-$G37)*Hoja1!$A$1/BV$1))","v":0},{"$f":"IF(BW$1>$E$11,0,IF($G37=0,0,(BW$1-$G37)*Hoja1!$A$1/BW$1))","v":0},{"$f":"IF(BX$1>$E$11,0,IF($G37=0,0,(BX$1-$G37)*Hoja1!$A$1/BX$1))","v":0},{"$f":"IF(BY$1>$E$11,0,IF($G37=0,0,(BY$1-$G37)*Hoja1!$A$1/BY$1))","v":0},{"$f":"IF(BZ$1>$E$11,0,IF($G37=0,0,(BZ$1-$G37)*Hoja1!$A$1/BZ$1))","v":0},{"$f":"IF(CA$1>$E$11,0,IF($G37=0,0,(CA$1-$G37)*Hoja1!$A$1/CA$1))","v":0},{"$f":"IF(CB$1>$E$11,0,IF($G37=0,0,(CB$1-$G37)*Hoja1!$A$1/CB$1))","v":0},{"$f":"IF(CC$1>$E$11,0,IF($G37=0,0,(CC$1-$G37)*Hoja1!$A$1/CC$1))","v":0},{"$f":"IF(CD$1>$E$11,0,IF($G37=0,0,(CD$1-$G37)*Hoja1!$A$1/CD$1))","v":0},{"$f":"IF(CE$1>$E$11,0,IF($G37=0,0,(CE$1-$G37)*Hoja1!$A$1/CE$1))","v":0},{"$f":"IF(CF$1>$E$11,0,IF($G37=0,0,(CF$1-$G37)*Hoja1!$A$1/CF$1))","v":0},{"$f":"IF(CG$1>$E$11,0,IF($G37=0,0,(CG$1-$G37)*Hoja1!$A$1/CG$1))","v":0},{"$f":"IF(CH$1>$E$11,0,IF($G37=0,0,(CH$1-$G37)*Hoja1!$A$1/CH$1))","v":0},{"$f":"IF(CI$1>$E$11,0,IF($G37=0,0,(CI$1-$G37)*Hoja1!$A$1/CI$1))","v":0},{"$f":"IF(CJ$1>$E$11,0,IF($G37=0,0,(CJ$1-$G37)*Hoja1!$A$1/CJ$1))","v":0},{"$f":"IF(CK$1>$E$11,0,IF($G37=0,0,(CK$1-$G37)*Hoja1!$A$1/CK$1))","v":0},{"$f":"IF(CL$1>$E$11,0,IF($G37=0,0,(CL$1-$G37)*Hoja1!$A$1/CL$1))","v":0},{"$f":"IF(CM$1>$E$11,0,IF($G37=0,0,(CM$1-$G37)*Hoja1!$A$1/CM$1))","v":0},{"$f":"IF(CN$1>$E$11,0,IF($G37=0,0,(CN$1-$G37)*Hoja1!$A$1/CN$1))","v":0},{"$f":"IF(CO$1>$E$11,0,IF($G37=0,0,(CO$1-$G37)*Hoja1!$A$1/CO$1))","v":0},{"$f":"IF(CP$1>$E$11,0,IF($G37=0,0,(CP$1-$G37)*Hoja1!$A$1/CP$1))","v":0},{"$f":"IF(CQ$1>$E$11,0,IF($G37=0,0,(CQ$1-$G37)*Hoja1!$A$1/CQ$1))","v":0},{"$f":"IF(CR$1>$E$11,0,IF($G37=0,0,(CR$1-$G37)*Hoja1!$A$1/CR$1))","v":0},{"$f":"IF(CS$1>$E$11,0,IF($G37=0,0,(CS$1-$G37)*Hoja1!$A$1/CS$1))","v":0},{"$f":"IF(CT$1>$E$11,0,IF($G37=0,0,(CT$1-$G37)*Hoja1!$A$1/CT$1))","v":0},{"$f":"IF(CU$1>$E$11,0,IF($G37=0,0,(CU$1-$G37)*Hoja1!$A$1/CU$1))","v":0},{"$f":"IF(CV$1>$E$11,0,IF($G37=0,0,(CV$1-$G37)*Hoja1!$A$1/CV$1))","v":0},{"$f":"IF(CW$1>$E$11,0,IF($G37=0,0,(CW$1-$G37)*Hoja1!$A$1/CW$1))","v":0},{"$f":"IF(CX$1>$E$11,0,IF($G37=0,0,(CX$1-$G37)*Hoja1!$A$1/CX$1))","v":0},{"$f":"IF(CY$1>$E$11,0,IF($G37=0,0,(CY$1-$G37)*Hoja1!$A$1/CY$1))","v":0},{"$f":"IF(CZ$1>$E$11,0,IF($G37=0,0,(CZ$1-$G37)*Hoja1!$A$1/CZ$1))","v":0},{"$f":"IF(DA$1>$E$11,0,IF($G37=0,0,(DA$1-$G37)*Hoja1!$A$1/DA$1))","v":0},{"$f":"IF(DB$1>$E$11,0,IF($G37=0,0,(DB$1-$G37)*Hoja1!$A$1/DB$1))","v":0},{"$f":"IF(DC$1>$E$11,0,IF($G37=0,0,(DC$1-$G37)*Hoja1!$A$1/DC$1))","v":0},{"$f":"IF(DD$1>$E$11,0,IF($G37=0,0,(DD$1-$G37)*Hoja1!$A$1/DD$1))","v":0},{"$f":"IF(DE$1>$E$11,0,IF($G37=0,0,(DE$1-$G37)*Hoja1!$A$1/DE$1))","v":0},{"$f":"IF(DF$1>$E$11,0,IF($G37=0,0,(DF$1-$G37)*Hoja1!$A$1/DF$1))","v":0},{"$f":"IF(DG$1>$E$11,0,IF($G37=0,0,(DG$1-$G37)*Hoja1!$A$1/DG$1))","v":0},{"$f":"IF(DH$1>$E$11,0,IF($G37=0,0,(DH$1-$G37)*Hoja1!$A$1/DH$1))","v":0},{"$f":"IF(DI$1>$E$11,0,IF($G37=0,0,(DI$1-$G37)*Hoja1!$A$1/DI$1))","v":0},{"$f":"IF(DJ$1>$E$11,0,IF($G37=0,0,(DJ$1-$G37)*Hoja1!$A$1/DJ$1))","v":0},{"$f":"IF(DK$1>$E$11,0,IF($G37=0,0,(DK$1-$G37)*Hoja1!$A$1/DK$1))","v":0},{"$f":"IF(DL$1>$E$11,0,IF($G37=0,0,(DL$1-$G37)*Hoja1!$A$1/DL$1))","v":0},{"$f":"IF(DM$1>$E$11,0,IF($G37=0,0,(DM$1-$G37)*Hoja1!$A$1/DM$1))","v":0}]
[null,"estribo:",null,null,null,454.36499999999995,0,{"$f":"IF(H$1>$E$11,0,IF($G38=0,0,(H$1-$G38)*Hoja1!$A$1/H$1))","v":0},{"$f":"IF(I$1>$E$11,0,IF($G38=0,0,(I$1-$G38)*Hoja1!$A$1/I$1))","v":0},{"$f":"IF(J$1>$E$11,0,IF($G38=0,0,(J$1-$G38)*Hoja1!$A$1/J$1))","v":0},{"$f":"IF(K$1>$E$11,0,IF($G38=0,0,(K$1-$G38)*Hoja1!$A$1/K$1))","v":0},{"$f":"IF(L$1>$E$11,0,IF($G38=0,0,(L$1-$G38)*Hoja1!$A$1/L$1))","v":0},{"$f":"IF(M$1>$E$11,0,IF($G38=0,0,(M$1-$G38)*Hoja1!$A$1/M$1))","v":0},{"$f":"IF(N$1>$E$11,0,IF($G38=0,0,(N$1-$G38)*Hoja1!$A$1/N$1))","v":0},{"$f":"IF(O$1>$E$11,0,IF($G38=0,0,(O$1-$G38)*Hoja1!$A$1/O$1))","v":0},{"$f":"IF(P$1>$E$11,0,IF($G38=0,0,(P$1-$G38)*Hoja1!$A$1/P$1))","v":0},{"$f":"IF(Q$1>$E$11,0,IF($G38=0,0,(Q$1-$G38)*Hoja1!$A$1/Q$1))","v":0},{"$f":"IF(R$1>$E$11,0,IF($G38=0,0,(R$1-$G38)*Hoja1!$A$1/R$1))","v":0},{"$f":"IF(S$1>$E$11,0,IF($G38=0,0,(S$1-$G38)*Hoja1!$A$1/S$1))","v":0},{"$f":"IF(T$1>$E$11,0,IF($G38=0,0,(T$1-$G38)*Hoja1!$A$1/T$1))","v":0},{"$f":"IF(U$1>$E$11,0,IF($G38=0,0,(U$1-$G38)*Hoja1!$A$1/U$1))","v":0},{"$f":"IF(V$1>$E$11,0,IF($G38=0,0,(V$1-$G38)*Hoja1!$A$1/V$1))","v":0},{"$f":"IF(W$1>$E$11,0,IF($G38=0,0,(W$1-$G38)*Hoja1!$A$1/W$1))","v":0},{"$f":"IF(X$1>$E$11,0,IF($G38=0,0,(X$1-$G38)*Hoja1!$A$1/X$1))","v":0},{"$f":"IF(Y$1>$E$11,0,IF($G38=0,0,(Y$1-$G38)*Hoja1!$A$1/Y$1))","v":0},{"$f":"IF(Z$1>$E$11,0,IF($G38=0,0,(Z$1-$G38)*Hoja1!$A$1/Z$1))","v":0},{"$f":"IF(AA$1>$E$11,0,IF($G38=0,0,(AA$1-$G38)*Hoja1!$A$1/AA$1))","v":0},{"$f":"IF(AB$1>$E$11,0,IF($G38=0,0,(AB$1-$G38)*Hoja1!$A$1/AB$1))","v":0},{"$f":"IF(AC$1>$E$11,0,IF($G38=0,0,(AC$1-$G38)*Hoja1!$A$1/AC$1))","v":0},{"$f":"IF(AD$1>$E$11,0,IF($G38=0,0,(AD$1-$G38)*Hoja1!$A$1/AD$1))","v":0},{"$f":"IF(AE$1>$E$11,0,IF($G38=0,0,(AE$1-$G38)*Hoja1!$A$1/AE$1))","v":0},{"$f":"IF(AF$1>$E$11,0,IF($G38=0,0,(AF$1-$G38)*Hoja1!$A$1/AF$1))","v":0},{"$f":"IF(AG$1>$E$11,0,IF($G38=0,0,(AG$1-$G38)*Hoja1!$A$1/AG$1))","v":0},{"$f":"IF(AH$1>$E$11,0,IF($G38=0,0,(AH$1-$G38)*Hoja1!$A$1/AH$1))","v":0},{"$f":"IF(AI$1>$E$11,0,IF($G38=0,0,(AI$1-$G38)*Hoja1!$A$1/AI$1))","v":0},{"$f":"IF(AJ$1>$E$11,0,IF($G38=0,0,(AJ$1-$G38)*Hoja1!$A$1/AJ$1))","v":0},{"$f":"IF(AK$1>$E$11,0,IF($G38=0,0,(AK$1-$G38)*Hoja1!$A$1/AK$1))","v":0},{"$f":"IF(AL$1>$E$11,0,IF($G38=0,0,(AL$1-$G38)*Hoja1!$A$1/AL$1))","v":0},{"$f":"IF(AM$1>$E$11,0,IF($G38=0,0,(AM$1-$G38)*Hoja1!$A$1/AM$1))","v":0},{"$f":"IF(AN$1>$E$11,0,IF($G38=0,0,(AN$1-$G38)*Hoja1!$A$1/AN$1))","v":0},{"$f":"IF(AO$1>$E$11,0,IF($G38=0,0,(AO$1-$G38)*Hoja1!$A$1/AO$1))","v":0},{"$f":"IF(AP$1>$E$11,0,IF($G38=0,0,(AP$1-$G38)*Hoja1!$A$1/AP$1))","v":0},{"$f":"IF(AQ$1>$E$11,0,IF($G38=0,0,(AQ$1-$G38)*Hoja1!$A$1/AQ$1))","v":0},{"$f":"IF(AR$1>$E$11,0,IF($G38=0,0,(AR$1-$G38)*Hoja1!$A$1/AR$1))","v":0},{"$f":"IF(AS$1>$E$11,0,IF($G38=0,0,(AS$1-$G38)*Hoja1!$A$1/AS$1))","v":0},{"$f":"IF(AT$1>$E$11,0,IF($G38=0,0,(AT$1-$G38)*Hoja1!$A$1/AT$1))","v":0},{"$f":"IF(AU$1>$E$11,0,IF($G38=0,0,(AU$1-$G38)*Hoja1!$A$1/AU$1))","v":0},{"$f":"IF(AV$1>$E$11,0,IF($G38=0,0,(AV$1-$G38)*Hoja1!$A$1/AV$1))","v":0},{"$f":"IF(AW$1>$E$11,0,IF($G38=0,0,(AW$1-$G38)*Hoja1!$A$1/AW$1))","v":0},{"$f":"IF(AX$1>$E$11,0,IF($G38=0,0,(AX$1-$G38)*Hoja1!$A$1/AX$1))","v":0},{"$f":"IF(AY$1>$E$11,0,IF($G38=0,0,(AY$1-$G38)*Hoja1!$A$1/AY$1))","v":0},{"$f":"IF(AZ$1>$E$11,0,IF($G38=0,0,(AZ$1-$G38)*Hoja1!$A$1/AZ$1))","v":0},{"$f":"IF(BA$1>$E$11,0,IF($G38=0,0,(BA$1-$G38)*Hoja1!$A$1/BA$1))","v":0},{"$f":"IF(BB$1>$E$11,0,IF($G38=0,0,(BB$1-$G38)*Hoja1!$A$1/BB$1))","v":0},{"$f":"IF(BC$1>$E$11,0,IF($G38=0,0,(BC$1-$G38)*Hoja1!$A$1/BC$1))","v":0},{"$f":"IF(BD$1>$E$11,0,IF($G38=0,0,(BD$1-$G38)*Hoja1!$A$1/BD$1))","v":0},{"$f":"IF(BE$1>$E$11,0,IF($G38=0,0,(BE$1-$G38)*Hoja1!$A$1/BE$1))","v":0},{"$f":"IF(BF$1>$E$11,0,IF($G38=0,0,(BF$1-$G38)*Hoja1!$A$1/BF$1))","v":0},{"$f":"IF(BG$1>$E$11,0,IF($G38=0,0,(BG$1-$G38)*Hoja1!$A$1/BG$1))","v":0},{"$f":"IF(BH$1>$E$11,0,IF($G38=0,0,(BH$1-$G38)*Hoja1!$A$1/BH$1))","v":0},{"$f":"IF(BI$1>$E$11,0,IF($G38=0,0,(BI$1-$G38)*Hoja1!$A$1/BI$1))","v":0},{"$f":"IF(BJ$1>$E$11,0,IF($G38=0,0,(BJ$1-$G38)*Hoja1!$A$1/BJ$1))","v":0},{"$f":"IF(BK$1>$E$11,0,IF($G38=0,0,(BK$1-$G38)*Hoja1!$A$1/BK$1))","v":0},{"$f":"IF(BL$1>$E$11,0,IF($G38=0,0,(BL$1-$G38)*Hoja1!$A$1/BL$1))","v":0},{"$f":"IF(BM$1>$E$11,0,IF($G38=0,0,(BM$1-$G38)*Hoja1!$A$1/BM$1))","v":0},{"$f":"IF(BN$1>$E$11,0,IF($G38=0,0,(BN$1-$G38)*Hoja1!$A$1/BN$1))","v":0},{"$f":"IF(BO$1>$E$11,0,IF($G38=0,0,(BO$1-$G38)*Hoja1!$A$1/BO$1))","v":0},{"$f":"IF(BP$1>$E$11,0,IF($G38=0,0,(BP$1-$G38)*Hoja1!$A$1/BP$1))","v":0},{"$f":"IF(BQ$1>$E$11,0,IF($G38=0,0,(BQ$1-$G38)*Hoja1!$A$1/BQ$1))","v":0},{"$f":"IF(BR$1>$E$11,0,IF($G38=0,0,(BR$1-$G38)*Hoja1!$A$1/BR$1))","v":0},{"$f":"IF(BS$1>$E$11,0,IF($G38=0,0,(BS$1-$G38)*Hoja1!$A$1/BS$1))","v":0},{"$f":"IF(BT$1>$E$11,0,IF($G38=0,0,(BT$1-$G38)*Hoja1!$A$1/BT$1))","v":0},{"$f":"IF(BU$1>$E$11,0,IF($G38=0,0,(BU$1-$G38)*Hoja1!$A$1/BU$1))","v":0},{"$f":"IF(BV$1>$E$11,0,IF($G38=0,0,(BV$1-$G38)*Hoja1!$A$1/BV$1))","v":0},{"$f":"IF(BW$1>$E$11,0,IF($G38=0,0,(BW$1-$G38)*Hoja1!$A$1/BW$1))","v":0},{"$f":"IF(BX$1>$E$11,0,IF($G38=0,0,(BX$1-$G38)*Hoja1!$A$1/BX$1))","v":0},{"$f":"IF(BY$1>$E$11,0,IF($G38=0,0,(BY$1-$G38)*Hoja1!$A$1/BY$1))","v":0},{"$f":"IF(BZ$1>$E$11,0,IF($G38=0,0,(BZ$1-$G38)*Hoja1!$A$1/BZ$1))","v":0},{"$f":"IF(CA$1>$E$11,0,IF($G38=0,0,(CA$1-$G38)*Hoja1!$A$1/CA$1))","v":0},{"$f":"IF(CB$1>$E$11,0,IF($G38=0,0,(CB$1-$G38)*Hoja1!$A$1/CB$1))","v":0},{"$f":"IF(CC$1>$E$11,0,IF($G38=0,0,(CC$1-$G38)*Hoja1!$A$1/CC$1))","v":0},{"$f":"IF(CD$1>$E$11,0,IF($G38=0,0,(CD$1-$G38)*Hoja1!$A$1/CD$1))","v":0},{"$f":"IF(CE$1>$E$11,0,IF($G38=0,0,(CE$1-$G38)*Hoja1!$A$1/CE$1))","v":0},{"$f":"IF(CF$1>$E$11,0,IF($G38=0,0,(CF$1-$G38)*Hoja1!$A$1/CF$1))","v":0},{"$f":"IF(CG$1>$E$11,0,IF($G38=0,0,(CG$1-$G38)*Hoja1!$A$1/CG$1))","v":0},{"$f":"IF(CH$1>$E$11,0,IF($G38=0,0,(CH$1-$G38)*Hoja1!$A$1/CH$1))","v":0},{"$f":"IF(CI$1>$E$11,0,IF($G38=0,0,(CI$1-$G38)*Hoja1!$A$1/CI$1))","v":0},{"$f":"IF(CJ$1>$E$11,0,IF($G38=0,0,(CJ$1-$G38)*Hoja1!$A$1/CJ$1))","v":0},{"$f":"IF(CK$1>$E$11,0,IF($G38=0,0,(CK$1-$G38)*Hoja1!$A$1/CK$1))","v":0},{"$f":"IF(CL$1>$E$11,0,IF($G38=0,0,(CL$1-$G38)*Hoja1!$A$1/CL$1))","v":0},{"$f":"IF(CM$1>$E$11,0,IF($G38=0,0,(CM$1-$G38)*Hoja1!$A$1/CM$1))","v":0},{"$f":"IF(CN$1>$E$11,0,IF($G38=0,0,(CN$1-$G38)*Hoja1!$A$1/CN$1))","v":0},{"$f":"IF(CO$1>$E$11,0,IF($G38=0,0,(CO$1-$G38)*Hoja1!$A$1/CO$1))","v":0},{"$f":"IF(CP$1>$E$11,0,IF($G38=0,0,(CP$1-$G38)*Hoja1!$A$1/CP$1))","v":0},{"$f":"IF(CQ$1>$E$11,0,IF($G38=0,0,(CQ$1-$G38)*Hoja1!$A$1/CQ$1))","v":0},{"$f":"IF(CR$1>$E$11,0,IF($G38=0,0,(CR$1-$G38)*Hoja1!$A$1/CR$1))","v":0},{"$f":"IF(CS$1>$E$11,0,IF($G38=0,0,(CS$1-$G38)*Hoja1!$A$1/CS$1))","v":0},{"$f":"IF(CT$1>$E$11,0,IF($G38=0,0,(CT$1-$G38)*Hoja1!$A$1/CT$1))","v":0},{"$f":"IF(CU$1>$E$11,0,IF($G38=0,0,(CU$1-$G38)*Hoja1!$A$1/CU$1))","v":0},{"$f":"IF(CV$1>$E$11,0,IF($G38=0,0,(CV$1-$G38)*Hoja1!$A$1/CV$1))","v":0},{"$f":"IF(CW$1>$E$11,0,IF($G38=0,0,(CW$1-$G38)*Hoja1!$A$1/CW$1))","v":0},{"$f":"IF(CX$1>$E$11,0,IF($G38=0,0,(CX$1-$G38)*Hoja1!$A$1/CX$1))","v":0},{"$f":"IF(CY$1>$E$11,0,IF($G38=0,0,(CY$1-$G38)*Hoja1!$A$1/CY$1))","v":0},{"$f":"IF(CZ$1>$E$11,0,IF($G38=0,0,(CZ$1-$G38)*Hoja1!$A$1/CZ$1))","v":0},{"$f":"IF(DA$1>$E$11,0,IF($G38=0,0,(DA$1-$G38)*Hoja1!$A$1/DA$1))","v":0},{"$f":"IF(DB$1>$E$11,0,IF($G38=0,0,(DB$1-$G38)*Hoja1!$A$1/DB$1))","v":0},{"$f":"IF(DC$1>$E$11,0,IF($G38=0,0,(DC$1-$G38)*Hoja1!$A$1/DC$1))","v":0},{"$f":"IF(DD$1>$E$11,0,IF($G38=0,0,(DD$1-$G38)*Hoja1!$A$1/DD$1))","v":0},{"$f":"IF(DE$1>$E$11,0,IF($G38=0,0,(DE$1-$G38)*Hoja1!$A$1/DE$1))","v":0},{"$f":"IF(DF$1>$E$11,0,IF($G38=0,0,(DF$1-$G38)*Hoja1!$A$1/DF$1))","v":0},{"$f":"IF(DG$1>$E$11,0,IF($G38=0,0,(DG$1-$G38)*Hoja1!$A$1/DG$1))","v":0},{"$f":"IF(DH$1>$E$11,0,IF($G38=0,0,(DH$1-$G38)*Hoja1!$A$1/DH$1))","v":0},{"$f":"IF(DI$1>$E$11,0,IF($G38=0,0,(DI$1-$G38)*Hoja1!$A$1/DI$1))","v":0},{"$f":"IF(DJ$1>$E$11,0,IF($G38=0,0,(DJ$1-$G38)*Hoja1!$A$1/DJ$1))","v":0},{"$f":"IF(DK$1>$E$11,0,IF($G38=0,0,(DK$1-$G38)*Hoja1!$A$1/DK$1))","v":0},{"$f":"IF(DL$1>$E$11,0,IF($G38=0,0,(DL$1-$G38)*Hoja1!$A$1/DL$1))","v":0},{"$f":"IF(DM$1>$E$11,0,IF($G38=0,0,(DM$1-$G38)*Hoja1!$A$1/DM$1))","v":0}]
[null,{"$f":"VLOOKUP(Hoja2!F14,Hoja1!C25:E34,2,0)","v":0.71255739248085614},{"$f":"VLOOKUP(Hoja2!F14,Hoja1!C25:E34,3,0)","v":0.95250000000000001},null,null,467.55499999999995,0,{"$f":"IF(H$1>$E$11,0,IF($G39=0,0,(H$1-$G39)*Hoja1!$A$1/H$1))","v":0},{"$f":"IF(I$1>$E$11,0,IF($G39=0,0,(I$1-$G39)*Hoja1!$A$1/I$1))","v":0},{"$f":"IF(J$1>$E$11,0,IF($G39=0,0,(J$1-$G39)*Hoja1!$A$1/J$1))","v":0},{"$f":"IF(K$1>$E$11,0,IF($G39=0,0,(K$1-$G39)*Hoja1!$A$1/K$1))","v":0},{"$f":"IF(L$1>$E$11,0,IF($G39=0,0,(L$1-$G39)*Hoja1!$A$1/L$1))","v":0},{"$f":"IF(M$1>$E$11,0,IF($G39=0,0,(M$1-$G39)*Hoja1!$A$1/M$1))","v":0},{"$f":"IF(N$1>$E$11,0,IF($G39=0,0,(N$1-$G39)*Hoja1!$A$1/N$1))","v":0},{"$f":"IF(O$1>$E$11,0,IF($G39=0,0,(O$1-$G39)*Hoja1!$A$1/O$1))","v":0},{"$f":"IF(P$1>$E$11,0,IF($G39=0,0,(P$1-$G39)*Hoja1!$A$1/P$1))","v":0},{"$f":"IF(Q$1>$E$11,0,IF($G39=0,0,(Q$1-$G39)*Hoja1!$A$1/Q$1))","v":0},{"$f":"IF(R$1>$E$11,0,IF($G39=0,0,(R$1-$G39)*Hoja1!$A$1/R$1))","v":0},{"$f":"IF(S$1>$E$11,0,IF($G39=0,0,(S$1-$G39)*Hoja1!$A$1/S$1))","v":0},{"$f":"IF(T$1>$E$11,0,IF($G39=0,0,(T$1-$G39)*Hoja1!$A$1/T$1))","v":0},{"$f":"IF(U$1>$E$11,0,IF($G39=0,0,(U$1-$G39)*Hoja1!$A$1/U$1))","v":0},{"$f":"IF(V$1>$E$11,0,IF($G39=0,0,(V$1-$G39)*Hoja1!$A$1/V$1))","v":0},{"$f":"IF(W$1>$E$11,0,IF($G39=0,0,(W$1-$G39)*Hoja1!$A$1/W$1))","v":0},{"$f":"IF(X$1>$E$11,0,IF($G39=0,0,(X$1-$G39)*Hoja1!$A$1/X$1))","v":0},{"$f":"IF(Y$1>$E$11,0,IF($G39=0,0,(Y$1-$G39)*Hoja1!$A$1/Y$1))","v":0},{"$f":"IF(Z$1>$E$11,0,IF($G39=0,0,(Z$1-$G39)*Hoja1!$A$1/Z$1))","v":0},{"$f":"IF(AA$1>$E$11,0,IF($G39=0,0,(AA$1-$G39)*Hoja1!$A$1/AA$1))","v":0},{"$f":"IF(AB$1>$E$11,0,IF($G39=0,0,(AB$1-$G39)*Hoja1!$A$1/AB$1))","v":0},{"$f":"IF(AC$1>$E$11,0,IF($G39=0,0,(AC$1-$G39)*Hoja1!$A$1/AC$1))","v":0},{"$f":"IF(AD$1>$E$11,0,IF($G39=0,0,(AD$1-$G39)*Hoja1!$A$1/AD$1))","v":0},{"$f":"IF(AE$1>$E$11,0,IF($G39=0,0,(AE$1-$G39)*Hoja1!$A$1/AE$1))","v":0},{"$f":"IF(AF$1>$E$11,0,IF($G39=0,0,(AF$1-$G39)*Hoja1!$A$1/AF$1))","v":0},{"$f":"IF(AG$1>$E$11,0,IF($G39=0,0,(AG$1-$G39)*Hoja1!$A$1/AG$1))","v":0},{"$f":"IF(AH$1>$E$11,0,IF($G39=0,0,(AH$1-$G39)*Hoja1!$A$1/AH$1))","v":0},{"$f":"IF(AI$1>$E$11,0,IF($G39=0,0,(AI$1-$G39)*Hoja1!$A$1/AI$1))","v":0},{"$f":"IF(AJ$1>$E$11,0,IF($G39=0,0,(AJ$1-$G39)*Hoja1!$A$1/AJ$1))","v":0},{"$f":"IF(AK$1>$E$11,0,IF($G39=0,0,(AK$1-$G39)*Hoja1!$A$1/AK$1))","v":0},{"$f":"IF(AL$1>$E$11,0,IF($G39=0,0,(AL$1-$G39)*Hoja1!$A$1/AL$1))","v":0},{"$f":"IF(AM$1>$E$11,0,IF($G39=0,0,(AM$1-$G39)*Hoja1!$A$1/AM$1))","v":0},{"$f":"IF(AN$1>$E$11,0,IF($G39=0,0,(AN$1-$G39)*Hoja1!$A$1/AN$1))","v":0},{"$f":"IF(AO$1>$E$11,0,IF($G39=0,0,(AO$1-$G39)*Hoja1!$A$1/AO$1))","v":0},{"$f":"IF(AP$1>$E$11,0,IF($G39=0,0,(AP$1-$G39)*Hoja1!$A$1/AP$1))","v":0},{"$f":"IF(AQ$1>$E$11,0,IF($G39=0,0,(AQ$1-$G39)*Hoja1!$A$1/AQ$1))","v":0},{"$f":"IF(AR$1>$E$11,0,IF($G39=0,0,(AR$1-$G39)*Hoja1!$A$1/AR$1))","v":0},{"$f":"IF(AS$1>$E$11,0,IF($G39=0,0,(AS$1-$G39)*Hoja1!$A$1/AS$1))","v":0},{"$f":"IF(AT$1>$E$11,0,IF($G39=0,0,(AT$1-$G39)*Hoja1!$A$1/AT$1))","v":0},{"$f":"IF(AU$1>$E$11,0,IF($G39=0,0,(AU$1-$G39)*Hoja1!$A$1/AU$1))","v":0},{"$f":"IF(AV$1>$E$11,0,IF($G39=0,0,(AV$1-$G39)*Hoja1!$A$1/AV$1))","v":0},{"$f":"IF(AW$1>$E$11,0,IF($G39=0,0,(AW$1-$G39)*Hoja1!$A$1/AW$1))","v":0},{"$f":"IF(AX$1>$E$11,0,IF($G39=0,0,(AX$1-$G39)*Hoja1!$A$1/AX$1))","v":0},{"$f":"IF(AY$1>$E$11,0,IF($G39=0,0,(AY$1-$G39)*Hoja1!$A$1/AY$1))","v":0},{"$f":"IF(AZ$1>$E$11,0,IF($G39=0,0,(AZ$1-$G39)*Hoja1!$A$1/AZ$1))","v":0},{"$f":"IF(BA$1>$E$11,0,IF($G39=0,0,(BA$1-$G39)*Hoja1!$A$1/BA$1))","v":0},{"$f":"IF(BB$1>$E$11,0,IF($G39=0,0,(BB$1-$G39)*Hoja1!$A$1/BB$1))","v":0},{"$f":"IF(BC$1>$E$11,0,IF($G39=0,0,(BC$1-$G39)*Hoja1!$A$1/BC$1))","v":0},{"$f":"IF(BD$1>$E$11,0,IF($G39=0,0,(BD$1-$G39)*Hoja1!$A$1/BD$1))","v":0},{"$f":"IF(BE$1>$E$11,0,IF($G39=0,0,(BE$1-$G39)*Hoja1!$A$1/BE$1))","v":0},{"$f":"IF(BF$1>$E$11,0,IF($G39=0,0,(BF$1-$G39)*Hoja1!$A$1/BF$1))","v":0},{"$f":"IF(BG$1>$E$11,0,IF($G39=0,0,(BG$1-$G39)*Hoja1!$A$1/BG$1))","v":0},{"$f":"IF(BH$1>$E$11,0,IF($G39=0,0,(BH$1-$G39)*Hoja1!$A$1/BH$1))","v":0},{"$f":"IF(BI$1>$E$11,0,IF($G39=0,0,(BI$1-$G39)*Hoja1!$A$1/BI$1))","v":0},{"$f":"IF(BJ$1>$E$11,0,IF($G39=0,0,(BJ$1-$G39)*Hoja1!$A$1/BJ$1))","v":0},{"$f":"IF(BK$1>$E$11,0,IF($G39=0,0,(BK$1-$G39)*Hoja1!$A$1/BK$1))","v":0},{"$f":"IF(BL$1>$E$11,0,IF($G39=0,0,(BL$1-$G39)*Hoja1!$A$1/BL$1))","v":0},{"$f":"IF(BM$1>$E$11,0,IF($G39=0,0,(BM$1-$G39)*Hoja1!$A$1/BM$1))","v":0},{"$f":"IF(BN$1>$E$11,0,IF($G39=0,0,(BN$1-$G39)*Hoja1!$A$1/BN$1))","v":0},{"$f":"IF(BO$1>$E$11,0,IF($G39=0,0,(BO$1-$G39)*Hoja1!$A$1/BO$1))","v":0},{"$f":"IF(BP$1>$E$11,0,IF($G39=0,0,(BP$1-$G39)*Hoja1!$A$1/BP$1))","v":0},{"$f":"IF(BQ$1>$E$11,0,IF($G39=0,0,(BQ$1-$G39)*Hoja1!$A$1/BQ$1))","v":0},{"$f":"IF(BR$1>$E$11,0,IF($G39=0,0,(BR$1-$G39)*Hoja1!$A$1/BR$1))","v":0},{"$f":"IF(BS$1>$E$11,0,IF($G39=0,0,(BS$1-$G39)*Hoja1!$A$1/BS$1))","v":0},{"$f":"IF(BT$1>$E$11,0,IF($G39=0,0,(BT$1-$G39)*Hoja1!$A$1/BT$1))","v":0},{"$f":"IF(BU$1>$E$11,0,IF($G39=0,0,(BU$1-$G39)*Hoja1!$A$1/BU$1))","v":0},{"$f":"IF(BV$1>$E$11,0,IF($G39=0,0,(BV$1-$G39)*Hoja1!$A$1/BV$1))","v":0},{"$f":"IF(BW$1>$E$11,0,IF($G39=0,0,(BW$1-$G39)*Hoja1!$A$1/BW$1))","v":0},{"$f":"IF(BX$1>$E$11,0,IF($G39=0,0,(BX$1-$G39)*Hoja1!$A$1/BX$1))","v":0},{"$f":"IF(BY$1>$E$11,0,IF($G39=0,0,(BY$1-$G39)*Hoja1!$A$1/BY$1))","v":0},{"$f":"IF(BZ$1>$E$11,0,IF($G39=0,0,(BZ$1-$G39)*Hoja1!$A$1/BZ$1))","v":0},{"$f":"IF(CA$1>$E$11,0,IF($G39=0,0,(CA$1-$G39)*Hoja1!$A$1/CA$1))","v":0},{"$f":"IF(CB$1>$E$11,0,IF($G39=0,0,(CB$1-$G39)*Hoja1!$A$1/CB$1))","v":0},{"$f":"IF(CC$1>$E$11,0,IF($G39=0,0,(CC$1-$G39)*Hoja1!$A$1/CC$1))","v":0},{"$f":"IF(CD$1>$E$11,0,IF($G39=0,0,(CD$1-$G39)*Hoja1!$A$1/CD$1))","v":0},{"$f":"IF(CE$1>$E$11,0,IF($G39=0,0,(CE$1-$G39)*Hoja1!$A$1/CE$1))","v":0},{"$f":"IF(CF$1>$E$11,0,IF($G39=0,0,(CF$1-$G39)*Hoja1!$A$1/CF$1))","v":0},{"$f":"IF(CG$1>$E$11,0,IF($G39=0,0,(CG$1-$G39)*Hoja1!$A$1/CG$1))","v":0},{"$f":"IF(CH$1>$E$11,0,IF($G39=0,0,(CH$1-$G39)*Hoja1!$A$1/CH$1))","v":0},{"$f":"IF(CI$1>$E$11,0,IF($G39=0,0,(CI$1-$G39)*Hoja1!$A$1/CI$1))","v":0},{"$f":"IF(CJ$1>$E$11,0,IF($G39=0,0,(CJ$1-$G39)*Hoja1!$A$1/CJ$1))","v":0},{"$f":"IF(CK$1>$E$11,0,IF($G39=0,0,(CK$1-$G39)*Hoja1!$A$1/CK$1))","v":0},{"$f":"IF(CL$1>$E$11,0,IF($G39=0,0,(CL$1-$G39)*Hoja1!$A$1/CL$1))","v":0},{"$f":"IF(CM$1>$E$11,0,IF($G39=0,0,(CM$1-$G39)*Hoja1!$A$1/CM$1))","v":0},{"$f":"IF(CN$1>$E$11,0,IF($G39=0,0,(CN$1-$G39)*Hoja1!$A$1/CN$1))","v":0},{"$f":"IF(CO$1>$E$11,0,IF($G39=0,0,(CO$1-$G39)*Hoja1!$A$1/CO$1))","v":0},{"$f":"IF(CP$1>$E$11,0,IF($G39=0,0,(CP$1-$G39)*Hoja1!$A$1/CP$1))","v":0},{"$f":"IF(CQ$1>$E$11,0,IF($G39=0,0,(CQ$1-$G39)*Hoja1!$A$1/CQ$1))","v":0},{"$f":"IF(CR$1>$E$11,0,IF($G39=0,0,(CR$1-$G39)*Hoja1!$A$1/CR$1))","v":0},{"$f":"IF(CS$1>$E$11,0,IF($G39=0,0,(CS$1-$G39)*Hoja1!$A$1/CS$1))","v":0},{"$f":"IF(CT$1>$E$11,0,IF($G39=0,0,(CT$1-$G39)*Hoja1!$A$1/CT$1))","v":0},{"$f":"IF(CU$1>$E$11,0,IF($G39=0,0,(CU$1-$G39)*Hoja1!$A$1/CU$1))","v":0},{"$f":"IF(CV$1>$E$11,0,IF($G39=0,0,(CV$1-$G39)*Hoja1!$A$1/CV$1))","v":0},{"$f":"IF(CW$1>$E$11,0,IF($G39=0,0,(CW$1-$G39)*Hoja1!$A$1/CW$1))","v":0},{"$f":"IF(CX$1>$E$11,0,IF($G39=0,0,(CX$1-$G39)*Hoja1!$A$1/CX$1))","v":0},{"$f":"IF(CY$1>$E$11,0,IF($G39=0,0,(CY$1-$G39)*Hoja1!$A$1/CY$1))","v":0},{"$f":"IF(CZ$1>$E$11,0,IF($G39=0,0,(CZ$1-$G39)*Hoja1!$A$1/CZ$1))","v":0},{"$f":"IF(DA$1>$E$11,0,IF($G39=0,0,(DA$1-$G39)*Hoja1!$A$1/DA$1))","v":0},{"$f":"IF(DB$1>$E$11,0,IF($G39=0,0,(DB$1-$G39)*Hoja1!$A$1/DB$1))","v":0},{"$f":"IF(DC$1>$E$11,0,IF($G39=0,0,(DC$1-$G39)*Hoja1!$A$1/DC$1))","v":0},{"$f":"IF(DD$1>$E$11,0,IF($G39=0,0,(DD$1-$G39)*Hoja1!$A$1/DD$1))","v":0},{"$f":"IF(DE$1>$E$11,0,IF($G39=0,0,(DE$1-$G39)*Hoja1!$A$1/DE$1))","v":0},{"$f":"IF(DF$1>$E$11,0,IF($G39=0,0,(DF$1-$G39)*Hoja1!$A$1/DF$1))","v":0},{"$f":"IF(DG$1>$E$11,0,IF($G39=0,0,(DG$1-$G39)*Hoja1!$A$1/DG$1))","v":0},{"$f":"IF(DH$1>$E$11,0,IF($G39=0,0,(DH$1-$G39)*Hoja1!$A$1/DH$1))","v":0},{"$f":"IF(DI$1>$E$11,0,IF($G39=0,0,(DI$1-$G39)*Hoja1!$A$1/DI$1))","v":0},{"$f":"IF(DJ$1>$E$11,0,IF($G39=0,0,(DJ$1-$G39)*Hoja1!$A$1/DJ$1))","v":0},{"$f":"IF(DK$1>$E$11,0,IF($G39=0,0,(DK$1-$G39)*Hoja1!$A$1/DK$1))","v":0},{"$f":"IF(DL$1>$E$11,0,IF($G39=0,0,(DL$1-$G39)*Hoja1!$A$1/DL$1))","v":0},{"$f":"IF(DM$1>$E$11,0,IF($G39=0,0,(DM$1-$G39)*Hoja1!$A$1/DM$1))","v":0}]
[null,null,null,null,null,480.74499999999995,0,{"$f":"IF(H$1>$E$11,0,IF($G40=0,0,(H$1-$G40)*Hoja1!$A$1/H$1))","v":0},{"$f":"IF(I$1>$E$11,0,IF($G40=0,0,(I$1-$G40)*Hoja1!$A$1/I$1))","v":0},{"$f":"IF(J$1>$E$11,0,IF($G40=0,0,(J$1-$G40)*Hoja1!$A$1/J$1))","v":0},{"$f":"IF(K$1>$E$11,0,IF($G40=0,0,(K$1-$G40)*Hoja1!$A$1/K$1))","v":0},{"$f":"IF(L$1>$E$11,0,IF($G40=0,0,(L$1-$G40)*Hoja1!$A$1/L$1))","v":0},{"$f":"IF(M$1>$E$11,0,IF($G40=0,0,(M$1-$G40)*Hoja1!$A$1/M$1))","v":0},{"$f":"IF(N$1>$E$11,0,IF($G40=0,0,(N$1-$G40)*Hoja1!$A$1/N$1))","v":0},{"$f":"IF(O$1>$E$11,0,IF($G40=0,0,(O$1-$G40)*Hoja1!$A$1/O$1))","v":0},{"$f":"IF(P$1>$E$11,0,IF($G40=0,0,(P$1-$G40)*Hoja1!$A$1/P$1))","v":0},{"$f":"IF(Q$1>$E$11,0,IF($G40=0,0,(Q$1-$G40)*Hoja1!$A$1/Q$1))","v":0},{"$f":"IF(R$1>$E$11,0,IF($G40=0,0,(R$1-$G40)*Hoja1!$A$1/R$1))","v":0},{"$f":"IF(S$1>$E$11,0,IF($G40=0,0,(S$1-$G40)*Hoja1!$A$1/S$1))","v":0},{"$f":"IF(T$1>$E$11,0,IF($G40=0,0,(T$1-$G40)*Hoja1!$A$1/T$1))","v":0},{"$f":"IF(U$1>$E$11,0,IF($G40=0,0,(U$1-$G40)*Hoja1!$A$1/U$1))","v":0},{"$f":"IF(V$1>$E$11,0,IF($G40=0,0,(V$1-$G40)*Hoja1!$A$1/V$1))","v":0},{"$f":"IF(W$1>$E$11,0,IF($G40=0,0,(W$1-$G40)*Hoja1!$A$1/W$1))","v":0},{"$f":"IF(X$1>$E$11,0,IF($G40=0,0,(X$1-$G40)*Hoja1!$A$1/X$1))","v":0},{"$f":"IF(Y$1>$E$11,0,IF($G40=0,0,(Y$1-$G40)*Hoja1!$A$1/Y$1))","v":0},{"$f":"IF(Z$1>$E$11,0,IF($G40=0,0,(Z$1-$G40)*Hoja1!$A$1/Z$1))","v":0},{"$f":"IF(AA$1>$E$11,0,IF($G40=0,0,(AA$1-$G40)*Hoja1!$A$1/AA$1))","v":0},{"$f":"IF(AB$1>$E$11,0,IF($G40=0,0,(AB$1-$G40)*Hoja1!$A$1/AB$1))","v":0},{"$f":"IF(AC$1>$E$11,0,IF($G40=0,0,(AC$1-$G40)*Hoja1!$A$1/AC$1))","v":0},{"$f":"IF(AD$1>$E$11,0,IF($G40=0,0,(AD$1-$G40)*Hoja1!$A$1/AD$1))","v":0},{"$f":"IF(AE$1>$E$11,0,IF($G40=0,0,(AE$1-$G40)*Hoja1!$A$1/AE$1))","v":0},{"$f":"IF(AF$1>$E$11,0,IF($G40=0,0,(AF$1-$G40)*Hoja1!$A$1/AF$1))","v":0},{"$f":"IF(AG$1>$E$11,0,IF($G40=0,0,(AG$1-$G40)*Hoja1!$A$1/AG$1))","v":0},{"$f":"IF(AH$1>$E$11,0,IF($G40=0,0,(AH$1-$G40)*Hoja1!$A$1/AH$1))","v":0},{"$f":"IF(AI$1>$E$11,0,IF($G40=0,0,(AI$1-$G40)*Hoja1!$A$1/AI$1))","v":0},{"$f":"IF(AJ$1>$E$11,0,IF($G40=0,0,(AJ$1-$G40)*Hoja1!$A$1/AJ$1))","v":0},{"$f":"IF(AK$1>$E$11,0,IF($G40=0,0,(AK$1-$G40)*Hoja1!$A$1/AK$1))","v":0},{"$f":"IF(AL$1>$E$11,0,IF($G40=0,0,(AL$1-$G40)*Hoja1!$A$1/AL$1))","v":0},{"$f":"IF(AM$1>$E$11,0,IF($G40=0,0,(AM$1-$G40)*Hoja1!$A$1/AM$1))","v":0},{"$f":"IF(AN$1>$E$11,0,IF($G40=0,0,(AN$1-$G40)*Hoja1!$A$1/AN$1))","v":0},{"$f":"IF(AO$1>$E$11,0,IF($G40=0,0,(AO$1-$G40)*Hoja1!$A$1/AO$1))","v":0},{"$f":"IF(AP$1>$E$11,0,IF($G40=0,0,(AP$1-$G40)*Hoja1!$A$1/AP$1))","v":0},{"$f":"IF(AQ$1>$E$11,0,IF($G40=0,0,(AQ$1-$G40)*Hoja1!$A$1/AQ$1))","v":0},{"$f":"IF(AR$1>$E$11,0,IF($G40=0,0,(AR$1-$G40)*Hoja1!$A$1/AR$1))","v":0},{"$f":"IF(AS$1>$E$11,0,IF($G40=0,0,(AS$1-$G40)*Hoja1!$A$1/AS$1))","v":0},{"$f":"IF(AT$1>$E$11,0,IF($G40=0,0,(AT$1-$G40)*Hoja1!$A$1/AT$1))","v":0},{"$f":"IF(AU$1>$E$11,0,IF($G40=0,0,(AU$1-$G40)*Hoja1!$A$1/AU$1))","v":0},{"$f":"IF(AV$1>$E$11,0,IF($G40=0,0,(AV$1-$G40)*Hoja1!$A$1/AV$1))","v":0},{"$f":"IF(AW$1>$E$11,0,IF($G40=0,0,(AW$1-$G40)*Hoja1!$A$1/AW$1))","v":0},{"$f":"IF(AX$1>$E$11,0,IF($G40=0,0,(AX$1-$G40)*Hoja1!$A$1/AX$1))","v":0},{"$f":"IF(AY$1>$E$11,0,IF($G40=0,0,(AY$1-$G40)*Hoja1!$A$1/AY$1))","v":0},{"$f":"IF(AZ$1>$E$11,0,IF($G40=0,0,(AZ$1-$G40)*Hoja1!$A$1/AZ$1))","v":0},{"$f":"IF(BA$1>$E$11,0,IF($G40=0,0,(BA$1-$G40)*Hoja1!$A$1/BA$1))","v":0},{"$f":"IF(BB$1>$E$11,0,IF($G40=0,0,(BB$1-$G40)*Hoja1!$A$1/BB$1))","v":0},{"$f":"IF(BC$1>$E$11,0,IF($G40=0,0,(BC$1-$G40)*Hoja1!$A$1/BC$1))","v":0},{"$f":"IF(BD$1>$E$11,0,IF($G40=0,0,(BD$1-$G40)*Hoja1!$A$1/BD$1))","v":0},{"$f":"IF(BE$1>$E$11,0,IF($G40=0,0,(BE$1-$G40)*Hoja1!$A$1/BE$1))","v":0},{"$f":"IF(BF$1>$E$11,0,IF($G40=0,0,(BF$1-$G40)*Hoja1!$A$1/BF$1))","v":0},{"$f":"IF(BG$1>$E$11,0,IF($G40=0,0,(BG$1-$G40)*Hoja1!$A$1/BG$1))","v":0},{"$f":"IF(BH$1>$E$11,0,IF($G40=0,0,(BH$1-$G40)*Hoja1!$A$1/BH$1))","v":0},{"$f":"IF(BI$1>$E$11,0,IF($G40=0,0,(BI$1-$G40)*Hoja1!$A$1/BI$1))","v":0},{"$f":"IF(BJ$1>$E$11,0,IF($G40=0,0,(BJ$1-$G40)*Hoja1!$A$1/BJ$1))","v":0},{"$f":"IF(BK$1>$E$11,0,IF($G40=0,0,(BK$1-$G40)*Hoja1!$A$1/BK$1))","v":0},{"$f":"IF(BL$1>$E$11,0,IF($G40=0,0,(BL$1-$G40)*Hoja1!$A$1/BL$1))","v":0},{"$f":"IF(BM$1>$E$11,0,IF($G40=0,0,(BM$1-$G40)*Hoja1!$A$1/BM$1))","v":0},{"$f":"IF(BN$1>$E$11,0,IF($G40=0,0,(BN$1-$G40)*Hoja1!$A$1/BN$1))","v":0},{"$f":"IF(BO$1>$E$11,0,IF($G40=0,0,(BO$1-$G40)*Hoja1!$A$1/BO$1))","v":0},{"$f":"IF(BP$1>$E$11,0,IF($G40=0,0,(BP$1-$G40)*Hoja1!$A$1/BP$1))","v":0},{"$f":"IF(BQ$1>$E$11,0,IF($G40=0,0,(BQ$1-$G40)*Hoja1!$A$1/BQ$1))","v":0},{"$f":"IF(BR$1>$E$11,0,IF($G40=0,0,(BR$1-$G40)*Hoja1!$A$1/BR$1))","v":0},{"$f":"IF(BS$1>$E$11,0,IF($G40=0,0,(BS$1-$G40)*Hoja1!$A$1/BS$1))","v":0},{"$f":"IF(BT$1>$E$11,0,IF($G40=0,0,(BT$1-$G40)*Hoja1!$A$1/BT$1))","v":0},{"$f":"IF(BU$1>$E$11,0,IF($G40=0,0,(BU$1-$G40)*Hoja1!$A$1/BU$1))","v":0},{"$f":"IF(BV$1>$E$11,0,IF($G40=0,0,(BV$1-$G40)*Hoja1!$A$1/BV$1))","v":0},{"$f":"IF(BW$1>$E$11,0,IF($G40=0,0,(BW$1-$G40)*Hoja1!$A$1/BW$1))","v":0},{"$f":"IF(BX$1>$E$11,0,IF($G40=0,0,(BX$1-$G40)*Hoja1!$A$1/BX$1))","v":0},{"$f":"IF(BY$1>$E$11,0,IF($G40=0,0,(BY$1-$G40)*Hoja1!$A$1/BY$1))","v":0},{"$f":"IF(BZ$1>$E$11,0,IF($G40=0,0,(BZ$1-$G40)*Hoja1!$A$1/BZ$1))","v":0},{"$f":"IF(CA$1>$E$11,0,IF($G40=0,0,(CA$1-$G40)*Hoja1!$A$1/CA$1))","v":0},{"$f":"IF(CB$1>$E$11,0,IF($G40=0,0,(CB$1-$G40)*Hoja1!$A$1/CB$1))","v":0},{"$f":"IF(CC$1>$E$11,0,IF($G40=0,0,(CC$1-$G40)*Hoja1!$A$1/CC$1))","v":0},{"$f":"IF(CD$1>$E$11,0,IF($G40=0,0,(CD$1-$G40)*Hoja1!$A$1/CD$1))","v":0},{"$f":"IF(CE$1>$E$11,0,IF($G40=0,0,(CE$1-$G40)*Hoja1!$A$1/CE$1))","v":0},{"$f":"IF(CF$1>$E$11,0,IF($G40=0,0,(CF$1-$G40)*Hoja1!$A$1/CF$1))","v":0},{"$f":"IF(CG$1>$E$11,0,IF($G40=0,0,(CG$1-$G40)*Hoja1!$A$1/CG$1))","v":0},{"$f":"IF(CH$1>$E$11,0,IF($G40=0,0,(CH$1-$G40)*Hoja1!$A$1/CH$1))","v":0},{"$f":"IF(CI$1>$E$11,0,IF($G40=0,0,(CI$1-$G40)*Hoja1!$A$1/CI$1))","v":0},{"$f":"IF(CJ$1>$E$11,0,IF($G40=0,0,(CJ$1-$G40)*Hoja1!$A$1/CJ$1))","v":0},{"$f":"IF(CK$1>$E$11,0,IF($G40=0,0,(CK$1-$G40)*Hoja1!$A$1/CK$1))","v":0},{"$f":"IF(CL$1>$E$11,0,IF($G40=0,0,(CL$1-$G40)*Hoja1!$A$1/CL$1))","v":0},{"$f":"IF(CM$1>$E$11,0,IF($G40=0,0,(CM$1-$G40)*Hoja1!$A$1/CM$1))","v":0},{"$f":"IF(CN$1>$E$11,0,IF($G40=0,0,(CN$1-$G40)*Hoja1!$A$1/CN$1))","v":0},{"$f":"IF(CO$1>$E$11,0,IF($G40=0,0,(CO$1-$G40)*Hoja1!$A$1/CO$1))","v":0},{"$f":"IF(CP$1>$E$11,0,IF($G40=0,0,(CP$1-$G40)*Hoja1!$A$1/CP$1))","v":0},{"$f":"IF(CQ$1>$E$11,0,IF($G40=0,0,(CQ$1-$G40)*Hoja1!$A$1/CQ$1))","v":0},{"$f":"IF(CR$1>$E$11,0,IF($G40=0,0,(CR$1-$G40)*Hoja1!$A$1/CR$1))","v":0},{"$f":"IF(CS$1>$E$11,0,IF($G40=0,0,(CS$1-$G40)*Hoja1!$A$1/CS$1))","v":0},{"$f":"IF(CT$1>$E$11,0,IF($G40=0,0,(CT$1-$G40)*Hoja1!$A$1/CT$1))","v":0},{"$f":"IF(CU$1>$E$11,0,IF($G40=0,0,(CU$1-$G40)*Hoja1!$A$1/CU$1))","v":0},{"$f":"IF(CV$1>$E$11,0,IF($G40=0,0,(CV$1-$G40)*Hoja1!$A$1/CV$1))","v":0},{"$f":"IF(CW$1>$E$11,0,IF($G40=0,0,(CW$1-$G40)*Hoja1!$A$1/CW$1))","v":0},{"$f":"IF(CX$1>$E$11,0,IF($G40=0,0,(CX$1-$G40)*Hoja1!$A$1/CX$1))","v":0},{"$f":"IF(CY$1>$E$11,0,IF($G40=0,0,(CY$1-$G40)*Hoja1!$A$1/CY$1))","v":0},{"$f":"IF(CZ$1>$E$11,0,IF($G40=0,0,(CZ$1-$G40)*Hoja1!$A$1/CZ$1))","v":0},{"$f":"IF(DA$1>$E$11,0,IF($G40=0,0,(DA$1-$G40)*Hoja1!$A$1/DA$1))","v":0},{"$f":"IF(DB$1>$E$11,0,IF($G40=0,0,(DB$1-$G40)*Hoja1!$A$1/DB$1))","v":0},{"$f":"IF(DC$1>$E$11,0,IF($G40=0,0,(DC$1-$G40)*Hoja1!$A$1/DC$1))","v":0},{"$f":"IF(DD$1>$E$11,0,IF($G40=0,0,(DD$1-$G40)*Hoja1!$A$1/DD$1))","v":0},{"$f":"IF(DE$1>$E$11,0,IF($G40=0,0,(DE$1-$G40)*Hoja1!$A$1/DE$1))","v":0},{"$f":"IF(DF$1>$E$11,0,IF($G40=0,0,(DF$1-$G40)*Hoja1!$A$1/DF$1))","v":0},{"$f":"IF(DG$1>$E$11,0,IF($G40=0,0,(DG$1-$G40)*Hoja1!$A$1/DG$1))","v":0},{"$f":"IF(DH$1>$E$11,0,IF($G40=0,0,(DH$1-$G40)*Hoja1!$A$1/DH$1))","v":0},{"$f":"IF(DI$1>$E$11,0,IF($G40=0,0,(DI$1-$G40)*Hoja1!$A$1/DI$1))","v":0},{"$f":"IF(DJ$1>$E$11,0,IF($G40=0,0,(DJ$1-$G40)*Hoja1!$A$1/DJ$1))","v":0},{"$f":"IF(DK$1>$E$11,0,IF($G40=0,0,(DK$1-$G40)*Hoja1!$A$1/DK$1))","v":0},{"$f":"IF(DL$1>$E$11,0,IF($G40=0,0,(DL$1-$G40)*Hoja1!$A$1/DL$1))","v":0},{"$f":"IF(DM$1>$E$11,0,IF($G40=0,0,(DM$1-$G40)*Hoja1!$A$1/DM$1))","v":0}]
[null,null,null,null,null,493.93499999999995,0,{"$f":"IF(H$1>$E$11,0,IF($G41=0,0,(H$1-$G41)*Hoja1!$A$1/H$1))","v":0},{"$f":"IF(I$1>$E$11,0,IF($G41=0,0,(I$1-$G41)*Hoja1!$A$1/I$1))","v":0},{"$f":"IF(J$1>$E$11,0,IF($G41=0,0,(J$1-$G41)*Hoja1!$A$1/J$1))","v":0},{"$f":"IF(K$1>$E$11,0,IF($G41=0,0,(K$1-$G41)*Hoja1!$A$1/K$1))","v":0},{"$f":"IF(L$1>$E$11,0,IF($G41=0,0,(L$1-$G41)*Hoja1!$A$1/L$1))","v":0},{"$f":"IF(M$1>$E$11,0,IF($G41=0,0,(M$1-$G41)*Hoja1!$A$1/M$1))","v":0},{"$f":"IF(N$1>$E$11,0,IF($G41=0,0,(N$1-$G41)*Hoja1!$A$1/N$1))","v":0},{"$f":"IF(O$1>$E$11,0,IF($G41=0,0,(O$1-$G41)*Hoja1!$A$1/O$1))","v":0},{"$f":"IF(P$1>$E$11,0,IF($G41=0,0,(P$1-$G41)*Hoja1!$A$1/P$1))","v":0},{"$f":"IF(Q$1>$E$11,0,IF($G41=0,0,(Q$1-$G41)*Hoja1!$A$1/Q$1))","v":0},{"$f":"IF(R$1>$E$11,0,IF($G41=0,0,(R$1-$G41)*Hoja1!$A$1/R$1))","v":0},{"$f":"IF(S$1>$E$11,0,IF($G41=0,0,(S$1-$G41)*Hoja1!$A$1/S$1))","v":0},{"$f":"IF(T$1>$E$11,0,IF($G41=0,0,(T$1-$G41)*Hoja1!$A$1/T$1))","v":0},{"$f":"IF(U$1>$E$11,0,IF($G41=0,0,(U$1-$G41)*Hoja1!$A$1/U$1))","v":0},{"$f":"IF(V$1>$E$11,0,IF($G41=0,0,(V$1-$G41)*Hoja1!$A$1/V$1))","v":0},{"$f":"IF(W$1>$E$11,0,IF($G41=0,0,(W$1-$G41)*Hoja1!$A$1/W$1))","v":0},{"$f":"IF(X$1>$E$11,0,IF($G41=0,0,(X$1-$G41)*Hoja1!$A$1/X$1))","v":0},{"$f":"IF(Y$1>$E$11,0,IF($G41=0,0,(Y$1-$G41)*Hoja1!$A$1/Y$1))","v":0},{"$f":"IF(Z$1>$E$11,0,IF($G41=0,0,(Z$1-$G41)*Hoja1!$A$1/Z$1))","v":0},{"$f":"IF(AA$1>$E$11,0,IF($G41=0,0,(AA$1-$G41)*Hoja1!$A$1/AA$1))","v":0},{"$f":"IF(AB$1>$E$11,0,IF($G41=0,0,(AB$1-$G41)*Hoja1!$A$1/AB$1))","v":0},{"$f":"IF(AC$1>$E$11,0,IF($G41=0,0,(AC$1-$G41)*Hoja1!$A$1/AC$1))","v":0},{"$f":"IF(AD$1>$E$11,0,IF($G41=0,0,(AD$1-$G41)*Hoja1!$A$1/AD$1))","v":0},{"$f":"IF(AE$1>$E$11,0,IF($G41=0,0,(AE$1-$G41)*Hoja1!$A$1/AE$1))","v":0},{"$f":"IF(AF$1>$E$11,0,IF($G41=0,0,(AF$1-$G41)*Hoja1!$A$1/AF$1))","v":0},{"$f":"IF(AG$1>$E$11,0,IF($G41=0,0,(AG$1-$G41)*Hoja1!$A$1/AG$1))","v":0},{"$f":"IF(AH$1>$E$11,0,IF($G41=0,0,(AH$1-$G41)*Hoja1!$A$1/AH$1))","v":0},{"$f":"IF(AI$1>$E$11,0,IF($G41=0,0,(AI$1-$G41)*Hoja1!$A$1/AI$1))","v":0},{"$f":"IF(AJ$1>$E$11,0,IF($G41=0,0,(AJ$1-$G41)*Hoja1!$A$1/AJ$1))","v":0},{"$f":"IF(AK$1>$E$11,0,IF($G41=0,0,(AK$1-$G41)*Hoja1!$A$1/AK$1))","v":0},{"$f":"IF(AL$1>$E$11,0,IF($G41=0,0,(AL$1-$G41)*Hoja1!$A$1/AL$1))","v":0},{"$f":"IF(AM$1>$E$11,0,IF($G41=0,0,(AM$1-$G41)*Hoja1!$A$1/AM$1))","v":0},{"$f":"IF(AN$1>$E$11,0,IF($G41=0,0,(AN$1-$G41)*Hoja1!$A$1/AN$1))","v":0},{"$f":"IF(AO$1>$E$11,0,IF($G41=0,0,(AO$1-$G41)*Hoja1!$A$1/AO$1))","v":0},{"$f":"IF(AP$1>$E$11,0,IF($G41=0,0,(AP$1-$G41)*Hoja1!$A$1/AP$1))","v":0},{"$f":"IF(AQ$1>$E$11,0,IF($G41=0,0,(AQ$1-$G41)*Hoja1!$A$1/AQ$1))","v":0},{"$f":"IF(AR$1>$E$11,0,IF($G41=0,0,(AR$1-$G41)*Hoja1!$A$1/AR$1))","v":0},{"$f":"IF(AS$1>$E$11,0,IF($G41=0,0,(AS$1-$G41)*Hoja1!$A$1/AS$1))","v":0},{"$f":"IF(AT$1>$E$11,0,IF($G41=0,0,(AT$1-$G41)*Hoja1!$A$1/AT$1))","v":0},{"$f":"IF(AU$1>$E$11,0,IF($G41=0,0,(AU$1-$G41)*Hoja1!$A$1/AU$1))","v":0},{"$f":"IF(AV$1>$E$11,0,IF($G41=0,0,(AV$1-$G41)*Hoja1!$A$1/AV$1))","v":0},{"$f":"IF(AW$1>$E$11,0,IF($G41=0,0,(AW$1-$G41)*Hoja1!$A$1/AW$1))","v":0},{"$f":"IF(AX$1>$E$11,0,IF($G41=0,0,(AX$1-$G41)*Hoja1!$A$1/AX$1))","v":0},{"$f":"IF(AY$1>$E$11,0,IF($G41=0,0,(AY$1-$G41)*Hoja1!$A$1/AY$1))","v":0},{"$f":"IF(AZ$1>$E$11,0,IF($G41=0,0,(AZ$1-$G41)*Hoja1!$A$1/AZ$1))","v":0},{"$f":"IF(BA$1>$E$11,0,IF($G41=0,0,(BA$1-$G41)*Hoja1!$A$1/BA$1))","v":0},{"$f":"IF(BB$1>$E$11,0,IF($G41=0,0,(BB$1-$G41)*Hoja1!$A$1/BB$1))","v":0},{"$f":"IF(BC$1>$E$11,0,IF($G41=0,0,(BC$1-$G41)*Hoja1!$A$1/BC$1))","v":0},{"$f":"IF(BD$1>$E$11,0,IF($G41=0,0,(BD$1-$G41)*Hoja1!$A$1/BD$1))","v":0},{"$f":"IF(BE$1>$E$11,0,IF($G41=0,0,(BE$1-$G41)*Hoja1!$A$1/BE$1))","v":0},{"$f":"IF(BF$1>$E$11,0,IF($G41=0,0,(BF$1-$G41)*Hoja1!$A$1/BF$1))","v":0},{"$f":"IF(BG$1>$E$11,0,IF($G41=0,0,(BG$1-$G41)*Hoja1!$A$1/BG$1))","v":0},{"$f":"IF(BH$1>$E$11,0,IF($G41=0,0,(BH$1-$G41)*Hoja1!$A$1/BH$1))","v":0},{"$f":"IF(BI$1>$E$11,0,IF($G41=0,0,(BI$1-$G41)*Hoja1!$A$1/BI$1))","v":0},{"$f":"IF(BJ$1>$E$11,0,IF($G41=0,0,(BJ$1-$G41)*Hoja1!$A$1/BJ$1))","v":0},{"$f":"IF(BK$1>$E$11,0,IF($G41=0,0,(BK$1-$G41)*Hoja1!$A$1/BK$1))","v":0},{"$f":"IF(BL$1>$E$11,0,IF($G41=0,0,(BL$1-$G41)*Hoja1!$A$1/BL$1))","v":0},{"$f":"IF(BM$1>$E$11,0,IF($G41=0,0,(BM$1-$G41)*Hoja1!$A$1/BM$1))","v":0},{"$f":"IF(BN$1>$E$11,0,IF($G41=0,0,(BN$1-$G41)*Hoja1!$A$1/BN$1))","v":0},{"$f":"IF(BO$1>$E$11,0,IF($G41=0,0,(BO$1-$G41)*Hoja1!$A$1/BO$1))","v":0},{"$f":"IF(BP$1>$E$11,0,IF($G41=0,0,(BP$1-$G41)*Hoja1!$A$1/BP$1))","v":0},{"$f":"IF(BQ$1>$E$11,0,IF($G41=0,0,(BQ$1-$G41)*Hoja1!$A$1/BQ$1))","v":0},{"$f":"IF(BR$1>$E$11,0,IF($G41=0,0,(BR$1-$G41)*Hoja1!$A$1/BR$1))","v":0},{"$f":"IF(BS$1>$E$11,0,IF($G41=0,0,(BS$1-$G41)*Hoja1!$A$1/BS$1))","v":0},{"$f":"IF(BT$1>$E$11,0,IF($G41=0,0,(BT$1-$G41)*Hoja1!$A$1/BT$1))","v":0},{"$f":"IF(BU$1>$E$11,0,IF($G41=0,0,(BU$1-$G41)*Hoja1!$A$1/BU$1))","v":0},{"$f":"IF(BV$1>$E$11,0,IF($G41=0,0,(BV$1-$G41)*Hoja1!$A$1/BV$1))","v":0},{"$f":"IF(BW$1>$E$11,0,IF($G41=0,0,(BW$1-$G41)*Hoja1!$A$1/BW$1))","v":0},{"$f":"IF(BX$1>$E$11,0,IF($G41=0,0,(BX$1-$G41)*Hoja1!$A$1/BX$1))","v":0},{"$f":"IF(BY$1>$E$11,0,IF($G41=0,0,(BY$1-$G41)*Hoja1!$A$1/BY$1))","v":0},{"$f":"IF(BZ$1>$E$11,0,IF($G41=0,0,(BZ$1-$G41)*Hoja1!$A$1/BZ$1))","v":0},{"$f":"IF(CA$1>$E$11,0,IF($G41=0,0,(CA$1-$G41)*Hoja1!$A$1/CA$1))","v":0},{"$f":"IF(CB$1>$E$11,0,IF($G41=0,0,(CB$1-$G41)*Hoja1!$A$1/CB$1))","v":0},{"$f":"IF(CC$1>$E$11,0,IF($G41=0,0,(CC$1-$G41)*Hoja1!$A$1/CC$1))","v":0},{"$f":"IF(CD$1>$E$11,0,IF($G41=0,0,(CD$1-$G41)*Hoja1!$A$1/CD$1))","v":0},{"$f":"IF(CE$1>$E$11,0,IF($G41=0,0,(CE$1-$G41)*Hoja1!$A$1/CE$1))","v":0},{"$f":"IF(CF$1>$E$11,0,IF($G41=0,0,(CF$1-$G41)*Hoja1!$A$1/CF$1))","v":0},{"$f":"IF(CG$1>$E$11,0,IF($G41=0,0,(CG$1-$G41)*Hoja1!$A$1/CG$1))","v":0},{"$f":"IF(CH$1>$E$11,0,IF($G41=0,0,(CH$1-$G41)*Hoja1!$A$1/CH$1))","v":0},{"$f":"IF(CI$1>$E$11,0,IF($G41=0,0,(CI$1-$G41)*Hoja1!$A$1/CI$1))","v":0},{"$f":"IF(CJ$1>$E$11,0,IF($G41=0,0,(CJ$1-$G41)*Hoja1!$A$1/CJ$1))","v":0},{"$f":"IF(CK$1>$E$11,0,IF($G41=0,0,(CK$1-$G41)*Hoja1!$A$1/CK$1))","v":0},{"$f":"IF(CL$1>$E$11,0,IF($G41=0,0,(CL$1-$G41)*Hoja1!$A$1/CL$1))","v":0},{"$f":"IF(CM$1>$E$11,0,IF($G41=0,0,(CM$1-$G41)*Hoja1!$A$1/CM$1))","v":0},{"$f":"IF(CN$1>$E$11,0,IF($G41=0,0,(CN$1-$G41)*Hoja1!$A$1/CN$1))","v":0},{"$f":"IF(CO$1>$E$11,0,IF($G41=0,0,(CO$1-$G41)*Hoja1!$A$1/CO$1))","v":0},{"$f":"IF(CP$1>$E$11,0,IF($G41=0,0,(CP$1-$G41)*Hoja1!$A$1/CP$1))","v":0},{"$f":"IF(CQ$1>$E$11,0,IF($G41=0,0,(CQ$1-$G41)*Hoja1!$A$1/CQ$1))","v":0},{"$f":"IF(CR$1>$E$11,0,IF($G41=0,0,(CR$1-$G41)*Hoja1!$A$1/CR$1))","v":0},{"$f":"IF(CS$1>$E$11,0,IF($G41=0,0,(CS$1-$G41)*Hoja1!$A$1/CS$1))","v":0},{"$f":"IF(CT$1>$E$11,0,IF($G41=0,0,(CT$1-$G41)*Hoja1!$A$1/CT$1))","v":0},{"$f":"IF(CU$1>$E$11,0,IF($G41=0,0,(CU$1-$G41)*Hoja1!$A$1/CU$1))","v":0},{"$f":"IF(CV$1>$E$11,0,IF($G41=0,0,(CV$1-$G41)*Hoja1!$A$1/CV$1))","v":0},{"$f":"IF(CW$1>$E$11,0,IF($G41=0,0,(CW$1-$G41)*Hoja1!$A$1/CW$1))","v":0},{"$f":"IF(CX$1>$E$11,0,IF($G41=0,0,(CX$1-$G41)*Hoja1!$A$1/CX$1))","v":0},{"$f":"IF(CY$1>$E$11,0,IF($G41=0,0,(CY$1-$G41)*Hoja1!$A$1/CY$1))","v":0},{"$f":"IF(CZ$1>$E$11,0,IF($G41=0,0,(CZ$1-$G41)*Hoja1!$A$1/CZ$1))","v":0},{"$f":"IF(DA$1>$E$11,0,IF($G41=0,0,(DA$1-$G41)*Hoja1!$A$1/DA$1))","v":0},{"$f":"IF(DB$1>$E$11,0,IF($G41=0,0,(DB$1-$G41)*Hoja1!$A$1/DB$1))","v":0},{"$f":"IF(DC$1>$E$11,0,IF($G41=0,0,(DC$1-$G41)*Hoja1!$A$1/DC$1))","v":0},{"$f":"IF(DD$1>$E$11,0,IF($G41=0,0,(DD$1-$G41)*Hoja1!$A$1/DD$1))","v":0},{"$f":"IF(DE$1>$E$11,0,IF($G41=0,0,(DE$1-$G41)*Hoja1!$A$1/DE$1))","v":0},{"$f":"IF(DF$1>$E$11,0,IF($G41=0,0,(DF$1-$G41)*Hoja1!$A$1/DF$1))","v":0},{"$f":"IF(DG$1>$E$11,0,IF($G41=0,0,(DG$1-$G41)*Hoja1!$A$1/DG$1))","v":0},{"$f":"IF(DH$1>$E$11,0,IF($G41=0,0,(DH$1-$G41)*Hoja1!$A$1/DH$1))","v":0},{"$f":"IF(DI$1>$E$11,0,IF($G41=0,0,(DI$1-$G41)*Hoja1!$A$1/DI$1))","v":0},{"$f":"IF(DJ$1>$E$11,0,IF($G41=0,0,(DJ$1-$G41)*Hoja1!$A$1/DJ$1))","v":0},{"$f":"IF(DK$1>$E$11,0,IF($G41=0,0,(DK$1-$G41)*Hoja1!$A$1/DK$1))","v":0},{"$f":"IF(DL$1>$E$11,0,IF($G41=0,0,(DL$1-$G41)*Hoja1!$A$1/DL$1))","v":0},{"$f":"IF(DM$1>$E$11,0,IF($G41=0,0,(DM$1-$G41)*Hoja1!$A$1/DM$1))","v":0}]
[null,null,null,null,null,507.12499999999994,0,{"$f":"IF(H$1>$E$11,0,IF($G42=0,0,(H$1-$G42)*Hoja1!$A$1/H$1))","v":0},{"$f":"IF(I$1>$E$11,0,IF($G42=0,0,(I$1-$G42)*Hoja1!$A$1/I$1))","v":0},{"$f":"IF(J$1>$E$11,0,IF($G42=0,0,(J$1-$G42)*Hoja1!$A$1/J$1))","v":0},{"$f":"IF(K$1>$E$11,0,IF($G42=0,0,(K$1-$G42)*Hoja1!$A$1/K$1))","v":0},{"$f":"IF(L$1>$E$11,0,IF($G42=0,0,(L$1-$G42)*Hoja1!$A$1/L$1))","v":0},{"$f":"IF(M$1>$E$11,0,IF($G42=0,0,(M$1-$G42)*Hoja1!$A$1/M$1))","v":0},{"$f":"IF(N$1>$E$11,0,IF($G42=0,0,(N$1-$G42)*Hoja1!$A$1/N$1))","v":0},{"$f":"IF(O$1>$E$11,0,IF($G42=0,0,(O$1-$G42)*Hoja1!$A$1/O$1))","v":0},{"$f":"IF(P$1>$E$11,0,IF($G42=0,0,(P$1-$G42)*Hoja1!$A$1/P$1))","v":0},{"$f":"IF(Q$1>$E$11,0,IF($G42=0,0,(Q$1-$G42)*Hoja1!$A$1/Q$1))","v":0},{"$f":"IF(R$1>$E$11,0,IF($G42=0,0,(R$1-$G42)*Hoja1!$A$1/R$1))","v":0},{"$f":"IF(S$1>$E$11,0,IF($G42=0,0,(S$1-$G42)*Hoja1!$A$1/S$1))","v":0},{"$f":"IF(T$1>$E$11,0,IF($G42=0,0,(T$1-$G42)*Hoja1!$A$1/T$1))","v":0},{"$f":"IF(U$1>$E$11,0,IF($G42=0,0,(U$1-$G42)*Hoja1!$A$1/U$1))","v":0},{"$f":"IF(V$1>$E$11,0,IF($G42=0,0,(V$1-$G42)*Hoja1!$A$1/V$1))","v":0},{"$f":"IF(W$1>$E$11,0,IF($G42=0,0,(W$1-$G42)*Hoja1!$A$1/W$1))","v":0},{"$f":"IF(X$1>$E$11,0,IF($G42=0,0,(X$1-$G42)*Hoja1!$A$1/X$1))","v":0},{"$f":"IF(Y$1>$E$11,0,IF($G42=0,0,(Y$1-$G42)*Hoja1!$A$1/Y$1))","v":0},{"$f":"IF(Z$1>$E$11,0,IF($G42=0,0,(Z$1-$G42)*Hoja1!$A$1/Z$1))","v":0},{"$f":"IF(AA$1>$E$11,0,IF($G42=0,0,(AA$1-$G42)*Hoja1!$A$1/AA$1))","v":0},{"$f":"IF(AB$1>$E$11,0,IF($G42=0,0,(AB$1-$G42)*Hoja1!$A$1/AB$1))","v":0},{"$f":"IF(AC$1>$E$11,0,IF($G42=0,0,(AC$1-$G42)*Hoja1!$A$1/AC$1))","v":0},{"$f":"IF(AD$1>$E$11,0,IF($G42=0,0,(AD$1-$G42)*Hoja1!$A$1/AD$1))","v":0},{"$f":"IF(AE$1>$E$11,0,IF($G42=0,0,(AE$1-$G42)*Hoja1!$A$1/AE$1))","v":0},{"$f":"IF(AF$1>$E$11,0,IF($G42=0,0,(AF$1-$G42)*Hoja1!$A$1/AF$1))","v":0},{"$f":"IF(AG$1>$E$11,0,IF($G42=0,0,(AG$1-$G42)*Hoja1!$A$1/AG$1))","v":0},{"$f":"IF(AH$1>$E$11,0,IF($G42=0,0,(AH$1-$G42)*Hoja1!$A$1/AH$1))","v":0},{"$f":"IF(AI$1>$E$11,0,IF($G42=0,0,(AI$1-$G42)*Hoja1!$A$1/AI$1))","v":0},{"$f":"IF(AJ$1>$E$11,0,IF($G42=0,0,(AJ$1-$G42)*Hoja1!$A$1/AJ$1))","v":0},{"$f":"IF(AK$1>$E$11,0,IF($G42=0,0,(AK$1-$G42)*Hoja1!$A$1/AK$1))","v":0},{"$f":"IF(AL$1>$E$11,0,IF($G42=0,0,(AL$1-$G42)*Hoja1!$A$1/AL$1))","v":0},{"$f":"IF(AM$1>$E$11,0,IF($G42=0,0,(AM$1-$G42)*Hoja1!$A$1/AM$1))","v":0},{"$f":"IF(AN$1>$E$11,0,IF($G42=0,0,(AN$1-$G42)*Hoja1!$A$1/AN$1))","v":0},{"$f":"IF(AO$1>$E$11,0,IF($G42=0,0,(AO$1-$G42)*Hoja1!$A$1/AO$1))","v":0},{"$f":"IF(AP$1>$E$11,0,IF($G42=0,0,(AP$1-$G42)*Hoja1!$A$1/AP$1))","v":0},{"$f":"IF(AQ$1>$E$11,0,IF($G42=0,0,(AQ$1-$G42)*Hoja1!$A$1/AQ$1))","v":0},{"$f":"IF(AR$1>$E$11,0,IF($G42=0,0,(AR$1-$G42)*Hoja1!$A$1/AR$1))","v":0},{"$f":"IF(AS$1>$E$11,0,IF($G42=0,0,(AS$1-$G42)*Hoja1!$A$1/AS$1))","v":0},{"$f":"IF(AT$1>$E$11,0,IF($G42=0,0,(AT$1-$G42)*Hoja1!$A$1/AT$1))","v":0},{"$f":"IF(AU$1>$E$11,0,IF($G42=0,0,(AU$1-$G42)*Hoja1!$A$1/AU$1))","v":0},{"$f":"IF(AV$1>$E$11,0,IF($G42=0,0,(AV$1-$G42)*Hoja1!$A$1/AV$1))","v":0},{"$f":"IF(AW$1>$E$11,0,IF($G42=0,0,(AW$1-$G42)*Hoja1!$A$1/AW$1))","v":0},{"$f":"IF(AX$1>$E$11,0,IF($G42=0,0,(AX$1-$G42)*Hoja1!$A$1/AX$1))","v":0},{"$f":"IF(AY$1>$E$11,0,IF($G42=0,0,(AY$1-$G42)*Hoja1!$A$1/AY$1))","v":0},{"$f":"IF(AZ$1>$E$11,0,IF($G42=0,0,(AZ$1-$G42)*Hoja1!$A$1/AZ$1))","v":0},{"$f":"IF(BA$1>$E$11,0,IF($G42=0,0,(BA$1-$G42)*Hoja1!$A$1/BA$1))","v":0},{"$f":"IF(BB$1>$E$11,0,IF($G42=0,0,(BB$1-$G42)*Hoja1!$A$1/BB$1))","v":0},{"$f":"IF(BC$1>$E$11,0,IF($G42=0,0,(BC$1-$G42)*Hoja1!$A$1/BC$1))","v":0},{"$f":"IF(BD$1>$E$11,0,IF($G42=0,0,(BD$1-$G42)*Hoja1!$A$1/BD$1))","v":0},{"$f":"IF(BE$1>$E$11,0,IF($G42=0,0,(BE$1-$G42)*Hoja1!$A$1/BE$1))","v":0},{"$f":"IF(BF$1>$E$11,0,IF($G42=0,0,(BF$1-$G42)*Hoja1!$A$1/BF$1))","v":0},{"$f":"IF(BG$1>$E$11,0,IF($G42=0,0,(BG$1-$G42)*Hoja1!$A$1/BG$1))","v":0},{"$f":"IF(BH$1>$E$11,0,IF($G42=0,0,(BH$1-$G42)*Hoja1!$A$1/BH$1))","v":0},{"$f":"IF(BI$1>$E$11,0,IF($G42=0,0,(BI$1-$G42)*Hoja1!$A$1/BI$1))","v":0},{"$f":"IF(BJ$1>$E$11,0,IF($G42=0,0,(BJ$1-$G42)*Hoja1!$A$1/BJ$1))","v":0},{"$f":"IF(BK$1>$E$11,0,IF($G42=0,0,(BK$1-$G42)*Hoja1!$A$1/BK$1))","v":0},{"$f":"IF(BL$1>$E$11,0,IF($G42=0,0,(BL$1-$G42)*Hoja1!$A$1/BL$1))","v":0},{"$f":"IF(BM$1>$E$11,0,IF($G42=0,0,(BM$1-$G42)*Hoja1!$A$1/BM$1))","v":0},{"$f":"IF(BN$1>$E$11,0,IF($G42=0,0,(BN$1-$G42)*Hoja1!$A$1/BN$1))","v":0},{"$f":"IF(BO$1>$E$11,0,IF($G42=0,0,(BO$1-$G42)*Hoja1!$A$1/BO$1))","v":0},{"$f":"IF(BP$1>$E$11,0,IF($G42=0,0,(BP$1-$G42)*Hoja1!$A$1/BP$1))","v":0},{"$f":"IF(BQ$1>$E$11,0,IF($G42=0,0,(BQ$1-$G42)*Hoja1!$A$1/BQ$1))","v":0},{"$f":"IF(BR$1>$E$11,0,IF($G42=0,0,(BR$1-$G42)*Hoja1!$A$1/BR$1))","v":0},{"$f":"IF(BS$1>$E$11,0,IF($G42=0,0,(BS$1-$G42)*Hoja1!$A$1/BS$1))","v":0},{"$f":"IF(BT$1>$E$11,0,IF($G42=0,0,(BT$1-$G42)*Hoja1!$A$1/BT$1))","v":0},{"$f":"IF(BU$1>$E$11,0,IF($G42=0,0,(BU$1-$G42)*Hoja1!$A$1/BU$1))","v":0},{"$f":"IF(BV$1>$E$11,0,IF($G42=0,0,(BV$1-$G42)*Hoja1!$A$1/BV$1))","v":0},{"$f":"IF(BW$1>$E$11,0,IF($G42=0,0,(BW$1-$G42)*Hoja1!$A$1/BW$1))","v":0},{"$f":"IF(BX$1>$E$11,0,IF($G42=0,0,(BX$1-$G42)*Hoja1!$A$1/BX$1))","v":0},{"$f":"IF(BY$1>$E$11,0,IF($G42=0,0,(BY$1-$G42)*Hoja1!$A$1/BY$1))","v":0},{"$f":"IF(BZ$1>$E$11,0,IF($G42=0,0,(BZ$1-$G42)*Hoja1!$A$1/BZ$1))","v":0},{"$f":"IF(CA$1>$E$11,0,IF($G42=0,0,(CA$1-$G42)*Hoja1!$A$1/CA$1))","v":0},{"$f":"IF(CB$1>$E$11,0,IF($G42=0,0,(CB$1-$G42)*Hoja1!$A$1/CB$1))","v":0},{"$f":"IF(CC$1>$E$11,0,IF($G42=0,0,(CC$1-$G42)*Hoja1!$A$1/CC$1))","v":0},{"$f":"IF(CD$1>$E$11,0,IF($G42=0,0,(CD$1-$G42)*Hoja1!$A$1/CD$1))","v":0},{"$f":"IF(CE$1>$E$11,0,IF($G42=0,0,(CE$1-$G42)*Hoja1!$A$1/CE$1))","v":0},{"$f":"IF(CF$1>$E$11,0,IF($G42=0,0,(CF$1-$G42)*Hoja1!$A$1/CF$1))","v":0},{"$f":"IF(CG$1>$E$11,0,IF($G42=0,0,(CG$1-$G42)*Hoja1!$A$1/CG$1))","v":0},{"$f":"IF(CH$1>$E$11,0,IF($G42=0,0,(CH$1-$G42)*Hoja1!$A$1/CH$1))","v":0},{"$f":"IF(CI$1>$E$11,0,IF($G42=0,0,(CI$1-$G42)*Hoja1!$A$1/CI$1))","v":0},{"$f":"IF(CJ$1>$E$11,0,IF($G42=0,0,(CJ$1-$G42)*Hoja1!$A$1/CJ$1))","v":0},{"$f":"IF(CK$1>$E$11,0,IF($G42=0,0,(CK$1-$G42)*Hoja1!$A$1/CK$1))","v":0},{"$f":"IF(CL$1>$E$11,0,IF($G42=0,0,(CL$1-$G42)*Hoja1!$A$1/CL$1))","v":0},{"$f":"IF(CM$1>$E$11,0,IF($G42=0,0,(CM$1-$G42)*Hoja1!$A$1/CM$1))","v":0},{"$f":"IF(CN$1>$E$11,0,IF($G42=0,0,(CN$1-$G42)*Hoja1!$A$1/CN$1))","v":0},{"$f":"IF(CO$1>$E$11,0,IF($G42=0,0,(CO$1-$G42)*Hoja1!$A$1/CO$1))","v":0},{"$f":"IF(CP$1>$E$11,0,IF($G42=0,0,(CP$1-$G42)*Hoja1!$A$1/CP$1))","v":0},{"$f":"IF(CQ$1>$E$11,0,IF($G42=0,0,(CQ$1-$G42)*Hoja1!$A$1/CQ$1))","v":0},{"$f":"IF(CR$1>$E$11,0,IF($G42=0,0,(CR$1-$G42)*Hoja1!$A$1/CR$1))","v":0},{"$f":"IF(CS$1>$E$11,0,IF($G42=0,0,(CS$1-$G42)*Hoja1!$A$1/CS$1))","v":0},{"$f":"IF(CT$1>$E$11,0,IF($G42=0,0,(CT$1-$G42)*Hoja1!$A$1/CT$1))","v":0},{"$f":"IF(CU$1>$E$11,0,IF($G42=0,0,(CU$1-$G42)*Hoja1!$A$1/CU$1))","v":0},{"$f":"IF(CV$1>$E$11,0,IF($G42=0,0,(CV$1-$G42)*Hoja1!$A$1/CV$1))","v":0},{"$f":"IF(CW$1>$E$11,0,IF($G42=0,0,(CW$1-$G42)*Hoja1!$A$1/CW$1))","v":0},{"$f":"IF(CX$1>$E$11,0,IF($G42=0,0,(CX$1-$G42)*Hoja1!$A$1/CX$1))","v":0},{"$f":"IF(CY$1>$E$11,0,IF($G42=0,0,(CY$1-$G42)*Hoja1!$A$1/CY$1))","v":0},{"$f":"IF(CZ$1>$E$11,0,IF($G42=0,0,(CZ$1-$G42)*Hoja1!$A$1/CZ$1))","v":0},{"$f":"IF(DA$1>$E$11,0,IF($G42=0,0,(DA$1-$G42)*Hoja1!$A$1/DA$1))","v":0},{"$f":"IF(DB$1>$E$11,0,IF($G42=0,0,(DB$1-$G42)*Hoja1!$A$1/DB$1))","v":0},{"$f":"IF(DC$1>$E$11,0,IF($G42=0,0,(DC$1-$G42)*Hoja1!$A$1/DC$1))","v":0},{"$f":"IF(DD$1>$E$11,0,IF($G42=0,0,(DD$1-$G42)*Hoja1!$A$1/DD$1))","v":0},{"$f":"IF(DE$1>$E$11,0,IF($G42=0,0,(DE$1-$G42)*Hoja1!$A$1/DE$1))","v":0},{"$f":"IF(DF$1>$E$11,0,IF($G42=0,0,(DF$1-$G42)*Hoja1!$A$1/DF$1))","v":0},{"$f":"IF(DG$1>$E$11,0,IF($G42=0,0,(DG$1-$G42)*Hoja1!$A$1/DG$1))","v":0},{"$f":"IF(DH$1>$E$11,0,IF($G42=0,0,(DH$1-$G42)*Hoja1!$A$1/DH$1))","v":0},{"$f":"IF(DI$1>$E$11,0,IF($G42=0,0,(DI$1-$G42)*Hoja1!$A$1/DI$1))","v":0},{"$f":"IF(DJ$1>$E$11,0,IF($G42=0,0,(DJ$1-$G42)*Hoja1!$A$1/DJ$1))","v":0},{"$f":"IF(DK$1>$E$11,0,IF($G42=0,0,(DK$1-$G42)*Hoja1!$A$1/DK$1))","v":0},{"$f":"IF(DL$1>$E$11,0,IF($G42=0,0,(DL$1-$G42)*Hoja1!$A$1/DL$1))","v":0},{"$f":"IF(DM$1>$E$11,0,IF($G42=0,0,(DM$1-$G42)*Hoja1!$A$1/DM$1))","v":0}]
[null,null,null,null,null,520.31499999999994,0,{"$f":"IF(H$1>$E$11,0,IF($G43=0,0,(H$1-$G43)*Hoja1!$A$1/H$1))","v":0},{"$f":"IF(I$1>$E$11,0,IF($G43=0,0,(I$1-$G43)*Hoja1!$A$1/I$1))","v":0},{"$f":"IF(J$1>$E$11,0,IF($G43=0,0,(J$1-$G43)*Hoja1!$A$1/J$1))","v":0},{"$f":"IF(K$1>$E$11,0,IF($G43=0,0,(K$1-$G43)*Hoja1!$A$1/K$1))","v":0},{"$f":"IF(L$1>$E$11,0,IF($G43=0,0,(L$1-$G43)*Hoja1!$A$1/L$1))","v":0},{"$f":"IF(M$1>$E$11,0,IF($G43=0,0,(M$1-$G43)*Hoja1!$A$1/M$1))","v":0},{"$f":"IF(N$1>$E$11,0,IF($G43=0,0,(N$1-$G43)*Hoja1!$A$1/N$1))","v":0},{"$f":"IF(O$1>$E$11,0,IF($G43=0,0,(O$1-$G43)*Hoja1!$A$1/O$1))","v":0},{"$f":"IF(P$1>$E$11,0,IF($G43=0,0,(P$1-$G43)*Hoja1!$A$1/P$1))","v":0},{"$f":"IF(Q$1>$E$11,0,IF($G43=0,0,(Q$1-$G43)*Hoja1!$A$1/Q$1))","v":0},{"$f":"IF(R$1>$E$11,0,IF($G43=0,0,(R$1-$G43)*Hoja1!$A$1/R$1))","v":0},{"$f":"IF(S$1>$E$11,0,IF($G43=0,0,(S$1-$G43)*Hoja1!$A$1/S$1))","v":0},{"$f":"IF(T$1>$E$11,0,IF($G43=0,0,(T$1-$G43)*Hoja1!$A$1/T$1))","v":0},{"$f":"IF(U$1>$E$11,0,IF($G43=0,0,(U$1-$G43)*Hoja1!$A$1/U$1))","v":0},{"$f":"IF(V$1>$E$11,0,IF($G43=0,0,(V$1-$G43)*Hoja1!$A$1/V$1))","v":0},{"$f":"IF(W$1>$E$11,0,IF($G43=0,0,(W$1-$G43)*Hoja1!$A$1/W$1))","v":0},{"$f":"IF(X$1>$E$11,0,IF($G43=0,0,(X$1-$G43)*Hoja1!$A$1/X$1))","v":0},{"$f":"IF(Y$1>$E$11,0,IF($G43=0,0,(Y$1-$G43)*Hoja1!$A$1/Y$1))","v":0},{"$f":"IF(Z$1>$E$11,0,IF($G43=0,0,(Z$1-$G43)*Hoja1!$A$1/Z$1))","v":0},{"$f":"IF(AA$1>$E$11,0,IF($G43=0,0,(AA$1-$G43)*Hoja1!$A$1/AA$1))","v":0},{"$f":"IF(AB$1>$E$11,0,IF($G43=0,0,(AB$1-$G43)*Hoja1!$A$1/AB$1))","v":0},{"$f":"IF(AC$1>$E$11,0,IF($G43=0,0,(AC$1-$G43)*Hoja1!$A$1/AC$1))","v":0},{"$f":"IF(AD$1>$E$11,0,IF($G43=0,0,(AD$1-$G43)*Hoja1!$A$1/AD$1))","v":0},{"$f":"IF(AE$1>$E$11,0,IF($G43=0,0,(AE$1-$G43)*Hoja1!$A$1/AE$1))","v":0},{"$f":"IF(AF$1>$E$11,0,IF($G43=0,0,(AF$1-$G43)*Hoja1!$A$1/AF$1))","v":0},{"$f":"IF(AG$1>$E$11,0,IF($G43=0,0,(AG$1-$G43)*Hoja1!$A$1/AG$1))","v":0},{"$f":"IF(AH$1>$E$11,0,IF($G43=0,0,(AH$1-$G43)*Hoja1!$A$1/AH$1))","v":0},{"$f":"IF(AI$1>$E$11,0,IF($G43=0,0,(AI$1-$G43)*Hoja1!$A$1/AI$1))","v":0},{"$f":"IF(AJ$1>$E$11,0,IF($G43=0,0,(AJ$1-$G43)*Hoja1!$A$1/AJ$1))","v":0},{"$f":"IF(AK$1>$E$11,0,IF($G43=0,0,(AK$1-$G43)*Hoja1!$A$1/AK$1))","v":0},{"$f":"IF(AL$1>$E$11,0,IF($G43=0,0,(AL$1-$G43)*Hoja1!$A$1/AL$1))","v":0},{"$f":"IF(AM$1>$E$11,0,IF($G43=0,0,(AM$1-$G43)*Hoja1!$A$1/AM$1))","v":0},{"$f":"IF(AN$1>$E$11,0,IF($G43=0,0,(AN$1-$G43)*Hoja1!$A$1/AN$1))","v":0},{"$f":"IF(AO$1>$E$11,0,IF($G43=0,0,(AO$1-$G43)*Hoja1!$A$1/AO$1))","v":0},{"$f":"IF(AP$1>$E$11,0,IF($G43=0,0,(AP$1-$G43)*Hoja1!$A$1/AP$1))","v":0},{"$f":"IF(AQ$1>$E$11,0,IF($G43=0,0,(AQ$1-$G43)*Hoja1!$A$1/AQ$1))","v":0},{"$f":"IF(AR$1>$E$11,0,IF($G43=0,0,(AR$1-$G43)*Hoja1!$A$1/AR$1))","v":0},{"$f":"IF(AS$1>$E$11,0,IF($G43=0,0,(AS$1-$G43)*Hoja1!$A$1/AS$1))","v":0},{"$f":"IF(AT$1>$E$11,0,IF($G43=0,0,(AT$1-$G43)*Hoja1!$A$1/AT$1))","v":0},{"$f":"IF(AU$1>$E$11,0,IF($G43=0,0,(AU$1-$G43)*Hoja1!$A$1/AU$1))","v":0},{"$f":"IF(AV$1>$E$11,0,IF($G43=0,0,(AV$1-$G43)*Hoja1!$A$1/AV$1))","v":0},{"$f":"IF(AW$1>$E$11,0,IF($G43=0,0,(AW$1-$G43)*Hoja1!$A$1/AW$1))","v":0},{"$f":"IF(AX$1>$E$11,0,IF($G43=0,0,(AX$1-$G43)*Hoja1!$A$1/AX$1))","v":0},{"$f":"IF(AY$1>$E$11,0,IF($G43=0,0,(AY$1-$G43)*Hoja1!$A$1/AY$1))","v":0},{"$f":"IF(AZ$1>$E$11,0,IF($G43=0,0,(AZ$1-$G43)*Hoja1!$A$1/AZ$1))","v":0},{"$f":"IF(BA$1>$E$11,0,IF($G43=0,0,(BA$1-$G43)*Hoja1!$A$1/BA$1))","v":0},{"$f":"IF(BB$1>$E$11,0,IF($G43=0,0,(BB$1-$G43)*Hoja1!$A$1/BB$1))","v":0},{"$f":"IF(BC$1>$E$11,0,IF($G43=0,0,(BC$1-$G43)*Hoja1!$A$1/BC$1))","v":0},{"$f":"IF(BD$1>$E$11,0,IF($G43=0,0,(BD$1-$G43)*Hoja1!$A$1/BD$1))","v":0},{"$f":"IF(BE$1>$E$11,0,IF($G43=0,0,(BE$1-$G43)*Hoja1!$A$1/BE$1))","v":0},{"$f":"IF(BF$1>$E$11,0,IF($G43=0,0,(BF$1-$G43)*Hoja1!$A$1/BF$1))","v":0},{"$f":"IF(BG$1>$E$11,0,IF($G43=0,0,(BG$1-$G43)*Hoja1!$A$1/BG$1))","v":0},{"$f":"IF(BH$1>$E$11,0,IF($G43=0,0,(BH$1-$G43)*Hoja1!$A$1/BH$1))","v":0},{"$f":"IF(BI$1>$E$11,0,IF($G43=0,0,(BI$1-$G43)*Hoja1!$A$1/BI$1))","v":0},{"$f":"IF(BJ$1>$E$11,0,IF($G43=0,0,(BJ$1-$G43)*Hoja1!$A$1/BJ$1))","v":0},{"$f":"IF(BK$1>$E$11,0,IF($G43=0,0,(BK$1-$G43)*Hoja1!$A$1/BK$1))","v":0},{"$f":"IF(BL$1>$E$11,0,IF($G43=0,0,(BL$1-$G43)*Hoja1!$A$1/BL$1))","v":0},{"$f":"IF(BM$1>$E$11,0,IF($G43=0,0,(BM$1-$G43)*Hoja1!$A$1/BM$1))","v":0},{"$f":"IF(BN$1>$E$11,0,IF($G43=0,0,(BN$1-$G43)*Hoja1!$A$1/BN$1))","v":0},{"$f":"IF(BO$1>$E$11,0,IF($G43=0,0,(BO$1-$G43)*Hoja1!$A$1/BO$1))","v":0},{"$f":"IF(BP$1>$E$11,0,IF($G43=0,0,(BP$1-$G43)*Hoja1!$A$1/BP$1))","v":0},{"$f":"IF(BQ$1>$E$11,0,IF($G43=0,0,(BQ$1-$G43)*Hoja1!$A$1/BQ$1))","v":0},{"$f":"IF(BR$1>$E$11,0,IF($G43=0,0,(BR$1-$G43)*Hoja1!$A$1/BR$1))","v":0},{"$f":"IF(BS$1>$E$11,0,IF($G43=0,0,(BS$1-$G43)*Hoja1!$A$1/BS$1))","v":0},{"$f":"IF(BT$1>$E$11,0,IF($G43=0,0,(BT$1-$G43)*Hoja1!$A$1/BT$1))","v":0},{"$f":"IF(BU$1>$E$11,0,IF($G43=0,0,(BU$1-$G43)*Hoja1!$A$1/BU$1))","v":0},{"$f":"IF(BV$1>$E$11,0,IF($G43=0,0,(BV$1-$G43)*Hoja1!$A$1/BV$1))","v":0},{"$f":"IF(BW$1>$E$11,0,IF($G43=0,0,(BW$1-$G43)*Hoja1!$A$1/BW$1))","v":0},{"$f":"IF(BX$1>$E$11,0,IF($G43=0,0,(BX$1-$G43)*Hoja1!$A$1/BX$1))","v":0},{"$f":"IF(BY$1>$E$11,0,IF($G43=0,0,(BY$1-$G43)*Hoja1!$A$1/BY$1))","v":0},{"$f":"IF(BZ$1>$E$11,0,IF($G43=0,0,(BZ$1-$G43)*Hoja1!$A$1/BZ$1))","v":0},{"$f":"IF(CA$1>$E$11,0,IF($G43=0,0,(CA$1-$G43)*Hoja1!$A$1/CA$1))","v":0},{"$f":"IF(CB$1>$E$11,0,IF($G43=0,0,(CB$1-$G43)*Hoja1!$A$1/CB$1))","v":0},{"$f":"IF(CC$1>$E$11,0,IF($G43=0,0,(CC$1-$G43)*Hoja1!$A$1/CC$1))","v":0},{"$f":"IF(CD$1>$E$11,0,IF($G43=0,0,(CD$1-$G43)*Hoja1!$A$1/CD$1))","v":0},{"$f":"IF(CE$1>$E$11,0,IF($G43=0,0,(CE$1-$G43)*Hoja1!$A$1/CE$1))","v":0},{"$f":"IF(CF$1>$E$11,0,IF($G43=0,0,(CF$1-$G43)*Hoja1!$A$1/CF$1))","v":0},{"$f":"IF(CG$1>$E$11,0,IF($G43=0,0,(CG$1-$G43)*Hoja1!$A$1/CG$1))","v":0},{"$f":"IF(CH$1>$E$11,0,IF($G43=0,0,(CH$1-$G43)*Hoja1!$A$1/CH$1))","v":0},{"$f":"IF(CI$1>$E$11,0,IF($G43=0,0,(CI$1-$G43)*Hoja1!$A$1/CI$1))","v":0},{"$f":"IF(CJ$1>$E$11,0,IF($G43=0,0,(CJ$1-$G43)*Hoja1!$A$1/CJ$1))","v":0},{"$f":"IF(CK$1>$E$11,0,IF($G43=0,0,(CK$1-$G43)*Hoja1!$A$1/CK$1))","v":0},{"$f":"IF(CL$1>$E$11,0,IF($G43=0,0,(CL$1-$G43)*Hoja1!$A$1/CL$1))","v":0},{"$f":"IF(CM$1>$E$11,0,IF($G43=0,0,(CM$1-$G43)*Hoja1!$A$1/CM$1))","v":0},{"$f":"IF(CN$1>$E$11,0,IF($G43=0,0,(CN$1-$G43)*Hoja1!$A$1/CN$1))","v":0},{"$f":"IF(CO$1>$E$11,0,IF($G43=0,0,(CO$1-$G43)*Hoja1!$A$1/CO$1))","v":0},{"$f":"IF(CP$1>$E$11,0,IF($G43=0,0,(CP$1-$G43)*Hoja1!$A$1/CP$1))","v":0},{"$f":"IF(CQ$1>$E$11,0,IF($G43=0,0,(CQ$1-$G43)*Hoja1!$A$1/CQ$1))","v":0},{"$f":"IF(CR$1>$E$11,0,IF($G43=0,0,(CR$1-$G43)*Hoja1!$A$1/CR$1))","v":0},{"$f":"IF(CS$1>$E$11,0,IF($G43=0,0,(CS$1-$G43)*Hoja1!$A$1/CS$1))","v":0},{"$f":"IF(CT$1>$E$11,0,IF($G43=0,0,(CT$1-$G43)*Hoja1!$A$1/CT$1))","v":0},{"$f":"IF(CU$1>$E$11,0,IF($G43=0,0,(CU$1-$G43)*Hoja1!$A$1/CU$1))","v":0},{"$f":"IF(CV$1>$E$11,0,IF($G43=0,0,(CV$1-$G43)*Hoja1!$A$1/CV$1))","v":0},{"$f":"IF(CW$1>$E$11,0,IF($G43=0,0,(CW$1-$G43)*Hoja1!$A$1/CW$1))","v":0},{"$f":"IF(CX$1>$E$11,0,IF($G43=0,0,(CX$1-$G43)*Hoja1!$A$1/CX$1))","v":0},{"$f":"IF(CY$1>$E$11,0,IF($G43=0,0,(CY$1-$G43)*Hoja1!$A$1/CY$1))","v":0},{"$f":"IF(CZ$1>$E$11,0,IF($G43=0,0,(CZ$1-$G43)*Hoja1!$A$1/CZ$1))","v":0},{"$f":"IF(DA$1>$E$11,0,IF($G43=0,0,(DA$1-$G43)*Hoja1!$A$1/DA$1))","v":0},{"$f":"IF(DB$1>$E$11,0,IF($G43=0,0,(DB$1-$G43)*Hoja1!$A$1/DB$1))","v":0},{"$f":"IF(DC$1>$E$11,0,IF($G43=0,0,(DC$1-$G43)*Hoja1!$A$1/DC$1))","v":0},{"$f":"IF(DD$1>$E$11,0,IF($G43=0,0,(DD$1-$G43)*Hoja1!$A$1/DD$1))","v":0},{"$f":"IF(DE$1>$E$11,0,IF($G43=0,0,(DE$1-$G43)*Hoja1!$A$1/DE$1))","v":0},{"$f":"IF(DF$1>$E$11,0,IF($G43=0,0,(DF$1-$G43)*Hoja1!$A$1/DF$1))","v":0},{"$f":"IF(DG$1>$E$11,0,IF($G43=0,0,(DG$1-$G43)*Hoja1!$A$1/DG$1))","v":0},{"$f":"IF(DH$1>$E$11,0,IF($G43=0,0,(DH$1-$G43)*Hoja1!$A$1/DH$1))","v":0},{"$f":"IF(DI$1>$E$11,0,IF($G43=0,0,(DI$1-$G43)*Hoja1!$A$1/DI$1))","v":0},{"$f":"IF(DJ$1>$E$11,0,IF($G43=0,0,(DJ$1-$G43)*Hoja1!$A$1/DJ$1))","v":0},{"$f":"IF(DK$1>$E$11,0,IF($G43=0,0,(DK$1-$G43)*Hoja1!$A$1/DK$1))","v":0},{"$f":"IF(DL$1>$E$11,0,IF($G43=0,0,(DL$1-$G43)*Hoja1!$A$1/DL$1))","v":0},{"$f":"IF(DM$1>$E$11,0,IF($G43=0,0,(DM$1-$G43)*Hoja1!$A$1/DM$1))","v":0}]
[null,null,null,null,null,533.505,0,{"$f":"IF(H$1>$E$11,0,IF($G44=0,0,(H$1-$G44)*Hoja1!$A$1/H$1))","v":0},{"$f":"IF(I$1>$E$11,0,IF($G44=0,0,(I$1-$G44)*Hoja1!$A$1/I$1))","v":0},{"$f":"IF(J$1>$E$11,0,IF($G44=0,0,(J$1-$G44)*Hoja1!$A$1/J$1))","v":0},{"$f":"IF(K$1>$E$11,0,IF($G44=0,0,(K$1-$G44)*Hoja1!$A$1/K$1))","v":0},{"$f":"IF(L$1>$E$11,0,IF($G44=0,0,(L$1-$G44)*Hoja1!$A$1/L$1))","v":0},{"$f":"IF(M$1>$E$11,0,IF($G44=0,0,(M$1-$G44)*Hoja1!$A$1/M$1))","v":0},{"$f":"IF(N$1>$E$11,0,IF($G44=0,0,(N$1-$G44)*Hoja1!$A$1/N$1))","v":0},{"$f":"IF(O$1>$E$11,0,IF($G44=0,0,(O$1-$G44)*Hoja1!$A$1/O$1))","v":0},{"$f":"IF(P$1>$E$11,0,IF($G44=0,0,(P$1-$G44)*Hoja1!$A$1/P$1))","v":0},{"$f":"IF(Q$1>$E$11,0,IF($G44=0,0,(Q$1-$G44)*Hoja1!$A$1/Q$1))","v":0},{"$f":"IF(R$1>$E$11,0,IF($G44=0,0,(R$1-$G44)*Hoja1!$A$1/R$1))","v":0},{"$f":"IF(S$1>$E$11,0,IF($G44=0,0,(S$1-$G44)*Hoja1!$A$1/S$1))","v":0},{"$f":"IF(T$1>$E$11,0,IF($G44=0,0,(T$1-$G44)*Hoja1!$A$1/T$1))","v":0},{"$f":"IF(U$1>$E$11,0,IF($G44=0,0,(U$1-$G44)*Hoja1!$A$1/U$1))","v":0},{"$f":"IF(V$1>$E$11,0,IF($G44=0,0,(V$1-$G44)*Hoja1!$A$1/V$1))","v":0},{"$f":"IF(W$1>$E$11,0,IF($G44=0,0,(W$1-$G44)*Hoja1!$A$1/W$1))","v":0},{"$f":"IF(X$1>$E$11,0,IF($G44=0,0,(X$1-$G44)*Hoja1!$A$1/X$1))","v":0},{"$f":"IF(Y$1>$E$11,0,IF($G44=0,0,(Y$1-$G44)*Hoja1!$A$1/Y$1))","v":0},{"$f":"IF(Z$1>$E$11,0,IF($G44=0,0,(Z$1-$G44)*Hoja1!$A$1/Z$1))","v":0},{"$f":"IF(AA$1>$E$11,0,IF($G44=0,0,(AA$1-$G44)*Hoja1!$A$1/AA$1))","v":0},{"$f":"IF(AB$1>$E$11,0,IF($G44=0,0,(AB$1-$G44)*Hoja1!$A$1/AB$1))","v":0},{"$f":"IF(AC$1>$E$11,0,IF($G44=0,0,(AC$1-$G44)*Hoja1!$A$1/AC$1))","v":0},{"$f":"IF(AD$1>$E$11,0,IF($G44=0,0,(AD$1-$G44)*Hoja1!$A$1/AD$1))","v":0},{"$f":"IF(AE$1>$E$11,0,IF($G44=0,0,(AE$1-$G44)*Hoja1!$A$1/AE$1))","v":0},{"$f":"IF(AF$1>$E$11,0,IF($G44=0,0,(AF$1-$G44)*Hoja1!$A$1/AF$1))","v":0},{"$f":"IF(AG$1>$E$11,0,IF($G44=0,0,(AG$1-$G44)*Hoja1!$A$1/AG$1))","v":0},{"$f":"IF(AH$1>$E$11,0,IF($G44=0,0,(AH$1-$G44)*Hoja1!$A$1/AH$1))","v":0},{"$f":"IF(AI$1>$E$11,0,IF($G44=0,0,(AI$1-$G44)*Hoja1!$A$1/AI$1))","v":0},{"$f":"IF(AJ$1>$E$11,0,IF($G44=0,0,(AJ$1-$G44)*Hoja1!$A$1/AJ$1))","v":0},{"$f":"IF(AK$1>$E$11,0,IF($G44=0,0,(AK$1-$G44)*Hoja1!$A$1/AK$1))","v":0},{"$f":"IF(AL$1>$E$11,0,IF($G44=0,0,(AL$1-$G44)*Hoja1!$A$1/AL$1))","v":0},{"$f":"IF(AM$1>$E$11,0,IF($G44=0,0,(AM$1-$G44)*Hoja1!$A$1/AM$1))","v":0},{"$f":"IF(AN$1>$E$11,0,IF($G44=0,0,(AN$1-$G44)*Hoja1!$A$1/AN$1))","v":0},{"$f":"IF(AO$1>$E$11,0,IF($G44=0,0,(AO$1-$G44)*Hoja1!$A$1/AO$1))","v":0},{"$f":"IF(AP$1>$E$11,0,IF($G44=0,0,(AP$1-$G44)*Hoja1!$A$1/AP$1))","v":0},{"$f":"IF(AQ$1>$E$11,0,IF($G44=0,0,(AQ$1-$G44)*Hoja1!$A$1/AQ$1))","v":0},{"$f":"IF(AR$1>$E$11,0,IF($G44=0,0,(AR$1-$G44)*Hoja1!$A$1/AR$1))","v":0},{"$f":"IF(AS$1>$E$11,0,IF($G44=0,0,(AS$1-$G44)*Hoja1!$A$1/AS$1))","v":0},{"$f":"IF(AT$1>$E$11,0,IF($G44=0,0,(AT$1-$G44)*Hoja1!$A$1/AT$1))","v":0},{"$f":"IF(AU$1>$E$11,0,IF($G44=0,0,(AU$1-$G44)*Hoja1!$A$1/AU$1))","v":0},{"$f":"IF(AV$1>$E$11,0,IF($G44=0,0,(AV$1-$G44)*Hoja1!$A$1/AV$1))","v":0},{"$f":"IF(AW$1>$E$11,0,IF($G44=0,0,(AW$1-$G44)*Hoja1!$A$1/AW$1))","v":0},{"$f":"IF(AX$1>$E$11,0,IF($G44=0,0,(AX$1-$G44)*Hoja1!$A$1/AX$1))","v":0},{"$f":"IF(AY$1>$E$11,0,IF($G44=0,0,(AY$1-$G44)*Hoja1!$A$1/AY$1))","v":0},{"$f":"IF(AZ$1>$E$11,0,IF($G44=0,0,(AZ$1-$G44)*Hoja1!$A$1/AZ$1))","v":0},{"$f":"IF(BA$1>$E$11,0,IF($G44=0,0,(BA$1-$G44)*Hoja1!$A$1/BA$1))","v":0},{"$f":"IF(BB$1>$E$11,0,IF($G44=0,0,(BB$1-$G44)*Hoja1!$A$1/BB$1))","v":0},{"$f":"IF(BC$1>$E$11,0,IF($G44=0,0,(BC$1-$G44)*Hoja1!$A$1/BC$1))","v":0},{"$f":"IF(BD$1>$E$11,0,IF($G44=0,0,(BD$1-$G44)*Hoja1!$A$1/BD$1))","v":0},{"$f":"IF(BE$1>$E$11,0,IF($G44=0,0,(BE$1-$G44)*Hoja1!$A$1/BE$1))","v":0},{"$f":"IF(BF$1>$E$11,0,IF($G44=0,0,(BF$1-$G44)*Hoja1!$A$1/BF$1))","v":0},{"$f":"IF(BG$1>$E$11,0,IF($G44=0,0,(BG$1-$G44)*Hoja1!$A$1/BG$1))","v":0},{"$f":"IF(BH$1>$E$11,0,IF($G44=0,0,(BH$1-$G44)*Hoja1!$A$1/BH$1))","v":0},{"$f":"IF(BI$1>$E$11,0,IF($G44=0,0,(BI$1-$G44)*Hoja1!$A$1/BI$1))","v":0},{"$f":"IF(BJ$1>$E$11,0,IF($G44=0,0,(BJ$1-$G44)*Hoja1!$A$1/BJ$1))","v":0},{"$f":"IF(BK$1>$E$11,0,IF($G44=0,0,(BK$1-$G44)*Hoja1!$A$1/BK$1))","v":0},{"$f":"IF(BL$1>$E$11,0,IF($G44=0,0,(BL$1-$G44)*Hoja1!$A$1/BL$1))","v":0},{"$f":"IF(BM$1>$E$11,0,IF($G44=0,0,(BM$1-$G44)*Hoja1!$A$1/BM$1))","v":0},{"$f":"IF(BN$1>$E$11,0,IF($G44=0,0,(BN$1-$G44)*Hoja1!$A$1/BN$1))","v":0},{"$f":"IF(BO$1>$E$11,0,IF($G44=0,0,(BO$1-$G44)*Hoja1!$A$1/BO$1))","v":0},{"$f":"IF(BP$1>$E$11,0,IF($G44=0,0,(BP$1-$G44)*Hoja1!$A$1/BP$1))","v":0},{"$f":"IF(BQ$1>$E$11,0,IF($G44=0,0,(BQ$1-$G44)*Hoja1!$A$1/BQ$1))","v":0},{"$f":"IF(BR$1>$E$11,0,IF($G44=0,0,(BR$1-$G44)*Hoja1!$A$1/BR$1))","v":0},{"$f":"IF(BS$1>$E$11,0,IF($G44=0,0,(BS$1-$G44)*Hoja1!$A$1/BS$1))","v":0},{"$f":"IF(BT$1>$E$11,0,IF($G44=0,0,(BT$1-$G44)*Hoja1!$A$1/BT$1))","v":0},{"$f":"IF(BU$1>$E$11,0,IF($G44=0,0,(BU$1-$G44)*Hoja1!$A$1/BU$1))","v":0},{"$f":"IF(BV$1>$E$11,0,IF($G44=0,0,(BV$1-$G44)*Hoja1!$A$1/BV$1))","v":0},{"$f":"IF(BW$1>$E$11,0,IF($G44=0,0,(BW$1-$G44)*Hoja1!$A$1/BW$1))","v":0},{"$f":"IF(BX$1>$E$11,0,IF($G44=0,0,(BX$1-$G44)*Hoja1!$A$1/BX$1))","v":0},{"$f":"IF(BY$1>$E$11,0,IF($G44=0,0,(BY$1-$G44)*Hoja1!$A$1/BY$1))","v":0},{"$f":"IF(BZ$1>$E$11,0,IF($G44=0,0,(BZ$1-$G44)*Hoja1!$A$1/BZ$1))","v":0},{"$f":"IF(CA$1>$E$11,0,IF($G44=0,0,(CA$1-$G44)*Hoja1!$A$1/CA$1))","v":0},{"$f":"IF(CB$1>$E$11,0,IF($G44=0,0,(CB$1-$G44)*Hoja1!$A$1/CB$1))","v":0},{"$f":"IF(CC$1>$E$11,0,IF($G44=0,0,(CC$1-$G44)*Hoja1!$A$1/CC$1))","v":0},{"$f":"IF(CD$1>$E$11,0,IF($G44=0,0,(CD$1-$G44)*Hoja1!$A$1/CD$1))","v":0},{"$f":"IF(CE$1>$E$11,0,IF($G44=0,0,(CE$1-$G44)*Hoja1!$A$1/CE$1))","v":0},{"$f":"IF(CF$1>$E$11,0,IF($G44=0,0,(CF$1-$G44)*Hoja1!$A$1/CF$1))","v":0},{"$f":"IF(CG$1>$E$11,0,IF($G44=0,0,(CG$1-$G44)*Hoja1!$A$1/CG$1))","v":0},{"$f":"IF(CH$1>$E$11,0,IF($G44=0,0,(CH$1-$G44)*Hoja1!$A$1/CH$1))","v":0},{"$f":"IF(CI$1>$E$11,0,IF($G44=0,0,(CI$1-$G44)*Hoja1!$A$1/CI$1))","v":0},{"$f":"IF(CJ$1>$E$11,0,IF($G44=0,0,(CJ$1-$G44)*Hoja1!$A$1/CJ$1))","v":0},{"$f":"IF(CK$1>$E$11,0,IF($G44=0,0,(CK$1-$G44)*Hoja1!$A$1/CK$1))","v":0},{"$f":"IF(CL$1>$E$11,0,IF($G44=0,0,(CL$1-$G44)*Hoja1!$A$1/CL$1))","v":0},{"$f":"IF(CM$1>$E$11,0,IF($G44=0,0,(CM$1-$G44)*Hoja1!$A$1/CM$1))","v":0},{"$f":"IF(CN$1>$E$11,0,IF($G44=0,0,(CN$1-$G44)*Hoja1!$A$1/CN$1))","v":0},{"$f":"IF(CO$1>$E$11,0,IF($G44=0,0,(CO$1-$G44)*Hoja1!$A$1/CO$1))","v":0},{"$f":"IF(CP$1>$E$11,0,IF($G44=0,0,(CP$1-$G44)*Hoja1!$A$1/CP$1))","v":0},{"$f":"IF(CQ$1>$E$11,0,IF($G44=0,0,(CQ$1-$G44)*Hoja1!$A$1/CQ$1))","v":0},{"$f":"IF(CR$1>$E$11,0,IF($G44=0,0,(CR$1-$G44)*Hoja1!$A$1/CR$1))","v":0},{"$f":"IF(CS$1>$E$11,0,IF($G44=0,0,(CS$1-$G44)*Hoja1!$A$1/CS$1))","v":0},{"$f":"IF(CT$1>$E$11,0,IF($G44=0,0,(CT$1-$G44)*Hoja1!$A$1/CT$1))","v":0},{"$f":"IF(CU$1>$E$11,0,IF($G44=0,0,(CU$1-$G44)*Hoja1!$A$1/CU$1))","v":0},{"$f":"IF(CV$1>$E$11,0,IF($G44=0,0,(CV$1-$G44)*Hoja1!$A$1/CV$1))","v":0},{"$f":"IF(CW$1>$E$11,0,IF($G44=0,0,(CW$1-$G44)*Hoja1!$A$1/CW$1))","v":0},{"$f":"IF(CX$1>$E$11,0,IF($G44=0,0,(CX$1-$G44)*Hoja1!$A$1/CX$1))","v":0},{"$f":"IF(CY$1>$E$11,0,IF($G44=0,0,(CY$1-$G44)*Hoja1!$A$1/CY$1))","v":0},{"$f":"IF(CZ$1>$E$11,0,IF($G44=0,0,(CZ$1-$G44)*Hoja1!$A$1/CZ$1))","v":0},{"$f":"IF(DA$1>$E$11,0,IF($G44=0,0,(DA$1-$G44)*Hoja1!$A$1/DA$1))","v":0},{"$f":"IF(DB$1>$E$11,0,IF($G44=0,0,(DB$1-$G44)*Hoja1!$A$1/DB$1))","v":0},{"$f":"IF(DC$1>$E$11,0,IF($G44=0,0,(DC$1-$G44)*Hoja1!$A$1/DC$1))","v":0},{"$f":"IF(DD$1>$E$11,0,IF($G44=0,0,(DD$1-$G44)*Hoja1!$A$1/DD$1))","v":0},{"$f":"IF(DE$1>$E$11,0,IF($G44=0,0,(DE$1-$G44)*Hoja1!$A$1/DE$1))","v":0},{"$f":"IF(DF$1>$E$11,0,IF($G44=0,0,(DF$1-$G44)*Hoja1!$A$1/DF$1))","v":0},{"$f":"IF(DG$1>$E$11,0,IF($G44=0,0,(DG$1-$G44)*Hoja1!$A$1/DG$1))","v":0},{"$f":"IF(DH$1>$E$11,0,IF($G44=0,0,(DH$1-$G44)*Hoja1!$A$1/DH$1))","v":0},{"$f":"IF(DI$1>$E$11,0,IF($G44=0,0,(DI$1-$G44)*Hoja1!$A$1/DI$1))","v":0},{"$f":"IF(DJ$1>$E$11,0,IF($G44=0,0,(DJ$1-$G44)*Hoja1!$A$1/DJ$1))","v":0},{"$f":"IF(DK$1>$E$11,0,IF($G44=0,0,(DK$1-$G44)*Hoja1!$A$1/DK$1))","v":0},{"$f":"IF(DL$1>$E$11,0,IF($G44=0,0,(DL$1-$G44)*Hoja1!$A$1/DL$1))","v":0},{"$f":"IF(DM$1>$E$11,0,IF($G44=0,0,(DM$1-$G44)*Hoja1!$A$1/DM$1))","v":0}]
[null,null,null,null,null,546.69500000000005,0,{"$f":"IF(H$1>$E$11,0,IF($G45=0,0,(H$1-$G45)*Hoja1!$A$1/H$1))","v":0},{"$f":"IF(I$1>$E$11,0,IF($G45=0,0,(I$1-$G45)*Hoja1!$A$1/I$1))","v":0},{"$f":"IF(J$1>$E$11,0,IF($G45=0,0,(J$1-$G45)*Hoja1!$A$1/J$1))","v":0},{"$f":"IF(K$1>$E$11,0,IF($G45=0,0,(K$1-$G45)*Hoja1!$A$1/K$1))","v":0},{"$f":"IF(L$1>$E$11,0,IF($G45=0,0,(L$1-$G45)*Hoja1!$A$1/L$1))","v":0},{"$f":"IF(M$1>$E$11,0,IF($G45=0,0,(M$1-$G45)*Hoja1!$A$1/M$1))","v":0},{"$f":"IF(N$1>$E$11,0,IF($G45=0,0,(N$1-$G45)*Hoja1!$A$1/N$1))","v":0},{"$f":"IF(O$1>$E$11,0,IF($G45=0,0,(O$1-$G45)*Hoja1!$A$1/O$1))","v":0},{"$f":"IF(P$1>$E$11,0,IF($G45=0,0,(P$1-$G45)*Hoja1!$A$1/P$1))","v":0},{"$f":"IF(Q$1>$E$11,0,IF($G45=0,0,(Q$1-$G45)*Hoja1!$A$1/Q$1))","v":0},{"$f":"IF(R$1>$E$11,0,IF($G45=0,0,(R$1-$G45)*Hoja1!$A$1/R$1))","v":0},{"$f":"IF(S$1>$E$11,0,IF($G45=0,0,(S$1-$G45)*Hoja1!$A$1/S$1))","v":0},{"$f":"IF(T$1>$E$11,0,IF($G45=0,0,(T$1-$G45)*Hoja1!$A$1/T$1))","v":0},{"$f":"IF(U$1>$E$11,0,IF($G45=0,0,(U$1-$G45)*Hoja1!$A$1/U$1))","v":0},{"$f":"IF(V$1>$E$11,0,IF($G45=0,0,(V$1-$G45)*Hoja1!$A$1/V$1))","v":0},{"$f":"IF(W$1>$E$11,0,IF($G45=0,0,(W$1-$G45)*Hoja1!$A$1/W$1))","v":0},{"$f":"IF(X$1>$E$11,0,IF($G45=0,0,(X$1-$G45)*Hoja1!$A$1/X$1))","v":0},{"$f":"IF(Y$1>$E$11,0,IF($G45=0,0,(Y$1-$G45)*Hoja1!$A$1/Y$1))","v":0},{"$f":"IF(Z$1>$E$11,0,IF($G45=0,0,(Z$1-$G45)*Hoja1!$A$1/Z$1))","v":0},{"$f":"IF(AA$1>$E$11,0,IF($G45=0,0,(AA$1-$G45)*Hoja1!$A$1/AA$1))","v":0},{"$f":"IF(AB$1>$E$11,0,IF($G45=0,0,(AB$1-$G45)*Hoja1!$A$1/AB$1))","v":0},{"$f":"IF(AC$1>$E$11,0,IF($G45=0,0,(AC$1-$G45)*Hoja1!$A$1/AC$1))","v":0},{"$f":"IF(AD$1>$E$11,0,IF($G45=0,0,(AD$1-$G45)*Hoja1!$A$1/AD$1))","v":0},{"$f":"IF(AE$1>$E$11,0,IF($G45=0,0,(AE$1-$G45)*Hoja1!$A$1/AE$1))","v":0},{"$f":"IF(AF$1>$E$11,0,IF($G45=0,0,(AF$1-$G45)*Hoja1!$A$1/AF$1))","v":0},{"$f":"IF(AG$1>$E$11,0,IF($G45=0,0,(AG$1-$G45)*Hoja1!$A$1/AG$1))","v":0},{"$f":"IF(AH$1>$E$11,0,IF($G45=0,0,(AH$1-$G45)*Hoja1!$A$1/AH$1))","v":0},{"$f":"IF(AI$1>$E$11,0,IF($G45=0,0,(AI$1-$G45)*Hoja1!$A$1/AI$1))","v":0},{"$f":"IF(AJ$1>$E$11,0,IF($G45=0,0,(AJ$1-$G45)*Hoja1!$A$1/AJ$1))","v":0},{"$f":"IF(AK$1>$E$11,0,IF($G45=0,0,(AK$1-$G45)*Hoja1!$A$1/AK$1))","v":0},{"$f":"IF(AL$1>$E$11,0,IF($G45=0,0,(AL$1-$G45)*Hoja1!$A$1/AL$1))","v":0},{"$f":"IF(AM$1>$E$11,0,IF($G45=0,0,(AM$1-$G45)*Hoja1!$A$1/AM$1))","v":0},{"$f":"IF(AN$1>$E$11,0,IF($G45=0,0,(AN$1-$G45)*Hoja1!$A$1/AN$1))","v":0},{"$f":"IF(AO$1>$E$11,0,IF($G45=0,0,(AO$1-$G45)*Hoja1!$A$1/AO$1))","v":0},{"$f":"IF(AP$1>$E$11,0,IF($G45=0,0,(AP$1-$G45)*Hoja1!$A$1/AP$1))","v":0},{"$f":"IF(AQ$1>$E$11,0,IF($G45=0,0,(AQ$1-$G45)*Hoja1!$A$1/AQ$1))","v":0},{"$f":"IF(AR$1>$E$11,0,IF($G45=0,0,(AR$1-$G45)*Hoja1!$A$1/AR$1))","v":0},{"$f":"IF(AS$1>$E$11,0,IF($G45=0,0,(AS$1-$G45)*Hoja1!$A$1/AS$1))","v":0},{"$f":"IF(AT$1>$E$11,0,IF($G45=0,0,(AT$1-$G45)*Hoja1!$A$1/AT$1))","v":0},{"$f":"IF(AU$1>$E$11,0,IF($G45=0,0,(AU$1-$G45)*Hoja1!$A$1/AU$1))","v":0},{"$f":"IF(AV$1>$E$11,0,IF($G45=0,0,(AV$1-$G45)*Hoja1!$A$1/AV$1))","v":0},{"$f":"IF(AW$1>$E$11,0,IF($G45=0,0,(AW$1-$G45)*Hoja1!$A$1/AW$1))","v":0},{"$f":"IF(AX$1>$E$11,0,IF($G45=0,0,(AX$1-$G45)*Hoja1!$A$1/AX$1))","v":0},{"$f":"IF(AY$1>$E$11,0,IF($G45=0,0,(AY$1-$G45)*Hoja1!$A$1/AY$1))","v":0},{"$f":"IF(AZ$1>$E$11,0,IF($G45=0,0,(AZ$1-$G45)*Hoja1!$A$1/AZ$1))","v":0},{"$f":"IF(BA$1>$E$11,0,IF($G45=0,0,(BA$1-$G45)*Hoja1!$A$1/BA$1))","v":0},{"$f":"IF(BB$1>$E$11,0,IF($G45=0,0,(BB$1-$G45)*Hoja1!$A$1/BB$1))","v":0},{"$f":"IF(BC$1>$E$11,0,IF($G45=0,0,(BC$1-$G45)*Hoja1!$A$1/BC$1))","v":0},{"$f":"IF(BD$1>$E$11,0,IF($G45=0,0,(BD$1-$G45)*Hoja1!$A$1/BD$1))","v":0},{"$f":"IF(BE$1>$E$11,0,IF($G45=0,0,(BE$1-$G45)*Hoja1!$A$1/BE$1))","v":0},{"$f":"IF(BF$1>$E$11,0,IF($G45=0,0,(BF$1-$G45)*Hoja1!$A$1/BF$1))","v":0},{"$f":"IF(BG$1>$E$11,0,IF($G45=0,0,(BG$1-$G45)*Hoja1!$A$1/BG$1))","v":0},{"$f":"IF(BH$1>$E$11,0,IF($G45=0,0,(BH$1-$G45)*Hoja1!$A$1/BH$1))","v":0},{"$f":"IF(BI$1>$E$11,0,IF($G45=0,0,(BI$1-$G45)*Hoja1!$A$1/BI$1))","v":0},{"$f":"IF(BJ$1>$E$11,0,IF($G45=0,0,(BJ$1-$G45)*Hoja1!$A$1/BJ$1))","v":0},{"$f":"IF(BK$1>$E$11,0,IF($G45=0,0,(BK$1-$G45)*Hoja1!$A$1/BK$1))","v":0},{"$f":"IF(BL$1>$E$11,0,IF($G45=0,0,(BL$1-$G45)*Hoja1!$A$1/BL$1))","v":0},{"$f":"IF(BM$1>$E$11,0,IF($G45=0,0,(BM$1-$G45)*Hoja1!$A$1/BM$1))","v":0},{"$f":"IF(BN$1>$E$11,0,IF($G45=0,0,(BN$1-$G45)*Hoja1!$A$1/BN$1))","v":0},{"$f":"IF(BO$1>$E$11,0,IF($G45=0,0,(BO$1-$G45)*Hoja1!$A$1/BO$1))","v":0},{"$f":"IF(BP$1>$E$11,0,IF($G45=0,0,(BP$1-$G45)*Hoja1!$A$1/BP$1))","v":0},{"$f":"IF(BQ$1>$E$11,0,IF($G45=0,0,(BQ$1-$G45)*Hoja1!$A$1/BQ$1))","v":0},{"$f":"IF(BR$1>$E$11,0,IF($G45=0,0,(BR$1-$G45)*Hoja1!$A$1/BR$1))","v":0},{"$f":"IF(BS$1>$E$11,0,IF($G45=0,0,(BS$1-$G45)*Hoja1!$A$1/BS$1))","v":0},{"$f":"IF(BT$1>$E$11,0,IF($G45=0,0,(BT$1-$G45)*Hoja1!$A$1/BT$1))","v":0},{"$f":"IF(BU$1>$E$11,0,IF($G45=0,0,(BU$1-$G45)*Hoja1!$A$1/BU$1))","v":0},{"$f":"IF(BV$1>$E$11,0,IF($G45=0,0,(BV$1-$G45)*Hoja1!$A$1/BV$1))","v":0},{"$f":"IF(BW$1>$E$11,0,IF($G45=0,0,(BW$1-$G45)*Hoja1!$A$1/BW$1))","v":0},{"$f":"IF(BX$1>$E$11,0,IF($G45=0,0,(BX$1-$G45)*Hoja1!$A$1/BX$1))","v":0},{"$f":"IF(BY$1>$E$11,0,IF($G45=0,0,(BY$1-$G45)*Hoja1!$A$1/BY$1))","v":0},{"$f":"IF(BZ$1>$E$11,0,IF($G45=0,0,(BZ$1-$G45)*Hoja1!$A$1/BZ$1))","v":0},{"$f":"IF(CA$1>$E$11,0,IF($G45=0,0,(CA$1-$G45)*Hoja1!$A$1/CA$1))","v":0},{"$f":"IF(CB$1>$E$11,0,IF($G45=0,0,(CB$1-$G45)*Hoja1!$A$1/CB$1))","v":0},{"$f":"IF(CC$1>$E$11,0,IF($G45=0,0,(CC$1-$G45)*Hoja1!$A$1/CC$1))","v":0},{"$f":"IF(CD$1>$E$11,0,IF($G45=0,0,(CD$1-$G45)*Hoja1!$A$1/CD$1))","v":0},{"$f":"IF(CE$1>$E$11,0,IF($G45=0,0,(CE$1-$G45)*Hoja1!$A$1/CE$1))","v":0},{"$f":"IF(CF$1>$E$11,0,IF($G45=0,0,(CF$1-$G45)*Hoja1!$A$1/CF$1))","v":0},{"$f":"IF(CG$1>$E$11,0,IF($G45=0,0,(CG$1-$G45)*Hoja1!$A$1/CG$1))","v":0},{"$f":"IF(CH$1>$E$11,0,IF($G45=0,0,(CH$1-$G45)*Hoja1!$A$1/CH$1))","v":0},{"$f":"IF(CI$1>$E$11,0,IF($G45=0,0,(CI$1-$G45)*Hoja1!$A$1/CI$1))","v":0},{"$f":"IF(CJ$1>$E$11,0,IF($G45=0,0,(CJ$1-$G45)*Hoja1!$A$1/CJ$1))","v":0},{"$f":"IF(CK$1>$E$11,0,IF($G45=0,0,(CK$1-$G45)*Hoja1!$A$1/CK$1))","v":0},{"$f":"IF(CL$1>$E$11,0,IF($G45=0,0,(CL$1-$G45)*Hoja1!$A$1/CL$1))","v":0},{"$f":"IF(CM$1>$E$11,0,IF($G45=0,0,(CM$1-$G45)*Hoja1!$A$1/CM$1))","v":0},{"$f":"IF(CN$1>$E$11,0,IF($G45=0,0,(CN$1-$G45)*Hoja1!$A$1/CN$1))","v":0},{"$f":"IF(CO$1>$E$11,0,IF($G45=0,0,(CO$1-$G45)*Hoja1!$A$1/CO$1))","v":0},{"$f":"IF(CP$1>$E$11,0,IF($G45=0,0,(CP$1-$G45)*Hoja1!$A$1/CP$1))","v":0},{"$f":"IF(CQ$1>$E$11,0,IF($G45=0,0,(CQ$1-$G45)*Hoja1!$A$1/CQ$1))","v":0},{"$f":"IF(CR$1>$E$11,0,IF($G45=0,0,(CR$1-$G45)*Hoja1!$A$1/CR$1))","v":0},{"$f":"IF(CS$1>$E$11,0,IF($G45=0,0,(CS$1-$G45)*Hoja1!$A$1/CS$1))","v":0},{"$f":"IF(CT$1>$E$11,0,IF($G45=0,0,(CT$1-$G45)*Hoja1!$A$1/CT$1))","v":0},{"$f":"IF(CU$1>$E$11,0,IF($G45=0,0,(CU$1-$G45)*Hoja1!$A$1/CU$1))","v":0},{"$f":"IF(CV$1>$E$11,0,IF($G45=0,0,(CV$1-$G45)*Hoja1!$A$1/CV$1))","v":0},{"$f":"IF(CW$1>$E$11,0,IF($G45=0,0,(CW$1-$G45)*Hoja1!$A$1/CW$1))","v":0},{"$f":"IF(CX$1>$E$11,0,IF($G45=0,0,(CX$1-$G45)*Hoja1!$A$1/CX$1))","v":0},{"$f":"IF(CY$1>$E$11,0,IF($G45=0,0,(CY$1-$G45)*Hoja1!$A$1/CY$1))","v":0},{"$f":"IF(CZ$1>$E$11,0,IF($G45=0,0,(CZ$1-$G45)*Hoja1!$A$1/CZ$1))","v":0},{"$f":"IF(DA$1>$E$11,0,IF($G45=0,0,(DA$1-$G45)*Hoja1!$A$1/DA$1))","v":0},{"$f":"IF(DB$1>$E$11,0,IF($G45=0,0,(DB$1-$G45)*Hoja1!$A$1/DB$1))","v":0},{"$f":"IF(DC$1>$E$11,0,IF($G45=0,0,(DC$1-$G45)*Hoja1!$A$1/DC$1))","v":0},{"$f":"IF(DD$1>$E$11,0,IF($G45=0,0,(DD$1-$G45)*Hoja1!$A$1/DD$1))","v":0},{"$f":"IF(DE$1>$E$11,0,IF($G45=0,0,(DE$1-$G45)*Hoja1!$A$1/DE$1))","v":0},{"$f":"IF(DF$1>$E$11,0,IF($G45=0,0,(DF$1-$G45)*Hoja1!$A$1/DF$1))","v":0},{"$f":"IF(DG$1>$E$11,0,IF($G45=0,0,(DG$1-$G45)*Hoja1!$A$1/DG$1))","v":0},{"$f":"IF(DH$1>$E$11,0,IF($G45=0,0,(DH$1-$G45)*Hoja1!$A$1/DH$1))","v":0},{"$f":"IF(DI$1>$E$11,0,IF($G45=0,0,(DI$1-$G45)*Hoja1!$A$1/DI$1))","v":0},{"$f":"IF(DJ$1>$E$11,0,IF($G45=0,0,(DJ$1-$G45)*Hoja1!$A$1/DJ$1))","v":0},{"$f":"IF(DK$1>$E$11,0,IF($G45=0,0,(DK$1-$G45)*Hoja1!$A$1/DK$1))","v":0},{"$f":"IF(DL$1>$E$11,0,IF($G45=0,0,(DL$1-$G45)*Hoja1!$A$1/DL$1))","v":0},{"$f":"IF(DM$1>$E$11,0,IF($G45=0,0,(DM$1-$G45)*Hoja1!$A$1/DM$1))","v":0}]
[null,null,null,null,null,559.8850000000001,0,{"$f":"IF(H$1>$E$11,0,IF($G46=0,0,(H$1-$G46)*Hoja1!$A$1/H$1))","v":0},{"$f":"IF(I$1>$E$11,0,IF($G46=0,0,(I$1-$G46)*Hoja1!$A$1/I$1))","v":0},{"$f":"IF(J$1>$E$11,0,IF($G46=0,0,(J$1-$G46)*Hoja1!$A$1/J$1))","v":0},{"$f":"IF(K$1>$E$11,0,IF($G46=0,0,(K$1-$G46)*Hoja1!$A$1/K$1))","v":0},{"$f":"IF(L$1>$E$11,0,IF($G46=0,0,(L$1-$G46)*Hoja1!$A$1/L$1))","v":0},{"$f":"IF(M$1>$E$11,0,IF($G46=0,0,(M$1-$G46)*Hoja1!$A$1/M$1))","v":0},{"$f":"IF(N$1>$E$11,0,IF($G46=0,0,(N$1-$G46)*Hoja1!$A$1/N$1))","v":0},{"$f":"IF(O$1>$E$11,0,IF($G46=0,0,(O$1-$G46)*Hoja1!$A$1/O$1))","v":0},{"$f":"IF(P$1>$E$11,0,IF($G46=0,0,(P$1-$G46)*Hoja1!$A$1/P$1))","v":0},{"$f":"IF(Q$1>$E$11,0,IF($G46=0,0,(Q$1-$G46)*Hoja1!$A$1/Q$1))","v":0},{"$f":"IF(R$1>$E$11,0,IF($G46=0,0,(R$1-$G46)*Hoja1!$A$1/R$1))","v":0},{"$f":"IF(S$1>$E$11,0,IF($G46=0,0,(S$1-$G46)*Hoja1!$A$1/S$1))","v":0},{"$f":"IF(T$1>$E$11,0,IF($G46=0,0,(T$1-$G46)*Hoja1!$A$1/T$1))","v":0},{"$f":"IF(U$1>$E$11,0,IF($G46=0,0,(U$1-$G46)*Hoja1!$A$1/U$1))","v":0},{"$f":"IF(V$1>$E$11,0,IF($G46=0,0,(V$1-$G46)*Hoja1!$A$1/V$1))","v":0},{"$f":"IF(W$1>$E$11,0,IF($G46=0,0,(W$1-$G46)*Hoja1!$A$1/W$1))","v":0},{"$f":"IF(X$1>$E$11,0,IF($G46=0,0,(X$1-$G46)*Hoja1!$A$1/X$1))","v":0},{"$f":"IF(Y$1>$E$11,0,IF($G46=0,0,(Y$1-$G46)*Hoja1!$A$1/Y$1))","v":0},{"$f":"IF(Z$1>$E$11,0,IF($G46=0,0,(Z$1-$G46)*Hoja1!$A$1/Z$1))","v":0},{"$f":"IF(AA$1>$E$11,0,IF($G46=0,0,(AA$1-$G46)*Hoja1!$A$1/AA$1))","v":0},{"$f":"IF(AB$1>$E$11,0,IF($G46=0,0,(AB$1-$G46)*Hoja1!$A$1/AB$1))","v":0},{"$f":"IF(AC$1>$E$11,0,IF($G46=0,0,(AC$1-$G46)*Hoja1!$A$1/AC$1))","v":0},{"$f":"IF(AD$1>$E$11,0,IF($G46=0,0,(AD$1-$G46)*Hoja1!$A$1/AD$1))","v":0},{"$f":"IF(AE$1>$E$11,0,IF($G46=0,0,(AE$1-$G46)*Hoja1!$A$1/AE$1))","v":0},{"$f":"IF(AF$1>$E$11,0,IF($G46=0,0,(AF$1-$G46)*Hoja1!$A$1/AF$1))","v":0},{"$f":"IF(AG$1>$E$11,0,IF($G46=0,0,(AG$1-$G46)*Hoja1!$A$1/AG$1))","v":0},{"$f":"IF(AH$1>$E$11,0,IF($G46=0,0,(AH$1-$G46)*Hoja1!$A$1/AH$1))","v":0},{"$f":"IF(AI$1>$E$11,0,IF($G46=0,0,(AI$1-$G46)*Hoja1!$A$1/AI$1))","v":0},{"$f":"IF(AJ$1>$E$11,0,IF($G46=0,0,(AJ$1-$G46)*Hoja1!$A$1/AJ$1))","v":0},{"$f":"IF(AK$1>$E$11,0,IF($G46=0,0,(AK$1-$G46)*Hoja1!$A$1/AK$1))","v":0},{"$f":"IF(AL$1>$E$11,0,IF($G46=0,0,(AL$1-$G46)*Hoja1!$A$1/AL$1))","v":0},{"$f":"IF(AM$1>$E$11,0,IF($G46=0,0,(AM$1-$G46)*Hoja1!$A$1/AM$1))","v":0},{"$f":"IF(AN$1>$E$11,0,IF($G46=0,0,(AN$1-$G46)*Hoja1!$A$1/AN$1))","v":0},{"$f":"IF(AO$1>$E$11,0,IF($G46=0,0,(AO$1-$G46)*Hoja1!$A$1/AO$1))","v":0},{"$f":"IF(AP$1>$E$11,0,IF($G46=0,0,(AP$1-$G46)*Hoja1!$A$1/AP$1))","v":0},{"$f":"IF(AQ$1>$E$11,0,IF($G46=0,0,(AQ$1-$G46)*Hoja1!$A$1/AQ$1))","v":0},{"$f":"IF(AR$1>$E$11,0,IF($G46=0,0,(AR$1-$G46)*Hoja1!$A$1/AR$1))","v":0},{"$f":"IF(AS$1>$E$11,0,IF($G46=0,0,(AS$1-$G46)*Hoja1!$A$1/AS$1))","v":0},{"$f":"IF(AT$1>$E$11,0,IF($G46=0,0,(AT$1-$G46)*Hoja1!$A$1/AT$1))","v":0},{"$f":"IF(AU$1>$E$11,0,IF($G46=0,0,(AU$1-$G46)*Hoja1!$A$1/AU$1))","v":0},{"$f":"IF(AV$1>$E$11,0,IF($G46=0,0,(AV$1-$G46)*Hoja1!$A$1/AV$1))","v":0},{"$f":"IF(AW$1>$E$11,0,IF($G46=0,0,(AW$1-$G46)*Hoja1!$A$1/AW$1))","v":0},{"$f":"IF(AX$1>$E$11,0,IF($G46=0,0,(AX$1-$G46)*Hoja1!$A$1/AX$1))","v":0},{"$f":"IF(AY$1>$E$11,0,IF($G46=0,0,(AY$1-$G46)*Hoja1!$A$1/AY$1))","v":0},{"$f":"IF(AZ$1>$E$11,0,IF($G46=0,0,(AZ$1-$G46)*Hoja1!$A$1/AZ$1))","v":0},{"$f":"IF(BA$1>$E$11,0,IF($G46=0,0,(BA$1-$G46)*Hoja1!$A$1/BA$1))","v":0},{"$f":"IF(BB$1>$E$11,0,IF($G46=0,0,(BB$1-$G46)*Hoja1!$A$1/BB$1))","v":0},{"$f":"IF(BC$1>$E$11,0,IF($G46=0,0,(BC$1-$G46)*Hoja1!$A$1/BC$1))","v":0},{"$f":"IF(BD$1>$E$11,0,IF($G46=0,0,(BD$1-$G46)*Hoja1!$A$1/BD$1))","v":0},{"$f":"IF(BE$1>$E$11,0,IF($G46=0,0,(BE$1-$G46)*Hoja1!$A$1/BE$1))","v":0},{"$f":"IF(BF$1>$E$11,0,IF($G46=0,0,(BF$1-$G46)*Hoja1!$A$1/BF$1))","v":0},{"$f":"IF(BG$1>$E$11,0,IF($G46=0,0,(BG$1-$G46)*Hoja1!$A$1/BG$1))","v":0},{"$f":"IF(BH$1>$E$11,0,IF($G46=0,0,(BH$1-$G46)*Hoja1!$A$1/BH$1))","v":0},{"$f":"IF(BI$1>$E$11,0,IF($G46=0,0,(BI$1-$G46)*Hoja1!$A$1/BI$1))","v":0},{"$f":"IF(BJ$1>$E$11,0,IF($G46=0,0,(BJ$1-$G46)*Hoja1!$A$1/BJ$1))","v":0},{"$f":"IF(BK$1>$E$11,0,IF($G46=0,0,(BK$1-$G46)*Hoja1!$A$1/BK$1))","v":0},{"$f":"IF(BL$1>$E$11,0,IF($G46=0,0,(BL$1-$G46)*Hoja1!$A$1/BL$1))","v":0},{"$f":"IF(BM$1>$E$11,0,IF($G46=0,0,(BM$1-$G46)*Hoja1!$A$1/BM$1))","v":0},{"$f":"IF(BN$1>$E$11,0,IF($G46=0,0,(BN$1-$G46)*Hoja1!$A$1/BN$1))","v":0},{"$f":"IF(BO$1>$E$11,0,IF($G46=0,0,(BO$1-$G46)*Hoja1!$A$1/BO$1))","v":0},{"$f":"IF(BP$1>$E$11,0,IF($G46=0,0,(BP$1-$G46)*Hoja1!$A$1/BP$1))","v":0},{"$f":"IF(BQ$1>$E$11,0,IF($G46=0,0,(BQ$1-$G46)*Hoja1!$A$1/BQ$1))","v":0},{"$f":"IF(BR$1>$E$11,0,IF($G46=0,0,(BR$1-$G46)*Hoja1!$A$1/BR$1))","v":0},{"$f":"IF(BS$1>$E$11,0,IF($G46=0,0,(BS$1-$G46)*Hoja1!$A$1/BS$1))","v":0},{"$f":"IF(BT$1>$E$11,0,IF($G46=0,0,(BT$1-$G46)*Hoja1!$A$1/BT$1))","v":0},{"$f":"IF(BU$1>$E$11,0,IF($G46=0,0,(BU$1-$G46)*Hoja1!$A$1/BU$1))","v":0},{"$f":"IF(BV$1>$E$11,0,IF($G46=0,0,(BV$1-$G46)*Hoja1!$A$1/BV$1))","v":0},{"$f":"IF(BW$1>$E$11,0,IF($G46=0,0,(BW$1-$G46)*Hoja1!$A$1/BW$1))","v":0},{"$f":"IF(BX$1>$E$11,0,IF($G46=0,0,(BX$1-$G46)*Hoja1!$A$1/BX$1))","v":0},{"$f":"IF(BY$1>$E$11,0,IF($G46=0,0,(BY$1-$G46)*Hoja1!$A$1/BY$1))","v":0},{"$f":"IF(BZ$1>$E$11,0,IF($G46=0,0,(BZ$1-$G46)*Hoja1!$A$1/BZ$1))","v":0},{"$f":"IF(CA$1>$E$11,0,IF($G46=0,0,(CA$1-$G46)*Hoja1!$A$1/CA$1))","v":0},{"$f":"IF(CB$1>$E$11,0,IF($G46=0,0,(CB$1-$G46)*Hoja1!$A$1/CB$1))","v":0},{"$f":"IF(CC$1>$E$11,0,IF($G46=0,0,(CC$1-$G46)*Hoja1!$A$1/CC$1))","v":0},{"$f":"IF(CD$1>$E$11,0,IF($G46=0,0,(CD$1-$G46)*Hoja1!$A$1/CD$1))","v":0},{"$f":"IF(CE$1>$E$11,0,IF($G46=0,0,(CE$1-$G46)*Hoja1!$A$1/CE$1))","v":0},{"$f":"IF(CF$1>$E$11,0,IF($G46=0,0,(CF$1-$G46)*Hoja1!$A$1/CF$1))","v":0},{"$f":"IF(CG$1>$E$11,0,IF($G46=0,0,(CG$1-$G46)*Hoja1!$A$1/CG$1))","v":0},{"$f":"IF(CH$1>$E$11,0,IF($G46=0,0,(CH$1-$G46)*Hoja1!$A$1/CH$1))","v":0},{"$f":"IF(CI$1>$E$11,0,IF($G46=0,0,(CI$1-$G46)*Hoja1!$A$1/CI$1))","v":0},{"$f":"IF(CJ$1>$E$11,0,IF($G46=0,0,(CJ$1-$G46)*Hoja1!$A$1/CJ$1))","v":0},{"$f":"IF(CK$1>$E$11,0,IF($G46=0,0,(CK$1-$G46)*Hoja1!$A$1/CK$1))","v":0},{"$f":"IF(CL$1>$E$11,0,IF($G46=0,0,(CL$1-$G46)*Hoja1!$A$1/CL$1))","v":0},{"$f":"IF(CM$1>$E$11,0,IF($G46=0,0,(CM$1-$G46)*Hoja1!$A$1/CM$1))","v":0},{"$f":"IF(CN$1>$E$11,0,IF($G46=0,0,(CN$1-$G46)*Hoja1!$A$1/CN$1))","v":0},{"$f":"IF(CO$1>$E$11,0,IF($G46=0,0,(CO$1-$G46)*Hoja1!$A$1/CO$1))","v":0},{"$f":"IF(CP$1>$E$11,0,IF($G46=0,0,(CP$1-$G46)*Hoja1!$A$1/CP$1))","v":0},{"$f":"IF(CQ$1>$E$11,0,IF($G46=0,0,(CQ$1-$G46)*Hoja1!$A$1/CQ$1))","v":0},{"$f":"IF(CR$1>$E$11,0,IF($G46=0,0,(CR$1-$G46)*Hoja1!$A$1/CR$1))","v":0},{"$f":"IF(CS$1>$E$11,0,IF($G46=0,0,(CS$1-$G46)*Hoja1!$A$1/CS$1))","v":0},{"$f":"IF(CT$1>$E$11,0,IF($G46=0,0,(CT$1-$G46)*Hoja1!$A$1/CT$1))","v":0},{"$f":"IF(CU$1>$E$11,0,IF($G46=0,0,(CU$1-$G46)*Hoja1!$A$1/CU$1))","v":0},{"$f":"IF(CV$1>$E$11,0,IF($G46=0,0,(CV$1-$G46)*Hoja1!$A$1/CV$1))","v":0},{"$f":"IF(CW$1>$E$11,0,IF($G46=0,0,(CW$1-$G46)*Hoja1!$A$1/CW$1))","v":0},{"$f":"IF(CX$1>$E$11,0,IF($G46=0,0,(CX$1-$G46)*Hoja1!$A$1/CX$1))","v":0},{"$f":"IF(CY$1>$E$11,0,IF($G46=0,0,(CY$1-$G46)*Hoja1!$A$1/CY$1))","v":0},{"$f":"IF(CZ$1>$E$11,0,IF($G46=0,0,(CZ$1-$G46)*Hoja1!$A$1/CZ$1))","v":0},{"$f":"IF(DA$1>$E$11,0,IF($G46=0,0,(DA$1-$G46)*Hoja1!$A$1/DA$1))","v":0},{"$f":"IF(DB$1>$E$11,0,IF($G46=0,0,(DB$1-$G46)*Hoja1!$A$1/DB$1))","v":0},{"$f":"IF(DC$1>$E$11,0,IF($G46=0,0,(DC$1-$G46)*Hoja1!$A$1/DC$1))","v":0},{"$f":"IF(DD$1>$E$11,0,IF($G46=0,0,(DD$1-$G46)*Hoja1!$A$1/DD$1))","v":0},{"$f":"IF(DE$1>$E$11,0,IF($G46=0,0,(DE$1-$G46)*Hoja1!$A$1/DE$1))","v":0},{"$f":"IF(DF$1>$E$11,0,IF($G46=0,0,(DF$1-$G46)*Hoja1!$A$1/DF$1))","v":0},{"$f":"IF(DG$1>$E$11,0,IF($G46=0,0,(DG$1-$G46)*Hoja1!$A$1/DG$1))","v":0},{"$f":"IF(DH$1>$E$11,0,IF($G46=0,0,(DH$1-$G46)*Hoja1!$A$1/DH$1))","v":0},{"$f":"IF(DI$1>$E$11,0,IF($G46=0,0,(DI$1-$G46)*Hoja1!$A$1/DI$1))","v":0},{"$f":"IF(DJ$1>$E$11,0,IF($G46=0,0,(DJ$1-$G46)*Hoja1!$A$1/DJ$1))","v":0},{"$f":"IF(DK$1>$E$11,0,IF($G46=0,0,(DK$1-$G46)*Hoja1!$A$1/DK$1))","v":0},{"$f":"IF(DL$1>$E$11,0,IF($G46=0,0,(DL$1-$G46)*Hoja1!$A$1/DL$1))","v":0},{"$f":"IF(DM$1>$E$11,0,IF($G46=0,0,(DM$1-$G46)*Hoja1!$A$1/DM$1))","v":0}]
[null,null,null,null,null,573.07500000000016,0,{"$f":"IF(H$1>$E$11,0,IF($G47=0,0,(H$1-$G47)*Hoja1!$A$1/H$1))","v":0},{"$f":"IF(I$1>$E$11,0,IF($G47=0,0,(I$1-$G47)*Hoja1!$A$1/I$1))","v":0},{"$f":"IF(J$1>$E$11,0,IF($G47=0,0,(J$1-$G47)*Hoja1!$A$1/J$1))","v":0},{"$f":"IF(K$1>$E$11,0,IF($G47=0,0,(K$1-$G47)*Hoja1!$A$1/K$1))","v":0},{"$f":"IF(L$1>$E$11,0,IF($G47=0,0,(L$1-$G47)*Hoja1!$A$1/L$1))","v":0},{"$f":"IF(M$1>$E$11,0,IF($G47=0,0,(M$1-$G47)*Hoja1!$A$1/M$1))","v":0},{"$f":"IF(N$1>$E$11,0,IF($G47=0,0,(N$1-$G47)*Hoja1!$A$1/N$1))","v":0},{"$f":"IF(O$1>$E$11,0,IF($G47=0,0,(O$1-$G47)*Hoja1!$A$1/O$1))","v":0},{"$f":"IF(P$1>$E$11,0,IF($G47=0,0,(P$1-$G47)*Hoja1!$A$1/P$1))","v":0},{"$f":"IF(Q$1>$E$11,0,IF($G47=0,0,(Q$1-$G47)*Hoja1!$A$1/Q$1))","v":0},{"$f":"IF(R$1>$E$11,0,IF($G47=0,0,(R$1-$G47)*Hoja1!$A$1/R$1))","v":0},{"$f":"IF(S$1>$E$11,0,IF($G47=0,0,(S$1-$G47)*Hoja1!$A$1/S$1))","v":0},{"$f":"IF(T$1>$E$11,0,IF($G47=0,0,(T$1-$G47)*Hoja1!$A$1/T$1))","v":0},{"$f":"IF(U$1>$E$11,0,IF($G47=0,0,(U$1-$G47)*Hoja1!$A$1/U$1))","v":0},{"$f":"IF(V$1>$E$11,0,IF($G47=0,0,(V$1-$G47)*Hoja1!$A$1/V$1))","v":0},{"$f":"IF(W$1>$E$11,0,IF($G47=0,0,(W$1-$G47)*Hoja1!$A$1/W$1))","v":0},{"$f":"IF(X$1>$E$11,0,IF($G47=0,0,(X$1-$G47)*Hoja1!$A$1/X$1))","v":0},{"$f":"IF(Y$1>$E$11,0,IF($G47=0,0,(Y$1-$G47)*Hoja1!$A$1/Y$1))","v":0},{"$f":"IF(Z$1>$E$11,0,IF($G47=0,0,(Z$1-$G47)*Hoja1!$A$1/Z$1))","v":0},{"$f":"IF(AA$1>$E$11,0,IF($G47=0,0,(AA$1-$G47)*Hoja1!$A$1/AA$1))","v":0},{"$f":"IF(AB$1>$E$11,0,IF($G47=0,0,(AB$1-$G47)*Hoja1!$A$1/AB$1))","v":0},{"$f":"IF(AC$1>$E$11,0,IF($G47=0,0,(AC$1-$G47)*Hoja1!$A$1/AC$1))","v":0},{"$f":"IF(AD$1>$E$11,0,IF($G47=0,0,(AD$1-$G47)*Hoja1!$A$1/AD$1))","v":0},{"$f":"IF(AE$1>$E$11,0,IF($G47=0,0,(AE$1-$G47)*Hoja1!$A$1/AE$1))","v":0},{"$f":"IF(AF$1>$E$11,0,IF($G47=0,0,(AF$1-$G47)*Hoja1!$A$1/AF$1))","v":0},{"$f":"IF(AG$1>$E$11,0,IF($G47=0,0,(AG$1-$G47)*Hoja1!$A$1/AG$1))","v":0},{"$f":"IF(AH$1>$E$11,0,IF($G47=0,0,(AH$1-$G47)*Hoja1!$A$1/AH$1))","v":0},{"$f":"IF(AI$1>$E$11,0,IF($G47=0,0,(AI$1-$G47)*Hoja1!$A$1/AI$1))","v":0},{"$f":"IF(AJ$1>$E$11,0,IF($G47=0,0,(AJ$1-$G47)*Hoja1!$A$1/AJ$1))","v":0},{"$f":"IF(AK$1>$E$11,0,IF($G47=0,0,(AK$1-$G47)*Hoja1!$A$1/AK$1))","v":0},{"$f":"IF(AL$1>$E$11,0,IF($G47=0,0,(AL$1-$G47)*Hoja1!$A$1/AL$1))","v":0},{"$f":"IF(AM$1>$E$11,0,IF($G47=0,0,(AM$1-$G47)*Hoja1!$A$1/AM$1))","v":0},{"$f":"IF(AN$1>$E$11,0,IF($G47=0,0,(AN$1-$G47)*Hoja1!$A$1/AN$1))","v":0},{"$f":"IF(AO$1>$E$11,0,IF($G47=0,0,(AO$1-$G47)*Hoja1!$A$1/AO$1))","v":0},{"$f":"IF(AP$1>$E$11,0,IF($G47=0,0,(AP$1-$G47)*Hoja1!$A$1/AP$1))","v":0},{"$f":"IF(AQ$1>$E$11,0,IF($G47=0,0,(AQ$1-$G47)*Hoja1!$A$1/AQ$1))","v":0},{"$f":"IF(AR$1>$E$11,0,IF($G47=0,0,(AR$1-$G47)*Hoja1!$A$1/AR$1))","v":0},{"$f":"IF(AS$1>$E$11,0,IF($G47=0,0,(AS$1-$G47)*Hoja1!$A$1/AS$1))","v":0},{"$f":"IF(AT$1>$E$11,0,IF($G47=0,0,(AT$1-$G47)*Hoja1!$A$1/AT$1))","v":0},{"$f":"IF(AU$1>$E$11,0,IF($G47=0,0,(AU$1-$G47)*Hoja1!$A$1/AU$1))","v":0},{"$f":"IF(AV$1>$E$11,0,IF($G47=0,0,(AV$1-$G47)*Hoja1!$A$1/AV$1))","v":0},{"$f":"IF(AW$1>$E$11,0,IF($G47=0,0,(AW$1-$G47)*Hoja1!$A$1/AW$1))","v":0},{"$f":"IF(AX$1>$E$11,0,IF($G47=0,0,(AX$1-$G47)*Hoja1!$A$1/AX$1))","v":0},{"$f":"IF(AY$1>$E$11,0,IF($G47=0,0,(AY$1-$G47)*Hoja1!$A$1/AY$1))","v":0},{"$f":"IF(AZ$1>$E$11,0,IF($G47=0,0,(AZ$1-$G47)*Hoja1!$A$1/AZ$1))","v":0},{"$f":"IF(BA$1>$E$11,0,IF($G47=0,0,(BA$1-$G47)*Hoja1!$A$1/BA$1))","v":0},{"$f":"IF(BB$1>$E$11,0,IF($G47=0,0,(BB$1-$G47)*Hoja1!$A$1/BB$1))","v":0},{"$f":"IF(BC$1>$E$11,0,IF($G47=0,0,(BC$1-$G47)*Hoja1!$A$1/BC$1))","v":0},{"$f":"IF(BD$1>$E$11,0,IF($G47=0,0,(BD$1-$G47)*Hoja1!$A$1/BD$1))","v":0},{"$f":"IF(BE$1>$E$11,0,IF($G47=0,0,(BE$1-$G47)*Hoja1!$A$1/BE$1))","v":0},{"$f":"IF(BF$1>$E$11,0,IF($G47=0,0,(BF$1-$G47)*Hoja1!$A$1/BF$1))","v":0},{"$f":"IF(BG$1>$E$11,0,IF($G47=0,0,(BG$1-$G47)*Hoja1!$A$1/BG$1))","v":0},{"$f":"IF(BH$1>$E$11,0,IF($G47=0,0,(BH$1-$G47)*Hoja1!$A$1/BH$1))","v":0},{"$f":"IF(BI$1>$E$11,0,IF($G47=0,0,(BI$1-$G47)*Hoja1!$A$1/BI$1))","v":0},{"$f":"IF(BJ$1>$E$11,0,IF($G47=0,0,(BJ$1-$G47)*Hoja1!$A$1/BJ$1))","v":0},{"$f":"IF(BK$1>$E$11,0,IF($G47=0,0,(BK$1-$G47)*Hoja1!$A$1/BK$1))","v":0},{"$f":"IF(BL$1>$E$11,0,IF($G47=0,0,(BL$1-$G47)*Hoja1!$A$1/BL$1))","v":0},{"$f":"IF(BM$1>$E$11,0,IF($G47=0,0,(BM$1-$G47)*Hoja1!$A$1/BM$1))","v":0},{"$f":"IF(BN$1>$E$11,0,IF($G47=0,0,(BN$1-$G47)*Hoja1!$A$1/BN$1))","v":0},{"$f":"IF(BO$1>$E$11,0,IF($G47=0,0,(BO$1-$G47)*Hoja1!$A$1/BO$1))","v":0},{"$f":"IF(BP$1>$E$11,0,IF($G47=0,0,(BP$1-$G47)*Hoja1!$A$1/BP$1))","v":0},{"$f":"IF(BQ$1>$E$11,0,IF($G47=0,0,(BQ$1-$G47)*Hoja1!$A$1/BQ$1))","v":0},{"$f":"IF(BR$1>$E$11,0,IF($G47=0,0,(BR$1-$G47)*Hoja1!$A$1/BR$1))","v":0},{"$f":"IF(BS$1>$E$11,0,IF($G47=0,0,(BS$1-$G47)*Hoja1!$A$1/BS$1))","v":0},{"$f":"IF(BT$1>$E$11,0,IF($G47=0,0,(BT$1-$G47)*Hoja1!$A$1/BT$1))","v":0},{"$f":"IF(BU$1>$E$11,0,IF($G47=0,0,(BU$1-$G47)*Hoja1!$A$1/BU$1))","v":0},{"$f":"IF(BV$1>$E$11,0,IF($G47=0,0,(BV$1-$G47)*Hoja1!$A$1/BV$1))","v":0},{"$f":"IF(BW$1>$E$11,0,IF($G47=0,0,(BW$1-$G47)*Hoja1!$A$1/BW$1))","v":0},{"$f":"IF(BX$1>$E$11,0,IF($G47=0,0,(BX$1-$G47)*Hoja1!$A$1/BX$1))","v":0},{"$f":"IF(BY$1>$E$11,0,IF($G47=0,0,(BY$1-$G47)*Hoja1!$A$1/BY$1))","v":0},{"$f":"IF(BZ$1>$E$11,0,IF($G47=0,0,(BZ$1-$G47)*Hoja1!$A$1/BZ$1))","v":0},{"$f":"IF(CA$1>$E$11,0,IF($G47=0,0,(CA$1-$G47)*Hoja1!$A$1/CA$1))","v":0},{"$f":"IF(CB$1>$E$11,0,IF($G47=0,0,(CB$1-$G47)*Hoja1!$A$1/CB$1))","v":0},{"$f":"IF(CC$1>$E$11,0,IF($G47=0,0,(CC$1-$G47)*Hoja1!$A$1/CC$1))","v":0},{"$f":"IF(CD$1>$E$11,0,IF($G47=0,0,(CD$1-$G47)*Hoja1!$A$1/CD$1))","v":0},{"$f":"IF(CE$1>$E$11,0,IF($G47=0,0,(CE$1-$G47)*Hoja1!$A$1/CE$1))","v":0},{"$f":"IF(CF$1>$E$11,0,IF($G47=0,0,(CF$1-$G47)*Hoja1!$A$1/CF$1))","v":0},{"$f":"IF(CG$1>$E$11,0,IF($G47=0,0,(CG$1-$G47)*Hoja1!$A$1/CG$1))","v":0},{"$f":"IF(CH$1>$E$11,0,IF($G47=0,0,(CH$1-$G47)*Hoja1!$A$1/CH$1))","v":0},{"$f":"IF(CI$1>$E$11,0,IF($G47=0,0,(CI$1-$G47)*Hoja1!$A$1/CI$1))","v":0},{"$f":"IF(CJ$1>$E$11,0,IF($G47=0,0,(CJ$1-$G47)*Hoja1!$A$1/CJ$1))","v":0},{"$f":"IF(CK$1>$E$11,0,IF($G47=0,0,(CK$1-$G47)*Hoja1!$A$1/CK$1))","v":0},{"$f":"IF(CL$1>$E$11,0,IF($G47=0,0,(CL$1-$G47)*Hoja1!$A$1/CL$1))","v":0},{"$f":"IF(CM$1>$E$11,0,IF($G47=0,0,(CM$1-$G47)*Hoja1!$A$1/CM$1))","v":0},{"$f":"IF(CN$1>$E$11,0,IF($G47=0,0,(CN$1-$G47)*Hoja1!$A$1/CN$1))","v":0},{"$f":"IF(CO$1>$E$11,0,IF($G47=0,0,(CO$1-$G47)*Hoja1!$A$1/CO$1))","v":0},{"$f":"IF(CP$1>$E$11,0,IF($G47=0,0,(CP$1-$G47)*Hoja1!$A$1/CP$1))","v":0},{"$f":"IF(CQ$1>$E$11,0,IF($G47=0,0,(CQ$1-$G47)*Hoja1!$A$1/CQ$1))","v":0},{"$f":"IF(CR$1>$E$11,0,IF($G47=0,0,(CR$1-$G47)*Hoja1!$A$1/CR$1))","v":0},{"$f":"IF(CS$1>$E$11,0,IF($G47=0,0,(CS$1-$G47)*Hoja1!$A$1/CS$1))","v":0},{"$f":"IF(CT$1>$E$11,0,IF($G47=0,0,(CT$1-$G47)*Hoja1!$A$1/CT$1))","v":0},{"$f":"IF(CU$1>$E$11,0,IF($G47=0,0,(CU$1-$G47)*Hoja1!$A$1/CU$1))","v":0},{"$f":"IF(CV$1>$E$11,0,IF($G47=0,0,(CV$1-$G47)*Hoja1!$A$1/CV$1))","v":0},{"$f":"IF(CW$1>$E$11,0,IF($G47=0,0,(CW$1-$G47)*Hoja1!$A$1/CW$1))","v":0},{"$f":"IF(CX$1>$E$11,0,IF($G47=0,0,(CX$1-$G47)*Hoja1!$A$1/CX$1))","v":0},{"$f":"IF(CY$1>$E$11,0,IF($G47=0,0,(CY$1-$G47)*Hoja1!$A$1/CY$1))","v":0},{"$f":"IF(CZ$1>$E$11,0,IF($G47=0,0,(CZ$1-$G47)*Hoja1!$A$1/CZ$1))","v":0},{"$f":"IF(DA$1>$E$11,0,IF($G47=0,0,(DA$1-$G47)*Hoja1!$A$1/DA$1))","v":0},{"$f":"IF(DB$1>$E$11,0,IF($G47=0,0,(DB$1-$G47)*Hoja1!$A$1/DB$1))","v":0},{"$f":"IF(DC$1>$E$11,0,IF($G47=0,0,(DC$1-$G47)*Hoja1!$A$1/DC$1))","v":0},{"$f":"IF(DD$1>$E$11,0,IF($G47=0,0,(DD$1-$G47)*Hoja1!$A$1/DD$1))","v":0},{"$f":"IF(DE$1>$E$11,0,IF($G47=0,0,(DE$1-$G47)*Hoja1!$A$1/DE$1))","v":0},{"$f":"IF(DF$1>$E$11,0,IF($G47=0,0,(DF$1-$G47)*Hoja1!$A$1/DF$1))","v":0},{"$f":"IF(DG$1>$E$11,0,IF($G47=0,0,(DG$1-$G47)*Hoja1!$A$1/DG$1))","v":0},{"$f":"IF(DH$1>$E$11,0,IF($G47=0,0,(DH$1-$G47)*Hoja1!$A$1/DH$1))","v":0},{"$f":"IF(DI$1>$E$11,0,IF($G47=0,0,(DI$1-$G47)*Hoja1!$A$1/DI$1))","v":0},{"$f":"IF(DJ$1>$E$11,0,IF($G47=0,0,(DJ$1-$G47)*Hoja1!$A$1/DJ$1))","v":0},{"$f":"IF(DK$1>$E$11,0,IF($G47=0,0,(DK$1-$G47)*Hoja1!$A$1/DK$1))","v":0},{"$f":"IF(DL$1>$E$11,0,IF($G47=0,0,(DL$1-$G47)*Hoja1!$A$1/DL$1))","v":0},{"$f":"IF(DM$1>$E$11,0,IF($G47=0,0,(DM$1-$G47)*Hoja1!$A$1/DM$1))","v":0}]
[null,null,null,null,null,586.26500000000021,0,{"$f":"IF(H$1>$E$11,0,IF($G48=0,0,(H$1-$G48)*Hoja1!$A$1/H$1))","v":0},{"$f":"IF(I$1>$E$11,0,IF($G48=0,0,(I$1-$G48)*Hoja1!$A$1/I$1))","v":0},{"$f":"IF(J$1>$E$11,0,IF($G48=0,0,(J$1-$G48)*Hoja1!$A$1/J$1))","v":0},{"$f":"IF(K$1>$E$11,0,IF($G48=0,0,(K$1-$G48)*Hoja1!$A$1/K$1))","v":0},{"$f":"IF(L$1>$E$11,0,IF($G48=0,0,(L$1-$G48)*Hoja1!$A$1/L$1))","v":0},{"$f":"IF(M$1>$E$11,0,IF($G48=0,0,(M$1-$G48)*Hoja1!$A$1/M$1))","v":0},{"$f":"IF(N$1>$E$11,0,IF($G48=0,0,(N$1-$G48)*Hoja1!$A$1/N$1))","v":0},{"$f":"IF(O$1>$E$11,0,IF($G48=0,0,(O$1-$G48)*Hoja1!$A$1/O$1))","v":0},{"$f":"IF(P$1>$E$11,0,IF($G48=0,0,(P$1-$G48)*Hoja1!$A$1/P$1))","v":0},{"$f":"IF(Q$1>$E$11,0,IF($G48=0,0,(Q$1-$G48)*Hoja1!$A$1/Q$1))","v":0},{"$f":"IF(R$1>$E$11,0,IF($G48=0,0,(R$1-$G48)*Hoja1!$A$1/R$1))","v":0},{"$f":"IF(S$1>$E$11,0,IF($G48=0,0,(S$1-$G48)*Hoja1!$A$1/S$1))","v":0},{"$f":"IF(T$1>$E$11,0,IF($G48=0,0,(T$1-$G48)*Hoja1!$A$1/T$1))","v":0},{"$f":"IF(U$1>$E$11,0,IF($G48=0,0,(U$1-$G48)*Hoja1!$A$1/U$1))","v":0},{"$f":"IF(V$1>$E$11,0,IF($G48=0,0,(V$1-$G48)*Hoja1!$A$1/V$1))","v":0},{"$f":"IF(W$1>$E$11,0,IF($G48=0,0,(W$1-$G48)*Hoja1!$A$1/W$1))","v":0},{"$f":"IF(X$1>$E$11,0,IF($G48=0,0,(X$1-$G48)*Hoja1!$A$1/X$1))","v":0},{"$f":"IF(Y$1>$E$11,0,IF($G48=0,0,(Y$1-$G48)*Hoja1!$A$1/Y$1))","v":0},{"$f":"IF(Z$1>$E$11,0,IF($G48=0,0,(Z$1-$G48)*Hoja1!$A$1/Z$1))","v":0},{"$f":"IF(AA$1>$E$11,0,IF($G48=0,0,(AA$1-$G48)*Hoja1!$A$1/AA$1))","v":0},{"$f":"IF(AB$1>$E$11,0,IF($G48=0,0,(AB$1-$G48)*Hoja1!$A$1/AB$1))","v":0},{"$f":"IF(AC$1>$E$11,0,IF($G48=0,0,(AC$1-$G48)*Hoja1!$A$1/AC$1))","v":0},{"$f":"IF(AD$1>$E$11,0,IF($G48=0,0,(AD$1-$G48)*Hoja1!$A$1/AD$1))","v":0},{"$f":"IF(AE$1>$E$11,0,IF($G48=0,0,(AE$1-$G48)*Hoja1!$A$1/AE$1))","v":0},{"$f":"IF(AF$1>$E$11,0,IF($G48=0,0,(AF$1-$G48)*Hoja1!$A$1/AF$1))","v":0},{"$f":"IF(AG$1>$E$11,0,IF($G48=0,0,(AG$1-$G48)*Hoja1!$A$1/AG$1))","v":0},{"$f":"IF(AH$1>$E$11,0,IF($G48=0,0,(AH$1-$G48)*Hoja1!$A$1/AH$1))","v":0},{"$f":"IF(AI$1>$E$11,0,IF($G48=0,0,(AI$1-$G48)*Hoja1!$A$1/AI$1))","v":0},{"$f":"IF(AJ$1>$E$11,0,IF($G48=0,0,(AJ$1-$G48)*Hoja1!$A$1/AJ$1))","v":0},{"$f":"IF(AK$1>$E$11,0,IF($G48=0,0,(AK$1-$G48)*Hoja1!$A$1/AK$1))","v":0},{"$f":"IF(AL$1>$E$11,0,IF($G48=0,0,(AL$1-$G48)*Hoja1!$A$1/AL$1))","v":0},{"$f":"IF(AM$1>$E$11,0,IF($G48=0,0,(AM$1-$G48)*Hoja1!$A$1/AM$1))","v":0},{"$f":"IF(AN$1>$E$11,0,IF($G48=0,0,(AN$1-$G48)*Hoja1!$A$1/AN$1))","v":0},{"$f":"IF(AO$1>$E$11,0,IF($G48=0,0,(AO$1-$G48)*Hoja1!$A$1/AO$1))","v":0},{"$f":"IF(AP$1>$E$11,0,IF($G48=0,0,(AP$1-$G48)*Hoja1!$A$1/AP$1))","v":0},{"$f":"IF(AQ$1>$E$11,0,IF($G48=0,0,(AQ$1-$G48)*Hoja1!$A$1/AQ$1))","v":0},{"$f":"IF(AR$1>$E$11,0,IF($G48=0,0,(AR$1-$G48)*Hoja1!$A$1/AR$1))","v":0},{"$f":"IF(AS$1>$E$11,0,IF($G48=0,0,(AS$1-$G48)*Hoja1!$A$1/AS$1))","v":0},{"$f":"IF(AT$1>$E$11,0,IF($G48=0,0,(AT$1-$G48)*Hoja1!$A$1/AT$1))","v":0},{"$f":"IF(AU$1>$E$11,0,IF($G48=0,0,(AU$1-$G48)*Hoja1!$A$1/AU$1))","v":0},{"$f":"IF(AV$1>$E$11,0,IF($G48=0,0,(AV$1-$G48)*Hoja1!$A$1/AV$1))","v":0},{"$f":"IF(AW$1>$E$11,0,IF($G48=0,0,(AW$1-$G48)*Hoja1!$A$1/AW$1))","v":0},{"$f":"IF(AX$1>$E$11,0,IF($G48=0,0,(AX$1-$G48)*Hoja1!$A$1/AX$1))","v":0},{"$f":"IF(AY$1>$E$11,0,IF($G48=0,0,(AY$1-$G48)*Hoja1!$A$1/AY$1))","v":0},{"$f":"IF(AZ$1>$E$11,0,IF($G48=0,0,(AZ$1-$G48)*Hoja1!$A$1/AZ$1))","v":0},{"$f":"IF(BA$1>$E$11,0,IF($G48=0,0,(BA$1-$G48)*Hoja1!$A$1/BA$1))","v":0},{"$f":"IF(BB$1>$E$11,0,IF($G48=0,0,(BB$1-$G48)*Hoja1!$A$1/BB$1))","v":0},{"$f":"IF(BC$1>$E$11,0,IF($G48=0,0,(BC$1-$G48)*Hoja1!$A$1/BC$1))","v":0},{"$f":"IF(BD$1>$E$11,0,IF($G48=0,0,(BD$1-$G48)*Hoja1!$A$1/BD$1))","v":0},{"$f":"IF(BE$1>$E$11,0,IF($G48=0,0,(BE$1-$G48)*Hoja1!$A$1/BE$1))","v":0},{"$f":"IF(BF$1>$E$11,0,IF($G48=0,0,(BF$1-$G48)*Hoja1!$A$1/BF$1))","v":0},{"$f":"IF(BG$1>$E$11,0,IF($G48=0,0,(BG$1-$G48)*Hoja1!$A$1/BG$1))","v":0},{"$f":"IF(BH$1>$E$11,0,IF($G48=0,0,(BH$1-$G48)*Hoja1!$A$1/BH$1))","v":0},{"$f":"IF(BI$1>$E$11,0,IF($G48=0,0,(BI$1-$G48)*Hoja1!$A$1/BI$1))","v":0},{"$f":"IF(BJ$1>$E$11,0,IF($G48=0,0,(BJ$1-$G48)*Hoja1!$A$1/BJ$1))","v":0},{"$f":"IF(BK$1>$E$11,0,IF($G48=0,0,(BK$1-$G48)*Hoja1!$A$1/BK$1))","v":0},{"$f":"IF(BL$1>$E$11,0,IF($G48=0,0,(BL$1-$G48)*Hoja1!$A$1/BL$1))","v":0},{"$f":"IF(BM$1>$E$11,0,IF($G48=0,0,(BM$1-$G48)*Hoja1!$A$1/BM$1))","v":0},{"$f":"IF(BN$1>$E$11,0,IF($G48=0,0,(BN$1-$G48)*Hoja1!$A$1/BN$1))","v":0},{"$f":"IF(BO$1>$E$11,0,IF($G48=0,0,(BO$1-$G48)*Hoja1!$A$1/BO$1))","v":0},{"$f":"IF(BP$1>$E$11,0,IF($G48=0,0,(BP$1-$G48)*Hoja1!$A$1/BP$1))","v":0},{"$f":"IF(BQ$1>$E$11,0,IF($G48=0,0,(BQ$1-$G48)*Hoja1!$A$1/BQ$1))","v":0},{"$f":"IF(BR$1>$E$11,0,IF($G48=0,0,(BR$1-$G48)*Hoja1!$A$1/BR$1))","v":0},{"$f":"IF(BS$1>$E$11,0,IF($G48=0,0,(BS$1-$G48)*Hoja1!$A$1/BS$1))","v":0},{"$f":"IF(BT$1>$E$11,0,IF($G48=0,0,(BT$1-$G48)*Hoja1!$A$1/BT$1))","v":0},{"$f":"IF(BU$1>$E$11,0,IF($G48=0,0,(BU$1-$G48)*Hoja1!$A$1/BU$1))","v":0},{"$f":"IF(BV$1>$E$11,0,IF($G48=0,0,(BV$1-$G48)*Hoja1!$A$1/BV$1))","v":0},{"$f":"IF(BW$1>$E$11,0,IF($G48=0,0,(BW$1-$G48)*Hoja1!$A$1/BW$1))","v":0},{"$f":"IF(BX$1>$E$11,0,IF($G48=0,0,(BX$1-$G48)*Hoja1!$A$1/BX$1))","v":0},{"$f":"IF(BY$1>$E$11,0,IF($G48=0,0,(BY$1-$G48)*Hoja1!$A$1/BY$1))","v":0},{"$f":"IF(BZ$1>$E$11,0,IF($G48=0,0,(BZ$1-$G48)*Hoja1!$A$1/BZ$1))","v":0},{"$f":"IF(CA$1>$E$11,0,IF($G48=0,0,(CA$1-$G48)*Hoja1!$A$1/CA$1))","v":0},{"$f":"IF(CB$1>$E$11,0,IF($G48=0,0,(CB$1-$G48)*Hoja1!$A$1/CB$1))","v":0},{"$f":"IF(CC$1>$E$11,0,IF($G48=0,0,(CC$1-$G48)*Hoja1!$A$1/CC$1))","v":0},{"$f":"IF(CD$1>$E$11,0,IF($G48=0,0,(CD$1-$G48)*Hoja1!$A$1/CD$1))","v":0},{"$f":"IF(CE$1>$E$11,0,IF($G48=0,0,(CE$1-$G48)*Hoja1!$A$1/CE$1))","v":0},{"$f":"IF(CF$1>$E$11,0,IF($G48=0,0,(CF$1-$G48)*Hoja1!$A$1/CF$1))","v":0},{"$f":"IF(CG$1>$E$11,0,IF($G48=0,0,(CG$1-$G48)*Hoja1!$A$1/CG$1))","v":0},{"$f":"IF(CH$1>$E$11,0,IF($G48=0,0,(CH$1-$G48)*Hoja1!$A$1/CH$1))","v":0},{"$f":"IF(CI$1>$E$11,0,IF($G48=0,0,(CI$1-$G48)*Hoja1!$A$1/CI$1))","v":0},{"$f":"IF(CJ$1>$E$11,0,IF($G48=0,0,(CJ$1-$G48)*Hoja1!$A$1/CJ$1))","v":0},{"$f":"IF(CK$1>$E$11,0,IF($G48=0,0,(CK$1-$G48)*Hoja1!$A$1/CK$1))","v":0},{"$f":"IF(CL$1>$E$11,0,IF($G48=0,0,(CL$1-$G48)*Hoja1!$A$1/CL$1))","v":0},{"$f":"IF(CM$1>$E$11,0,IF($G48=0,0,(CM$1-$G48)*Hoja1!$A$1/CM$1))","v":0},{"$f":"IF(CN$1>$E$11,0,IF($G48=0,0,(CN$1-$G48)*Hoja1!$A$1/CN$1))","v":0},{"$f":"IF(CO$1>$E$11,0,IF($G48=0,0,(CO$1-$G48)*Hoja1!$A$1/CO$1))","v":0},{"$f":"IF(CP$1>$E$11,0,IF($G48=0,0,(CP$1-$G48)*Hoja1!$A$1/CP$1))","v":0},{"$f":"IF(CQ$1>$E$11,0,IF($G48=0,0,(CQ$1-$G48)*Hoja1!$A$1/CQ$1))","v":0},{"$f":"IF(CR$1>$E$11,0,IF($G48=0,0,(CR$1-$G48)*Hoja1!$A$1/CR$1))","v":0},{"$f":"IF(CS$1>$E$11,0,IF($G48=0,0,(CS$1-$G48)*Hoja1!$A$1/CS$1))","v":0},{"$f":"IF(CT$1>$E$11,0,IF($G48=0,0,(CT$1-$G48)*Hoja1!$A$1/CT$1))","v":0},{"$f":"IF(CU$1>$E$11,0,IF($G48=0,0,(CU$1-$G48)*Hoja1!$A$1/CU$1))","v":0},{"$f":"IF(CV$1>$E$11,0,IF($G48=0,0,(CV$1-$G48)*Hoja1!$A$1/CV$1))","v":0},{"$f":"IF(CW$1>$E$11,0,IF($G48=0,0,(CW$1-$G48)*Hoja1!$A$1/CW$1))","v":0},{"$f":"IF(CX$1>$E$11,0,IF($G48=0,0,(CX$1-$G48)*Hoja1!$A$1/CX$1))","v":0},{"$f":"IF(CY$1>$E$11,0,IF($G48=0,0,(CY$1-$G48)*Hoja1!$A$1/CY$1))","v":0},{"$f":"IF(CZ$1>$E$11,0,IF($G48=0,0,(CZ$1-$G48)*Hoja1!$A$1/CZ$1))","v":0},{"$f":"IF(DA$1>$E$11,0,IF($G48=0,0,(DA$1-$G48)*Hoja1!$A$1/DA$1))","v":0},{"$f":"IF(DB$1>$E$11,0,IF($G48=0,0,(DB$1-$G48)*Hoja1!$A$1/DB$1))","v":0},{"$f":"IF(DC$1>$E$11,0,IF($G48=0,0,(DC$1-$G48)*Hoja1!$A$1/DC$1))","v":0},{"$f":"IF(DD$1>$E$11,0,IF($G48=0,0,(DD$1-$G48)*Hoja1!$A$1/DD$1))","v":0},{"$f":"IF(DE$1>$E$11,0,IF($G48=0,0,(DE$1-$G48)*Hoja1!$A$1/DE$1))","v":0},{"$f":"IF(DF$1>$E$11,0,IF($G48=0,0,(DF$1-$G48)*Hoja1!$A$1/DF$1))","v":0},{"$f":"IF(DG$1>$E$11,0,IF($G48=0,0,(DG$1-$G48)*Hoja1!$A$1/DG$1))","v":0},{"$f":"IF(DH$1>$E$11,0,IF($G48=0,0,(DH$1-$G48)*Hoja1!$A$1/DH$1))","v":0},{"$f":"IF(DI$1>$E$11,0,IF($G48=0,0,(DI$1-$G48)*Hoja1!$A$1/DI$1))","v":0},{"$f":"IF(DJ$1>$E$11,0,IF($G48=0,0,(DJ$1-$G48)*Hoja1!$A$1/DJ$1))","v":0},{"$f":"IF(DK$1>$E$11,0,IF($G48=0,0,(DK$1-$G48)*Hoja1!$A$1/DK$1))","v":0},{"$f":"IF(DL$1>$E$11,0,IF($G48=0,0,(DL$1-$G48)*Hoja1!$A$1/DL$1))","v":0},{"$f":"IF(DM$1>$E$11,0,IF($G48=0,0,(DM$1-$G48)*Hoja1!$A$1/DM$1))","v":0}]
[null,null,null,null,null,599.45500000000027,0,{"$f":"IF(H$1>$E$11,0,IF($G49=0,0,(H$1-$G49)*Hoja1!$A$1/H$1))","v":0},{"$f":"IF(I$1>$E$11,0,IF($G49=0,0,(I$1-$G49)*Hoja1!$A$1/I$1))","v":0},{"$f":"IF(J$1>$E$11,0,IF($G49=0,0,(J$1-$G49)*Hoja1!$A$1/J$1))","v":0},{"$f":"IF(K$1>$E$11,0,IF($G49=0,0,(K$1-$G49)*Hoja1!$A$1/K$1))","v":0},{"$f":"IF(L$1>$E$11,0,IF($G49=0,0,(L$1-$G49)*Hoja1!$A$1/L$1))","v":0},{"$f":"IF(M$1>$E$11,0,IF($G49=0,0,(M$1-$G49)*Hoja1!$A$1/M$1))","v":0},{"$f":"IF(N$1>$E$11,0,IF($G49=0,0,(N$1-$G49)*Hoja1!$A$1/N$1))","v":0},{"$f":"IF(O$1>$E$11,0,IF($G49=0,0,(O$1-$G49)*Hoja1!$A$1/O$1))","v":0},{"$f":"IF(P$1>$E$11,0,IF($G49=0,0,(P$1-$G49)*Hoja1!$A$1/P$1))","v":0},{"$f":"IF(Q$1>$E$11,0,IF($G49=0,0,(Q$1-$G49)*Hoja1!$A$1/Q$1))","v":0},{"$f":"IF(R$1>$E$11,0,IF($G49=0,0,(R$1-$G49)*Hoja1!$A$1/R$1))","v":0},{"$f":"IF(S$1>$E$11,0,IF($G49=0,0,(S$1-$G49)*Hoja1!$A$1/S$1))","v":0},{"$f":"IF(T$1>$E$11,0,IF($G49=0,0,(T$1-$G49)*Hoja1!$A$1/T$1))","v":0},{"$f":"IF(U$1>$E$11,0,IF($G49=0,0,(U$1-$G49)*Hoja1!$A$1/U$1))","v":0},{"$f":"IF(V$1>$E$11,0,IF($G49=0,0,(V$1-$G49)*Hoja1!$A$1/V$1))","v":0},{"$f":"IF(W$1>$E$11,0,IF($G49=0,0,(W$1-$G49)*Hoja1!$A$1/W$1))","v":0},{"$f":"IF(X$1>$E$11,0,IF($G49=0,0,(X$1-$G49)*Hoja1!$A$1/X$1))","v":0},{"$f":"IF(Y$1>$E$11,0,IF($G49=0,0,(Y$1-$G49)*Hoja1!$A$1/Y$1))","v":0},{"$f":"IF(Z$1>$E$11,0,IF($G49=0,0,(Z$1-$G49)*Hoja1!$A$1/Z$1))","v":0},{"$f":"IF(AA$1>$E$11,0,IF($G49=0,0,(AA$1-$G49)*Hoja1!$A$1/AA$1))","v":0},{"$f":"IF(AB$1>$E$11,0,IF($G49=0,0,(AB$1-$G49)*Hoja1!$A$1/AB$1))","v":0},{"$f":"IF(AC$1>$E$11,0,IF($G49=0,0,(AC$1-$G49)*Hoja1!$A$1/AC$1))","v":0},{"$f":"IF(AD$1>$E$11,0,IF($G49=0,0,(AD$1-$G49)*Hoja1!$A$1/AD$1))","v":0},{"$f":"IF(AE$1>$E$11,0,IF($G49=0,0,(AE$1-$G49)*Hoja1!$A$1/AE$1))","v":0},{"$f":"IF(AF$1>$E$11,0,IF($G49=0,0,(AF$1-$G49)*Hoja1!$A$1/AF$1))","v":0},{"$f":"IF(AG$1>$E$11,0,IF($G49=0,0,(AG$1-$G49)*Hoja1!$A$1/AG$1))","v":0},{"$f":"IF(AH$1>$E$11,0,IF($G49=0,0,(AH$1-$G49)*Hoja1!$A$1/AH$1))","v":0},{"$f":"IF(AI$1>$E$11,0,IF($G49=0,0,(AI$1-$G49)*Hoja1!$A$1/AI$1))","v":0},{"$f":"IF(AJ$1>$E$11,0,IF($G49=0,0,(AJ$1-$G49)*Hoja1!$A$1/AJ$1))","v":0},{"$f":"IF(AK$1>$E$11,0,IF($G49=0,0,(AK$1-$G49)*Hoja1!$A$1/AK$1))","v":0},{"$f":"IF(AL$1>$E$11,0,IF($G49=0,0,(AL$1-$G49)*Hoja1!$A$1/AL$1))","v":0},{"$f":"IF(AM$1>$E$11,0,IF($G49=0,0,(AM$1-$G49)*Hoja1!$A$1/AM$1))","v":0},{"$f":"IF(AN$1>$E$11,0,IF($G49=0,0,(AN$1-$G49)*Hoja1!$A$1/AN$1))","v":0},{"$f":"IF(AO$1>$E$11,0,IF($G49=0,0,(AO$1-$G49)*Hoja1!$A$1/AO$1))","v":0},{"$f":"IF(AP$1>$E$11,0,IF($G49=0,0,(AP$1-$G49)*Hoja1!$A$1/AP$1))","v":0},{"$f":"IF(AQ$1>$E$11,0,IF($G49=0,0,(AQ$1-$G49)*Hoja1!$A$1/AQ$1))","v":0},{"$f":"IF(AR$1>$E$11,0,IF($G49=0,0,(AR$1-$G49)*Hoja1!$A$1/AR$1))","v":0},{"$f":"IF(AS$1>$E$11,0,IF($G49=0,0,(AS$1-$G49)*Hoja1!$A$1/AS$1))","v":0},{"$f":"IF(AT$1>$E$11,0,IF($G49=0,0,(AT$1-$G49)*Hoja1!$A$1/AT$1))","v":0},{"$f":"IF(AU$1>$E$11,0,IF($G49=0,0,(AU$1-$G49)*Hoja1!$A$1/AU$1))","v":0},{"$f":"IF(AV$1>$E$11,0,IF($G49=0,0,(AV$1-$G49)*Hoja1!$A$1/AV$1))","v":0},{"$f":"IF(AW$1>$E$11,0,IF($G49=0,0,(AW$1-$G49)*Hoja1!$A$1/AW$1))","v":0},{"$f":"IF(AX$1>$E$11,0,IF($G49=0,0,(AX$1-$G49)*Hoja1!$A$1/AX$1))","v":0},{"$f":"IF(AY$1>$E$11,0,IF($G49=0,0,(AY$1-$G49)*Hoja1!$A$1/AY$1))","v":0},{"$f":"IF(AZ$1>$E$11,0,IF($G49=0,0,(AZ$1-$G49)*Hoja1!$A$1/AZ$1))","v":0},{"$f":"IF(BA$1>$E$11,0,IF($G49=0,0,(BA$1-$G49)*Hoja1!$A$1/BA$1))","v":0},{"$f":"IF(BB$1>$E$11,0,IF($G49=0,0,(BB$1-$G49)*Hoja1!$A$1/BB$1))","v":0},{"$f":"IF(BC$1>$E$11,0,IF($G49=0,0,(BC$1-$G49)*Hoja1!$A$1/BC$1))","v":0},{"$f":"IF(BD$1>$E$11,0,IF($G49=0,0,(BD$1-$G49)*Hoja1!$A$1/BD$1))","v":0},{"$f":"IF(BE$1>$E$11,0,IF($G49=0,0,(BE$1-$G49)*Hoja1!$A$1/BE$1))","v":0},{"$f":"IF(BF$1>$E$11,0,IF($G49=0,0,(BF$1-$G49)*Hoja1!$A$1/BF$1))","v":0},{"$f":"IF(BG$1>$E$11,0,IF($G49=0,0,(BG$1-$G49)*Hoja1!$A$1/BG$1))","v":0},{"$f":"IF(BH$1>$E$11,0,IF($G49=0,0,(BH$1-$G49)*Hoja1!$A$1/BH$1))","v":0},{"$f":"IF(BI$1>$E$11,0,IF($G49=0,0,(BI$1-$G49)*Hoja1!$A$1/BI$1))","v":0},{"$f":"IF(BJ$1>$E$11,0,IF($G49=0,0,(BJ$1-$G49)*Hoja1!$A$1/BJ$1))","v":0},{"$f":"IF(BK$1>$E$11,0,IF($G49=0,0,(BK$1-$G49)*Hoja1!$A$1/BK$1))","v":0},{"$f":"IF(BL$1>$E$11,0,IF($G49=0,0,(BL$1-$G49)*Hoja1!$A$1/BL$1))","v":0},{"$f":"IF(BM$1>$E$11,0,IF($G49=0,0,(BM$1-$G49)*Hoja1!$A$1/BM$1))","v":0},{"$f":"IF(BN$1>$E$11,0,IF($G49=0,0,(BN$1-$G49)*Hoja1!$A$1/BN$1))","v":0},{"$f":"IF(BO$1>$E$11,0,IF($G49=0,0,(BO$1-$G49)*Hoja1!$A$1/BO$1))","v":0},{"$f":"IF(BP$1>$E$11,0,IF($G49=0,0,(BP$1-$G49)*Hoja1!$A$1/BP$1))","v":0},{"$f":"IF(BQ$1>$E$11,0,IF($G49=0,0,(BQ$1-$G49)*Hoja1!$A$1/BQ$1))","v":0},{"$f":"IF(BR$1>$E$11,0,IF($G49=0,0,(BR$1-$G49)*Hoja1!$A$1/BR$1))","v":0},{"$f":"IF(BS$1>$E$11,0,IF($G49=0,0,(BS$1-$G49)*Hoja1!$A$1/BS$1))","v":0},{"$f":"IF(BT$1>$E$11,0,IF($G49=0,0,(BT$1-$G49)*Hoja1!$A$1/BT$1))","v":0},{"$f":"IF(BU$1>$E$11,0,IF($G49=0,0,(BU$1-$G49)*Hoja1!$A$1/BU$1))","v":0},{"$f":"IF(BV$1>$E$11,0,IF($G49=0,0,(BV$1-$G49)*Hoja1!$A$1/BV$1))","v":0},{"$f":"IF(BW$1>$E$11,0,IF($G49=0,0,(BW$1-$G49)*Hoja1!$A$1/BW$1))","v":0},{"$f":"IF(BX$1>$E$11,0,IF($G49=0,0,(BX$1-$G49)*Hoja1!$A$1/BX$1))","v":0},{"$f":"IF(BY$1>$E$11,0,IF($G49=0,0,(BY$1-$G49)*Hoja1!$A$1/BY$1))","v":0},{"$f":"IF(BZ$1>$E$11,0,IF($G49=0,0,(BZ$1-$G49)*Hoja1!$A$1/BZ$1))","v":0},{"$f":"IF(CA$1>$E$11,0,IF($G49=0,0,(CA$1-$G49)*Hoja1!$A$1/CA$1))","v":0},{"$f":"IF(CB$1>$E$11,0,IF($G49=0,0,(CB$1-$G49)*Hoja1!$A$1/CB$1))","v":0},{"$f":"IF(CC$1>$E$11,0,IF($G49=0,0,(CC$1-$G49)*Hoja1!$A$1/CC$1))","v":0},{"$f":"IF(CD$1>$E$11,0,IF($G49=0,0,(CD$1-$G49)*Hoja1!$A$1/CD$1))","v":0},{"$f":"IF(CE$1>$E$11,0,IF($G49=0,0,(CE$1-$G49)*Hoja1!$A$1/CE$1))","v":0},{"$f":"IF(CF$1>$E$11,0,IF($G49=0,0,(CF$1-$G49)*Hoja1!$A$1/CF$1))","v":0},{"$f":"IF(CG$1>$E$11,0,IF($G49=0,0,(CG$1-$G49)*Hoja1!$A$1/CG$1))","v":0},{"$f":"IF(CH$1>$E$11,0,IF($G49=0,0,(CH$1-$G49)*Hoja1!$A$1/CH$1))","v":0},{"$f":"IF(CI$1>$E$11,0,IF($G49=0,0,(CI$1-$G49)*Hoja1!$A$1/CI$1))","v":0},{"$f":"IF(CJ$1>$E$11,0,IF($G49=0,0,(CJ$1-$G49)*Hoja1!$A$1/CJ$1))","v":0},{"$f":"IF(CK$1>$E$11,0,IF($G49=0,0,(CK$1-$G49)*Hoja1!$A$1/CK$1))","v":0},{"$f":"IF(CL$1>$E$11,0,IF($G49=0,0,(CL$1-$G49)*Hoja1!$A$1/CL$1))","v":0},{"$f":"IF(CM$1>$E$11,0,IF($G49=0,0,(CM$1-$G49)*Hoja1!$A$1/CM$1))","v":0},{"$f":"IF(CN$1>$E$11,0,IF($G49=0,0,(CN$1-$G49)*Hoja1!$A$1/CN$1))","v":0},{"$f":"IF(CO$1>$E$11,0,IF($G49=0,0,(CO$1-$G49)*Hoja1!$A$1/CO$1))","v":0},{"$f":"IF(CP$1>$E$11,0,IF($G49=0,0,(CP$1-$G49)*Hoja1!$A$1/CP$1))","v":0},{"$f":"IF(CQ$1>$E$11,0,IF($G49=0,0,(CQ$1-$G49)*Hoja1!$A$1/CQ$1))","v":0},{"$f":"IF(CR$1>$E$11,0,IF($G49=0,0,(CR$1-$G49)*Hoja1!$A$1/CR$1))","v":0},{"$f":"IF(CS$1>$E$11,0,IF($G49=0,0,(CS$1-$G49)*Hoja1!$A$1/CS$1))","v":0},{"$f":"IF(CT$1>$E$11,0,IF($G49=0,0,(CT$1-$G49)*Hoja1!$A$1/CT$1))","v":0},{"$f":"IF(CU$1>$E$11,0,IF($G49=0,0,(CU$1-$G49)*Hoja1!$A$1/CU$1))","v":0},{"$f":"IF(CV$1>$E$11,0,IF($G49=0,0,(CV$1-$G49)*Hoja1!$A$1/CV$1))","v":0},{"$f":"IF(CW$1>$E$11,0,IF($G49=0,0,(CW$1-$G49)*Hoja1!$A$1/CW$1))","v":0},{"$f":"IF(CX$1>$E$11,0,IF($G49=0,0,(CX$1-$G49)*Hoja1!$A$1/CX$1))","v":0},{"$f":"IF(CY$1>$E$11,0,IF($G49=0,0,(CY$1-$G49)*Hoja1!$A$1/CY$1))","v":0},{"$f":"IF(CZ$1>$E$11,0,IF($G49=0,0,(CZ$1-$G49)*Hoja1!$A$1/CZ$1))","v":0},{"$f":"IF(DA$1>$E$11,0,IF($G49=0,0,(DA$1-$G49)*Hoja1!$A$1/DA$1))","v":0},{"$f":"IF(DB$1>$E$11,0,IF($G49=0,0,(DB$1-$G49)*Hoja1!$A$1/DB$1))","v":0},{"$f":"IF(DC$1>$E$11,0,IF($G49=0,0,(DC$1-$G49)*Hoja1!$A$1/DC$1))","v":0},{"$f":"IF(DD$1>$E$11,0,IF($G49=0,0,(DD$1-$G49)*Hoja1!$A$1/DD$1))","v":0},{"$f":"IF(DE$1>$E$11,0,IF($G49=0,0,(DE$1-$G49)*Hoja1!$A$1/DE$1))","v":0},{"$f":"IF(DF$1>$E$11,0,IF($G49=0,0,(DF$1-$G49)*Hoja1!$A$1/DF$1))","v":0},{"$f":"IF(DG$1>$E$11,0,IF($G49=0,0,(DG$1-$G49)*Hoja1!$A$1/DG$1))","v":0},{"$f":"IF(DH$1>$E$11,0,IF($G49=0,0,(DH$1-$G49)*Hoja1!$A$1/DH$1))","v":0},{"$f":"IF(DI$1>$E$11,0,IF($G49=0,0,(DI$1-$G49)*Hoja1!$A$1/DI$1))","v":0},{"$f":"IF(DJ$1>$E$11,0,IF($G49=0,0,(DJ$1-$G49)*Hoja1!$A$1/DJ$1))","v":0},{"$f":"IF(DK$1>$E$11,0,IF($G49=0,0,(DK$1-$G49)*Hoja1!$A$1/DK$1))","v":0},{"$f":"IF(DL$1>$E$11,0,IF($G49=0,0,(DL$1-$G49)*Hoja1!$A$1/DL$1))","v":0},{"$f":"IF(DM$1>$E$11,0,IF($G49=0,0,(DM$1-$G49)*Hoja1!$A$1/DM$1))","v":0}]
[null,null,null,null,null,612.64500000000032,0,{"$f":"IF(H$1>$E$11,0,IF($G50=0,0,(H$1-$G50)*Hoja1!$A$1/H$1))","v":0},{"$f":"IF(I$1>$E$11,0,IF($G50=0,0,(I$1-$G50)*Hoja1!$A$1/I$1))","v":0},{"$f":"IF(J$1>$E$11,0,IF($G50=0,0,(J$1-$G50)*Hoja1!$A$1/J$1))","v":0},{"$f":"IF(K$1>$E$11,0,IF($G50=0,0,(K$1-$G50)*Hoja1!$A$1/K$1))","v":0},{"$f":"IF(L$1>$E$11,0,IF($G50=0,0,(L$1-$G50)*Hoja1!$A$1/L$1))","v":0},{"$f":"IF(M$1>$E$11,0,IF($G50=0,0,(M$1-$G50)*Hoja1!$A$1/M$1))","v":0},{"$f":"IF(N$1>$E$11,0,IF($G50=0,0,(N$1-$G50)*Hoja1!$A$1/N$1))","v":0},{"$f":"IF(O$1>$E$11,0,IF($G50=0,0,(O$1-$G50)*Hoja1!$A$1/O$1))","v":0},{"$f":"IF(P$1>$E$11,0,IF($G50=0,0,(P$1-$G50)*Hoja1!$A$1/P$1))","v":0},{"$f":"IF(Q$1>$E$11,0,IF($G50=0,0,(Q$1-$G50)*Hoja1!$A$1/Q$1))","v":0},{"$f":"IF(R$1>$E$11,0,IF($G50=0,0,(R$1-$G50)*Hoja1!$A$1/R$1))","v":0},{"$f":"IF(S$1>$E$11,0,IF($G50=0,0,(S$1-$G50)*Hoja1!$A$1/S$1))","v":0},{"$f":"IF(T$1>$E$11,0,IF($G50=0,0,(T$1-$G50)*Hoja1!$A$1/T$1))","v":0},{"$f":"IF(U$1>$E$11,0,IF($G50=0,0,(U$1-$G50)*Hoja1!$A$1/U$1))","v":0},{"$f":"IF(V$1>$E$11,0,IF($G50=0,0,(V$1-$G50)*Hoja1!$A$1/V$1))","v":0},{"$f":"IF(W$1>$E$11,0,IF($G50=0,0,(W$1-$G50)*Hoja1!$A$1/W$1))","v":0},{"$f":"IF(X$1>$E$11,0,IF($G50=0,0,(X$1-$G50)*Hoja1!$A$1/X$1))","v":0},{"$f":"IF(Y$1>$E$11,0,IF($G50=0,0,(Y$1-$G50)*Hoja1!$A$1/Y$1))","v":0},{"$f":"IF(Z$1>$E$11,0,IF($G50=0,0,(Z$1-$G50)*Hoja1!$A$1/Z$1))","v":0},{"$f":"IF(AA$1>$E$11,0,IF($G50=0,0,(AA$1-$G50)*Hoja1!$A$1/AA$1))","v":0},{"$f":"IF(AB$1>$E$11,0,IF($G50=0,0,(AB$1-$G50)*Hoja1!$A$1/AB$1))","v":0},{"$f":"IF(AC$1>$E$11,0,IF($G50=0,0,(AC$1-$G50)*Hoja1!$A$1/AC$1))","v":0},{"$f":"IF(AD$1>$E$11,0,IF($G50=0,0,(AD$1-$G50)*Hoja1!$A$1/AD$1))","v":0},{"$f":"IF(AE$1>$E$11,0,IF($G50=0,0,(AE$1-$G50)*Hoja1!$A$1/AE$1))","v":0},{"$f":"IF(AF$1>$E$11,0,IF($G50=0,0,(AF$1-$G50)*Hoja1!$A$1/AF$1))","v":0},{"$f":"IF(AG$1>$E$11,0,IF($G50=0,0,(AG$1-$G50)*Hoja1!$A$1/AG$1))","v":0},{"$f":"IF(AH$1>$E$11,0,IF($G50=0,0,(AH$1-$G50)*Hoja1!$A$1/AH$1))","v":0},{"$f":"IF(AI$1>$E$11,0,IF($G50=0,0,(AI$1-$G50)*Hoja1!$A$1/AI$1))","v":0},{"$f":"IF(AJ$1>$E$11,0,IF($G50=0,0,(AJ$1-$G50)*Hoja1!$A$1/AJ$1))","v":0},{"$f":"IF(AK$1>$E$11,0,IF($G50=0,0,(AK$1-$G50)*Hoja1!$A$1/AK$1))","v":0},{"$f":"IF(AL$1>$E$11,0,IF($G50=0,0,(AL$1-$G50)*Hoja1!$A$1/AL$1))","v":0},{"$f":"IF(AM$1>$E$11,0,IF($G50=0,0,(AM$1-$G50)*Hoja1!$A$1/AM$1))","v":0},{"$f":"IF(AN$1>$E$11,0,IF($G50=0,0,(AN$1-$G50)*Hoja1!$A$1/AN$1))","v":0},{"$f":"IF(AO$1>$E$11,0,IF($G50=0,0,(AO$1-$G50)*Hoja1!$A$1/AO$1))","v":0},{"$f":"IF(AP$1>$E$11,0,IF($G50=0,0,(AP$1-$G50)*Hoja1!$A$1/AP$1))","v":0},{"$f":"IF(AQ$1>$E$11,0,IF($G50=0,0,(AQ$1-$G50)*Hoja1!$A$1/AQ$1))","v":0},{"$f":"IF(AR$1>$E$11,0,IF($G50=0,0,(AR$1-$G50)*Hoja1!$A$1/AR$1))","v":0},{"$f":"IF(AS$1>$E$11,0,IF($G50=0,0,(AS$1-$G50)*Hoja1!$A$1/AS$1))","v":0},{"$f":"IF(AT$1>$E$11,0,IF($G50=0,0,(AT$1-$G50)*Hoja1!$A$1/AT$1))","v":0},{"$f":"IF(AU$1>$E$11,0,IF($G50=0,0,(AU$1-$G50)*Hoja1!$A$1/AU$1))","v":0},{"$f":"IF(AV$1>$E$11,0,IF($G50=0,0,(AV$1-$G50)*Hoja1!$A$1/AV$1))","v":0},{"$f":"IF(AW$1>$E$11,0,IF($G50=0,0,(AW$1-$G50)*Hoja1!$A$1/AW$1))","v":0},{"$f":"IF(AX$1>$E$11,0,IF($G50=0,0,(AX$1-$G50)*Hoja1!$A$1/AX$1))","v":0},{"$f":"IF(AY$1>$E$11,0,IF($G50=0,0,(AY$1-$G50)*Hoja1!$A$1/AY$1))","v":0},{"$f":"IF(AZ$1>$E$11,0,IF($G50=0,0,(AZ$1-$G50)*Hoja1!$A$1/AZ$1))","v":0},{"$f":"IF(BA$1>$E$11,0,IF($G50=0,0,(BA$1-$G50)*Hoja1!$A$1/BA$1))","v":0},{"$f":"IF(BB$1>$E$11,0,IF($G50=0,0,(BB$1-$G50)*Hoja1!$A$1/BB$1))","v":0},{"$f":"IF(BC$1>$E$11,0,IF($G50=0,0,(BC$1-$G50)*Hoja1!$A$1/BC$1))","v":0},{"$f":"IF(BD$1>$E$11,0,IF($G50=0,0,(BD$1-$G50)*Hoja1!$A$1/BD$1))","v":0},{"$f":"IF(BE$1>$E$11,0,IF($G50=0,0,(BE$1-$G50)*Hoja1!$A$1/BE$1))","v":0},{"$f":"IF(BF$1>$E$11,0,IF($G50=0,0,(BF$1-$G50)*Hoja1!$A$1/BF$1))","v":0},{"$f":"IF(BG$1>$E$11,0,IF($G50=0,0,(BG$1-$G50)*Hoja1!$A$1/BG$1))","v":0},{"$f":"IF(BH$1>$E$11,0,IF($G50=0,0,(BH$1-$G50)*Hoja1!$A$1/BH$1))","v":0},{"$f":"IF(BI$1>$E$11,0,IF($G50=0,0,(BI$1-$G50)*Hoja1!$A$1/BI$1))","v":0},{"$f":"IF(BJ$1>$E$11,0,IF($G50=0,0,(BJ$1-$G50)*Hoja1!$A$1/BJ$1))","v":0},{"$f":"IF(BK$1>$E$11,0,IF($G50=0,0,(BK$1-$G50)*Hoja1!$A$1/BK$1))","v":0},{"$f":"IF(BL$1>$E$11,0,IF($G50=0,0,(BL$1-$G50)*Hoja1!$A$1/BL$1))","v":0},{"$f":"IF(BM$1>$E$11,0,IF($G50=0,0,(BM$1-$G50)*Hoja1!$A$1/BM$1))","v":0},{"$f":"IF(BN$1>$E$11,0,IF($G50=0,0,(BN$1-$G50)*Hoja1!$A$1/BN$1))","v":0},{"$f":"IF(BO$1>$E$11,0,IF($G50=0,0,(BO$1-$G50)*Hoja1!$A$1/BO$1))","v":0},{"$f":"IF(BP$1>$E$11,0,IF($G50=0,0,(BP$1-$G50)*Hoja1!$A$1/BP$1))","v":0},{"$f":"IF(BQ$1>$E$11,0,IF($G50=0,0,(BQ$1-$G50)*Hoja1!$A$1/BQ$1))","v":0},{"$f":"IF(BR$1>$E$11,0,IF($G50=0,0,(BR$1-$G50)*Hoja1!$A$1/BR$1))","v":0},{"$f":"IF(BS$1>$E$11,0,IF($G50=0,0,(BS$1-$G50)*Hoja1!$A$1/BS$1))","v":0},{"$f":"IF(BT$1>$E$11,0,IF($G50=0,0,(BT$1-$G50)*Hoja1!$A$1/BT$1))","v":0},{"$f":"IF(BU$1>$E$11,0,IF($G50=0,0,(BU$1-$G50)*Hoja1!$A$1/BU$1))","v":0},{"$f":"IF(BV$1>$E$11,0,IF($G50=0,0,(BV$1-$G50)*Hoja1!$A$1/BV$1))","v":0},{"$f":"IF(BW$1>$E$11,0,IF($G50=0,0,(BW$1-$G50)*Hoja1!$A$1/BW$1))","v":0},{"$f":"IF(BX$1>$E$11,0,IF($G50=0,0,(BX$1-$G50)*Hoja1!$A$1/BX$1))","v":0},{"$f":"IF(BY$1>$E$11,0,IF($G50=0,0,(BY$1-$G50)*Hoja1!$A$1/BY$1))","v":0},{"$f":"IF(BZ$1>$E$11,0,IF($G50=0,0,(BZ$1-$G50)*Hoja1!$A$1/BZ$1))","v":0},{"$f":"IF(CA$1>$E$11,0,IF($G50=0,0,(CA$1-$G50)*Hoja1!$A$1/CA$1))","v":0},{"$f":"IF(CB$1>$E$11,0,IF($G50=0,0,(CB$1-$G50)*Hoja1!$A$1/CB$1))","v":0},{"$f":"IF(CC$1>$E$11,0,IF($G50=0,0,(CC$1-$G50)*Hoja1!$A$1/CC$1))","v":0},{"$f":"IF(CD$1>$E$11,0,IF($G50=0,0,(CD$1-$G50)*Hoja1!$A$1/CD$1))","v":0},{"$f":"IF(CE$1>$E$11,0,IF($G50=0,0,(CE$1-$G50)*Hoja1!$A$1/CE$1))","v":0},{"$f":"IF(CF$1>$E$11,0,IF($G50=0,0,(CF$1-$G50)*Hoja1!$A$1/CF$1))","v":0},{"$f":"IF(CG$1>$E$11,0,IF($G50=0,0,(CG$1-$G50)*Hoja1!$A$1/CG$1))","v":0},{"$f":"IF(CH$1>$E$11,0,IF($G50=0,0,(CH$1-$G50)*Hoja1!$A$1/CH$1))","v":0},{"$f":"IF(CI$1>$E$11,0,IF($G50=0,0,(CI$1-$G50)*Hoja1!$A$1/CI$1))","v":0},{"$f":"IF(CJ$1>$E$11,0,IF($G50=0,0,(CJ$1-$G50)*Hoja1!$A$1/CJ$1))","v":0},{"$f":"IF(CK$1>$E$11,0,IF($G50=0,0,(CK$1-$G50)*Hoja1!$A$1/CK$1))","v":0},{"$f":"IF(CL$1>$E$11,0,IF($G50=0,0,(CL$1-$G50)*Hoja1!$A$1/CL$1))","v":0},{"$f":"IF(CM$1>$E$11,0,IF($G50=0,0,(CM$1-$G50)*Hoja1!$A$1/CM$1))","v":0},{"$f":"IF(CN$1>$E$11,0,IF($G50=0,0,(CN$1-$G50)*Hoja1!$A$1/CN$1))","v":0},{"$f":"IF(CO$1>$E$11,0,IF($G50=0,0,(CO$1-$G50)*Hoja1!$A$1/CO$1))","v":0},{"$f":"IF(CP$1>$E$11,0,IF($G50=0,0,(CP$1-$G50)*Hoja1!$A$1/CP$1))","v":0},{"$f":"IF(CQ$1>$E$11,0,IF($G50=0,0,(CQ$1-$G50)*Hoja1!$A$1/CQ$1))","v":0},{"$f":"IF(CR$1>$E$11,0,IF($G50=0,0,(CR$1-$G50)*Hoja1!$A$1/CR$1))","v":0},{"$f":"IF(CS$1>$E$11,0,IF($G50=0,0,(CS$1-$G50)*Hoja1!$A$1/CS$1))","v":0},{"$f":"IF(CT$1>$E$11,0,IF($G50=0,0,(CT$1-$G50)*Hoja1!$A$1/CT$1))","v":0},{"$f":"IF(CU$1>$E$11,0,IF($G50=0,0,(CU$1-$G50)*Hoja1!$A$1/CU$1))","v":0},{"$f":"IF(CV$1>$E$11,0,IF($G50=0,0,(CV$1-$G50)*Hoja1!$A$1/CV$1))","v":0},{"$f":"IF(CW$1>$E$11,0,IF($G50=0,0,(CW$1-$G50)*Hoja1!$A$1/CW$1))","v":0},{"$f":"IF(CX$1>$E$11,0,IF($G50=0,0,(CX$1-$G50)*Hoja1!$A$1/CX$1))","v":0},{"$f":"IF(CY$1>$E$11,0,IF($G50=0,0,(CY$1-$G50)*Hoja1!$A$1/CY$1))","v":0},{"$f":"IF(CZ$1>$E$11,0,IF($G50=0,0,(CZ$1-$G50)*Hoja1!$A$1/CZ$1))","v":0},{"$f":"IF(DA$1>$E$11,0,IF($G50=0,0,(DA$1-$G50)*Hoja1!$A$1/DA$1))","v":0},{"$f":"IF(DB$1>$E$11,0,IF($G50=0,0,(DB$1-$G50)*Hoja1!$A$1/DB$1))","v":0},{"$f":"IF(DC$1>$E$11,0,IF($G50=0,0,(DC$1-$G50)*Hoja1!$A$1/DC$1))","v":0},{"$f":"IF(DD$1>$E$11,0,IF($G50=0,0,(DD$1-$G50)*Hoja1!$A$1/DD$1))","v":0},{"$f":"IF(DE$1>$E$11,0,IF($G50=0,0,(DE$1-$G50)*Hoja1!$A$1/DE$1))","v":0},{"$f":"IF(DF$1>$E$11,0,IF($G50=0,0,(DF$1-$G50)*Hoja1!$A$1/DF$1))","v":0},{"$f":"IF(DG$1>$E$11,0,IF($G50=0,0,(DG$1-$G50)*Hoja1!$A$1/DG$1))","v":0},{"$f":"IF(DH$1>$E$11,0,IF($G50=0,0,(DH$1-$G50)*Hoja1!$A$1/DH$1))","v":0},{"$f":"IF(DI$1>$E$11,0,IF($G50=0,0,(DI$1-$G50)*Hoja1!$A$1/DI$1))","v":0},{"$f":"IF(DJ$1>$E$11,0,IF($G50=0,0,(DJ$1-$G50)*Hoja1!$A$1/DJ$1))","v":0},{"$f":"IF(DK$1>$E$11,0,IF($G50=0,0,(DK$1-$G50)*Hoja1!$A$1/DK$1))","v":0},{"$f":"IF(DL$1>$E$11,0,IF($G50=0,0,(DL$1-$G50)*Hoja1!$A$1/DL$1))","v":0},{"$f":"IF(DM$1>$E$11,0,IF($G50=0,0,(DM$1-$G50)*Hoja1!$A$1/DM$1))","v":0}]
[null,null,null,null,null,625.83500000000038,0,{"$f":"IF(H$1>$E$11,0,IF($G51=0,0,(H$1-$G51)*Hoja1!$A$1/H$1))","v":0},{"$f":"IF(I$1>$E$11,0,IF($G51=0,0,(I$1-$G51)*Hoja1!$A$1/I$1))","v":0},{"$f":"IF(J$1>$E$11,0,IF($G51=0,0,(J$1-$G51)*Hoja1!$A$1/J$1))","v":0},{"$f":"IF(K$1>$E$11,0,IF($G51=0,0,(K$1-$G51)*Hoja1!$A$1/K$1))","v":0},{"$f":"IF(L$1>$E$11,0,IF($G51=0,0,(L$1-$G51)*Hoja1!$A$1/L$1))","v":0},{"$f":"IF(M$1>$E$11,0,IF($G51=0,0,(M$1-$G51)*Hoja1!$A$1/M$1))","v":0},{"$f":"IF(N$1>$E$11,0,IF($G51=0,0,(N$1-$G51)*Hoja1!$A$1/N$1))","v":0},{"$f":"IF(O$1>$E$11,0,IF($G51=0,0,(O$1-$G51)*Hoja1!$A$1/O$1))","v":0},{"$f":"IF(P$1>$E$11,0,IF($G51=0,0,(P$1-$G51)*Hoja1!$A$1/P$1))","v":0},{"$f":"IF(Q$1>$E$11,0,IF($G51=0,0,(Q$1-$G51)*Hoja1!$A$1/Q$1))","v":0},{"$f":"IF(R$1>$E$11,0,IF($G51=0,0,(R$1-$G51)*Hoja1!$A$1/R$1))","v":0},{"$f":"IF(S$1>$E$11,0,IF($G51=0,0,(S$1-$G51)*Hoja1!$A$1/S$1))","v":0},{"$f":"IF(T$1>$E$11,0,IF($G51=0,0,(T$1-$G51)*Hoja1!$A$1/T$1))","v":0},{"$f":"IF(U$1>$E$11,0,IF($G51=0,0,(U$1-$G51)*Hoja1!$A$1/U$1))","v":0},{"$f":"IF(V$1>$E$11,0,IF($G51=0,0,(V$1-$G51)*Hoja1!$A$1/V$1))","v":0},{"$f":"IF(W$1>$E$11,0,IF($G51=0,0,(W$1-$G51)*Hoja1!$A$1/W$1))","v":0},{"$f":"IF(X$1>$E$11,0,IF($G51=0,0,(X$1-$G51)*Hoja1!$A$1/X$1))","v":0},{"$f":"IF(Y$1>$E$11,0,IF($G51=0,0,(Y$1-$G51)*Hoja1!$A$1/Y$1))","v":0},{"$f":"IF(Z$1>$E$11,0,IF($G51=0,0,(Z$1-$G51)*Hoja1!$A$1/Z$1))","v":0},{"$f":"IF(AA$1>$E$11,0,IF($G51=0,0,(AA$1-$G51)*Hoja1!$A$1/AA$1))","v":0},{"$f":"IF(AB$1>$E$11,0,IF($G51=0,0,(AB$1-$G51)*Hoja1!$A$1/AB$1))","v":0},{"$f":"IF(AC$1>$E$11,0,IF($G51=0,0,(AC$1-$G51)*Hoja1!$A$1/AC$1))","v":0},{"$f":"IF(AD$1>$E$11,0,IF($G51=0,0,(AD$1-$G51)*Hoja1!$A$1/AD$1))","v":0},{"$f":"IF(AE$1>$E$11,0,IF($G51=0,0,(AE$1-$G51)*Hoja1!$A$1/AE$1))","v":0},{"$f":"IF(AF$1>$E$11,0,IF($G51=0,0,(AF$1-$G51)*Hoja1!$A$1/AF$1))","v":0},{"$f":"IF(AG$1>$E$11,0,IF($G51=0,0,(AG$1-$G51)*Hoja1!$A$1/AG$1))","v":0},{"$f":"IF(AH$1>$E$11,0,IF($G51=0,0,(AH$1-$G51)*Hoja1!$A$1/AH$1))","v":0},{"$f":"IF(AI$1>$E$11,0,IF($G51=0,0,(AI$1-$G51)*Hoja1!$A$1/AI$1))","v":0},{"$f":"IF(AJ$1>$E$11,0,IF($G51=0,0,(AJ$1-$G51)*Hoja1!$A$1/AJ$1))","v":0},{"$f":"IF(AK$1>$E$11,0,IF($G51=0,0,(AK$1-$G51)*Hoja1!$A$1/AK$1))","v":0},{"$f":"IF(AL$1>$E$11,0,IF($G51=0,0,(AL$1-$G51)*Hoja1!$A$1/AL$1))","v":0},{"$f":"IF(AM$1>$E$11,0,IF($G51=0,0,(AM$1-$G51)*Hoja1!$A$1/AM$1))","v":0},{"$f":"IF(AN$1>$E$11,0,IF($G51=0,0,(AN$1-$G51)*Hoja1!$A$1/AN$1))","v":0},{"$f":"IF(AO$1>$E$11,0,IF($G51=0,0,(AO$1-$G51)*Hoja1!$A$1/AO$1))","v":0},{"$f":"IF(AP$1>$E$11,0,IF($G51=0,0,(AP$1-$G51)*Hoja1!$A$1/AP$1))","v":0},{"$f":"IF(AQ$1>$E$11,0,IF($G51=0,0,(AQ$1-$G51)*Hoja1!$A$1/AQ$1))","v":0},{"$f":"IF(AR$1>$E$11,0,IF($G51=0,0,(AR$1-$G51)*Hoja1!$A$1/AR$1))","v":0},{"$f":"IF(AS$1>$E$11,0,IF($G51=0,0,(AS$1-$G51)*Hoja1!$A$1/AS$1))","v":0},{"$f":"IF(AT$1>$E$11,0,IF($G51=0,0,(AT$1-$G51)*Hoja1!$A$1/AT$1))","v":0},{"$f":"IF(AU$1>$E$11,0,IF($G51=0,0,(AU$1-$G51)*Hoja1!$A$1/AU$1))","v":0},{"$f":"IF(AV$1>$E$11,0,IF($G51=0,0,(AV$1-$G51)*Hoja1!$A$1/AV$1))","v":0},{"$f":"IF(AW$1>$E$11,0,IF($G51=0,0,(AW$1-$G51)*Hoja1!$A$1/AW$1))","v":0},{"$f":"IF(AX$1>$E$11,0,IF($G51=0,0,(AX$1-$G51)*Hoja1!$A$1/AX$1))","v":0},{"$f":"IF(AY$1>$E$11,0,IF($G51=0,0,(AY$1-$G51)*Hoja1!$A$1/AY$1))","v":0},{"$f":"IF(AZ$1>$E$11,0,IF($G51=0,0,(AZ$1-$G51)*Hoja1!$A$1/AZ$1))","v":0},{"$f":"IF(BA$1>$E$11,0,IF($G51=0,0,(BA$1-$G51)*Hoja1!$A$1/BA$1))","v":0},{"$f":"IF(BB$1>$E$11,0,IF($G51=0,0,(BB$1-$G51)*Hoja1!$A$1/BB$1))","v":0},{"$f":"IF(BC$1>$E$11,0,IF($G51=0,0,(BC$1-$G51)*Hoja1!$A$1/BC$1))","v":0},{"$f":"IF(BD$1>$E$11,0,IF($G51=0,0,(BD$1-$G51)*Hoja1!$A$1/BD$1))","v":0},{"$f":"IF(BE$1>$E$11,0,IF($G51=0,0,(BE$1-$G51)*Hoja1!$A$1/BE$1))","v":0},{"$f":"IF(BF$1>$E$11,0,IF($G51=0,0,(BF$1-$G51)*Hoja1!$A$1/BF$1))","v":0},{"$f":"IF(BG$1>$E$11,0,IF($G51=0,0,(BG$1-$G51)*Hoja1!$A$1/BG$1))","v":0},{"$f":"IF(BH$1>$E$11,0,IF($G51=0,0,(BH$1-$G51)*Hoja1!$A$1/BH$1))","v":0},{"$f":"IF(BI$1>$E$11,0,IF($G51=0,0,(BI$1-$G51)*Hoja1!$A$1/BI$1))","v":0},{"$f":"IF(BJ$1>$E$11,0,IF($G51=0,0,(BJ$1-$G51)*Hoja1!$A$1/BJ$1))","v":0},{"$f":"IF(BK$1>$E$11,0,IF($G51=0,0,(BK$1-$G51)*Hoja1!$A$1/BK$1))","v":0},{"$f":"IF(BL$1>$E$11,0,IF($G51=0,0,(BL$1-$G51)*Hoja1!$A$1/BL$1))","v":0},{"$f":"IF(BM$1>$E$11,0,IF($G51=0,0,(BM$1-$G51)*Hoja1!$A$1/BM$1))","v":0},{"$f":"IF(BN$1>$E$11,0,IF($G51=0,0,(BN$1-$G51)*Hoja1!$A$1/BN$1))","v":0},{"$f":"IF(BO$1>$E$11,0,IF($G51=0,0,(BO$1-$G51)*Hoja1!$A$1/BO$1))","v":0},{"$f":"IF(BP$1>$E$11,0,IF($G51=0,0,(BP$1-$G51)*Hoja1!$A$1/BP$1))","v":0},{"$f":"IF(BQ$1>$E$11,0,IF($G51=0,0,(BQ$1-$G51)*Hoja1!$A$1/BQ$1))","v":0},{"$f":"IF(BR$1>$E$11,0,IF($G51=0,0,(BR$1-$G51)*Hoja1!$A$1/BR$1))","v":0},{"$f":"IF(BS$1>$E$11,0,IF($G51=0,0,(BS$1-$G51)*Hoja1!$A$1/BS$1))","v":0},{"$f":"IF(BT$1>$E$11,0,IF($G51=0,0,(BT$1-$G51)*Hoja1!$A$1/BT$1))","v":0},{"$f":"IF(BU$1>$E$11,0,IF($G51=0,0,(BU$1-$G51)*Hoja1!$A$1/BU$1))","v":0},{"$f":"IF(BV$1>$E$11,0,IF($G51=0,0,(BV$1-$G51)*Hoja1!$A$1/BV$1))","v":0},{"$f":"IF(BW$1>$E$11,0,IF($G51=0,0,(BW$1-$G51)*Hoja1!$A$1/BW$1))","v":0},{"$f":"IF(BX$1>$E$11,0,IF($G51=0,0,(BX$1-$G51)*Hoja1!$A$1/BX$1))","v":0},{"$f":"IF(BY$1>$E$11,0,IF($G51=0,0,(BY$1-$G51)*Hoja1!$A$1/BY$1))","v":0},{"$f":"IF(BZ$1>$E$11,0,IF($G51=0,0,(BZ$1-$G51)*Hoja1!$A$1/BZ$1))","v":0},{"$f":"IF(CA$1>$E$11,0,IF($G51=0,0,(CA$1-$G51)*Hoja1!$A$1/CA$1))","v":0},{"$f":"IF(CB$1>$E$11,0,IF($G51=0,0,(CB$1-$G51)*Hoja1!$A$1/CB$1))","v":0},{"$f":"IF(CC$1>$E$11,0,IF($G51=0,0,(CC$1-$G51)*Hoja1!$A$1/CC$1))","v":0},{"$f":"IF(CD$1>$E$11,0,IF($G51=0,0,(CD$1-$G51)*Hoja1!$A$1/CD$1))","v":0},{"$f":"IF(CE$1>$E$11,0,IF($G51=0,0,(CE$1-$G51)*Hoja1!$A$1/CE$1))","v":0},{"$f":"IF(CF$1>$E$11,0,IF($G51=0,0,(CF$1-$G51)*Hoja1!$A$1/CF$1))","v":0},{"$f":"IF(CG$1>$E$11,0,IF($G51=0,0,(CG$1-$G51)*Hoja1!$A$1/CG$1))","v":0},{"$f":"IF(CH$1>$E$11,0,IF($G51=0,0,(CH$1-$G51)*Hoja1!$A$1/CH$1))","v":0},{"$f":"IF(CI$1>$E$11,0,IF($G51=0,0,(CI$1-$G51)*Hoja1!$A$1/CI$1))","v":0},{"$f":"IF(CJ$1>$E$11,0,IF($G51=0,0,(CJ$1-$G51)*Hoja1!$A$1/CJ$1))","v":0},{"$f":"IF(CK$1>$E$11,0,IF($G51=0,0,(CK$1-$G51)*Hoja1!$A$1/CK$1))","v":0},{"$f":"IF(CL$1>$E$11,0,IF($G51=0,0,(CL$1-$G51)*Hoja1!$A$1/CL$1))","v":0},{"$f":"IF(CM$1>$E$11,0,IF($G51=0,0,(CM$1-$G51)*Hoja1!$A$1/CM$1))","v":0},{"$f":"IF(CN$1>$E$11,0,IF($G51=0,0,(CN$1-$G51)*Hoja1!$A$1/CN$1))","v":0},{"$f":"IF(CO$1>$E$11,0,IF($G51=0,0,(CO$1-$G51)*Hoja1!$A$1/CO$1))","v":0},{"$f":"IF(CP$1>$E$11,0,IF($G51=0,0,(CP$1-$G51)*Hoja1!$A$1/CP$1))","v":0},{"$f":"IF(CQ$1>$E$11,0,IF($G51=0,0,(CQ$1-$G51)*Hoja1!$A$1/CQ$1))","v":0},{"$f":"IF(CR$1>$E$11,0,IF($G51=0,0,(CR$1-$G51)*Hoja1!$A$1/CR$1))","v":0},{"$f":"IF(CS$1>$E$11,0,IF($G51=0,0,(CS$1-$G51)*Hoja1!$A$1/CS$1))","v":0},{"$f":"IF(CT$1>$E$11,0,IF($G51=0,0,(CT$1-$G51)*Hoja1!$A$1/CT$1))","v":0},{"$f":"IF(CU$1>$E$11,0,IF($G51=0,0,(CU$1-$G51)*Hoja1!$A$1/CU$1))","v":0},{"$f":"IF(CV$1>$E$11,0,IF($G51=0,0,(CV$1-$G51)*Hoja1!$A$1/CV$1))","v":0},{"$f":"IF(CW$1>$E$11,0,IF($G51=0,0,(CW$1-$G51)*Hoja1!$A$1/CW$1))","v":0},{"$f":"IF(CX$1>$E$11,0,IF($G51=0,0,(CX$1-$G51)*Hoja1!$A$1/CX$1))","v":0},{"$f":"IF(CY$1>$E$11,0,IF($G51=0,0,(CY$1-$G51)*Hoja1!$A$1/CY$1))","v":0},{"$f":"IF(CZ$1>$E$11,0,IF($G51=0,0,(CZ$1-$G51)*Hoja1!$A$1/CZ$1))","v":0},{"$f":"IF(DA$1>$E$11,0,IF($G51=0,0,(DA$1-$G51)*Hoja1!$A$1/DA$1))","v":0},{"$f":"IF(DB$1>$E$11,0,IF($G51=0,0,(DB$1-$G51)*Hoja1!$A$1/DB$1))","v":0},{"$f":"IF(DC$1>$E$11,0,IF($G51=0,0,(DC$1-$G51)*Hoja1!$A$1/DC$1))","v":0},{"$f":"IF(DD$1>$E$11,0,IF($G51=0,0,(DD$1-$G51)*Hoja1!$A$1/DD$1))","v":0},{"$f":"IF(DE$1>$E$11,0,IF($G51=0,0,(DE$1-$G51)*Hoja1!$A$1/DE$1))","v":0},{"$f":"IF(DF$1>$E$11,0,IF($G51=0,0,(DF$1-$G51)*Hoja1!$A$1/DF$1))","v":0},{"$f":"IF(DG$1>$E$11,0,IF($G51=0,0,(DG$1-$G51)*Hoja1!$A$1/DG$1))","v":0},{"$f":"IF(DH$1>$E$11,0,IF($G51=0,0,(DH$1-$G51)*Hoja1!$A$1/DH$1))","v":0},{"$f":"IF(DI$1>$E$11,0,IF($G51=0,0,(DI$1-$G51)*Hoja1!$A$1/DI$1))","v":0},{"$f":"IF(DJ$1>$E$11,0,IF($G51=0,0,(DJ$1-$G51)*Hoja1!$A$1/DJ$1))","v":0},{"$f":"IF(DK$1>$E$11,0,IF($G51=0,0,(DK$1-$G51)*Hoja1!$A$1/DK$1))","v":0},{"$f":"IF(DL$1>$E$11,0,IF($G51=0,0,(DL$1-$G51)*Hoja1!$A$1/DL$1))","v":0},{"$f":"IF(DM$1>$E$11,0,IF($G51=0,0,(DM$1-$G51)*Hoja1!$A$1/DM$1))","v":0}]
[null,null,null,null,null,639.02500000000043,0,{"$f":"IF(H$1>$E$11,0,IF($G52=0,0,(H$1-$G52)*Hoja1!$A$1/H$1))","v":0},{"$f":"IF(I$1>$E$11,0,IF($G52=0,0,(I$1-$G52)*Hoja1!$A$1/I$1))","v":0},{"$f":"IF(J$1>$E$11,0,IF($G52=0,0,(J$1-$G52)*Hoja1!$A$1/J$1))","v":0},{"$f":"IF(K$1>$E$11,0,IF($G52=0,0,(K$1-$G52)*Hoja1!$A$1/K$1))","v":0},{"$f":"IF(L$1>$E$11,0,IF($G52=0,0,(L$1-$G52)*Hoja1!$A$1/L$1))","v":0},{"$f":"IF(M$1>$E$11,0,IF($G52=0,0,(M$1-$G52)*Hoja1!$A$1/M$1))","v":0},{"$f":"IF(N$1>$E$11,0,IF($G52=0,0,(N$1-$G52)*Hoja1!$A$1/N$1))","v":0},{"$f":"IF(O$1>$E$11,0,IF($G52=0,0,(O$1-$G52)*Hoja1!$A$1/O$1))","v":0},{"$f":"IF(P$1>$E$11,0,IF($G52=0,0,(P$1-$G52)*Hoja1!$A$1/P$1))","v":0},{"$f":"IF(Q$1>$E$11,0,IF($G52=0,0,(Q$1-$G52)*Hoja1!$A$1/Q$1))","v":0},{"$f":"IF(R$1>$E$11,0,IF($G52=0,0,(R$1-$G52)*Hoja1!$A$1/R$1))","v":0},{"$f":"IF(S$1>$E$11,0,IF($G52=0,0,(S$1-$G52)*Hoja1!$A$1/S$1))","v":0},{"$f":"IF(T$1>$E$11,0,IF($G52=0,0,(T$1-$G52)*Hoja1!$A$1/T$1))","v":0},{"$f":"IF(U$1>$E$11,0,IF($G52=0,0,(U$1-$G52)*Hoja1!$A$1/U$1))","v":0},{"$f":"IF(V$1>$E$11,0,IF($G52=0,0,(V$1-$G52)*Hoja1!$A$1/V$1))","v":0},{"$f":"IF(W$1>$E$11,0,IF($G52=0,0,(W$1-$G52)*Hoja1!$A$1/W$1))","v":0},{"$f":"IF(X$1>$E$11,0,IF($G52=0,0,(X$1-$G52)*Hoja1!$A$1/X$1))","v":0},{"$f":"IF(Y$1>$E$11,0,IF($G52=0,0,(Y$1-$G52)*Hoja1!$A$1/Y$1))","v":0},{"$f":"IF(Z$1>$E$11,0,IF($G52=0,0,(Z$1-$G52)*Hoja1!$A$1/Z$1))","v":0},{"$f":"IF(AA$1>$E$11,0,IF($G52=0,0,(AA$1-$G52)*Hoja1!$A$1/AA$1))","v":0},{"$f":"IF(AB$1>$E$11,0,IF($G52=0,0,(AB$1-$G52)*Hoja1!$A$1/AB$1))","v":0},{"$f":"IF(AC$1>$E$11,0,IF($G52=0,0,(AC$1-$G52)*Hoja1!$A$1/AC$1))","v":0},{"$f":"IF(AD$1>$E$11,0,IF($G52=0,0,(AD$1-$G52)*Hoja1!$A$1/AD$1))","v":0},{"$f":"IF(AE$1>$E$11,0,IF($G52=0,0,(AE$1-$G52)*Hoja1!$A$1/AE$1))","v":0},{"$f":"IF(AF$1>$E$11,0,IF($G52=0,0,(AF$1-$G52)*Hoja1!$A$1/AF$1))","v":0},{"$f":"IF(AG$1>$E$11,0,IF($G52=0,0,(AG$1-$G52)*Hoja1!$A$1/AG$1))","v":0},{"$f":"IF(AH$1>$E$11,0,IF($G52=0,0,(AH$1-$G52)*Hoja1!$A$1/AH$1))","v":0},{"$f":"IF(AI$1>$E$11,0,IF($G52=0,0,(AI$1-$G52)*Hoja1!$A$1/AI$1))","v":0},{"$f":"IF(AJ$1>$E$11,0,IF($G52=0,0,(AJ$1-$G52)*Hoja1!$A$1/AJ$1))","v":0},{"$f":"IF(AK$1>$E$11,0,IF($G52=0,0,(AK$1-$G52)*Hoja1!$A$1/AK$1))","v":0},{"$f":"IF(AL$1>$E$11,0,IF($G52=0,0,(AL$1-$G52)*Hoja1!$A$1/AL$1))","v":0},{"$f":"IF(AM$1>$E$11,0,IF($G52=0,0,(AM$1-$G52)*Hoja1!$A$1/AM$1))","v":0},{"$f":"IF(AN$1>$E$11,0,IF($G52=0,0,(AN$1-$G52)*Hoja1!$A$1/AN$1))","v":0},{"$f":"IF(AO$1>$E$11,0,IF($G52=0,0,(AO$1-$G52)*Hoja1!$A$1/AO$1))","v":0},{"$f":"IF(AP$1>$E$11,0,IF($G52=0,0,(AP$1-$G52)*Hoja1!$A$1/AP$1))","v":0},{"$f":"IF(AQ$1>$E$11,0,IF($G52=0,0,(AQ$1-$G52)*Hoja1!$A$1/AQ$1))","v":0},{"$f":"IF(AR$1>$E$11,0,IF($G52=0,0,(AR$1-$G52)*Hoja1!$A$1/AR$1))","v":0},{"$f":"IF(AS$1>$E$11,0,IF($G52=0,0,(AS$1-$G52)*Hoja1!$A$1/AS$1))","v":0},{"$f":"IF(AT$1>$E$11,0,IF($G52=0,0,(AT$1-$G52)*Hoja1!$A$1/AT$1))","v":0},{"$f":"IF(AU$1>$E$11,0,IF($G52=0,0,(AU$1-$G52)*Hoja1!$A$1/AU$1))","v":0},{"$f":"IF(AV$1>$E$11,0,IF($G52=0,0,(AV$1-$G52)*Hoja1!$A$1/AV$1))","v":0},{"$f":"IF(AW$1>$E$11,0,IF($G52=0,0,(AW$1-$G52)*Hoja1!$A$1/AW$1))","v":0},{"$f":"IF(AX$1>$E$11,0,IF($G52=0,0,(AX$1-$G52)*Hoja1!$A$1/AX$1))","v":0},{"$f":"IF(AY$1>$E$11,0,IF($G52=0,0,(AY$1-$G52)*Hoja1!$A$1/AY$1))","v":0},{"$f":"IF(AZ$1>$E$11,0,IF($G52=0,0,(AZ$1-$G52)*Hoja1!$A$1/AZ$1))","v":0},{"$f":"IF(BA$1>$E$11,0,IF($G52=0,0,(BA$1-$G52)*Hoja1!$A$1/BA$1))","v":0},{"$f":"IF(BB$1>$E$11,0,IF($G52=0,0,(BB$1-$G52)*Hoja1!$A$1/BB$1))","v":0},{"$f":"IF(BC$1>$E$11,0,IF($G52=0,0,(BC$1-$G52)*Hoja1!$A$1/BC$1))","v":0},{"$f":"IF(BD$1>$E$11,0,IF($G52=0,0,(BD$1-$G52)*Hoja1!$A$1/BD$1))","v":0},{"$f":"IF(BE$1>$E$11,0,IF($G52=0,0,(BE$1-$G52)*Hoja1!$A$1/BE$1))","v":0},{"$f":"IF(BF$1>$E$11,0,IF($G52=0,0,(BF$1-$G52)*Hoja1!$A$1/BF$1))","v":0},{"$f":"IF(BG$1>$E$11,0,IF($G52=0,0,(BG$1-$G52)*Hoja1!$A$1/BG$1))","v":0},{"$f":"IF(BH$1>$E$11,0,IF($G52=0,0,(BH$1-$G52)*Hoja1!$A$1/BH$1))","v":0},{"$f":"IF(BI$1>$E$11,0,IF($G52=0,0,(BI$1-$G52)*Hoja1!$A$1/BI$1))","v":0},{"$f":"IF(BJ$1>$E$11,0,IF($G52=0,0,(BJ$1-$G52)*Hoja1!$A$1/BJ$1))","v":0},{"$f":"IF(BK$1>$E$11,0,IF($G52=0,0,(BK$1-$G52)*Hoja1!$A$1/BK$1))","v":0},{"$f":"IF(BL$1>$E$11,0,IF($G52=0,0,(BL$1-$G52)*Hoja1!$A$1/BL$1))","v":0},{"$f":"IF(BM$1>$E$11,0,IF($G52=0,0,(BM$1-$G52)*Hoja1!$A$1/BM$1))","v":0},{"$f":"IF(BN$1>$E$11,0,IF($G52=0,0,(BN$1-$G52)*Hoja1!$A$1/BN$1))","v":0},{"$f":"IF(BO$1>$E$11,0,IF($G52=0,0,(BO$1-$G52)*Hoja1!$A$1/BO$1))","v":0},{"$f":"IF(BP$1>$E$11,0,IF($G52=0,0,(BP$1-$G52)*Hoja1!$A$1/BP$1))","v":0},{"$f":"IF(BQ$1>$E$11,0,IF($G52=0,0,(BQ$1-$G52)*Hoja1!$A$1/BQ$1))","v":0},{"$f":"IF(BR$1>$E$11,0,IF($G52=0,0,(BR$1-$G52)*Hoja1!$A$1/BR$1))","v":0},{"$f":"IF(BS$1>$E$11,0,IF($G52=0,0,(BS$1-$G52)*Hoja1!$A$1/BS$1))","v":0},{"$f":"IF(BT$1>$E$11,0,IF($G52=0,0,(BT$1-$G52)*Hoja1!$A$1/BT$1))","v":0},{"$f":"IF(BU$1>$E$11,0,IF($G52=0,0,(BU$1-$G52)*Hoja1!$A$1/BU$1))","v":0},{"$f":"IF(BV$1>$E$11,0,IF($G52=0,0,(BV$1-$G52)*Hoja1!$A$1/BV$1))","v":0},{"$f":"IF(BW$1>$E$11,0,IF($G52=0,0,(BW$1-$G52)*Hoja1!$A$1/BW$1))","v":0},{"$f":"IF(BX$1>$E$11,0,IF($G52=0,0,(BX$1-$G52)*Hoja1!$A$1/BX$1))","v":0},{"$f":"IF(BY$1>$E$11,0,IF($G52=0,0,(BY$1-$G52)*Hoja1!$A$1/BY$1))","v":0},{"$f":"IF(BZ$1>$E$11,0,IF($G52=0,0,(BZ$1-$G52)*Hoja1!$A$1/BZ$1))","v":0},{"$f":"IF(CA$1>$E$11,0,IF($G52=0,0,(CA$1-$G52)*Hoja1!$A$1/CA$1))","v":0},{"$f":"IF(CB$1>$E$11,0,IF($G52=0,0,(CB$1-$G52)*Hoja1!$A$1/CB$1))","v":0},{"$f":"IF(CC$1>$E$11,0,IF($G52=0,0,(CC$1-$G52)*Hoja1!$A$1/CC$1))","v":0},{"$f":"IF(CD$1>$E$11,0,IF($G52=0,0,(CD$1-$G52)*Hoja1!$A$1/CD$1))","v":0},{"$f":"IF(CE$1>$E$11,0,IF($G52=0,0,(CE$1-$G52)*Hoja1!$A$1/CE$1))","v":0},{"$f":"IF(CF$1>$E$11,0,IF($G52=0,0,(CF$1-$G52)*Hoja1!$A$1/CF$1))","v":0},{"$f":"IF(CG$1>$E$11,0,IF($G52=0,0,(CG$1-$G52)*Hoja1!$A$1/CG$1))","v":0},{"$f":"IF(CH$1>$E$11,0,IF($G52=0,0,(CH$1-$G52)*Hoja1!$A$1/CH$1))","v":0},{"$f":"IF(CI$1>$E$11,0,IF($G52=0,0,(CI$1-$G52)*Hoja1!$A$1/CI$1))","v":0},{"$f":"IF(CJ$1>$E$11,0,IF($G52=0,0,(CJ$1-$G52)*Hoja1!$A$1/CJ$1))","v":0},{"$f":"IF(CK$1>$E$11,0,IF($G52=0,0,(CK$1-$G52)*Hoja1!$A$1/CK$1))","v":0},{"$f":"IF(CL$1>$E$11,0,IF($G52=0,0,(CL$1-$G52)*Hoja1!$A$1/CL$1))","v":0},{"$f":"IF(CM$1>$E$11,0,IF($G52=0,0,(CM$1-$G52)*Hoja1!$A$1/CM$1))","v":0},{"$f":"IF(CN$1>$E$11,0,IF($G52=0,0,(CN$1-$G52)*Hoja1!$A$1/CN$1))","v":0},{"$f":"IF(CO$1>$E$11,0,IF($G52=0,0,(CO$1-$G52)*Hoja1!$A$1/CO$1))","v":0},{"$f":"IF(CP$1>$E$11,0,IF($G52=0,0,(CP$1-$G52)*Hoja1!$A$1/CP$1))","v":0},{"$f":"IF(CQ$1>$E$11,0,IF($G52=0,0,(CQ$1-$G52)*Hoja1!$A$1/CQ$1))","v":0},{"$f":"IF(CR$1>$E$11,0,IF($G52=0,0,(CR$1-$G52)*Hoja1!$A$1/CR$1))","v":0},{"$f":"IF(CS$1>$E$11,0,IF($G52=0,0,(CS$1-$G52)*Hoja1!$A$1/CS$1))","v":0},{"$f":"IF(CT$1>$E$11,0,IF($G52=0,0,(CT$1-$G52)*Hoja1!$A$1/CT$1))","v":0},{"$f":"IF(CU$1>$E$11,0,IF($G52=0,0,(CU$1-$G52)*Hoja1!$A$1/CU$1))","v":0},{"$f":"IF(CV$1>$E$11,0,IF($G52=0,0,(CV$1-$G52)*Hoja1!$A$1/CV$1))","v":0},{"$f":"IF(CW$1>$E$11,0,IF($G52=0,0,(CW$1-$G52)*Hoja1!$A$1/CW$1))","v":0},{"$f":"IF(CX$1>$E$11,0,IF($G52=0,0,(CX$1-$G52)*Hoja1!$A$1/CX$1))","v":0},{"$f":"IF(CY$1>$E$11,0,IF($G52=0,0,(CY$1-$G52)*Hoja1!$A$1/CY$1))","v":0},{"$f":"IF(CZ$1>$E$11,0,IF($G52=0,0,(CZ$1-$G52)*Hoja1!$A$1/CZ$1))","v":0},{"$f":"IF(DA$1>$E$11,0,IF($G52=0,0,(DA$1-$G52)*Hoja1!$A$1/DA$1))","v":0},{"$f":"IF(DB$1>$E$11,0,IF($G52=0,0,(DB$1-$G52)*Hoja1!$A$1/DB$1))","v":0},{"$f":"IF(DC$1>$E$11,0,IF($G52=0,0,(DC$1-$G52)*Hoja1!$A$1/DC$1))","v":0},{"$f":"IF(DD$1>$E$11,0,IF($G52=0,0,(DD$1-$G52)*Hoja1!$A$1/DD$1))","v":0},{"$f":"IF(DE$1>$E$11,0,IF($G52=0,0,(DE$1-$G52)*Hoja1!$A$1/DE$1))","v":0},{"$f":"IF(DF$1>$E$11,0,IF($G52=0,0,(DF$1-$G52)*Hoja1!$A$1/DF$1))","v":0},{"$f":"IF(DG$1>$E$11,0,IF($G52=0,0,(DG$1-$G52)*Hoja1!$A$1/DG$1))","v":0},{"$f":"IF(DH$1>$E$11,0,IF($G52=0,0,(DH$1-$G52)*Hoja1!$A$1/DH$1))","v":0},{"$f":"IF(DI$1>$E$11,0,IF($G52=0,0,(DI$1-$G52)*Hoja1!$A$1/DI$1))","v":0},{"$f":"IF(DJ$1>$E$11,0,IF($G52=0,0,(DJ$1-$G52)*Hoja1!$A$1/DJ$1))","v":0},{"$f":"IF(DK$1>$E$11,0,IF($G52=0,0,(DK$1-$G52)*Hoja1!$A$1/DK$1))","v":0},{"$f":"IF(DL$1>$E$11,0,IF($G52=0,0,(DL$1-$G52)*Hoja1!$A$1/DL$1))","v":0},{"$f":"IF(DM$1>$E$11,0,IF($G52=0,0,(DM$1-$G52)*Hoja1!$A$1/DM$1))","v":0}]
[null,null,null,null,null,652.21500000000049,0,{"$f":"IF(H$1>$E$11,0,IF($G53=0,0,(H$1-$G53)*Hoja1!$A$1/H$1))","v":0},{"$f":"IF(I$1>$E$11,0,IF($G53=0,0,(I$1-$G53)*Hoja1!$A$1/I$1))","v":0},{"$f":"IF(J$1>$E$11,0,IF($G53=0,0,(J$1-$G53)*Hoja1!$A$1/J$1))","v":0},{"$f":"IF(K$1>$E$11,0,IF($G53=0,0,(K$1-$G53)*Hoja1!$A$1/K$1))","v":0},{"$f":"IF(L$1>$E$11,0,IF($G53=0,0,(L$1-$G53)*Hoja1!$A$1/L$1))","v":0},{"$f":"IF(M$1>$E$11,0,IF($G53=0,0,(M$1-$G53)*Hoja1!$A$1/M$1))","v":0},{"$f":"IF(N$1>$E$11,0,IF($G53=0,0,(N$1-$G53)*Hoja1!$A$1/N$1))","v":0},{"$f":"IF(O$1>$E$11,0,IF($G53=0,0,(O$1-$G53)*Hoja1!$A$1/O$1))","v":0},{"$f":"IF(P$1>$E$11,0,IF($G53=0,0,(P$1-$G53)*Hoja1!$A$1/P$1))","v":0},{"$f":"IF(Q$1>$E$11,0,IF($G53=0,0,(Q$1-$G53)*Hoja1!$A$1/Q$1))","v":0},{"$f":"IF(R$1>$E$11,0,IF($G53=0,0,(R$1-$G53)*Hoja1!$A$1/R$1))","v":0},{"$f":"IF(S$1>$E$11,0,IF($G53=0,0,(S$1-$G53)*Hoja1!$A$1/S$1))","v":0},{"$f":"IF(T$1>$E$11,0,IF($G53=0,0,(T$1-$G53)*Hoja1!$A$1/T$1))","v":0},{"$f":"IF(U$1>$E$11,0,IF($G53=0,0,(U$1-$G53)*Hoja1!$A$1/U$1))","v":0},{"$f":"IF(V$1>$E$11,0,IF($G53=0,0,(V$1-$G53)*Hoja1!$A$1/V$1))","v":0},{"$f":"IF(W$1>$E$11,0,IF($G53=0,0,(W$1-$G53)*Hoja1!$A$1/W$1))","v":0},{"$f":"IF(X$1>$E$11,0,IF($G53=0,0,(X$1-$G53)*Hoja1!$A$1/X$1))","v":0},{"$f":"IF(Y$1>$E$11,0,IF($G53=0,0,(Y$1-$G53)*Hoja1!$A$1/Y$1))","v":0},{"$f":"IF(Z$1>$E$11,0,IF($G53=0,0,(Z$1-$G53)*Hoja1!$A$1/Z$1))","v":0},{"$f":"IF(AA$1>$E$11,0,IF($G53=0,0,(AA$1-$G53)*Hoja1!$A$1/AA$1))","v":0},{"$f":"IF(AB$1>$E$11,0,IF($G53=0,0,(AB$1-$G53)*Hoja1!$A$1/AB$1))","v":0},{"$f":"IF(AC$1>$E$11,0,IF($G53=0,0,(AC$1-$G53)*Hoja1!$A$1/AC$1))","v":0},{"$f":"IF(AD$1>$E$11,0,IF($G53=0,0,(AD$1-$G53)*Hoja1!$A$1/AD$1))","v":0},{"$f":"IF(AE$1>$E$11,0,IF($G53=0,0,(AE$1-$G53)*Hoja1!$A$1/AE$1))","v":0},{"$f":"IF(AF$1>$E$11,0,IF($G53=0,0,(AF$1-$G53)*Hoja1!$A$1/AF$1))","v":0},{"$f":"IF(AG$1>$E$11,0,IF($G53=0,0,(AG$1-$G53)*Hoja1!$A$1/AG$1))","v":0},{"$f":"IF(AH$1>$E$11,0,IF($G53=0,0,(AH$1-$G53)*Hoja1!$A$1/AH$1))","v":0},{"$f":"IF(AI$1>$E$11,0,IF($G53=0,0,(AI$1-$G53)*Hoja1!$A$1/AI$1))","v":0},{"$f":"IF(AJ$1>$E$11,0,IF($G53=0,0,(AJ$1-$G53)*Hoja1!$A$1/AJ$1))","v":0},{"$f":"IF(AK$1>$E$11,0,IF($G53=0,0,(AK$1-$G53)*Hoja1!$A$1/AK$1))","v":0},{"$f":"IF(AL$1>$E$11,0,IF($G53=0,0,(AL$1-$G53)*Hoja1!$A$1/AL$1))","v":0},{"$f":"IF(AM$1>$E$11,0,IF($G53=0,0,(AM$1-$G53)*Hoja1!$A$1/AM$1))","v":0},{"$f":"IF(AN$1>$E$11,0,IF($G53=0,0,(AN$1-$G53)*Hoja1!$A$1/AN$1))","v":0},{"$f":"IF(AO$1>$E$11,0,IF($G53=0,0,(AO$1-$G53)*Hoja1!$A$1/AO$1))","v":0},{"$f":"IF(AP$1>$E$11,0,IF($G53=0,0,(AP$1-$G53)*Hoja1!$A$1/AP$1))","v":0},{"$f":"IF(AQ$1>$E$11,0,IF($G53=0,0,(AQ$1-$G53)*Hoja1!$A$1/AQ$1))","v":0},{"$f":"IF(AR$1>$E$11,0,IF($G53=0,0,(AR$1-$G53)*Hoja1!$A$1/AR$1))","v":0},{"$f":"IF(AS$1>$E$11,0,IF($G53=0,0,(AS$1-$G53)*Hoja1!$A$1/AS$1))","v":0},{"$f":"IF(AT$1>$E$11,0,IF($G53=0,0,(AT$1-$G53)*Hoja1!$A$1/AT$1))","v":0},{"$f":"IF(AU$1>$E$11,0,IF($G53=0,0,(AU$1-$G53)*Hoja1!$A$1/AU$1))","v":0},{"$f":"IF(AV$1>$E$11,0,IF($G53=0,0,(AV$1-$G53)*Hoja1!$A$1/AV$1))","v":0},{"$f":"IF(AW$1>$E$11,0,IF($G53=0,0,(AW$1-$G53)*Hoja1!$A$1/AW$1))","v":0},{"$f":"IF(AX$1>$E$11,0,IF($G53=0,0,(AX$1-$G53)*Hoja1!$A$1/AX$1))","v":0},{"$f":"IF(AY$1>$E$11,0,IF($G53=0,0,(AY$1-$G53)*Hoja1!$A$1/AY$1))","v":0},{"$f":"IF(AZ$1>$E$11,0,IF($G53=0,0,(AZ$1-$G53)*Hoja1!$A$1/AZ$1))","v":0},{"$f":"IF(BA$1>$E$11,0,IF($G53=0,0,(BA$1-$G53)*Hoja1!$A$1/BA$1))","v":0},{"$f":"IF(BB$1>$E$11,0,IF($G53=0,0,(BB$1-$G53)*Hoja1!$A$1/BB$1))","v":0},{"$f":"IF(BC$1>$E$11,0,IF($G53=0,0,(BC$1-$G53)*Hoja1!$A$1/BC$1))","v":0},{"$f":"IF(BD$1>$E$11,0,IF($G53=0,0,(BD$1-$G53)*Hoja1!$A$1/BD$1))","v":0},{"$f":"IF(BE$1>$E$11,0,IF($G53=0,0,(BE$1-$G53)*Hoja1!$A$1/BE$1))","v":0},{"$f":"IF(BF$1>$E$11,0,IF($G53=0,0,(BF$1-$G53)*Hoja1!$A$1/BF$1))","v":0},{"$f":"IF(BG$1>$E$11,0,IF($G53=0,0,(BG$1-$G53)*Hoja1!$A$1/BG$1))","v":0},{"$f":"IF(BH$1>$E$11,0,IF($G53=0,0,(BH$1-$G53)*Hoja1!$A$1/BH$1))","v":0},{"$f":"IF(BI$1>$E$11,0,IF($G53=0,0,(BI$1-$G53)*Hoja1!$A$1/BI$1))","v":0},{"$f":"IF(BJ$1>$E$11,0,IF($G53=0,0,(BJ$1-$G53)*Hoja1!$A$1/BJ$1))","v":0},{"$f":"IF(BK$1>$E$11,0,IF($G53=0,0,(BK$1-$G53)*Hoja1!$A$1/BK$1))","v":0},{"$f":"IF(BL$1>$E$11,0,IF($G53=0,0,(BL$1-$G53)*Hoja1!$A$1/BL$1))","v":0},{"$f":"IF(BM$1>$E$11,0,IF($G53=0,0,(BM$1-$G53)*Hoja1!$A$1/BM$1))","v":0},{"$f":"IF(BN$1>$E$11,0,IF($G53=0,0,(BN$1-$G53)*Hoja1!$A$1/BN$1))","v":0},{"$f":"IF(BO$1>$E$11,0,IF($G53=0,0,(BO$1-$G53)*Hoja1!$A$1/BO$1))","v":0},{"$f":"IF(BP$1>$E$11,0,IF($G53=0,0,(BP$1-$G53)*Hoja1!$A$1/BP$1))","v":0},{"$f":"IF(BQ$1>$E$11,0,IF($G53=0,0,(BQ$1-$G53)*Hoja1!$A$1/BQ$1))","v":0},{"$f":"IF(BR$1>$E$11,0,IF($G53=0,0,(BR$1-$G53)*Hoja1!$A$1/BR$1))","v":0},{"$f":"IF(BS$1>$E$11,0,IF($G53=0,0,(BS$1-$G53)*Hoja1!$A$1/BS$1))","v":0},{"$f":"IF(BT$1>$E$11,0,IF($G53=0,0,(BT$1-$G53)*Hoja1!$A$1/BT$1))","v":0},{"$f":"IF(BU$1>$E$11,0,IF($G53=0,0,(BU$1-$G53)*Hoja1!$A$1/BU$1))","v":0},{"$f":"IF(BV$1>$E$11,0,IF($G53=0,0,(BV$1-$G53)*Hoja1!$A$1/BV$1))","v":0},{"$f":"IF(BW$1>$E$11,0,IF($G53=0,0,(BW$1-$G53)*Hoja1!$A$1/BW$1))","v":0},{"$f":"IF(BX$1>$E$11,0,IF($G53=0,0,(BX$1-$G53)*Hoja1!$A$1/BX$1))","v":0},{"$f":"IF(BY$1>$E$11,0,IF($G53=0,0,(BY$1-$G53)*Hoja1!$A$1/BY$1))","v":0},{"$f":"IF(BZ$1>$E$11,0,IF($G53=0,0,(BZ$1-$G53)*Hoja1!$A$1/BZ$1))","v":0},{"$f":"IF(CA$1>$E$11,0,IF($G53=0,0,(CA$1-$G53)*Hoja1!$A$1/CA$1))","v":0},{"$f":"IF(CB$1>$E$11,0,IF($G53=0,0,(CB$1-$G53)*Hoja1!$A$1/CB$1))","v":0},{"$f":"IF(CC$1>$E$11,0,IF($G53=0,0,(CC$1-$G53)*Hoja1!$A$1/CC$1))","v":0},{"$f":"IF(CD$1>$E$11,0,IF($G53=0,0,(CD$1-$G53)*Hoja1!$A$1/CD$1))","v":0},{"$f":"IF(CE$1>$E$11,0,IF($G53=0,0,(CE$1-$G53)*Hoja1!$A$1/CE$1))","v":0},{"$f":"IF(CF$1>$E$11,0,IF($G53=0,0,(CF$1-$G53)*Hoja1!$A$1/CF$1))","v":0},{"$f":"IF(CG$1>$E$11,0,IF($G53=0,0,(CG$1-$G53)*Hoja1!$A$1/CG$1))","v":0},{"$f":"IF(CH$1>$E$11,0,IF($G53=0,0,(CH$1-$G53)*Hoja1!$A$1/CH$1))","v":0},{"$f":"IF(CI$1>$E$11,0,IF($G53=0,0,(CI$1-$G53)*Hoja1!$A$1/CI$1))","v":0},{"$f":"IF(CJ$1>$E$11,0,IF($G53=0,0,(CJ$1-$G53)*Hoja1!$A$1/CJ$1))","v":0},{"$f":"IF(CK$1>$E$11,0,IF($G53=0,0,(CK$1-$G53)*Hoja1!$A$1/CK$1))","v":0},{"$f":"IF(CL$1>$E$11,0,IF($G53=0,0,(CL$1-$G53)*Hoja1!$A$1/CL$1))","v":0},{"$f":"IF(CM$1>$E$11,0,IF($G53=0,0,(CM$1-$G53)*Hoja1!$A$1/CM$1))","v":0},{"$f":"IF(CN$1>$E$11,0,IF($G53=0,0,(CN$1-$G53)*Hoja1!$A$1/CN$1))","v":0},{"$f":"IF(CO$1>$E$11,0,IF($G53=0,0,(CO$1-$G53)*Hoja1!$A$1/CO$1))","v":0},{"$f":"IF(CP$1>$E$11,0,IF($G53=0,0,(CP$1-$G53)*Hoja1!$A$1/CP$1))","v":0},{"$f":"IF(CQ$1>$E$11,0,IF($G53=0,0,(CQ$1-$G53)*Hoja1!$A$1/CQ$1))","v":0},{"$f":"IF(CR$1>$E$11,0,IF($G53=0,0,(CR$1-$G53)*Hoja1!$A$1/CR$1))","v":0},{"$f":"IF(CS$1>$E$11,0,IF($G53=0,0,(CS$1-$G53)*Hoja1!$A$1/CS$1))","v":0},{"$f":"IF(CT$1>$E$11,0,IF($G53=0,0,(CT$1-$G53)*Hoja1!$A$1/CT$1))","v":0},{"$f":"IF(CU$1>$E$11,0,IF($G53=0,0,(CU$1-$G53)*Hoja1!$A$1/CU$1))","v":0},{"$f":"IF(CV$1>$E$11,0,IF($G53=0,0,(CV$1-$G53)*Hoja1!$A$1/CV$1))","v":0},{"$f":"IF(CW$1>$E$11,0,IF($G53=0,0,(CW$1-$G53)*Hoja1!$A$1/CW$1))","v":0},{"$f":"IF(CX$1>$E$11,0,IF($G53=0,0,(CX$1-$G53)*Hoja1!$A$1/CX$1))","v":0},{"$f":"IF(CY$1>$E$11,0,IF($G53=0,0,(CY$1-$G53)*Hoja1!$A$1/CY$1))","v":0},{"$f":"IF(CZ$1>$E$11,0,IF($G53=0,0,(CZ$1-$G53)*Hoja1!$A$1/CZ$1))","v":0},{"$f":"IF(DA$1>$E$11,0,IF($G53=0,0,(DA$1-$G53)*Hoja1!$A$1/DA$1))","v":0},{"$f":"IF(DB$1>$E$11,0,IF($G53=0,0,(DB$1-$G53)*Hoja1!$A$1/DB$1))","v":0},{"$f":"IF(DC$1>$E$11,0,IF($G53=0,0,(DC$1-$G53)*Hoja1!$A$1/DC$1))","v":0},{"$f":"IF(DD$1>$E$11,0,IF($G53=0,0,(DD$1-$G53)*Hoja1!$A$1/DD$1))","v":0},{"$f":"IF(DE$1>$E$11,0,IF($G53=0,0,(DE$1-$G53)*Hoja1!$A$1/DE$1))","v":0},{"$f":"IF(DF$1>$E$11,0,IF($G53=0,0,(DF$1-$G53)*Hoja1!$A$1/DF$1))","v":0},{"$f":"IF(DG$1>$E$11,0,IF($G53=0,0,(DG$1-$G53)*Hoja1!$A$1/DG$1))","v":0},{"$f":"IF(DH$1>$E$11,0,IF($G53=0,0,(DH$1-$G53)*Hoja1!$A$1/DH$1))","v":0},{"$f":"IF(DI$1>$E$11,0,IF($G53=0,0,(DI$1-$G53)*Hoja1!$A$1/DI$1))","v":0},{"$f":"IF(DJ$1>$E$11,0,IF($G53=0,0,(DJ$1-$G53)*Hoja1!$A$1/DJ$1))","v":0},{"$f":"IF(DK$1>$E$11,0,IF($G53=0,0,(DK$1-$G53)*Hoja1!$A$1/DK$1))","v":0},{"$f":"IF(DL$1>$E$11,0,IF($G53=0,0,(DL$1-$G53)*Hoja1!$A$1/DL$1))","v":0},{"$f":"IF(DM$1>$E$11,0,IF($G53=0,0,(DM$1-$G53)*Hoja1!$A$1/DM$1))","v":0}]
[null,null,null,null,null,665.40500000000054,0,{"$f":"IF(H$1>$E$11,0,IF($G54=0,0,(H$1-$G54)*Hoja1!$A$1/H$1))","v":0},{"$f":"IF(I$1>$E$11,0,IF($G54=0,0,(I$1-$G54)*Hoja1!$A$1/I$1))","v":0},{"$f":"IF(J$1>$E$11,0,IF($G54=0,0,(J$1-$G54)*Hoja1!$A$1/J$1))","v":0},{"$f":"IF(K$1>$E$11,0,IF($G54=0,0,(K$1-$G54)*Hoja1!$A$1/K$1))","v":0},{"$f":"IF(L$1>$E$11,0,IF($G54=0,0,(L$1-$G54)*Hoja1!$A$1/L$1))","v":0},{"$f":"IF(M$1>$E$11,0,IF($G54=0,0,(M$1-$G54)*Hoja1!$A$1/M$1))","v":0},{"$f":"IF(N$1>$E$11,0,IF($G54=0,0,(N$1-$G54)*Hoja1!$A$1/N$1))","v":0},{"$f":"IF(O$1>$E$11,0,IF($G54=0,0,(O$1-$G54)*Hoja1!$A$1/O$1))","v":0},{"$f":"IF(P$1>$E$11,0,IF($G54=0,0,(P$1-$G54)*Hoja1!$A$1/P$1))","v":0},{"$f":"IF(Q$1>$E$11,0,IF($G54=0,0,(Q$1-$G54)*Hoja1!$A$1/Q$1))","v":0},{"$f":"IF(R$1>$E$11,0,IF($G54=0,0,(R$1-$G54)*Hoja1!$A$1/R$1))","v":0},{"$f":"IF(S$1>$E$11,0,IF($G54=0,0,(S$1-$G54)*Hoja1!$A$1/S$1))","v":0},{"$f":"IF(T$1>$E$11,0,IF($G54=0,0,(T$1-$G54)*Hoja1!$A$1/T$1))","v":0},{"$f":"IF(U$1>$E$11,0,IF($G54=0,0,(U$1-$G54)*Hoja1!$A$1/U$1))","v":0},{"$f":"IF(V$1>$E$11,0,IF($G54=0,0,(V$1-$G54)*Hoja1!$A$1/V$1))","v":0},{"$f":"IF(W$1>$E$11,0,IF($G54=0,0,(W$1-$G54)*Hoja1!$A$1/W$1))","v":0},{"$f":"IF(X$1>$E$11,0,IF($G54=0,0,(X$1-$G54)*Hoja1!$A$1/X$1))","v":0},{"$f":"IF(Y$1>$E$11,0,IF($G54=0,0,(Y$1-$G54)*Hoja1!$A$1/Y$1))","v":0},{"$f":"IF(Z$1>$E$11,0,IF($G54=0,0,(Z$1-$G54)*Hoja1!$A$1/Z$1))","v":0},{"$f":"IF(AA$1>$E$11,0,IF($G54=0,0,(AA$1-$G54)*Hoja1!$A$1/AA$1))","v":0},{"$f":"IF(AB$1>$E$11,0,IF($G54=0,0,(AB$1-$G54)*Hoja1!$A$1/AB$1))","v":0},{"$f":"IF(AC$1>$E$11,0,IF($G54=0,0,(AC$1-$G54)*Hoja1!$A$1/AC$1))","v":0},{"$f":"IF(AD$1>$E$11,0,IF($G54=0,0,(AD$1-$G54)*Hoja1!$A$1/AD$1))","v":0},{"$f":"IF(AE$1>$E$11,0,IF($G54=0,0,(AE$1-$G54)*Hoja1!$A$1/AE$1))","v":0},{"$f":"IF(AF$1>$E$11,0,IF($G54=0,0,(AF$1-$G54)*Hoja1!$A$1/AF$1))","v":0},{"$f":"IF(AG$1>$E$11,0,IF($G54=0,0,(AG$1-$G54)*Hoja1!$A$1/AG$1))","v":0},{"$f":"IF(AH$1>$E$11,0,IF($G54=0,0,(AH$1-$G54)*Hoja1!$A$1/AH$1))","v":0},{"$f":"IF(AI$1>$E$11,0,IF($G54=0,0,(AI$1-$G54)*Hoja1!$A$1/AI$1))","v":0},{"$f":"IF(AJ$1>$E$11,0,IF($G54=0,0,(AJ$1-$G54)*Hoja1!$A$1/AJ$1))","v":0},{"$f":"IF(AK$1>$E$11,0,IF($G54=0,0,(AK$1-$G54)*Hoja1!$A$1/AK$1))","v":0},{"$f":"IF(AL$1>$E$11,0,IF($G54=0,0,(AL$1-$G54)*Hoja1!$A$1/AL$1))","v":0},{"$f":"IF(AM$1>$E$11,0,IF($G54=0,0,(AM$1-$G54)*Hoja1!$A$1/AM$1))","v":0},{"$f":"IF(AN$1>$E$11,0,IF($G54=0,0,(AN$1-$G54)*Hoja1!$A$1/AN$1))","v":0},{"$f":"IF(AO$1>$E$11,0,IF($G54=0,0,(AO$1-$G54)*Hoja1!$A$1/AO$1))","v":0},{"$f":"IF(AP$1>$E$11,0,IF($G54=0,0,(AP$1-$G54)*Hoja1!$A$1/AP$1))","v":0},{"$f":"IF(AQ$1>$E$11,0,IF($G54=0,0,(AQ$1-$G54)*Hoja1!$A$1/AQ$1))","v":0},{"$f":"IF(AR$1>$E$11,0,IF($G54=0,0,(AR$1-$G54)*Hoja1!$A$1/AR$1))","v":0},{"$f":"IF(AS$1>$E$11,0,IF($G54=0,0,(AS$1-$G54)*Hoja1!$A$1/AS$1))","v":0},{"$f":"IF(AT$1>$E$11,0,IF($G54=0,0,(AT$1-$G54)*Hoja1!$A$1/AT$1))","v":0},{"$f":"IF(AU$1>$E$11,0,IF($G54=0,0,(AU$1-$G54)*Hoja1!$A$1/AU$1))","v":0},{"$f":"IF(AV$1>$E$11,0,IF($G54=0,0,(AV$1-$G54)*Hoja1!$A$1/AV$1))","v":0},{"$f":"IF(AW$1>$E$11,0,IF($G54=0,0,(AW$1-$G54)*Hoja1!$A$1/AW$1))","v":0},{"$f":"IF(AX$1>$E$11,0,IF($G54=0,0,(AX$1-$G54)*Hoja1!$A$1/AX$1))","v":0},{"$f":"IF(AY$1>$E$11,0,IF($G54=0,0,(AY$1-$G54)*Hoja1!$A$1/AY$1))","v":0},{"$f":"IF(AZ$1>$E$11,0,IF($G54=0,0,(AZ$1-$G54)*Hoja1!$A$1/AZ$1))","v":0},{"$f":"IF(BA$1>$E$11,0,IF($G54=0,0,(BA$1-$G54)*Hoja1!$A$1/BA$1))","v":0},{"$f":"IF(BB$1>$E$11,0,IF($G54=0,0,(BB$1-$G54)*Hoja1!$A$1/BB$1))","v":0},{"$f":"IF(BC$1>$E$11,0,IF($G54=0,0,(BC$1-$G54)*Hoja1!$A$1/BC$1))","v":0},{"$f":"IF(BD$1>$E$11,0,IF($G54=0,0,(BD$1-$G54)*Hoja1!$A$1/BD$1))","v":0},{"$f":"IF(BE$1>$E$11,0,IF($G54=0,0,(BE$1-$G54)*Hoja1!$A$1/BE$1))","v":0},{"$f":"IF(BF$1>$E$11,0,IF($G54=0,0,(BF$1-$G54)*Hoja1!$A$1/BF$1))","v":0},{"$f":"IF(BG$1>$E$11,0,IF($G54=0,0,(BG$1-$G54)*Hoja1!$A$1/BG$1))","v":0},{"$f":"IF(BH$1>$E$11,0,IF($G54=0,0,(BH$1-$G54)*Hoja1!$A$1/BH$1))","v":0},{"$f":"IF(BI$1>$E$11,0,IF($G54=0,0,(BI$1-$G54)*Hoja1!$A$1/BI$1))","v":0},{"$f":"IF(BJ$1>$E$11,0,IF($G54=0,0,(BJ$1-$G54)*Hoja1!$A$1/BJ$1))","v":0},{"$f":"IF(BK$1>$E$11,0,IF($G54=0,0,(BK$1-$G54)*Hoja1!$A$1/BK$1))","v":0},{"$f":"IF(BL$1>$E$11,0,IF($G54=0,0,(BL$1-$G54)*Hoja1!$A$1/BL$1))","v":0},{"$f":"IF(BM$1>$E$11,0,IF($G54=0,0,(BM$1-$G54)*Hoja1!$A$1/BM$1))","v":0},{"$f":"IF(BN$1>$E$11,0,IF($G54=0,0,(BN$1-$G54)*Hoja1!$A$1/BN$1))","v":0},{"$f":"IF(BO$1>$E$11,0,IF($G54=0,0,(BO$1-$G54)*Hoja1!$A$1/BO$1))","v":0},{"$f":"IF(BP$1>$E$11,0,IF($G54=0,0,(BP$1-$G54)*Hoja1!$A$1/BP$1))","v":0},{"$f":"IF(BQ$1>$E$11,0,IF($G54=0,0,(BQ$1-$G54)*Hoja1!$A$1/BQ$1))","v":0},{"$f":"IF(BR$1>$E$11,0,IF($G54=0,0,(BR$1-$G54)*Hoja1!$A$1/BR$1))","v":0},{"$f":"IF(BS$1>$E$11,0,IF($G54=0,0,(BS$1-$G54)*Hoja1!$A$1/BS$1))","v":0},{"$f":"IF(BT$1>$E$11,0,IF($G54=0,0,(BT$1-$G54)*Hoja1!$A$1/BT$1))","v":0},{"$f":"IF(BU$1>$E$11,0,IF($G54=0,0,(BU$1-$G54)*Hoja1!$A$1/BU$1))","v":0},{"$f":"IF(BV$1>$E$11,0,IF($G54=0,0,(BV$1-$G54)*Hoja1!$A$1/BV$1))","v":0},{"$f":"IF(BW$1>$E$11,0,IF($G54=0,0,(BW$1-$G54)*Hoja1!$A$1/BW$1))","v":0},{"$f":"IF(BX$1>$E$11,0,IF($G54=0,0,(BX$1-$G54)*Hoja1!$A$1/BX$1))","v":0},{"$f":"IF(BY$1>$E$11,0,IF($G54=0,0,(BY$1-$G54)*Hoja1!$A$1/BY$1))","v":0},{"$f":"IF(BZ$1>$E$11,0,IF($G54=0,0,(BZ$1-$G54)*Hoja1!$A$1/BZ$1))","v":0},{"$f":"IF(CA$1>$E$11,0,IF($G54=0,0,(CA$1-$G54)*Hoja1!$A$1/CA$1))","v":0},{"$f":"IF(CB$1>$E$11,0,IF($G54=0,0,(CB$1-$G54)*Hoja1!$A$1/CB$1))","v":0},{"$f":"IF(CC$1>$E$11,0,IF($G54=0,0,(CC$1-$G54)*Hoja1!$A$1/CC$1))","v":0},{"$f":"IF(CD$1>$E$11,0,IF($G54=0,0,(CD$1-$G54)*Hoja1!$A$1/CD$1))","v":0},{"$f":"IF(CE$1>$E$11,0,IF($G54=0,0,(CE$1-$G54)*Hoja1!$A$1/CE$1))","v":0},{"$f":"IF(CF$1>$E$11,0,IF($G54=0,0,(CF$1-$G54)*Hoja1!$A$1/CF$1))","v":0},{"$f":"IF(CG$1>$E$11,0,IF($G54=0,0,(CG$1-$G54)*Hoja1!$A$1/CG$1))","v":0},{"$f":"IF(CH$1>$E$11,0,IF($G54=0,0,(CH$1-$G54)*Hoja1!$A$1/CH$1))","v":0},{"$f":"IF(CI$1>$E$11,0,IF($G54=0,0,(CI$1-$G54)*Hoja1!$A$1/CI$1))","v":0},{"$f":"IF(CJ$1>$E$11,0,IF($G54=0,0,(CJ$1-$G54)*Hoja1!$A$1/CJ$1))","v":0},{"$f":"IF(CK$1>$E$11,0,IF($G54=0,0,(CK$1-$G54)*Hoja1!$A$1/CK$1))","v":0},{"$f":"IF(CL$1>$E$11,0,IF($G54=0,0,(CL$1-$G54)*Hoja1!$A$1/CL$1))","v":0},{"$f":"IF(CM$1>$E$11,0,IF($G54=0,0,(CM$1-$G54)*Hoja1!$A$1/CM$1))","v":0},{"$f":"IF(CN$1>$E$11,0,IF($G54=0,0,(CN$1-$G54)*Hoja1!$A$1/CN$1))","v":0},{"$f":"IF(CO$1>$E$11,0,IF($G54=0,0,(CO$1-$G54)*Hoja1!$A$1/CO$1))","v":0},{"$f":"IF(CP$1>$E$11,0,IF($G54=0,0,(CP$1-$G54)*Hoja1!$A$1/CP$1))","v":0},{"$f":"IF(CQ$1>$E$11,0,IF($G54=0,0,(CQ$1-$G54)*Hoja1!$A$1/CQ$1))","v":0},{"$f":"IF(CR$1>$E$11,0,IF($G54=0,0,(CR$1-$G54)*Hoja1!$A$1/CR$1))","v":0},{"$f":"IF(CS$1>$E$11,0,IF($G54=0,0,(CS$1-$G54)*Hoja1!$A$1/CS$1))","v":0},{"$f":"IF(CT$1>$E$11,0,IF($G54=0,0,(CT$1-$G54)*Hoja1!$A$1/CT$1))","v":0},{"$f":"IF(CU$1>$E$11,0,IF($G54=0,0,(CU$1-$G54)*Hoja1!$A$1/CU$1))","v":0},{"$f":"IF(CV$1>$E$11,0,IF($G54=0,0,(CV$1-$G54)*Hoja1!$A$1/CV$1))","v":0},{"$f":"IF(CW$1>$E$11,0,IF($G54=0,0,(CW$1-$G54)*Hoja1!$A$1/CW$1))","v":0},{"$f":"IF(CX$1>$E$11,0,IF($G54=0,0,(CX$1-$G54)*Hoja1!$A$1/CX$1))","v":0},{"$f":"IF(CY$1>$E$11,0,IF($G54=0,0,(CY$1-$G54)*Hoja1!$A$1/CY$1))","v":0},{"$f":"IF(CZ$1>$E$11,0,IF($G54=0,0,(CZ$1-$G54)*Hoja1!$A$1/CZ$1))","v":0},{"$f":"IF(DA$1>$E$11,0,IF($G54=0,0,(DA$1-$G54)*Hoja1!$A$1/DA$1))","v":0},{"$f":"IF(DB$1>$E$11,0,IF($G54=0,0,(DB$1-$G54)*Hoja1!$A$1/DB$1))","v":0},{"$f":"IF(DC$1>$E$11,0,IF($G54=0,0,(DC$1-$G54)*Hoja1!$A$1/DC$1))","v":0},{"$f":"IF(DD$1>$E$11,0,IF($G54=0,0,(DD$1-$G54)*Hoja1!$A$1/DD$1))","v":0},{"$f":"IF(DE$1>$E$11,0,IF($G54=0,0,(DE$1-$G54)*Hoja1!$A$1/DE$1))","v":0},{"$f":"IF(DF$1>$E$11,0,IF($G54=0,0,(DF$1-$G54)*Hoja1!$A$1/DF$1))","v":0},{"$f":"IF(DG$1>$E$11,0,IF($G54=0,0,(DG$1-$G54)*Hoja1!$A$1/DG$1))","v":0},{"$f":"IF(DH$1>$E$11,0,IF($G54=0,0,(DH$1-$G54)*Hoja1!$A$1/DH$1))","v":0},{"$f":"IF(DI$1>$E$11,0,IF($G54=0,0,(DI$1-$G54)*Hoja1!$A$1/DI$1))","v":0},{"$f":"IF(DJ$1>$E$11,0,IF($G54=0,0,(DJ$1-$G54)*Hoja1!$A$1/DJ$1))","v":0},{"$f":"IF(DK$1>$E$11,0,IF($G54=0,0,(DK$1-$G54)*Hoja1!$A$1/DK$1))","v":0},{"$f":"IF(DL$1>$E$11,0,IF($G54=0,0,(DL$1-$G54)*Hoja1!$A$1/DL$1))","v":0},{"$f":"IF(DM$1>$E$11,0,IF($G54=0,0,(DM$1-$G54)*Hoja1!$A$1/DM$1))","v":0}]
[null,null,null,null,null,678.5950000000006,0,{"$f":"IF(H$1>$E$11,0,IF($G55=0,0,(H$1-$G55)*Hoja1!$A$1/H$1))","v":0},{"$f":"IF(I$1>$E$11,0,IF($G55=0,0,(I$1-$G55)*Hoja1!$A$1/I$1))","v":0},{"$f":"IF(J$1>$E$11,0,IF($G55=0,0,(J$1-$G55)*Hoja1!$A$1/J$1))","v":0},{"$f":"IF(K$1>$E$11,0,IF($G55=0,0,(K$1-$G55)*Hoja1!$A$1/K$1))","v":0},{"$f":"IF(L$1>$E$11,0,IF($G55=0,0,(L$1-$G55)*Hoja1!$A$1/L$1))","v":0},{"$f":"IF(M$1>$E$11,0,IF($G55=0,0,(M$1-$G55)*Hoja1!$A$1/M$1))","v":0},{"$f":"IF(N$1>$E$11,0,IF($G55=0,0,(N$1-$G55)*Hoja1!$A$1/N$1))","v":0},{"$f":"IF(O$1>$E$11,0,IF($G55=0,0,(O$1-$G55)*Hoja1!$A$1/O$1))","v":0},{"$f":"IF(P$1>$E$11,0,IF($G55=0,0,(P$1-$G55)*Hoja1!$A$1/P$1))","v":0},{"$f":"IF(Q$1>$E$11,0,IF($G55=0,0,(Q$1-$G55)*Hoja1!$A$1/Q$1))","v":0},{"$f":"IF(R$1>$E$11,0,IF($G55=0,0,(R$1-$G55)*Hoja1!$A$1/R$1))","v":0},{"$f":"IF(S$1>$E$11,0,IF($G55=0,0,(S$1-$G55)*Hoja1!$A$1/S$1))","v":0},{"$f":"IF(T$1>$E$11,0,IF($G55=0,0,(T$1-$G55)*Hoja1!$A$1/T$1))","v":0},{"$f":"IF(U$1>$E$11,0,IF($G55=0,0,(U$1-$G55)*Hoja1!$A$1/U$1))","v":0},{"$f":"IF(V$1>$E$11,0,IF($G55=0,0,(V$1-$G55)*Hoja1!$A$1/V$1))","v":0},{"$f":"IF(W$1>$E$11,0,IF($G55=0,0,(W$1-$G55)*Hoja1!$A$1/W$1))","v":0},{"$f":"IF(X$1>$E$11,0,IF($G55=0,0,(X$1-$G55)*Hoja1!$A$1/X$1))","v":0},{"$f":"IF(Y$1>$E$11,0,IF($G55=0,0,(Y$1-$G55)*Hoja1!$A$1/Y$1))","v":0},{"$f":"IF(Z$1>$E$11,0,IF($G55=0,0,(Z$1-$G55)*Hoja1!$A$1/Z$1))","v":0},{"$f":"IF(AA$1>$E$11,0,IF($G55=0,0,(AA$1-$G55)*Hoja1!$A$1/AA$1))","v":0},{"$f":"IF(AB$1>$E$11,0,IF($G55=0,0,(AB$1-$G55)*Hoja1!$A$1/AB$1))","v":0},{"$f":"IF(AC$1>$E$11,0,IF($G55=0,0,(AC$1-$G55)*Hoja1!$A$1/AC$1))","v":0},{"$f":"IF(AD$1>$E$11,0,IF($G55=0,0,(AD$1-$G55)*Hoja1!$A$1/AD$1))","v":0},{"$f":"IF(AE$1>$E$11,0,IF($G55=0,0,(AE$1-$G55)*Hoja1!$A$1/AE$1))","v":0},{"$f":"IF(AF$1>$E$11,0,IF($G55=0,0,(AF$1-$G55)*Hoja1!$A$1/AF$1))","v":0},{"$f":"IF(AG$1>$E$11,0,IF($G55=0,0,(AG$1-$G55)*Hoja1!$A$1/AG$1))","v":0},{"$f":"IF(AH$1>$E$11,0,IF($G55=0,0,(AH$1-$G55)*Hoja1!$A$1/AH$1))","v":0},{"$f":"IF(AI$1>$E$11,0,IF($G55=0,0,(AI$1-$G55)*Hoja1!$A$1/AI$1))","v":0},{"$f":"IF(AJ$1>$E$11,0,IF($G55=0,0,(AJ$1-$G55)*Hoja1!$A$1/AJ$1))","v":0},{"$f":"IF(AK$1>$E$11,0,IF($G55=0,0,(AK$1-$G55)*Hoja1!$A$1/AK$1))","v":0},{"$f":"IF(AL$1>$E$11,0,IF($G55=0,0,(AL$1-$G55)*Hoja1!$A$1/AL$1))","v":0},{"$f":"IF(AM$1>$E$11,0,IF($G55=0,0,(AM$1-$G55)*Hoja1!$A$1/AM$1))","v":0},{"$f":"IF(AN$1>$E$11,0,IF($G55=0,0,(AN$1-$G55)*Hoja1!$A$1/AN$1))","v":0},{"$f":"IF(AO$1>$E$11,0,IF($G55=0,0,(AO$1-$G55)*Hoja1!$A$1/AO$1))","v":0},{"$f":"IF(AP$1>$E$11,0,IF($G55=0,0,(AP$1-$G55)*Hoja1!$A$1/AP$1))","v":0},{"$f":"IF(AQ$1>$E$11,0,IF($G55=0,0,(AQ$1-$G55)*Hoja1!$A$1/AQ$1))","v":0},{"$f":"IF(AR$1>$E$11,0,IF($G55=0,0,(AR$1-$G55)*Hoja1!$A$1/AR$1))","v":0},{"$f":"IF(AS$1>$E$11,0,IF($G55=0,0,(AS$1-$G55)*Hoja1!$A$1/AS$1))","v":0},{"$f":"IF(AT$1>$E$11,0,IF($G55=0,0,(AT$1-$G55)*Hoja1!$A$1/AT$1))","v":0},{"$f":"IF(AU$1>$E$11,0,IF($G55=0,0,(AU$1-$G55)*Hoja1!$A$1/AU$1))","v":0},{"$f":"IF(AV$1>$E$11,0,IF($G55=0,0,(AV$1-$G55)*Hoja1!$A$1/AV$1))","v":0},{"$f":"IF(AW$1>$E$11,0,IF($G55=0,0,(AW$1-$G55)*Hoja1!$A$1/AW$1))","v":0},{"$f":"IF(AX$1>$E$11,0,IF($G55=0,0,(AX$1-$G55)*Hoja1!$A$1/AX$1))","v":0},{"$f":"IF(AY$1>$E$11,0,IF($G55=0,0,(AY$1-$G55)*Hoja1!$A$1/AY$1))","v":0},{"$f":"IF(AZ$1>$E$11,0,IF($G55=0,0,(AZ$1-$G55)*Hoja1!$A$1/AZ$1))","v":0},{"$f":"IF(BA$1>$E$11,0,IF($G55=0,0,(BA$1-$G55)*Hoja1!$A$1/BA$1))","v":0},{"$f":"IF(BB$1>$E$11,0,IF($G55=0,0,(BB$1-$G55)*Hoja1!$A$1/BB$1))","v":0},{"$f":"IF(BC$1>$E$11,0,IF($G55=0,0,(BC$1-$G55)*Hoja1!$A$1/BC$1))","v":0},{"$f":"IF(BD$1>$E$11,0,IF($G55=0,0,(BD$1-$G55)*Hoja1!$A$1/BD$1))","v":0},{"$f":"IF(BE$1>$E$11,0,IF($G55=0,0,(BE$1-$G55)*Hoja1!$A$1/BE$1))","v":0},{"$f":"IF(BF$1>$E$11,0,IF($G55=0,0,(BF$1-$G55)*Hoja1!$A$1/BF$1))","v":0},{"$f":"IF(BG$1>$E$11,0,IF($G55=0,0,(BG$1-$G55)*Hoja1!$A$1/BG$1))","v":0},{"$f":"IF(BH$1>$E$11,0,IF($G55=0,0,(BH$1-$G55)*Hoja1!$A$1/BH$1))","v":0},{"$f":"IF(BI$1>$E$11,0,IF($G55=0,0,(BI$1-$G55)*Hoja1!$A$1/BI$1))","v":0},{"$f":"IF(BJ$1>$E$11,0,IF($G55=0,0,(BJ$1-$G55)*Hoja1!$A$1/BJ$1))","v":0},{"$f":"IF(BK$1>$E$11,0,IF($G55=0,0,(BK$1-$G55)*Hoja1!$A$1/BK$1))","v":0},{"$f":"IF(BL$1>$E$11,0,IF($G55=0,0,(BL$1-$G55)*Hoja1!$A$1/BL$1))","v":0},{"$f":"IF(BM$1>$E$11,0,IF($G55=0,0,(BM$1-$G55)*Hoja1!$A$1/BM$1))","v":0},{"$f":"IF(BN$1>$E$11,0,IF($G55=0,0,(BN$1-$G55)*Hoja1!$A$1/BN$1))","v":0},{"$f":"IF(BO$1>$E$11,0,IF($G55=0,0,(BO$1-$G55)*Hoja1!$A$1/BO$1))","v":0},{"$f":"IF(BP$1>$E$11,0,IF($G55=0,0,(BP$1-$G55)*Hoja1!$A$1/BP$1))","v":0},{"$f":"IF(BQ$1>$E$11,0,IF($G55=0,0,(BQ$1-$G55)*Hoja1!$A$1/BQ$1))","v":0},{"$f":"IF(BR$1>$E$11,0,IF($G55=0,0,(BR$1-$G55)*Hoja1!$A$1/BR$1))","v":0},{"$f":"IF(BS$1>$E$11,0,IF($G55=0,0,(BS$1-$G55)*Hoja1!$A$1/BS$1))","v":0},{"$f":"IF(BT$1>$E$11,0,IF($G55=0,0,(BT$1-$G55)*Hoja1!$A$1/BT$1))","v":0},{"$f":"IF(BU$1>$E$11,0,IF($G55=0,0,(BU$1-$G55)*Hoja1!$A$1/BU$1))","v":0},{"$f":"IF(BV$1>$E$11,0,IF($G55=0,0,(BV$1-$G55)*Hoja1!$A$1/BV$1))","v":0},{"$f":"IF(BW$1>$E$11,0,IF($G55=0,0,(BW$1-$G55)*Hoja1!$A$1/BW$1))","v":0},{"$f":"IF(BX$1>$E$11,0,IF($G55=0,0,(BX$1-$G55)*Hoja1!$A$1/BX$1))","v":0},{"$f":"IF(BY$1>$E$11,0,IF($G55=0,0,(BY$1-$G55)*Hoja1!$A$1/BY$1))","v":0},{"$f":"IF(BZ$1>$E$11,0,IF($G55=0,0,(BZ$1-$G55)*Hoja1!$A$1/BZ$1))","v":0},{"$f":"IF(CA$1>$E$11,0,IF($G55=0,0,(CA$1-$G55)*Hoja1!$A$1/CA$1))","v":0},{"$f":"IF(CB$1>$E$11,0,IF($G55=0,0,(CB$1-$G55)*Hoja1!$A$1/CB$1))","v":0},{"$f":"IF(CC$1>$E$11,0,IF($G55=0,0,(CC$1-$G55)*Hoja1!$A$1/CC$1))","v":0},{"$f":"IF(CD$1>$E$11,0,IF($G55=0,0,(CD$1-$G55)*Hoja1!$A$1/CD$1))","v":0},{"$f":"IF(CE$1>$E$11,0,IF($G55=0,0,(CE$1-$G55)*Hoja1!$A$1/CE$1))","v":0},{"$f":"IF(CF$1>$E$11,0,IF($G55=0,0,(CF$1-$G55)*Hoja1!$A$1/CF$1))","v":0},{"$f":"IF(CG$1>$E$11,0,IF($G55=0,0,(CG$1-$G55)*Hoja1!$A$1/CG$1))","v":0},{"$f":"IF(CH$1>$E$11,0,IF($G55=0,0,(CH$1-$G55)*Hoja1!$A$1/CH$1))","v":0},{"$f":"IF(CI$1>$E$11,0,IF($G55=0,0,(CI$1-$G55)*Hoja1!$A$1/CI$1))","v":0},{"$f":"IF(CJ$1>$E$11,0,IF($G55=0,0,(CJ$1-$G55)*Hoja1!$A$1/CJ$1))","v":0},{"$f":"IF(CK$1>$E$11,0,IF($G55=0,0,(CK$1-$G55)*Hoja1!$A$1/CK$1))","v":0},{"$f":"IF(CL$1>$E$11,0,IF($G55=0,0,(CL$1-$G55)*Hoja1!$A$1/CL$1))","v":0},{"$f":"IF(CM$1>$E$11,0,IF($G55=0,0,(CM$1-$G55)*Hoja1!$A$1/CM$1))","v":0},{"$f":"IF(CN$1>$E$11,0,IF($G55=0,0,(CN$1-$G55)*Hoja1!$A$1/CN$1))","v":0},{"$f":"IF(CO$1>$E$11,0,IF($G55=0,0,(CO$1-$G55)*Hoja1!$A$1/CO$1))","v":0},{"$f":"IF(CP$1>$E$11,0,IF($G55=0,0,(CP$1-$G55)*Hoja1!$A$1/CP$1))","v":0},{"$f":"IF(CQ$1>$E$11,0,IF($G55=0,0,(CQ$1-$G55)*Hoja1!$A$1/CQ$1))","v":0},{"$f":"IF(CR$1>$E$11,0,IF($G55=0,0,(CR$1-$G55)*Hoja1!$A$1/CR$1))","v":0},{"$f":"IF(CS$1>$E$11,0,IF($G55=0,0,(CS$1-$G55)*Hoja1!$A$1/CS$1))","v":0},{"$f":"IF(CT$1>$E$11,0,IF($G55=0,0,(CT$1-$G55)*Hoja1!$A$1/CT$1))","v":0},{"$f":"IF(CU$1>$E$11,0,IF($G55=0,0,(CU$1-$G55)*Hoja1!$A$1/CU$1))","v":0},{"$f":"IF(CV$1>$E$11,0,IF($G55=0,0,(CV$1-$G55)*Hoja1!$A$1/CV$1))","v":0},{"$f":"IF(CW$1>$E$11,0,IF($G55=0,0,(CW$1-$G55)*Hoja1!$A$1/CW$1))","v":0},{"$f":"IF(CX$1>$E$11,0,IF($G55=0,0,(CX$1-$G55)*Hoja1!$A$1/CX$1))","v":0},{"$f":"IF(CY$1>$E$11,0,IF($G55=0,0,(CY$1-$G55)*Hoja1!$A$1/CY$1))","v":0},{"$f":"IF(CZ$1>$E$11,0,IF($G55=0,0,(CZ$1-$G55)*Hoja1!$A$1/CZ$1))","v":0},{"$f":"IF(DA$1>$E$11,0,IF($G55=0,0,(DA$1-$G55)*Hoja1!$A$1/DA$1))","v":0},{"$f":"IF(DB$1>$E$11,0,IF($G55=0,0,(DB$1-$G55)*Hoja1!$A$1/DB$1))","v":0},{"$f":"IF(DC$1>$E$11,0,IF($G55=0,0,(DC$1-$G55)*Hoja1!$A$1/DC$1))","v":0},{"$f":"IF(DD$1>$E$11,0,IF($G55=0,0,(DD$1-$G55)*Hoja1!$A$1/DD$1))","v":0},{"$f":"IF(DE$1>$E$11,0,IF($G55=0,0,(DE$1-$G55)*Hoja1!$A$1/DE$1))","v":0},{"$f":"IF(DF$1>$E$11,0,IF($G55=0,0,(DF$1-$G55)*Hoja1!$A$1/DF$1))","v":0},{"$f":"IF(DG$1>$E$11,0,IF($G55=0,0,(DG$1-$G55)*Hoja1!$A$1/DG$1))","v":0},{"$f":"IF(DH$1>$E$11,0,IF($G55=0,0,(DH$1-$G55)*Hoja1!$A$1/DH$1))","v":0},{"$f":"IF(DI$1>$E$11,0,IF($G55=0,0,(DI$1-$G55)*Hoja1!$A$1/DI$1))","v":0},{"$f":"IF(DJ$1>$E$11,0,IF($G55=0,0,(DJ$1-$G55)*Hoja1!$A$1/DJ$1))","v":0},{"$f":"IF(DK$1>$E$11,0,IF($G55=0,0,(DK$1-$G55)*Hoja1!$A$1/DK$1))","v":0},{"$f":"IF(DL$1>$E$11,0,IF($G55=0,0,(DL$1-$G55)*Hoja1!$A$1/DL$1))","v":0},{"$f":"IF(DM$1>$E$11,0,IF($G55=0,0,(DM$1-$G55)*Hoja1!$A$1/DM$1))","v":0}]
[null,null,null,null,null,691.78500000000065,0,{"$f":"IF(H$1>$E$11,0,IF($G56=0,0,(H$1-$G56)*Hoja1!$A$1/H$1))","v":0},{"$f":"IF(I$1>$E$11,0,IF($G56=0,0,(I$1-$G56)*Hoja1!$A$1/I$1))","v":0},{"$f":"IF(J$1>$E$11,0,IF($G56=0,0,(J$1-$G56)*Hoja1!$A$1/J$1))","v":0},{"$f":"IF(K$1>$E$11,0,IF($G56=0,0,(K$1-$G56)*Hoja1!$A$1/K$1))","v":0},{"$f":"IF(L$1>$E$11,0,IF($G56=0,0,(L$1-$G56)*Hoja1!$A$1/L$1))","v":0},{"$f":"IF(M$1>$E$11,0,IF($G56=0,0,(M$1-$G56)*Hoja1!$A$1/M$1))","v":0},{"$f":"IF(N$1>$E$11,0,IF($G56=0,0,(N$1-$G56)*Hoja1!$A$1/N$1))","v":0},{"$f":"IF(O$1>$E$11,0,IF($G56=0,0,(O$1-$G56)*Hoja1!$A$1/O$1))","v":0},{"$f":"IF(P$1>$E$11,0,IF($G56=0,0,(P$1-$G56)*Hoja1!$A$1/P$1))","v":0},{"$f":"IF(Q$1>$E$11,0,IF($G56=0,0,(Q$1-$G56)*Hoja1!$A$1/Q$1))","v":0},{"$f":"IF(R$1>$E$11,0,IF($G56=0,0,(R$1-$G56)*Hoja1!$A$1/R$1))","v":0},{"$f":"IF(S$1>$E$11,0,IF($G56=0,0,(S$1-$G56)*Hoja1!$A$1/S$1))","v":0},{"$f":"IF(T$1>$E$11,0,IF($G56=0,0,(T$1-$G56)*Hoja1!$A$1/T$1))","v":0},{"$f":"IF(U$1>$E$11,0,IF($G56=0,0,(U$1-$G56)*Hoja1!$A$1/U$1))","v":0},{"$f":"IF(V$1>$E$11,0,IF($G56=0,0,(V$1-$G56)*Hoja1!$A$1/V$1))","v":0},{"$f":"IF(W$1>$E$11,0,IF($G56=0,0,(W$1-$G56)*Hoja1!$A$1/W$1))","v":0},{"$f":"IF(X$1>$E$11,0,IF($G56=0,0,(X$1-$G56)*Hoja1!$A$1/X$1))","v":0},{"$f":"IF(Y$1>$E$11,0,IF($G56=0,0,(Y$1-$G56)*Hoja1!$A$1/Y$1))","v":0},{"$f":"IF(Z$1>$E$11,0,IF($G56=0,0,(Z$1-$G56)*Hoja1!$A$1/Z$1))","v":0},{"$f":"IF(AA$1>$E$11,0,IF($G56=0,0,(AA$1-$G56)*Hoja1!$A$1/AA$1))","v":0},{"$f":"IF(AB$1>$E$11,0,IF($G56=0,0,(AB$1-$G56)*Hoja1!$A$1/AB$1))","v":0},{"$f":"IF(AC$1>$E$11,0,IF($G56=0,0,(AC$1-$G56)*Hoja1!$A$1/AC$1))","v":0},{"$f":"IF(AD$1>$E$11,0,IF($G56=0,0,(AD$1-$G56)*Hoja1!$A$1/AD$1))","v":0},{"$f":"IF(AE$1>$E$11,0,IF($G56=0,0,(AE$1-$G56)*Hoja1!$A$1/AE$1))","v":0},{"$f":"IF(AF$1>$E$11,0,IF($G56=0,0,(AF$1-$G56)*Hoja1!$A$1/AF$1))","v":0},{"$f":"IF(AG$1>$E$11,0,IF($G56=0,0,(AG$1-$G56)*Hoja1!$A$1/AG$1))","v":0},{"$f":"IF(AH$1>$E$11,0,IF($G56=0,0,(AH$1-$G56)*Hoja1!$A$1/AH$1))","v":0},{"$f":"IF(AI$1>$E$11,0,IF($G56=0,0,(AI$1-$G56)*Hoja1!$A$1/AI$1))","v":0},{"$f":"IF(AJ$1>$E$11,0,IF($G56=0,0,(AJ$1-$G56)*Hoja1!$A$1/AJ$1))","v":0},{"$f":"IF(AK$1>$E$11,0,IF($G56=0,0,(AK$1-$G56)*Hoja1!$A$1/AK$1))","v":0},{"$f":"IF(AL$1>$E$11,0,IF($G56=0,0,(AL$1-$G56)*Hoja1!$A$1/AL$1))","v":0},{"$f":"IF(AM$1>$E$11,0,IF($G56=0,0,(AM$1-$G56)*Hoja1!$A$1/AM$1))","v":0},{"$f":"IF(AN$1>$E$11,0,IF($G56=0,0,(AN$1-$G56)*Hoja1!$A$1/AN$1))","v":0},{"$f":"IF(AO$1>$E$11,0,IF($G56=0,0,(AO$1-$G56)*Hoja1!$A$1/AO$1))","v":0},{"$f":"IF(AP$1>$E$11,0,IF($G56=0,0,(AP$1-$G56)*Hoja1!$A$1/AP$1))","v":0},{"$f":"IF(AQ$1>$E$11,0,IF($G56=0,0,(AQ$1-$G56)*Hoja1!$A$1/AQ$1))","v":0},{"$f":"IF(AR$1>$E$11,0,IF($G56=0,0,(AR$1-$G56)*Hoja1!$A$1/AR$1))","v":0},{"$f":"IF(AS$1>$E$11,0,IF($G56=0,0,(AS$1-$G56)*Hoja1!$A$1/AS$1))","v":0},{"$f":"IF(AT$1>$E$11,0,IF($G56=0,0,(AT$1-$G56)*Hoja1!$A$1/AT$1))","v":0},{"$f":"IF(AU$1>$E$11,0,IF($G56=0,0,(AU$1-$G56)*Hoja1!$A$1/AU$1))","v":0},{"$f":"IF(AV$1>$E$11,0,IF($G56=0,0,(AV$1-$G56)*Hoja1!$A$1/AV$1))","v":0},{"$f":"IF(AW$1>$E$11,0,IF($G56=0,0,(AW$1-$G56)*Hoja1!$A$1/AW$1))","v":0},{"$f":"IF(AX$1>$E$11,0,IF($G56=0,0,(AX$1-$G56)*Hoja1!$A$1/AX$1))","v":0},{"$f":"IF(AY$1>$E$11,0,IF($G56=0,0,(AY$1-$G56)*Hoja1!$A$1/AY$1))","v":0},{"$f":"IF(AZ$1>$E$11,0,IF($G56=0,0,(AZ$1-$G56)*Hoja1!$A$1/AZ$1))","v":0},{"$f":"IF(BA$1>$E$11,0,IF($G56=0,0,(BA$1-$G56)*Hoja1!$A$1/BA$1))","v":0},{"$f":"IF(BB$1>$E$11,0,IF($G56=0,0,(BB$1-$G56)*Hoja1!$A$1/BB$1))","v":0},{"$f":"IF(BC$1>$E$11,0,IF($G56=0,0,(BC$1-$G56)*Hoja1!$A$1/BC$1))","v":0},{"$f":"IF(BD$1>$E$11,0,IF($G56=0,0,(BD$1-$G56)*Hoja1!$A$1/BD$1))","v":0},{"$f":"IF(BE$1>$E$11,0,IF($G56=0,0,(BE$1-$G56)*Hoja1!$A$1/BE$1))","v":0},{"$f":"IF(BF$1>$E$11,0,IF($G56=0,0,(BF$1-$G56)*Hoja1!$A$1/BF$1))","v":0},{"$f":"IF(BG$1>$E$11,0,IF($G56=0,0,(BG$1-$G56)*Hoja1!$A$1/BG$1))","v":0},{"$f":"IF(BH$1>$E$11,0,IF($G56=0,0,(BH$1-$G56)*Hoja1!$A$1/BH$1))","v":0},{"$f":"IF(BI$1>$E$11,0,IF($G56=0,0,(BI$1-$G56)*Hoja1!$A$1/BI$1))","v":0},{"$f":"IF(BJ$1>$E$11,0,IF($G56=0,0,(BJ$1-$G56)*Hoja1!$A$1/BJ$1))","v":0},{"$f":"IF(BK$1>$E$11,0,IF($G56=0,0,(BK$1-$G56)*Hoja1!$A$1/BK$1))","v":0},{"$f":"IF(BL$1>$E$11,0,IF($G56=0,0,(BL$1-$G56)*Hoja1!$A$1/BL$1))","v":0},{"$f":"IF(BM$1>$E$11,0,IF($G56=0,0,(BM$1-$G56)*Hoja1!$A$1/BM$1))","v":0},{"$f":"IF(BN$1>$E$11,0,IF($G56=0,0,(BN$1-$G56)*Hoja1!$A$1/BN$1))","v":0},{"$f":"IF(BO$1>$E$11,0,IF($G56=0,0,(BO$1-$G56)*Hoja1!$A$1/BO$1))","v":0},{"$f":"IF(BP$1>$E$11,0,IF($G56=0,0,(BP$1-$G56)*Hoja1!$A$1/BP$1))","v":0},{"$f":"IF(BQ$1>$E$11,0,IF($G56=0,0,(BQ$1-$G56)*Hoja1!$A$1/BQ$1))","v":0},{"$f":"IF(BR$1>$E$11,0,IF($G56=0,0,(BR$1-$G56)*Hoja1!$A$1/BR$1))","v":0},{"$f":"IF(BS$1>$E$11,0,IF($G56=0,0,(BS$1-$G56)*Hoja1!$A$1/BS$1))","v":0},{"$f":"IF(BT$1>$E$11,0,IF($G56=0,0,(BT$1-$G56)*Hoja1!$A$1/BT$1))","v":0},{"$f":"IF(BU$1>$E$11,0,IF($G56=0,0,(BU$1-$G56)*Hoja1!$A$1/BU$1))","v":0},{"$f":"IF(BV$1>$E$11,0,IF($G56=0,0,(BV$1-$G56)*Hoja1!$A$1/BV$1))","v":0},{"$f":"IF(BW$1>$E$11,0,IF($G56=0,0,(BW$1-$G56)*Hoja1!$A$1/BW$1))","v":0},{"$f":"IF(BX$1>$E$11,0,IF($G56=0,0,(BX$1-$G56)*Hoja1!$A$1/BX$1))","v":0},{"$f":"IF(BY$1>$E$11,0,IF($G56=0,0,(BY$1-$G56)*Hoja1!$A$1/BY$1))","v":0},{"$f":"IF(BZ$1>$E$11,0,IF($G56=0,0,(BZ$1-$G56)*Hoja1!$A$1/BZ$1))","v":0},{"$f":"IF(CA$1>$E$11,0,IF($G56=0,0,(CA$1-$G56)*Hoja1!$A$1/CA$1))","v":0},{"$f":"IF(CB$1>$E$11,0,IF($G56=0,0,(CB$1-$G56)*Hoja1!$A$1/CB$1))","v":0},{"$f":"IF(CC$1>$E$11,0,IF($G56=0,0,(CC$1-$G56)*Hoja1!$A$1/CC$1))","v":0},{"$f":"IF(CD$1>$E$11,0,IF($G56=0,0,(CD$1-$G56)*Hoja1!$A$1/CD$1))","v":0},{"$f":"IF(CE$1>$E$11,0,IF($G56=0,0,(CE$1-$G56)*Hoja1!$A$1/CE$1))","v":0},{"$f":"IF(CF$1>$E$11,0,IF($G56=0,0,(CF$1-$G56)*Hoja1!$A$1/CF$1))","v":0},{"$f":"IF(CG$1>$E$11,0,IF($G56=0,0,(CG$1-$G56)*Hoja1!$A$1/CG$1))","v":0},{"$f":"IF(CH$1>$E$11,0,IF($G56=0,0,(CH$1-$G56)*Hoja1!$A$1/CH$1))","v":0},{"$f":"IF(CI$1>$E$11,0,IF($G56=0,0,(CI$1-$G56)*Hoja1!$A$1/CI$1))","v":0},{"$f":"IF(CJ$1>$E$11,0,IF($G56=0,0,(CJ$1-$G56)*Hoja1!$A$1/CJ$1))","v":0},{"$f":"IF(CK$1>$E$11,0,IF($G56=0,0,(CK$1-$G56)*Hoja1!$A$1/CK$1))","v":0},{"$f":"IF(CL$1>$E$11,0,IF($G56=0,0,(CL$1-$G56)*Hoja1!$A$1/CL$1))","v":0},{"$f":"IF(CM$1>$E$11,0,IF($G56=0,0,(CM$1-$G56)*Hoja1!$A$1/CM$1))","v":0},{"$f":"IF(CN$1>$E$11,0,IF($G56=0,0,(CN$1-$G56)*Hoja1!$A$1/CN$1))","v":0},{"$f":"IF(CO$1>$E$11,0,IF($G56=0,0,(CO$1-$G56)*Hoja1!$A$1/CO$1))","v":0},{"$f":"IF(CP$1>$E$11,0,IF($G56=0,0,(CP$1-$G56)*Hoja1!$A$1/CP$1))","v":0},{"$f":"IF(CQ$1>$E$11,0,IF($G56=0,0,(CQ$1-$G56)*Hoja1!$A$1/CQ$1))","v":0},{"$f":"IF(CR$1>$E$11,0,IF($G56=0,0,(CR$1-$G56)*Hoja1!$A$1/CR$1))","v":0},{"$f":"IF(CS$1>$E$11,0,IF($G56=0,0,(CS$1-$G56)*Hoja1!$A$1/CS$1))","v":0},{"$f":"IF(CT$1>$E$11,0,IF($G56=0,0,(CT$1-$G56)*Hoja1!$A$1/CT$1))","v":0},{"$f":"IF(CU$1>$E$11,0,IF($G56=0,0,(CU$1-$G56)*Hoja1!$A$1/CU$1))","v":0},{"$f":"IF(CV$1>$E$11,0,IF($G56=0,0,(CV$1-$G56)*Hoja1!$A$1/CV$1))","v":0},{"$f":"IF(CW$1>$E$11,0,IF($G56=0,0,(CW$1-$G56)*Hoja1!$A$1/CW$1))","v":0},{"$f":"IF(CX$1>$E$11,0,IF($G56=0,0,(CX$1-$G56)*Hoja1!$A$1/CX$1))","v":0},{"$f":"IF(CY$1>$E$11,0,IF($G56=0,0,(CY$1-$G56)*Hoja1!$A$1/CY$1))","v":0},{"$f":"IF(CZ$1>$E$11,0,IF($G56=0,0,(CZ$1-$G56)*Hoja1!$A$1/CZ$1))","v":0},{"$f":"IF(DA$1>$E$11,0,IF($G56=0,0,(DA$1-$G56)*Hoja1!$A$1/DA$1))","v":0},{"$f":"IF(DB$1>$E$11,0,IF($G56=0,0,(DB$1-$G56)*Hoja1!$A$1/DB$1))","v":0},{"$f":"IF(DC$1>$E$11,0,IF($G56=0,0,(DC$1-$G56)*Hoja1!$A$1/DC$1))","v":0},{"$f":"IF(DD$1>$E$11,0,IF($G56=0,0,(DD$1-$G56)*Hoja1!$A$1/DD$1))","v":0},{"$f":"IF(DE$1>$E$11,0,IF($G56=0,0,(DE$1-$G56)*Hoja1!$A$1/DE$1))","v":0},{"$f":"IF(DF$1>$E$11,0,IF($G56=0,0,(DF$1-$G56)*Hoja1!$A$1/DF$1))","v":0},{"$f":"IF(DG$1>$E$11,0,IF($G56=0,0,(DG$1-$G56)*Hoja1!$A$1/DG$1))","v":0},{"$f":"IF(DH$1>$E$11,0,IF($G56=0,0,(DH$1-$G56)*Hoja1!$A$1/DH$1))","v":0},{"$f":"IF(DI$1>$E$11,0,IF($G56=0,0,(DI$1-$G56)*Hoja1!$A$1/DI$1))","v":0},{"$f":"IF(DJ$1>$E$11,0,IF($G56=0,0,(DJ$1-$G56)*Hoja1!$A$1/DJ$1))","v":0},{"$f":"IF(DK$1>$E$11,0,IF($G56=0,0,(DK$1-$G56)*Hoja1!$A$1/DK$1))","v":0},{"$f":"IF(DL$1>$E$11,0,IF($G56=0,0,(DL$1-$G56)*Hoja1!$A$1/DL$1))","v":0},{"$f":"IF(DM$1>$E$11,0,IF($G56=0,0,(DM$1-$G56)*Hoja1!$A$1/DM$1))","v":0}]
[null,null,null,null,null,704.9750000000007,0,{"$f":"IF(H$1>$E$11,0,IF($G57=0,0,(H$1-$G57)*Hoja1!$A$1/H$1))","v":0},{"$f":"IF(I$1>$E$11,0,IF($G57=0,0,(I$1-$G57)*Hoja1!$A$1/I$1))","v":0},{"$f":"IF(J$1>$E$11,0,IF($G57=0,0,(J$1-$G57)*Hoja1!$A$1/J$1))","v":0},{"$f":"IF(K$1>$E$11,0,IF($G57=0,0,(K$1-$G57)*Hoja1!$A$1/K$1))","v":0},{"$f":"IF(L$1>$E$11,0,IF($G57=0,0,(L$1-$G57)*Hoja1!$A$1/L$1))","v":0},{"$f":"IF(M$1>$E$11,0,IF($G57=0,0,(M$1-$G57)*Hoja1!$A$1/M$1))","v":0},{"$f":"IF(N$1>$E$11,0,IF($G57=0,0,(N$1-$G57)*Hoja1!$A$1/N$1))","v":0},{"$f":"IF(O$1>$E$11,0,IF($G57=0,0,(O$1-$G57)*Hoja1!$A$1/O$1))","v":0},{"$f":"IF(P$1>$E$11,0,IF($G57=0,0,(P$1-$G57)*Hoja1!$A$1/P$1))","v":0},{"$f":"IF(Q$1>$E$11,0,IF($G57=0,0,(Q$1-$G57)*Hoja1!$A$1/Q$1))","v":0},{"$f":"IF(R$1>$E$11,0,IF($G57=0,0,(R$1-$G57)*Hoja1!$A$1/R$1))","v":0},{"$f":"IF(S$1>$E$11,0,IF($G57=0,0,(S$1-$G57)*Hoja1!$A$1/S$1))","v":0},{"$f":"IF(T$1>$E$11,0,IF($G57=0,0,(T$1-$G57)*Hoja1!$A$1/T$1))","v":0},{"$f":"IF(U$1>$E$11,0,IF($G57=0,0,(U$1-$G57)*Hoja1!$A$1/U$1))","v":0},{"$f":"IF(V$1>$E$11,0,IF($G57=0,0,(V$1-$G57)*Hoja1!$A$1/V$1))","v":0},{"$f":"IF(W$1>$E$11,0,IF($G57=0,0,(W$1-$G57)*Hoja1!$A$1/W$1))","v":0},{"$f":"IF(X$1>$E$11,0,IF($G57=0,0,(X$1-$G57)*Hoja1!$A$1/X$1))","v":0},{"$f":"IF(Y$1>$E$11,0,IF($G57=0,0,(Y$1-$G57)*Hoja1!$A$1/Y$1))","v":0},{"$f":"IF(Z$1>$E$11,0,IF($G57=0,0,(Z$1-$G57)*Hoja1!$A$1/Z$1))","v":0},{"$f":"IF(AA$1>$E$11,0,IF($G57=0,0,(AA$1-$G57)*Hoja1!$A$1/AA$1))","v":0},{"$f":"IF(AB$1>$E$11,0,IF($G57=0,0,(AB$1-$G57)*Hoja1!$A$1/AB$1))","v":0},{"$f":"IF(AC$1>$E$11,0,IF($G57=0,0,(AC$1-$G57)*Hoja1!$A$1/AC$1))","v":0},{"$f":"IF(AD$1>$E$11,0,IF($G57=0,0,(AD$1-$G57)*Hoja1!$A$1/AD$1))","v":0},{"$f":"IF(AE$1>$E$11,0,IF($G57=0,0,(AE$1-$G57)*Hoja1!$A$1/AE$1))","v":0},{"$f":"IF(AF$1>$E$11,0,IF($G57=0,0,(AF$1-$G57)*Hoja1!$A$1/AF$1))","v":0},{"$f":"IF(AG$1>$E$11,0,IF($G57=0,0,(AG$1-$G57)*Hoja1!$A$1/AG$1))","v":0},{"$f":"IF(AH$1>$E$11,0,IF($G57=0,0,(AH$1-$G57)*Hoja1!$A$1/AH$1))","v":0},{"$f":"IF(AI$1>$E$11,0,IF($G57=0,0,(AI$1-$G57)*Hoja1!$A$1/AI$1))","v":0},{"$f":"IF(AJ$1>$E$11,0,IF($G57=0,0,(AJ$1-$G57)*Hoja1!$A$1/AJ$1))","v":0},{"$f":"IF(AK$1>$E$11,0,IF($G57=0,0,(AK$1-$G57)*Hoja1!$A$1/AK$1))","v":0},{"$f":"IF(AL$1>$E$11,0,IF($G57=0,0,(AL$1-$G57)*Hoja1!$A$1/AL$1))","v":0},{"$f":"IF(AM$1>$E$11,0,IF($G57=0,0,(AM$1-$G57)*Hoja1!$A$1/AM$1))","v":0},{"$f":"IF(AN$1>$E$11,0,IF($G57=0,0,(AN$1-$G57)*Hoja1!$A$1/AN$1))","v":0},{"$f":"IF(AO$1>$E$11,0,IF($G57=0,0,(AO$1-$G57)*Hoja1!$A$1/AO$1))","v":0},{"$f":"IF(AP$1>$E$11,0,IF($G57=0,0,(AP$1-$G57)*Hoja1!$A$1/AP$1))","v":0},{"$f":"IF(AQ$1>$E$11,0,IF($G57=0,0,(AQ$1-$G57)*Hoja1!$A$1/AQ$1))","v":0},{"$f":"IF(AR$1>$E$11,0,IF($G57=0,0,(AR$1-$G57)*Hoja1!$A$1/AR$1))","v":0},{"$f":"IF(AS$1>$E$11,0,IF($G57=0,0,(AS$1-$G57)*Hoja1!$A$1/AS$1))","v":0},{"$f":"IF(AT$1>$E$11,0,IF($G57=0,0,(AT$1-$G57)*Hoja1!$A$1/AT$1))","v":0},{"$f":"IF(AU$1>$E$11,0,IF($G57=0,0,(AU$1-$G57)*Hoja1!$A$1/AU$1))","v":0},{"$f":"IF(AV$1>$E$11,0,IF($G57=0,0,(AV$1-$G57)*Hoja1!$A$1/AV$1))","v":0},{"$f":"IF(AW$1>$E$11,0,IF($G57=0,0,(AW$1-$G57)*Hoja1!$A$1/AW$1))","v":0},{"$f":"IF(AX$1>$E$11,0,IF($G57=0,0,(AX$1-$G57)*Hoja1!$A$1/AX$1))","v":0},{"$f":"IF(AY$1>$E$11,0,IF($G57=0,0,(AY$1-$G57)*Hoja1!$A$1/AY$1))","v":0},{"$f":"IF(AZ$1>$E$11,0,IF($G57=0,0,(AZ$1-$G57)*Hoja1!$A$1/AZ$1))","v":0},{"$f":"IF(BA$1>$E$11,0,IF($G57=0,0,(BA$1-$G57)*Hoja1!$A$1/BA$1))","v":0},{"$f":"IF(BB$1>$E$11,0,IF($G57=0,0,(BB$1-$G57)*Hoja1!$A$1/BB$1))","v":0},{"$f":"IF(BC$1>$E$11,0,IF($G57=0,0,(BC$1-$G57)*Hoja1!$A$1/BC$1))","v":0},{"$f":"IF(BD$1>$E$11,0,IF($G57=0,0,(BD$1-$G57)*Hoja1!$A$1/BD$1))","v":0},{"$f":"IF(BE$1>$E$11,0,IF($G57=0,0,(BE$1-$G57)*Hoja1!$A$1/BE$1))","v":0},{"$f":"IF(BF$1>$E$11,0,IF($G57=0,0,(BF$1-$G57)*Hoja1!$A$1/BF$1))","v":0},{"$f":"IF(BG$1>$E$11,0,IF($G57=0,0,(BG$1-$G57)*Hoja1!$A$1/BG$1))","v":0},{"$f":"IF(BH$1>$E$11,0,IF($G57=0,0,(BH$1-$G57)*Hoja1!$A$1/BH$1))","v":0},{"$f":"IF(BI$1>$E$11,0,IF($G57=0,0,(BI$1-$G57)*Hoja1!$A$1/BI$1))","v":0},{"$f":"IF(BJ$1>$E$11,0,IF($G57=0,0,(BJ$1-$G57)*Hoja1!$A$1/BJ$1))","v":0},{"$f":"IF(BK$1>$E$11,0,IF($G57=0,0,(BK$1-$G57)*Hoja1!$A$1/BK$1))","v":0},{"$f":"IF(BL$1>$E$11,0,IF($G57=0,0,(BL$1-$G57)*Hoja1!$A$1/BL$1))","v":0},{"$f":"IF(BM$1>$E$11,0,IF($G57=0,0,(BM$1-$G57)*Hoja1!$A$1/BM$1))","v":0},{"$f":"IF(BN$1>$E$11,0,IF($G57=0,0,(BN$1-$G57)*Hoja1!$A$1/BN$1))","v":0},{"$f":"IF(BO$1>$E$11,0,IF($G57=0,0,(BO$1-$G57)*Hoja1!$A$1/BO$1))","v":0},{"$f":"IF(BP$1>$E$11,0,IF($G57=0,0,(BP$1-$G57)*Hoja1!$A$1/BP$1))","v":0},{"$f":"IF(BQ$1>$E$11,0,IF($G57=0,0,(BQ$1-$G57)*Hoja1!$A$1/BQ$1))","v":0},{"$f":"IF(BR$1>$E$11,0,IF($G57=0,0,(BR$1-$G57)*Hoja1!$A$1/BR$1))","v":0},{"$f":"IF(BS$1>$E$11,0,IF($G57=0,0,(BS$1-$G57)*Hoja1!$A$1/BS$1))","v":0},{"$f":"IF(BT$1>$E$11,0,IF($G57=0,0,(BT$1-$G57)*Hoja1!$A$1/BT$1))","v":0},{"$f":"IF(BU$1>$E$11,0,IF($G57=0,0,(BU$1-$G57)*Hoja1!$A$1/BU$1))","v":0},{"$f":"IF(BV$1>$E$11,0,IF($G57=0,0,(BV$1-$G57)*Hoja1!$A$1/BV$1))","v":0},{"$f":"IF(BW$1>$E$11,0,IF($G57=0,0,(BW$1-$G57)*Hoja1!$A$1/BW$1))","v":0},{"$f":"IF(BX$1>$E$11,0,IF($G57=0,0,(BX$1-$G57)*Hoja1!$A$1/BX$1))","v":0},{"$f":"IF(BY$1>$E$11,0,IF($G57=0,0,(BY$1-$G57)*Hoja1!$A$1/BY$1))","v":0},{"$f":"IF(BZ$1>$E$11,0,IF($G57=0,0,(BZ$1-$G57)*Hoja1!$A$1/BZ$1))","v":0},{"$f":"IF(CA$1>$E$11,0,IF($G57=0,0,(CA$1-$G57)*Hoja1!$A$1/CA$1))","v":0},{"$f":"IF(CB$1>$E$11,0,IF($G57=0,0,(CB$1-$G57)*Hoja1!$A$1/CB$1))","v":0},{"$f":"IF(CC$1>$E$11,0,IF($G57=0,0,(CC$1-$G57)*Hoja1!$A$1/CC$1))","v":0},{"$f":"IF(CD$1>$E$11,0,IF($G57=0,0,(CD$1-$G57)*Hoja1!$A$1/CD$1))","v":0},{"$f":"IF(CE$1>$E$11,0,IF($G57=0,0,(CE$1-$G57)*Hoja1!$A$1/CE$1))","v":0},{"$f":"IF(CF$1>$E$11,0,IF($G57=0,0,(CF$1-$G57)*Hoja1!$A$1/CF$1))","v":0},{"$f":"IF(CG$1>$E$11,0,IF($G57=0,0,(CG$1-$G57)*Hoja1!$A$1/CG$1))","v":0},{"$f":"IF(CH$1>$E$11,0,IF($G57=0,0,(CH$1-$G57)*Hoja1!$A$1/CH$1))","v":0},{"$f":"IF(CI$1>$E$11,0,IF($G57=0,0,(CI$1-$G57)*Hoja1!$A$1/CI$1))","v":0},{"$f":"IF(CJ$1>$E$11,0,IF($G57=0,0,(CJ$1-$G57)*Hoja1!$A$1/CJ$1))","v":0},{"$f":"IF(CK$1>$E$11,0,IF($G57=0,0,(CK$1-$G57)*Hoja1!$A$1/CK$1))","v":0},{"$f":"IF(CL$1>$E$11,0,IF($G57=0,0,(CL$1-$G57)*Hoja1!$A$1/CL$1))","v":0},{"$f":"IF(CM$1>$E$11,0,IF($G57=0,0,(CM$1-$G57)*Hoja1!$A$1/CM$1))","v":0},{"$f":"IF(CN$1>$E$11,0,IF($G57=0,0,(CN$1-$G57)*Hoja1!$A$1/CN$1))","v":0},{"$f":"IF(CO$1>$E$11,0,IF($G57=0,0,(CO$1-$G57)*Hoja1!$A$1/CO$1))","v":0},{"$f":"IF(CP$1>$E$11,0,IF($G57=0,0,(CP$1-$G57)*Hoja1!$A$1/CP$1))","v":0},{"$f":"IF(CQ$1>$E$11,0,IF($G57=0,0,(CQ$1-$G57)*Hoja1!$A$1/CQ$1))","v":0},{"$f":"IF(CR$1>$E$11,0,IF($G57=0,0,(CR$1-$G57)*Hoja1!$A$1/CR$1))","v":0},{"$f":"IF(CS$1>$E$11,0,IF($G57=0,0,(CS$1-$G57)*Hoja1!$A$1/CS$1))","v":0},{"$f":"IF(CT$1>$E$11,0,IF($G57=0,0,(CT$1-$G57)*Hoja1!$A$1/CT$1))","v":0},{"$f":"IF(CU$1>$E$11,0,IF($G57=0,0,(CU$1-$G57)*Hoja1!$A$1/CU$1))","v":0},{"$f":"IF(CV$1>$E$11,0,IF($G57=0,0,(CV$1-$G57)*Hoja1!$A$1/CV$1))","v":0},{"$f":"IF(CW$1>$E$11,0,IF($G57=0,0,(CW$1-$G57)*Hoja1!$A$1/CW$1))","v":0},{"$f":"IF(CX$1>$E$11,0,IF($G57=0,0,(CX$1-$G57)*Hoja1!$A$1/CX$1))","v":0},{"$f":"IF(CY$1>$E$11,0,IF($G57=0,0,(CY$1-$G57)*Hoja1!$A$1/CY$1))","v":0},{"$f":"IF(CZ$1>$E$11,0,IF($G57=0,0,(CZ$1-$G57)*Hoja1!$A$1/CZ$1))","v":0},{"$f":"IF(DA$1>$E$11,0,IF($G57=0,0,(DA$1-$G57)*Hoja1!$A$1/DA$1))","v":0},{"$f":"IF(DB$1>$E$11,0,IF($G57=0,0,(DB$1-$G57)*Hoja1!$A$1/DB$1))","v":0},{"$f":"IF(DC$1>$E$11,0,IF($G57=0,0,(DC$1-$G57)*Hoja1!$A$1/DC$1))","v":0},{"$f":"IF(DD$1>$E$11,0,IF($G57=0,0,(DD$1-$G57)*Hoja1!$A$1/DD$1))","v":0},{"$f":"IF(DE$1>$E$11,0,IF($G57=0,0,(DE$1-$G57)*Hoja1!$A$1/DE$1))","v":0},{"$f":"IF(DF$1>$E$11,0,IF($G57=0,0,(DF$1-$G57)*Hoja1!$A$1/DF$1))","v":0},{"$f":"IF(DG$1>$E$11,0,IF($G57=0,0,(DG$1-$G57)*Hoja1!$A$1/DG$1))","v":0},{"$f":"IF(DH$1>$E$11,0,IF($G57=0,0,(DH$1-$G57)*Hoja1!$A$1/DH$1))","v":0},{"$f":"IF(DI$1>$E$11,0,IF($G57=0,0,(DI$1-$G57)*Hoja1!$A$1/DI$1))","v":0},{"$f":"IF(DJ$1>$E$11,0,IF($G57=0,0,(DJ$1-$G57)*Hoja1!$A$1/DJ$1))","v":0},{"$f":"IF(DK$1>$E$11,0,IF($G57=0,0,(DK$1-$G57)*Hoja1!$A$1/DK$1))","v":0},{"$f":"IF(DL$1>$E$11,0,IF($G57=0,0,(DL$1-$G57)*Hoja1!$A$1/DL$1))","v":0},{"$f":"IF(DM$1>$E$11,0,IF($G57=0,0,(DM$1-$G57)*Hoja1!$A$1/DM$1))","v":0}]
[null,null,null,null,null,718.16500000000076,0,{"$f":"IF(H$1>$E$11,0,IF($G58=0,0,(H$1-$G58)*Hoja1!$A$1/H$1))","v":0},{"$f":"IF(I$1>$E$11,0,IF($G58=0,0,(I$1-$G58)*Hoja1!$A$1/I$1))","v":0},{"$f":"IF(J$1>$E$11,0,IF($G58=0,0,(J$1-$G58)*Hoja1!$A$1/J$1))","v":0},{"$f":"IF(K$1>$E$11,0,IF($G58=0,0,(K$1-$G58)*Hoja1!$A$1/K$1))","v":0},{"$f":"IF(L$1>$E$11,0,IF($G58=0,0,(L$1-$G58)*Hoja1!$A$1/L$1))","v":0},{"$f":"IF(M$1>$E$11,0,IF($G58=0,0,(M$1-$G58)*Hoja1!$A$1/M$1))","v":0},{"$f":"IF(N$1>$E$11,0,IF($G58=0,0,(N$1-$G58)*Hoja1!$A$1/N$1))","v":0},{"$f":"IF(O$1>$E$11,0,IF($G58=0,0,(O$1-$G58)*Hoja1!$A$1/O$1))","v":0},{"$f":"IF(P$1>$E$11,0,IF($G58=0,0,(P$1-$G58)*Hoja1!$A$1/P$1))","v":0},{"$f":"IF(Q$1>$E$11,0,IF($G58=0,0,(Q$1-$G58)*Hoja1!$A$1/Q$1))","v":0},{"$f":"IF(R$1>$E$11,0,IF($G58=0,0,(R$1-$G58)*Hoja1!$A$1/R$1))","v":0},{"$f":"IF(S$1>$E$11,0,IF($G58=0,0,(S$1-$G58)*Hoja1!$A$1/S$1))","v":0},{"$f":"IF(T$1>$E$11,0,IF($G58=0,0,(T$1-$G58)*Hoja1!$A$1/T$1))","v":0},{"$f":"IF(U$1>$E$11,0,IF($G58=0,0,(U$1-$G58)*Hoja1!$A$1/U$1))","v":0},{"$f":"IF(V$1>$E$11,0,IF($G58=0,0,(V$1-$G58)*Hoja1!$A$1/V$1))","v":0},{"$f":"IF(W$1>$E$11,0,IF($G58=0,0,(W$1-$G58)*Hoja1!$A$1/W$1))","v":0},{"$f":"IF(X$1>$E$11,0,IF($G58=0,0,(X$1-$G58)*Hoja1!$A$1/X$1))","v":0},{"$f":"IF(Y$1>$E$11,0,IF($G58=0,0,(Y$1-$G58)*Hoja1!$A$1/Y$1))","v":0},{"$f":"IF(Z$1>$E$11,0,IF($G58=0,0,(Z$1-$G58)*Hoja1!$A$1/Z$1))","v":0},{"$f":"IF(AA$1>$E$11,0,IF($G58=0,0,(AA$1-$G58)*Hoja1!$A$1/AA$1))","v":0},{"$f":"IF(AB$1>$E$11,0,IF($G58=0,0,(AB$1-$G58)*Hoja1!$A$1/AB$1))","v":0},{"$f":"IF(AC$1>$E$11,0,IF($G58=0,0,(AC$1-$G58)*Hoja1!$A$1/AC$1))","v":0},{"$f":"IF(AD$1>$E$11,0,IF($G58=0,0,(AD$1-$G58)*Hoja1!$A$1/AD$1))","v":0},{"$f":"IF(AE$1>$E$11,0,IF($G58=0,0,(AE$1-$G58)*Hoja1!$A$1/AE$1))","v":0},{"$f":"IF(AF$1>$E$11,0,IF($G58=0,0,(AF$1-$G58)*Hoja1!$A$1/AF$1))","v":0},{"$f":"IF(AG$1>$E$11,0,IF($G58=0,0,(AG$1-$G58)*Hoja1!$A$1/AG$1))","v":0},{"$f":"IF(AH$1>$E$11,0,IF($G58=0,0,(AH$1-$G58)*Hoja1!$A$1/AH$1))","v":0},{"$f":"IF(AI$1>$E$11,0,IF($G58=0,0,(AI$1-$G58)*Hoja1!$A$1/AI$1))","v":0},{"$f":"IF(AJ$1>$E$11,0,IF($G58=0,0,(AJ$1-$G58)*Hoja1!$A$1/AJ$1))","v":0},{"$f":"IF(AK$1>$E$11,0,IF($G58=0,0,(AK$1-$G58)*Hoja1!$A$1/AK$1))","v":0},{"$f":"IF(AL$1>$E$11,0,IF($G58=0,0,(AL$1-$G58)*Hoja1!$A$1/AL$1))","v":0},{"$f":"IF(AM$1>$E$11,0,IF($G58=0,0,(AM$1-$G58)*Hoja1!$A$1/AM$1))","v":0},{"$f":"IF(AN$1>$E$11,0,IF($G58=0,0,(AN$1-$G58)*Hoja1!$A$1/AN$1))","v":0},{"$f":"IF(AO$1>$E$11,0,IF($G58=0,0,(AO$1-$G58)*Hoja1!$A$1/AO$1))","v":0},{"$f":"IF(AP$1>$E$11,0,IF($G58=0,0,(AP$1-$G58)*Hoja1!$A$1/AP$1))","v":0},{"$f":"IF(AQ$1>$E$11,0,IF($G58=0,0,(AQ$1-$G58)*Hoja1!$A$1/AQ$1))","v":0},{"$f":"IF(AR$1>$E$11,0,IF($G58=0,0,(AR$1-$G58)*Hoja1!$A$1/AR$1))","v":0},{"$f":"IF(AS$1>$E$11,0,IF($G58=0,0,(AS$1-$G58)*Hoja1!$A$1/AS$1))","v":0},{"$f":"IF(AT$1>$E$11,0,IF($G58=0,0,(AT$1-$G58)*Hoja1!$A$1/AT$1))","v":0},{"$f":"IF(AU$1>$E$11,0,IF($G58=0,0,(AU$1-$G58)*Hoja1!$A$1/AU$1))","v":0},{"$f":"IF(AV$1>$E$11,0,IF($G58=0,0,(AV$1-$G58)*Hoja1!$A$1/AV$1))","v":0},{"$f":"IF(AW$1>$E$11,0,IF($G58=0,0,(AW$1-$G58)*Hoja1!$A$1/AW$1))","v":0},{"$f":"IF(AX$1>$E$11,0,IF($G58=0,0,(AX$1-$G58)*Hoja1!$A$1/AX$1))","v":0},{"$f":"IF(AY$1>$E$11,0,IF($G58=0,0,(AY$1-$G58)*Hoja1!$A$1/AY$1))","v":0},{"$f":"IF(AZ$1>$E$11,0,IF($G58=0,0,(AZ$1-$G58)*Hoja1!$A$1/AZ$1))","v":0},{"$f":"IF(BA$1>$E$11,0,IF($G58=0,0,(BA$1-$G58)*Hoja1!$A$1/BA$1))","v":0},{"$f":"IF(BB$1>$E$11,0,IF($G58=0,0,(BB$1-$G58)*Hoja1!$A$1/BB$1))","v":0},{"$f":"IF(BC$1>$E$11,0,IF($G58=0,0,(BC$1-$G58)*Hoja1!$A$1/BC$1))","v":0},{"$f":"IF(BD$1>$E$11,0,IF($G58=0,0,(BD$1-$G58)*Hoja1!$A$1/BD$1))","v":0},{"$f":"IF(BE$1>$E$11,0,IF($G58=0,0,(BE$1-$G58)*Hoja1!$A$1/BE$1))","v":0},{"$f":"IF(BF$1>$E$11,0,IF($G58=0,0,(BF$1-$G58)*Hoja1!$A$1/BF$1))","v":0},{"$f":"IF(BG$1>$E$11,0,IF($G58=0,0,(BG$1-$G58)*Hoja1!$A$1/BG$1))","v":0},{"$f":"IF(BH$1>$E$11,0,IF($G58=0,0,(BH$1-$G58)*Hoja1!$A$1/BH$1))","v":0},{"$f":"IF(BI$1>$E$11,0,IF($G58=0,0,(BI$1-$G58)*Hoja1!$A$1/BI$1))","v":0},{"$f":"IF(BJ$1>$E$11,0,IF($G58=0,0,(BJ$1-$G58)*Hoja1!$A$1/BJ$1))","v":0},{"$f":"IF(BK$1>$E$11,0,IF($G58=0,0,(BK$1-$G58)*Hoja1!$A$1/BK$1))","v":0},{"$f":"IF(BL$1>$E$11,0,IF($G58=0,0,(BL$1-$G58)*Hoja1!$A$1/BL$1))","v":0},{"$f":"IF(BM$1>$E$11,0,IF($G58=0,0,(BM$1-$G58)*Hoja1!$A$1/BM$1))","v":0},{"$f":"IF(BN$1>$E$11,0,IF($G58=0,0,(BN$1-$G58)*Hoja1!$A$1/BN$1))","v":0},{"$f":"IF(BO$1>$E$11,0,IF($G58=0,0,(BO$1-$G58)*Hoja1!$A$1/BO$1))","v":0},{"$f":"IF(BP$1>$E$11,0,IF($G58=0,0,(BP$1-$G58)*Hoja1!$A$1/BP$1))","v":0},{"$f":"IF(BQ$1>$E$11,0,IF($G58=0,0,(BQ$1-$G58)*Hoja1!$A$1/BQ$1))","v":0},{"$f":"IF(BR$1>$E$11,0,IF($G58=0,0,(BR$1-$G58)*Hoja1!$A$1/BR$1))","v":0},{"$f":"IF(BS$1>$E$11,0,IF($G58=0,0,(BS$1-$G58)*Hoja1!$A$1/BS$1))","v":0},{"$f":"IF(BT$1>$E$11,0,IF($G58=0,0,(BT$1-$G58)*Hoja1!$A$1/BT$1))","v":0},{"$f":"IF(BU$1>$E$11,0,IF($G58=0,0,(BU$1-$G58)*Hoja1!$A$1/BU$1))","v":0},{"$f":"IF(BV$1>$E$11,0,IF($G58=0,0,(BV$1-$G58)*Hoja1!$A$1/BV$1))","v":0},{"$f":"IF(BW$1>$E$11,0,IF($G58=0,0,(BW$1-$G58)*Hoja1!$A$1/BW$1))","v":0},{"$f":"IF(BX$1>$E$11,0,IF($G58=0,0,(BX$1-$G58)*Hoja1!$A$1/BX$1))","v":0},{"$f":"IF(BY$1>$E$11,0,IF($G58=0,0,(BY$1-$G58)*Hoja1!$A$1/BY$1))","v":0},{"$f":"IF(BZ$1>$E$11,0,IF($G58=0,0,(BZ$1-$G58)*Hoja1!$A$1/BZ$1))","v":0},{"$f":"IF(CA$1>$E$11,0,IF($G58=0,0,(CA$1-$G58)*Hoja1!$A$1/CA$1))","v":0},{"$f":"IF(CB$1>$E$11,0,IF($G58=0,0,(CB$1-$G58)*Hoja1!$A$1/CB$1))","v":0},{"$f":"IF(CC$1>$E$11,0,IF($G58=0,0,(CC$1-$G58)*Hoja1!$A$1/CC$1))","v":0},{"$f":"IF(CD$1>$E$11,0,IF($G58=0,0,(CD$1-$G58)*Hoja1!$A$1/CD$1))","v":0},{"$f":"IF(CE$1>$E$11,0,IF($G58=0,0,(CE$1-$G58)*Hoja1!$A$1/CE$1))","v":0},{"$f":"IF(CF$1>$E$11,0,IF($G58=0,0,(CF$1-$G58)*Hoja1!$A$1/CF$1))","v":0},{"$f":"IF(CG$1>$E$11,0,IF($G58=0,0,(CG$1-$G58)*Hoja1!$A$1/CG$1))","v":0},{"$f":"IF(CH$1>$E$11,0,IF($G58=0,0,(CH$1-$G58)*Hoja1!$A$1/CH$1))","v":0},{"$f":"IF(CI$1>$E$11,0,IF($G58=0,0,(CI$1-$G58)*Hoja1!$A$1/CI$1))","v":0},{"$f":"IF(CJ$1>$E$11,0,IF($G58=0,0,(CJ$1-$G58)*Hoja1!$A$1/CJ$1))","v":0},{"$f":"IF(CK$1>$E$11,0,IF($G58=0,0,(CK$1-$G58)*Hoja1!$A$1/CK$1))","v":0},{"$f":"IF(CL$1>$E$11,0,IF($G58=0,0,(CL$1-$G58)*Hoja1!$A$1/CL$1))","v":0},{"$f":"IF(CM$1>$E$11,0,IF($G58=0,0,(CM$1-$G58)*Hoja1!$A$1/CM$1))","v":0},{"$f":"IF(CN$1>$E$11,0,IF($G58=0,0,(CN$1-$G58)*Hoja1!$A$1/CN$1))","v":0},{"$f":"IF(CO$1>$E$11,0,IF($G58=0,0,(CO$1-$G58)*Hoja1!$A$1/CO$1))","v":0},{"$f":"IF(CP$1>$E$11,0,IF($G58=0,0,(CP$1-$G58)*Hoja1!$A$1/CP$1))","v":0},{"$f":"IF(CQ$1>$E$11,0,IF($G58=0,0,(CQ$1-$G58)*Hoja1!$A$1/CQ$1))","v":0},{"$f":"IF(CR$1>$E$11,0,IF($G58=0,0,(CR$1-$G58)*Hoja1!$A$1/CR$1))","v":0},{"$f":"IF(CS$1>$E$11,0,IF($G58=0,0,(CS$1-$G58)*Hoja1!$A$1/CS$1))","v":0},{"$f":"IF(CT$1>$E$11,0,IF($G58=0,0,(CT$1-$G58)*Hoja1!$A$1/CT$1))","v":0},{"$f":"IF(CU$1>$E$11,0,IF($G58=0,0,(CU$1-$G58)*Hoja1!$A$1/CU$1))","v":0},{"$f":"IF(CV$1>$E$11,0,IF($G58=0,0,(CV$1-$G58)*Hoja1!$A$1/CV$1))","v":0},{"$f":"IF(CW$1>$E$11,0,IF($G58=0,0,(CW$1-$G58)*Hoja1!$A$1/CW$1))","v":0},{"$f":"IF(CX$1>$E$11,0,IF($G58=0,0,(CX$1-$G58)*Hoja1!$A$1/CX$1))","v":0},{"$f":"IF(CY$1>$E$11,0,IF($G58=0,0,(CY$1-$G58)*Hoja1!$A$1/CY$1))","v":0},{"$f":"IF(CZ$1>$E$11,0,IF($G58=0,0,(CZ$1-$G58)*Hoja1!$A$1/CZ$1))","v":0},{"$f":"IF(DA$1>$E$11,0,IF($G58=0,0,(DA$1-$G58)*Hoja1!$A$1/DA$1))","v":0},{"$f":"IF(DB$1>$E$11,0,IF($G58=0,0,(DB$1-$G58)*Hoja1!$A$1/DB$1))","v":0},{"$f":"IF(DC$1>$E$11,0,IF($G58=0,0,(DC$1-$G58)*Hoja1!$A$1/DC$1))","v":0},{"$f":"IF(DD$1>$E$11,0,IF($G58=0,0,(DD$1-$G58)*Hoja1!$A$1/DD$1))","v":0},{"$f":"IF(DE$1>$E$11,0,IF($G58=0,0,(DE$1-$G58)*Hoja1!$A$1/DE$1))","v":0},{"$f":"IF(DF$1>$E$11,0,IF($G58=0,0,(DF$1-$G58)*Hoja1!$A$1/DF$1))","v":0},{"$f":"IF(DG$1>$E$11,0,IF($G58=0,0,(DG$1-$G58)*Hoja1!$A$1/DG$1))","v":0},{"$f":"IF(DH$1>$E$11,0,IF($G58=0,0,(DH$1-$G58)*Hoja1!$A$1/DH$1))","v":0},{"$f":"IF(DI$1>$E$11,0,IF($G58=0,0,(DI$1-$G58)*Hoja1!$A$1/DI$1))","v":0},{"$f":"IF(DJ$1>$E$11,0,IF($G58=0,0,(DJ$1-$G58)*Hoja1!$A$1/DJ$1))","v":0},{"$f":"IF(DK$1>$E$11,0,IF($G58=0,0,(DK$1-$G58)*Hoja1!$A$1/DK$1))","v":0},{"$f":"IF(DL$1>$E$11,0,IF($G58=0,0,(DL$1-$G58)*Hoja1!$A$1/DL$1))","v":0},{"$f":"IF(DM$1>$E$11,0,IF($G58=0,0,(DM$1-$G58)*Hoja1!$A$1/DM$1))","v":0}]
[null,null,null,null,null,731.35500000000081,0,{"$f":"IF(H$1>$E$11,0,IF($G59=0,0,(H$1-$G59)*Hoja1!$A$1/H$1))","v":0},{"$f":"IF(I$1>$E$11,0,IF($G59=0,0,(I$1-$G59)*Hoja1!$A$1/I$1))","v":0},{"$f":"IF(J$1>$E$11,0,IF($G59=0,0,(J$1-$G59)*Hoja1!$A$1/J$1))","v":0},{"$f":"IF(K$1>$E$11,0,IF($G59=0,0,(K$1-$G59)*Hoja1!$A$1/K$1))","v":0},{"$f":"IF(L$1>$E$11,0,IF($G59=0,0,(L$1-$G59)*Hoja1!$A$1/L$1))","v":0},{"$f":"IF(M$1>$E$11,0,IF($G59=0,0,(M$1-$G59)*Hoja1!$A$1/M$1))","v":0},{"$f":"IF(N$1>$E$11,0,IF($G59=0,0,(N$1-$G59)*Hoja1!$A$1/N$1))","v":0},{"$f":"IF(O$1>$E$11,0,IF($G59=0,0,(O$1-$G59)*Hoja1!$A$1/O$1))","v":0},{"$f":"IF(P$1>$E$11,0,IF($G59=0,0,(P$1-$G59)*Hoja1!$A$1/P$1))","v":0},{"$f":"IF(Q$1>$E$11,0,IF($G59=0,0,(Q$1-$G59)*Hoja1!$A$1/Q$1))","v":0},{"$f":"IF(R$1>$E$11,0,IF($G59=0,0,(R$1-$G59)*Hoja1!$A$1/R$1))","v":0},{"$f":"IF(S$1>$E$11,0,IF($G59=0,0,(S$1-$G59)*Hoja1!$A$1/S$1))","v":0},{"$f":"IF(T$1>$E$11,0,IF($G59=0,0,(T$1-$G59)*Hoja1!$A$1/T$1))","v":0},{"$f":"IF(U$1>$E$11,0,IF($G59=0,0,(U$1-$G59)*Hoja1!$A$1/U$1))","v":0},{"$f":"IF(V$1>$E$11,0,IF($G59=0,0,(V$1-$G59)*Hoja1!$A$1/V$1))","v":0},{"$f":"IF(W$1>$E$11,0,IF($G59=0,0,(W$1-$G59)*Hoja1!$A$1/W$1))","v":0},{"$f":"IF(X$1>$E$11,0,IF($G59=0,0,(X$1-$G59)*Hoja1!$A$1/X$1))","v":0},{"$f":"IF(Y$1>$E$11,0,IF($G59=0,0,(Y$1-$G59)*Hoja1!$A$1/Y$1))","v":0},{"$f":"IF(Z$1>$E$11,0,IF($G59=0,0,(Z$1-$G59)*Hoja1!$A$1/Z$1))","v":0},{"$f":"IF(AA$1>$E$11,0,IF($G59=0,0,(AA$1-$G59)*Hoja1!$A$1/AA$1))","v":0},{"$f":"IF(AB$1>$E$11,0,IF($G59=0,0,(AB$1-$G59)*Hoja1!$A$1/AB$1))","v":0},{"$f":"IF(AC$1>$E$11,0,IF($G59=0,0,(AC$1-$G59)*Hoja1!$A$1/AC$1))","v":0},{"$f":"IF(AD$1>$E$11,0,IF($G59=0,0,(AD$1-$G59)*Hoja1!$A$1/AD$1))","v":0},{"$f":"IF(AE$1>$E$11,0,IF($G59=0,0,(AE$1-$G59)*Hoja1!$A$1/AE$1))","v":0},{"$f":"IF(AF$1>$E$11,0,IF($G59=0,0,(AF$1-$G59)*Hoja1!$A$1/AF$1))","v":0},{"$f":"IF(AG$1>$E$11,0,IF($G59=0,0,(AG$1-$G59)*Hoja1!$A$1/AG$1))","v":0},{"$f":"IF(AH$1>$E$11,0,IF($G59=0,0,(AH$1-$G59)*Hoja1!$A$1/AH$1))","v":0},{"$f":"IF(AI$1>$E$11,0,IF($G59=0,0,(AI$1-$G59)*Hoja1!$A$1/AI$1))","v":0},{"$f":"IF(AJ$1>$E$11,0,IF($G59=0,0,(AJ$1-$G59)*Hoja1!$A$1/AJ$1))","v":0},{"$f":"IF(AK$1>$E$11,0,IF($G59=0,0,(AK$1-$G59)*Hoja1!$A$1/AK$1))","v":0},{"$f":"IF(AL$1>$E$11,0,IF($G59=0,0,(AL$1-$G59)*Hoja1!$A$1/AL$1))","v":0},{"$f":"IF(AM$1>$E$11,0,IF($G59=0,0,(AM$1-$G59)*Hoja1!$A$1/AM$1))","v":0},{"$f":"IF(AN$1>$E$11,0,IF($G59=0,0,(AN$1-$G59)*Hoja1!$A$1/AN$1))","v":0},{"$f":"IF(AO$1>$E$11,0,IF($G59=0,0,(AO$1-$G59)*Hoja1!$A$1/AO$1))","v":0},{"$f":"IF(AP$1>$E$11,0,IF($G59=0,0,(AP$1-$G59)*Hoja1!$A$1/AP$1))","v":0},{"$f":"IF(AQ$1>$E$11,0,IF($G59=0,0,(AQ$1-$G59)*Hoja1!$A$1/AQ$1))","v":0},{"$f":"IF(AR$1>$E$11,0,IF($G59=0,0,(AR$1-$G59)*Hoja1!$A$1/AR$1))","v":0},{"$f":"IF(AS$1>$E$11,0,IF($G59=0,0,(AS$1-$G59)*Hoja1!$A$1/AS$1))","v":0},{"$f":"IF(AT$1>$E$11,0,IF($G59=0,0,(AT$1-$G59)*Hoja1!$A$1/AT$1))","v":0},{"$f":"IF(AU$1>$E$11,0,IF($G59=0,0,(AU$1-$G59)*Hoja1!$A$1/AU$1))","v":0},{"$f":"IF(AV$1>$E$11,0,IF($G59=0,0,(AV$1-$G59)*Hoja1!$A$1/AV$1))","v":0},{"$f":"IF(AW$1>$E$11,0,IF($G59=0,0,(AW$1-$G59)*Hoja1!$A$1/AW$1))","v":0},{"$f":"IF(AX$1>$E$11,0,IF($G59=0,0,(AX$1-$G59)*Hoja1!$A$1/AX$1))","v":0},{"$f":"IF(AY$1>$E$11,0,IF($G59=0,0,(AY$1-$G59)*Hoja1!$A$1/AY$1))","v":0},{"$f":"IF(AZ$1>$E$11,0,IF($G59=0,0,(AZ$1-$G59)*Hoja1!$A$1/AZ$1))","v":0},{"$f":"IF(BA$1>$E$11,0,IF($G59=0,0,(BA$1-$G59)*Hoja1!$A$1/BA$1))","v":0},{"$f":"IF(BB$1>$E$11,0,IF($G59=0,0,(BB$1-$G59)*Hoja1!$A$1/BB$1))","v":0},{"$f":"IF(BC$1>$E$11,0,IF($G59=0,0,(BC$1-$G59)*Hoja1!$A$1/BC$1))","v":0},{"$f":"IF(BD$1>$E$11,0,IF($G59=0,0,(BD$1-$G59)*Hoja1!$A$1/BD$1))","v":0},{"$f":"IF(BE$1>$E$11,0,IF($G59=0,0,(BE$1-$G59)*Hoja1!$A$1/BE$1))","v":0},{"$f":"IF(BF$1>$E$11,0,IF($G59=0,0,(BF$1-$G59)*Hoja1!$A$1/BF$1))","v":0},{"$f":"IF(BG$1>$E$11,0,IF($G59=0,0,(BG$1-$G59)*Hoja1!$A$1/BG$1))","v":0},{"$f":"IF(BH$1>$E$11,0,IF($G59=0,0,(BH$1-$G59)*Hoja1!$A$1/BH$1))","v":0},{"$f":"IF(BI$1>$E$11,0,IF($G59=0,0,(BI$1-$G59)*Hoja1!$A$1/BI$1))","v":0},{"$f":"IF(BJ$1>$E$11,0,IF($G59=0,0,(BJ$1-$G59)*Hoja1!$A$1/BJ$1))","v":0},{"$f":"IF(BK$1>$E$11,0,IF($G59=0,0,(BK$1-$G59)*Hoja1!$A$1/BK$1))","v":0},{"$f":"IF(BL$1>$E$11,0,IF($G59=0,0,(BL$1-$G59)*Hoja1!$A$1/BL$1))","v":0},{"$f":"IF(BM$1>$E$11,0,IF($G59=0,0,(BM$1-$G59)*Hoja1!$A$1/BM$1))","v":0},{"$f":"IF(BN$1>$E$11,0,IF($G59=0,0,(BN$1-$G59)*Hoja1!$A$1/BN$1))","v":0},{"$f":"IF(BO$1>$E$11,0,IF($G59=0,0,(BO$1-$G59)*Hoja1!$A$1/BO$1))","v":0},{"$f":"IF(BP$1>$E$11,0,IF($G59=0,0,(BP$1-$G59)*Hoja1!$A$1/BP$1))","v":0},{"$f":"IF(BQ$1>$E$11,0,IF($G59=0,0,(BQ$1-$G59)*Hoja1!$A$1/BQ$1))","v":0},{"$f":"IF(BR$1>$E$11,0,IF($G59=0,0,(BR$1-$G59)*Hoja1!$A$1/BR$1))","v":0},{"$f":"IF(BS$1>$E$11,0,IF($G59=0,0,(BS$1-$G59)*Hoja1!$A$1/BS$1))","v":0},{"$f":"IF(BT$1>$E$11,0,IF($G59=0,0,(BT$1-$G59)*Hoja1!$A$1/BT$1))","v":0},{"$f":"IF(BU$1>$E$11,0,IF($G59=0,0,(BU$1-$G59)*Hoja1!$A$1/BU$1))","v":0},{"$f":"IF(BV$1>$E$11,0,IF($G59=0,0,(BV$1-$G59)*Hoja1!$A$1/BV$1))","v":0},{"$f":"IF(BW$1>$E$11,0,IF($G59=0,0,(BW$1-$G59)*Hoja1!$A$1/BW$1))","v":0},{"$f":"IF(BX$1>$E$11,0,IF($G59=0,0,(BX$1-$G59)*Hoja1!$A$1/BX$1))","v":0},{"$f":"IF(BY$1>$E$11,0,IF($G59=0,0,(BY$1-$G59)*Hoja1!$A$1/BY$1))","v":0},{"$f":"IF(BZ$1>$E$11,0,IF($G59=0,0,(BZ$1-$G59)*Hoja1!$A$1/BZ$1))","v":0},{"$f":"IF(CA$1>$E$11,0,IF($G59=0,0,(CA$1-$G59)*Hoja1!$A$1/CA$1))","v":0},{"$f":"IF(CB$1>$E$11,0,IF($G59=0,0,(CB$1-$G59)*Hoja1!$A$1/CB$1))","v":0},{"$f":"IF(CC$1>$E$11,0,IF($G59=0,0,(CC$1-$G59)*Hoja1!$A$1/CC$1))","v":0},{"$f":"IF(CD$1>$E$11,0,IF($G59=0,0,(CD$1-$G59)*Hoja1!$A$1/CD$1))","v":0},{"$f":"IF(CE$1>$E$11,0,IF($G59=0,0,(CE$1-$G59)*Hoja1!$A$1/CE$1))","v":0},{"$f":"IF(CF$1>$E$11,0,IF($G59=0,0,(CF$1-$G59)*Hoja1!$A$1/CF$1))","v":0},{"$f":"IF(CG$1>$E$11,0,IF($G59=0,0,(CG$1-$G59)*Hoja1!$A$1/CG$1))","v":0},{"$f":"IF(CH$1>$E$11,0,IF($G59=0,0,(CH$1-$G59)*Hoja1!$A$1/CH$1))","v":0},{"$f":"IF(CI$1>$E$11,0,IF($G59=0,0,(CI$1-$G59)*Hoja1!$A$1/CI$1))","v":0},{"$f":"IF(CJ$1>$E$11,0,IF($G59=0,0,(CJ$1-$G59)*Hoja1!$A$1/CJ$1))","v":0},{"$f":"IF(CK$1>$E$11,0,IF($G59=0,0,(CK$1-$G59)*Hoja1!$A$1/CK$1))","v":0},{"$f":"IF(CL$1>$E$11,0,IF($G59=0,0,(CL$1-$G59)*Hoja1!$A$1/CL$1))","v":0},{"$f":"IF(CM$1>$E$11,0,IF($G59=0,0,(CM$1-$G59)*Hoja1!$A$1/CM$1))","v":0},{"$f":"IF(CN$1>$E$11,0,IF($G59=0,0,(CN$1-$G59)*Hoja1!$A$1/CN$1))","v":0},{"$f":"IF(CO$1>$E$11,0,IF($G59=0,0,(CO$1-$G59)*Hoja1!$A$1/CO$1))","v":0},{"$f":"IF(CP$1>$E$11,0,IF($G59=0,0,(CP$1-$G59)*Hoja1!$A$1/CP$1))","v":0},{"$f":"IF(CQ$1>$E$11,0,IF($G59=0,0,(CQ$1-$G59)*Hoja1!$A$1/CQ$1))","v":0},{"$f":"IF(CR$1>$E$11,0,IF($G59=0,0,(CR$1-$G59)*Hoja1!$A$1/CR$1))","v":0},{"$f":"IF(CS$1>$E$11,0,IF($G59=0,0,(CS$1-$G59)*Hoja1!$A$1/CS$1))","v":0},{"$f":"IF(CT$1>$E$11,0,IF($G59=0,0,(CT$1-$G59)*Hoja1!$A$1/CT$1))","v":0},{"$f":"IF(CU$1>$E$11,0,IF($G59=0,0,(CU$1-$G59)*Hoja1!$A$1/CU$1))","v":0},{"$f":"IF(CV$1>$E$11,0,IF($G59=0,0,(CV$1-$G59)*Hoja1!$A$1/CV$1))","v":0},{"$f":"IF(CW$1>$E$11,0,IF($G59=0,0,(CW$1-$G59)*Hoja1!$A$1/CW$1))","v":0},{"$f":"IF(CX$1>$E$11,0,IF($G59=0,0,(CX$1-$G59)*Hoja1!$A$1/CX$1))","v":0},{"$f":"IF(CY$1>$E$11,0,IF($G59=0,0,(CY$1-$G59)*Hoja1!$A$1/CY$1))","v":0},{"$f":"IF(CZ$1>$E$11,0,IF($G59=0,0,(CZ$1-$G59)*Hoja1!$A$1/CZ$1))","v":0},{"$f":"IF(DA$1>$E$11,0,IF($G59=0,0,(DA$1-$G59)*Hoja1!$A$1/DA$1))","v":0},{"$f":"IF(DB$1>$E$11,0,IF($G59=0,0,(DB$1-$G59)*Hoja1!$A$1/DB$1))","v":0},{"$f":"IF(DC$1>$E$11,0,IF($G59=0,0,(DC$1-$G59)*Hoja1!$A$1/DC$1))","v":0},{"$f":"IF(DD$1>$E$11,0,IF($G59=0,0,(DD$1-$G59)*Hoja1!$A$1/DD$1))","v":0},{"$f":"IF(DE$1>$E$11,0,IF($G59=0,0,(DE$1-$G59)*Hoja1!$A$1/DE$1))","v":0},{"$f":"IF(DF$1>$E$11,0,IF($G59=0,0,(DF$1-$G59)*Hoja1!$A$1/DF$1))","v":0},{"$f":"IF(DG$1>$E$11,0,IF($G59=0,0,(DG$1-$G59)*Hoja1!$A$1/DG$1))","v":0},{"$f":"IF(DH$1>$E$11,0,IF($G59=0,0,(DH$1-$G59)*Hoja1!$A$1/DH$1))","v":0},{"$f":"IF(DI$1>$E$11,0,IF($G59=0,0,(DI$1-$G59)*Hoja1!$A$1/DI$1))","v":0},{"$f":"IF(DJ$1>$E$11,0,IF($G59=0,0,(DJ$1-$G59)*Hoja1!$A$1/DJ$1))","v":0},{"$f":"IF(DK$1>$E$11,0,IF($G59=0,0,(DK$1-$G59)*Hoja1!$A$1/DK$1))","v":0},{"$f":"IF(DL$1>$E$11,0,IF($G59=0,0,(DL$1-$G59)*Hoja1!$A$1/DL$1))","v":0},{"$f":"IF(DM$1>$E$11,0,IF($G59=0,0,(DM$1-$G59)*Hoja1!$A$1/DM$1))","v":0}]
[null,null,null,null,null,744.54500000000087,0,{"$f":"IF(H$1>$E$11,0,IF($G60=0,0,(H$1-$G60)*Hoja1!$A$1/H$1))","v":0},{"$f":"IF(I$1>$E$11,0,IF($G60=0,0,(I$1-$G60)*Hoja1!$A$1/I$1))","v":0},{"$f":"IF(J$1>$E$11,0,IF($G60=0,0,(J$1-$G60)*Hoja1!$A$1/J$1))","v":0},{"$f":"IF(K$1>$E$11,0,IF($G60=0,0,(K$1-$G60)*Hoja1!$A$1/K$1))","v":0},{"$f":"IF(L$1>$E$11,0,IF($G60=0,0,(L$1-$G60)*Hoja1!$A$1/L$1))","v":0},{"$f":"IF(M$1>$E$11,0,IF($G60=0,0,(M$1-$G60)*Hoja1!$A$1/M$1))","v":0},{"$f":"IF(N$1>$E$11,0,IF($G60=0,0,(N$1-$G60)*Hoja1!$A$1/N$1))","v":0},{"$f":"IF(O$1>$E$11,0,IF($G60=0,0,(O$1-$G60)*Hoja1!$A$1/O$1))","v":0},{"$f":"IF(P$1>$E$11,0,IF($G60=0,0,(P$1-$G60)*Hoja1!$A$1/P$1))","v":0},{"$f":"IF(Q$1>$E$11,0,IF($G60=0,0,(Q$1-$G60)*Hoja1!$A$1/Q$1))","v":0},{"$f":"IF(R$1>$E$11,0,IF($G60=0,0,(R$1-$G60)*Hoja1!$A$1/R$1))","v":0},{"$f":"IF(S$1>$E$11,0,IF($G60=0,0,(S$1-$G60)*Hoja1!$A$1/S$1))","v":0},{"$f":"IF(T$1>$E$11,0,IF($G60=0,0,(T$1-$G60)*Hoja1!$A$1/T$1))","v":0},{"$f":"IF(U$1>$E$11,0,IF($G60=0,0,(U$1-$G60)*Hoja1!$A$1/U$1))","v":0},{"$f":"IF(V$1>$E$11,0,IF($G60=0,0,(V$1-$G60)*Hoja1!$A$1/V$1))","v":0},{"$f":"IF(W$1>$E$11,0,IF($G60=0,0,(W$1-$G60)*Hoja1!$A$1/W$1))","v":0},{"$f":"IF(X$1>$E$11,0,IF($G60=0,0,(X$1-$G60)*Hoja1!$A$1/X$1))","v":0},{"$f":"IF(Y$1>$E$11,0,IF($G60=0,0,(Y$1-$G60)*Hoja1!$A$1/Y$1))","v":0},{"$f":"IF(Z$1>$E$11,0,IF($G60=0,0,(Z$1-$G60)*Hoja1!$A$1/Z$1))","v":0},{"$f":"IF(AA$1>$E$11,0,IF($G60=0,0,(AA$1-$G60)*Hoja1!$A$1/AA$1))","v":0},{"$f":"IF(AB$1>$E$11,0,IF($G60=0,0,(AB$1-$G60)*Hoja1!$A$1/AB$1))","v":0},{"$f":"IF(AC$1>$E$11,0,IF($G60=0,0,(AC$1-$G60)*Hoja1!$A$1/AC$1))","v":0},{"$f":"IF(AD$1>$E$11,0,IF($G60=0,0,(AD$1-$G60)*Hoja1!$A$1/AD$1))","v":0},{"$f":"IF(AE$1>$E$11,0,IF($G60=0,0,(AE$1-$G60)*Hoja1!$A$1/AE$1))","v":0},{"$f":"IF(AF$1>$E$11,0,IF($G60=0,0,(AF$1-$G60)*Hoja1!$A$1/AF$1))","v":0},{"$f":"IF(AG$1>$E$11,0,IF($G60=0,0,(AG$1-$G60)*Hoja1!$A$1/AG$1))","v":0},{"$f":"IF(AH$1>$E$11,0,IF($G60=0,0,(AH$1-$G60)*Hoja1!$A$1/AH$1))","v":0},{"$f":"IF(AI$1>$E$11,0,IF($G60=0,0,(AI$1-$G60)*Hoja1!$A$1/AI$1))","v":0},{"$f":"IF(AJ$1>$E$11,0,IF($G60=0,0,(AJ$1-$G60)*Hoja1!$A$1/AJ$1))","v":0},{"$f":"IF(AK$1>$E$11,0,IF($G60=0,0,(AK$1-$G60)*Hoja1!$A$1/AK$1))","v":0},{"$f":"IF(AL$1>$E$11,0,IF($G60=0,0,(AL$1-$G60)*Hoja1!$A$1/AL$1))","v":0},{"$f":"IF(AM$1>$E$11,0,IF($G60=0,0,(AM$1-$G60)*Hoja1!$A$1/AM$1))","v":0},{"$f":"IF(AN$1>$E$11,0,IF($G60=0,0,(AN$1-$G60)*Hoja1!$A$1/AN$1))","v":0},{"$f":"IF(AO$1>$E$11,0,IF($G60=0,0,(AO$1-$G60)*Hoja1!$A$1/AO$1))","v":0},{"$f":"IF(AP$1>$E$11,0,IF($G60=0,0,(AP$1-$G60)*Hoja1!$A$1/AP$1))","v":0},{"$f":"IF(AQ$1>$E$11,0,IF($G60=0,0,(AQ$1-$G60)*Hoja1!$A$1/AQ$1))","v":0},{"$f":"IF(AR$1>$E$11,0,IF($G60=0,0,(AR$1-$G60)*Hoja1!$A$1/AR$1))","v":0},{"$f":"IF(AS$1>$E$11,0,IF($G60=0,0,(AS$1-$G60)*Hoja1!$A$1/AS$1))","v":0},{"$f":"IF(AT$1>$E$11,0,IF($G60=0,0,(AT$1-$G60)*Hoja1!$A$1/AT$1))","v":0},{"$f":"IF(AU$1>$E$11,0,IF($G60=0,0,(AU$1-$G60)*Hoja1!$A$1/AU$1))","v":0},{"$f":"IF(AV$1>$E$11,0,IF($G60=0,0,(AV$1-$G60)*Hoja1!$A$1/AV$1))","v":0},{"$f":"IF(AW$1>$E$11,0,IF($G60=0,0,(AW$1-$G60)*Hoja1!$A$1/AW$1))","v":0},{"$f":"IF(AX$1>$E$11,0,IF($G60=0,0,(AX$1-$G60)*Hoja1!$A$1/AX$1))","v":0},{"$f":"IF(AY$1>$E$11,0,IF($G60=0,0,(AY$1-$G60)*Hoja1!$A$1/AY$1))","v":0},{"$f":"IF(AZ$1>$E$11,0,IF($G60=0,0,(AZ$1-$G60)*Hoja1!$A$1/AZ$1))","v":0},{"$f":"IF(BA$1>$E$11,0,IF($G60=0,0,(BA$1-$G60)*Hoja1!$A$1/BA$1))","v":0},{"$f":"IF(BB$1>$E$11,0,IF($G60=0,0,(BB$1-$G60)*Hoja1!$A$1/BB$1))","v":0},{"$f":"IF(BC$1>$E$11,0,IF($G60=0,0,(BC$1-$G60)*Hoja1!$A$1/BC$1))","v":0},{"$f":"IF(BD$1>$E$11,0,IF($G60=0,0,(BD$1-$G60)*Hoja1!$A$1/BD$1))","v":0},{"$f":"IF(BE$1>$E$11,0,IF($G60=0,0,(BE$1-$G60)*Hoja1!$A$1/BE$1))","v":0},{"$f":"IF(BF$1>$E$11,0,IF($G60=0,0,(BF$1-$G60)*Hoja1!$A$1/BF$1))","v":0},{"$f":"IF(BG$1>$E$11,0,IF($G60=0,0,(BG$1-$G60)*Hoja1!$A$1/BG$1))","v":0},{"$f":"IF(BH$1>$E$11,0,IF($G60=0,0,(BH$1-$G60)*Hoja1!$A$1/BH$1))","v":0},{"$f":"IF(BI$1>$E$11,0,IF($G60=0,0,(BI$1-$G60)*Hoja1!$A$1/BI$1))","v":0},{"$f":"IF(BJ$1>$E$11,0,IF($G60=0,0,(BJ$1-$G60)*Hoja1!$A$1/BJ$1))","v":0},{"$f":"IF(BK$1>$E$11,0,IF($G60=0,0,(BK$1-$G60)*Hoja1!$A$1/BK$1))","v":0},{"$f":"IF(BL$1>$E$11,0,IF($G60=0,0,(BL$1-$G60)*Hoja1!$A$1/BL$1))","v":0},{"$f":"IF(BM$1>$E$11,0,IF($G60=0,0,(BM$1-$G60)*Hoja1!$A$1/BM$1))","v":0},{"$f":"IF(BN$1>$E$11,0,IF($G60=0,0,(BN$1-$G60)*Hoja1!$A$1/BN$1))","v":0},{"$f":"IF(BO$1>$E$11,0,IF($G60=0,0,(BO$1-$G60)*Hoja1!$A$1/BO$1))","v":0},{"$f":"IF(BP$1>$E$11,0,IF($G60=0,0,(BP$1-$G60)*Hoja1!$A$1/BP$1))","v":0},{"$f":"IF(BQ$1>$E$11,0,IF($G60=0,0,(BQ$1-$G60)*Hoja1!$A$1/BQ$1))","v":0},{"$f":"IF(BR$1>$E$11,0,IF($G60=0,0,(BR$1-$G60)*Hoja1!$A$1/BR$1))","v":0},{"$f":"IF(BS$1>$E$11,0,IF($G60=0,0,(BS$1-$G60)*Hoja1!$A$1/BS$1))","v":0},{"$f":"IF(BT$1>$E$11,0,IF($G60=0,0,(BT$1-$G60)*Hoja1!$A$1/BT$1))","v":0},{"$f":"IF(BU$1>$E$11,0,IF($G60=0,0,(BU$1-$G60)*Hoja1!$A$1/BU$1))","v":0},{"$f":"IF(BV$1>$E$11,0,IF($G60=0,0,(BV$1-$G60)*Hoja1!$A$1/BV$1))","v":0},{"$f":"IF(BW$1>$E$11,0,IF($G60=0,0,(BW$1-$G60)*Hoja1!$A$1/BW$1))","v":0},{"$f":"IF(BX$1>$E$11,0,IF($G60=0,0,(BX$1-$G60)*Hoja1!$A$1/BX$1))","v":0},{"$f":"IF(BY$1>$E$11,0,IF($G60=0,0,(BY$1-$G60)*Hoja1!$A$1/BY$1))","v":0},{"$f":"IF(BZ$1>$E$11,0,IF($G60=0,0,(BZ$1-$G60)*Hoja1!$A$1/BZ$1))","v":0},{"$f":"IF(CA$1>$E$11,0,IF($G60=0,0,(CA$1-$G60)*Hoja1!$A$1/CA$1))","v":0},{"$f":"IF(CB$1>$E$11,0,IF($G60=0,0,(CB$1-$G60)*Hoja1!$A$1/CB$1))","v":0},{"$f":"IF(CC$1>$E$11,0,IF($G60=0,0,(CC$1-$G60)*Hoja1!$A$1/CC$1))","v":0},{"$f":"IF(CD$1>$E$11,0,IF($G60=0,0,(CD$1-$G60)*Hoja1!$A$1/CD$1))","v":0},{"$f":"IF(CE$1>$E$11,0,IF($G60=0,0,(CE$1-$G60)*Hoja1!$A$1/CE$1))","v":0},{"$f":"IF(CF$1>$E$11,0,IF($G60=0,0,(CF$1-$G60)*Hoja1!$A$1/CF$1))","v":0},{"$f":"IF(CG$1>$E$11,0,IF($G60=0,0,(CG$1-$G60)*Hoja1!$A$1/CG$1))","v":0},{"$f":"IF(CH$1>$E$11,0,IF($G60=0,0,(CH$1-$G60)*Hoja1!$A$1/CH$1))","v":0},{"$f":"IF(CI$1>$E$11,0,IF($G60=0,0,(CI$1-$G60)*Hoja1!$A$1/CI$1))","v":0},{"$f":"IF(CJ$1>$E$11,0,IF($G60=0,0,(CJ$1-$G60)*Hoja1!$A$1/CJ$1))","v":0},{"$f":"IF(CK$1>$E$11,0,IF($G60=0,0,(CK$1-$G60)*Hoja1!$A$1/CK$1))","v":0},{"$f":"IF(CL$1>$E$11,0,IF($G60=0,0,(CL$1-$G60)*Hoja1!$A$1/CL$1))","v":0},{"$f":"IF(CM$1>$E$11,0,IF($G60=0,0,(CM$1-$G60)*Hoja1!$A$1/CM$1))","v":0},{"$f":"IF(CN$1>$E$11,0,IF($G60=0,0,(CN$1-$G60)*Hoja1!$A$1/CN$1))","v":0},{"$f":"IF(CO$1>$E$11,0,IF($G60=0,0,(CO$1-$G60)*Hoja1!$A$1/CO$1))","v":0},{"$f":"IF(CP$1>$E$11,0,IF($G60=0,0,(CP$1-$G60)*Hoja1!$A$1/CP$1))","v":0},{"$f":"IF(CQ$1>$E$11,0,IF($G60=0,0,(CQ$1-$G60)*Hoja1!$A$1/CQ$1))","v":0},{"$f":"IF(CR$1>$E$11,0,IF($G60=0,0,(CR$1-$G60)*Hoja1!$A$1/CR$1))","v":0},{"$f":"IF(CS$1>$E$11,0,IF($G60=0,0,(CS$1-$G60)*Hoja1!$A$1/CS$1))","v":0},{"$f":"IF(CT$1>$E$11,0,IF($G60=0,0,(CT$1-$G60)*Hoja1!$A$1/CT$1))","v":0},{"$f":"IF(CU$1>$E$11,0,IF($G60=0,0,(CU$1-$G60)*Hoja1!$A$1/CU$1))","v":0},{"$f":"IF(CV$1>$E$11,0,IF($G60=0,0,(CV$1-$G60)*Hoja1!$A$1/CV$1))","v":0},{"$f":"IF(CW$1>$E$11,0,IF($G60=0,0,(CW$1-$G60)*Hoja1!$A$1/CW$1))","v":0},{"$f":"IF(CX$1>$E$11,0,IF($G60=0,0,(CX$1-$G60)*Hoja1!$A$1/CX$1))","v":0},{"$f":"IF(CY$1>$E$11,0,IF($G60=0,0,(CY$1-$G60)*Hoja1!$A$1/CY$1))","v":0},{"$f":"IF(CZ$1>$E$11,0,IF($G60=0,0,(CZ$1-$G60)*Hoja1!$A$1/CZ$1))","v":0},{"$f":"IF(DA$1>$E$11,0,IF($G60=0,0,(DA$1-$G60)*Hoja1!$A$1/DA$1))","v":0},{"$f":"IF(DB$1>$E$11,0,IF($G60=0,0,(DB$1-$G60)*Hoja1!$A$1/DB$1))","v":0},{"$f":"IF(DC$1>$E$11,0,IF($G60=0,0,(DC$1-$G60)*Hoja1!$A$1/DC$1))","v":0},{"$f":"IF(DD$1>$E$11,0,IF($G60=0,0,(DD$1-$G60)*Hoja1!$A$1/DD$1))","v":0},{"$f":"IF(DE$1>$E$11,0,IF($G60=0,0,(DE$1-$G60)*Hoja1!$A$1/DE$1))","v":0},{"$f":"IF(DF$1>$E$11,0,IF($G60=0,0,(DF$1-$G60)*Hoja1!$A$1/DF$1))","v":0},{"$f":"IF(DG$1>$E$11,0,IF($G60=0,0,(DG$1-$G60)*Hoja1!$A$1/DG$1))","v":0},{"$f":"IF(DH$1>$E$11,0,IF($G60=0,0,(DH$1-$G60)*Hoja1!$A$1/DH$1))","v":0},{"$f":"IF(DI$1>$E$11,0,IF($G60=0,0,(DI$1-$G60)*Hoja1!$A$1/DI$1))","v":0},{"$f":"IF(DJ$1>$E$11,0,IF($G60=0,0,(DJ$1-$G60)*Hoja1!$A$1/DJ$1))","v":0},{"$f":"IF(DK$1>$E$11,0,IF($G60=0,0,(DK$1-$G60)*Hoja1!$A$1/DK$1))","v":0},{"$f":"IF(DL$1>$E$11,0,IF($G60=0,0,(DL$1-$G60)*Hoja1!$A$1/DL$1))","v":0},{"$f":"IF(DM$1>$E$11,0,IF($G60=0,0,(DM$1-$G60)*Hoja1!$A$1/DM$1))","v":0}]
[null,null,null,null,null,757.73500000000092,0,{"$f":"IF(H$1>$E$11,0,IF($G61=0,0,(H$1-$G61)*Hoja1!$A$1/H$1))","v":0},{"$f":"IF(I$1>$E$11,0,IF($G61=0,0,(I$1-$G61)*Hoja1!$A$1/I$1))","v":0},{"$f":"IF(J$1>$E$11,0,IF($G61=0,0,(J$1-$G61)*Hoja1!$A$1/J$1))","v":0},{"$f":"IF(K$1>$E$11,0,IF($G61=0,0,(K$1-$G61)*Hoja1!$A$1/K$1))","v":0},{"$f":"IF(L$1>$E$11,0,IF($G61=0,0,(L$1-$G61)*Hoja1!$A$1/L$1))","v":0},{"$f":"IF(M$1>$E$11,0,IF($G61=0,0,(M$1-$G61)*Hoja1!$A$1/M$1))","v":0},{"$f":"IF(N$1>$E$11,0,IF($G61=0,0,(N$1-$G61)*Hoja1!$A$1/N$1))","v":0},{"$f":"IF(O$1>$E$11,0,IF($G61=0,0,(O$1-$G61)*Hoja1!$A$1/O$1))","v":0},{"$f":"IF(P$1>$E$11,0,IF($G61=0,0,(P$1-$G61)*Hoja1!$A$1/P$1))","v":0},{"$f":"IF(Q$1>$E$11,0,IF($G61=0,0,(Q$1-$G61)*Hoja1!$A$1/Q$1))","v":0},{"$f":"IF(R$1>$E$11,0,IF($G61=0,0,(R$1-$G61)*Hoja1!$A$1/R$1))","v":0},{"$f":"IF(S$1>$E$11,0,IF($G61=0,0,(S$1-$G61)*Hoja1!$A$1/S$1))","v":0},{"$f":"IF(T$1>$E$11,0,IF($G61=0,0,(T$1-$G61)*Hoja1!$A$1/T$1))","v":0},{"$f":"IF(U$1>$E$11,0,IF($G61=0,0,(U$1-$G61)*Hoja1!$A$1/U$1))","v":0},{"$f":"IF(V$1>$E$11,0,IF($G61=0,0,(V$1-$G61)*Hoja1!$A$1/V$1))","v":0},{"$f":"IF(W$1>$E$11,0,IF($G61=0,0,(W$1-$G61)*Hoja1!$A$1/W$1))","v":0},{"$f":"IF(X$1>$E$11,0,IF($G61=0,0,(X$1-$G61)*Hoja1!$A$1/X$1))","v":0},{"$f":"IF(Y$1>$E$11,0,IF($G61=0,0,(Y$1-$G61)*Hoja1!$A$1/Y$1))","v":0},{"$f":"IF(Z$1>$E$11,0,IF($G61=0,0,(Z$1-$G61)*Hoja1!$A$1/Z$1))","v":0},{"$f":"IF(AA$1>$E$11,0,IF($G61=0,0,(AA$1-$G61)*Hoja1!$A$1/AA$1))","v":0},{"$f":"IF(AB$1>$E$11,0,IF($G61=0,0,(AB$1-$G61)*Hoja1!$A$1/AB$1))","v":0},{"$f":"IF(AC$1>$E$11,0,IF($G61=0,0,(AC$1-$G61)*Hoja1!$A$1/AC$1))","v":0},{"$f":"IF(AD$1>$E$11,0,IF($G61=0,0,(AD$1-$G61)*Hoja1!$A$1/AD$1))","v":0},{"$f":"IF(AE$1>$E$11,0,IF($G61=0,0,(AE$1-$G61)*Hoja1!$A$1/AE$1))","v":0},{"$f":"IF(AF$1>$E$11,0,IF($G61=0,0,(AF$1-$G61)*Hoja1!$A$1/AF$1))","v":0},{"$f":"IF(AG$1>$E$11,0,IF($G61=0,0,(AG$1-$G61)*Hoja1!$A$1/AG$1))","v":0},{"$f":"IF(AH$1>$E$11,0,IF($G61=0,0,(AH$1-$G61)*Hoja1!$A$1/AH$1))","v":0},{"$f":"IF(AI$1>$E$11,0,IF($G61=0,0,(AI$1-$G61)*Hoja1!$A$1/AI$1))","v":0},{"$f":"IF(AJ$1>$E$11,0,IF($G61=0,0,(AJ$1-$G61)*Hoja1!$A$1/AJ$1))","v":0},{"$f":"IF(AK$1>$E$11,0,IF($G61=0,0,(AK$1-$G61)*Hoja1!$A$1/AK$1))","v":0},{"$f":"IF(AL$1>$E$11,0,IF($G61=0,0,(AL$1-$G61)*Hoja1!$A$1/AL$1))","v":0},{"$f":"IF(AM$1>$E$11,0,IF($G61=0,0,(AM$1-$G61)*Hoja1!$A$1/AM$1))","v":0},{"$f":"IF(AN$1>$E$11,0,IF($G61=0,0,(AN$1-$G61)*Hoja1!$A$1/AN$1))","v":0},{"$f":"IF(AO$1>$E$11,0,IF($G61=0,0,(AO$1-$G61)*Hoja1!$A$1/AO$1))","v":0},{"$f":"IF(AP$1>$E$11,0,IF($G61=0,0,(AP$1-$G61)*Hoja1!$A$1/AP$1))","v":0},{"$f":"IF(AQ$1>$E$11,0,IF($G61=0,0,(AQ$1-$G61)*Hoja1!$A$1/AQ$1))","v":0},{"$f":"IF(AR$1>$E$11,0,IF($G61=0,0,(AR$1-$G61)*Hoja1!$A$1/AR$1))","v":0},{"$f":"IF(AS$1>$E$11,0,IF($G61=0,0,(AS$1-$G61)*Hoja1!$A$1/AS$1))","v":0},{"$f":"IF(AT$1>$E$11,0,IF($G61=0,0,(AT$1-$G61)*Hoja1!$A$1/AT$1))","v":0},{"$f":"IF(AU$1>$E$11,0,IF($G61=0,0,(AU$1-$G61)*Hoja1!$A$1/AU$1))","v":0},{"$f":"IF(AV$1>$E$11,0,IF($G61=0,0,(AV$1-$G61)*Hoja1!$A$1/AV$1))","v":0},{"$f":"IF(AW$1>$E$11,0,IF($G61=0,0,(AW$1-$G61)*Hoja1!$A$1/AW$1))","v":0},{"$f":"IF(AX$1>$E$11,0,IF($G61=0,0,(AX$1-$G61)*Hoja1!$A$1/AX$1))","v":0},{"$f":"IF(AY$1>$E$11,0,IF($G61=0,0,(AY$1-$G61)*Hoja1!$A$1/AY$1))","v":0},{"$f":"IF(AZ$1>$E$11,0,IF($G61=0,0,(AZ$1-$G61)*Hoja1!$A$1/AZ$1))","v":0},{"$f":"IF(BA$1>$E$11,0,IF($G61=0,0,(BA$1-$G61)*Hoja1!$A$1/BA$1))","v":0},{"$f":"IF(BB$1>$E$11,0,IF($G61=0,0,(BB$1-$G61)*Hoja1!$A$1/BB$1))","v":0},{"$f":"IF(BC$1>$E$11,0,IF($G61=0,0,(BC$1-$G61)*Hoja1!$A$1/BC$1))","v":0},{"$f":"IF(BD$1>$E$11,0,IF($G61=0,0,(BD$1-$G61)*Hoja1!$A$1/BD$1))","v":0},{"$f":"IF(BE$1>$E$11,0,IF($G61=0,0,(BE$1-$G61)*Hoja1!$A$1/BE$1))","v":0},{"$f":"IF(BF$1>$E$11,0,IF($G61=0,0,(BF$1-$G61)*Hoja1!$A$1/BF$1))","v":0},{"$f":"IF(BG$1>$E$11,0,IF($G61=0,0,(BG$1-$G61)*Hoja1!$A$1/BG$1))","v":0},{"$f":"IF(BH$1>$E$11,0,IF($G61=0,0,(BH$1-$G61)*Hoja1!$A$1/BH$1))","v":0},{"$f":"IF(BI$1>$E$11,0,IF($G61=0,0,(BI$1-$G61)*Hoja1!$A$1/BI$1))","v":0},{"$f":"IF(BJ$1>$E$11,0,IF($G61=0,0,(BJ$1-$G61)*Hoja1!$A$1/BJ$1))","v":0},{"$f":"IF(BK$1>$E$11,0,IF($G61=0,0,(BK$1-$G61)*Hoja1!$A$1/BK$1))","v":0},{"$f":"IF(BL$1>$E$11,0,IF($G61=0,0,(BL$1-$G61)*Hoja1!$A$1/BL$1))","v":0},{"$f":"IF(BM$1>$E$11,0,IF($G61=0,0,(BM$1-$G61)*Hoja1!$A$1/BM$1))","v":0},{"$f":"IF(BN$1>$E$11,0,IF($G61=0,0,(BN$1-$G61)*Hoja1!$A$1/BN$1))","v":0},{"$f":"IF(BO$1>$E$11,0,IF($G61=0,0,(BO$1-$G61)*Hoja1!$A$1/BO$1))","v":0},{"$f":"IF(BP$1>$E$11,0,IF($G61=0,0,(BP$1-$G61)*Hoja1!$A$1/BP$1))","v":0},{"$f":"IF(BQ$1>$E$11,0,IF($G61=0,0,(BQ$1-$G61)*Hoja1!$A$1/BQ$1))","v":0},{"$f":"IF(BR$1>$E$11,0,IF($G61=0,0,(BR$1-$G61)*Hoja1!$A$1/BR$1))","v":0},{"$f":"IF(BS$1>$E$11,0,IF($G61=0,0,(BS$1-$G61)*Hoja1!$A$1/BS$1))","v":0},{"$f":"IF(BT$1>$E$11,0,IF($G61=0,0,(BT$1-$G61)*Hoja1!$A$1/BT$1))","v":0},{"$f":"IF(BU$1>$E$11,0,IF($G61=0,0,(BU$1-$G61)*Hoja1!$A$1/BU$1))","v":0},{"$f":"IF(BV$1>$E$11,0,IF($G61=0,0,(BV$1-$G61)*Hoja1!$A$1/BV$1))","v":0},{"$f":"IF(BW$1>$E$11,0,IF($G61=0,0,(BW$1-$G61)*Hoja1!$A$1/BW$1))","v":0},{"$f":"IF(BX$1>$E$11,0,IF($G61=0,0,(BX$1-$G61)*Hoja1!$A$1/BX$1))","v":0},{"$f":"IF(BY$1>$E$11,0,IF($G61=0,0,(BY$1-$G61)*Hoja1!$A$1/BY$1))","v":0},{"$f":"IF(BZ$1>$E$11,0,IF($G61=0,0,(BZ$1-$G61)*Hoja1!$A$1/BZ$1))","v":0},{"$f":"IF(CA$1>$E$11,0,IF($G61=0,0,(CA$1-$G61)*Hoja1!$A$1/CA$1))","v":0},{"$f":"IF(CB$1>$E$11,0,IF($G61=0,0,(CB$1-$G61)*Hoja1!$A$1/CB$1))","v":0},{"$f":"IF(CC$1>$E$11,0,IF($G61=0,0,(CC$1-$G61)*Hoja1!$A$1/CC$1))","v":0},{"$f":"IF(CD$1>$E$11,0,IF($G61=0,0,(CD$1-$G61)*Hoja1!$A$1/CD$1))","v":0},{"$f":"IF(CE$1>$E$11,0,IF($G61=0,0,(CE$1-$G61)*Hoja1!$A$1/CE$1))","v":0},{"$f":"IF(CF$1>$E$11,0,IF($G61=0,0,(CF$1-$G61)*Hoja1!$A$1/CF$1))","v":0},{"$f":"IF(CG$1>$E$11,0,IF($G61=0,0,(CG$1-$G61)*Hoja1!$A$1/CG$1))","v":0},{"$f":"IF(CH$1>$E$11,0,IF($G61=0,0,(CH$1-$G61)*Hoja1!$A$1/CH$1))","v":0},{"$f":"IF(CI$1>$E$11,0,IF($G61=0,0,(CI$1-$G61)*Hoja1!$A$1/CI$1))","v":0},{"$f":"IF(CJ$1>$E$11,0,IF($G61=0,0,(CJ$1-$G61)*Hoja1!$A$1/CJ$1))","v":0},{"$f":"IF(CK$1>$E$11,0,IF($G61=0,0,(CK$1-$G61)*Hoja1!$A$1/CK$1))","v":0},{"$f":"IF(CL$1>$E$11,0,IF($G61=0,0,(CL$1-$G61)*Hoja1!$A$1/CL$1))","v":0},{"$f":"IF(CM$1>$E$11,0,IF($G61=0,0,(CM$1-$G61)*Hoja1!$A$1/CM$1))","v":0},{"$f":"IF(CN$1>$E$11,0,IF($G61=0,0,(CN$1-$G61)*Hoja1!$A$1/CN$1))","v":0},{"$f":"IF(CO$1>$E$11,0,IF($G61=0,0,(CO$1-$G61)*Hoja1!$A$1/CO$1))","v":0},{"$f":"IF(CP$1>$E$11,0,IF($G61=0,0,(CP$1-$G61)*Hoja1!$A$1/CP$1))","v":0},{"$f":"IF(CQ$1>$E$11,0,IF($G61=0,0,(CQ$1-$G61)*Hoja1!$A$1/CQ$1))","v":0},{"$f":"IF(CR$1>$E$11,0,IF($G61=0,0,(CR$1-$G61)*Hoja1!$A$1/CR$1))","v":0},{"$f":"IF(CS$1>$E$11,0,IF($G61=0,0,(CS$1-$G61)*Hoja1!$A$1/CS$1))","v":0},{"$f":"IF(CT$1>$E$11,0,IF($G61=0,0,(CT$1-$G61)*Hoja1!$A$1/CT$1))","v":0},{"$f":"IF(CU$1>$E$11,0,IF($G61=0,0,(CU$1-$G61)*Hoja1!$A$1/CU$1))","v":0},{"$f":"IF(CV$1>$E$11,0,IF($G61=0,0,(CV$1-$G61)*Hoja1!$A$1/CV$1))","v":0},{"$f":"IF(CW$1>$E$11,0,IF($G61=0,0,(CW$1-$G61)*Hoja1!$A$1/CW$1))","v":0},{"$f":"IF(CX$1>$E$11,0,IF($G61=0,0,(CX$1-$G61)*Hoja1!$A$1/CX$1))","v":0},{"$f":"IF(CY$1>$E$11,0,IF($G61=0,0,(CY$1-$G61)*Hoja1!$A$1/CY$1))","v":0},{"$f":"IF(CZ$1>$E$11,0,IF($G61=0,0,(CZ$1-$G61)*Hoja1!$A$1/CZ$1))","v":0},{"$f":"IF(DA$1>$E$11,0,IF($G61=0,0,(DA$1-$G61)*Hoja1!$A$1/DA$1))","v":0},{"$f":"IF(DB$1>$E$11,0,IF($G61=0,0,(DB$1-$G61)*Hoja1!$A$1/DB$1))","v":0},{"$f":"IF(DC$1>$E$11,0,IF($G61=0,0,(DC$1-$G61)*Hoja1!$A$1/DC$1))","v":0},{"$f":"IF(DD$1>$E$11,0,IF($G61=0,0,(DD$1-$G61)*Hoja1!$A$1/DD$1))","v":0},{"$f":"IF(DE$1>$E$11,0,IF($G61=0,0,(DE$1-$G61)*Hoja1!$A$1/DE$1))","v":0},{"$f":"IF(DF$1>$E$11,0,IF($G61=0,0,(DF$1-$G61)*Hoja1!$A$1/DF$1))","v":0},{"$f":"IF(DG$1>$E$11,0,IF($G61=0,0,(DG$1-$G61)*Hoja1!$A$1/DG$1))","v":0},{"$f":"IF(DH$1>$E$11,0,IF($G61=0,0,(DH$1-$G61)*Hoja1!$A$1/DH$1))","v":0},{"$f":"IF(DI$1>$E$11,0,IF($G61=0,0,(DI$1-$G61)*Hoja1!$A$1/DI$1))","v":0},{"$f":"IF(DJ$1>$E$11,0,IF($G61=0,0,(DJ$1-$G61)*Hoja1!$A$1/DJ$1))","v":0},{"$f":"IF(DK$1>$E$11,0,IF($G61=0,0,(DK$1-$G61)*Hoja1!$A$1/DK$1))","v":0},{"$f":"IF(DL$1>$E$11,0,IF($G61=0,0,(DL$1-$G61)*Hoja1!$A$1/DL$1))","v":0},{"$f":"IF(DM$1>$E$11,0,IF($G61=0,0,(DM$1-$G61)*Hoja1!$A$1/DM$1))","v":0}]
[null,null,null,null,null,770.92500000000098,0,{"$f":"IF(H$1>$E$11,0,IF($G62=0,0,(H$1-$G62)*Hoja1!$A$1/H$1))","v":0},{"$f":"IF(I$1>$E$11,0,IF($G62=0,0,(I$1-$G62)*Hoja1!$A$1/I$1))","v":0},{"$f":"IF(J$1>$E$11,0,IF($G62=0,0,(J$1-$G62)*Hoja1!$A$1/J$1))","v":0},{"$f":"IF(K$1>$E$11,0,IF($G62=0,0,(K$1-$G62)*Hoja1!$A$1/K$1))","v":0},{"$f":"IF(L$1>$E$11,0,IF($G62=0,0,(L$1-$G62)*Hoja1!$A$1/L$1))","v":0},{"$f":"IF(M$1>$E$11,0,IF($G62=0,0,(M$1-$G62)*Hoja1!$A$1/M$1))","v":0},{"$f":"IF(N$1>$E$11,0,IF($G62=0,0,(N$1-$G62)*Hoja1!$A$1/N$1))","v":0},{"$f":"IF(O$1>$E$11,0,IF($G62=0,0,(O$1-$G62)*Hoja1!$A$1/O$1))","v":0},{"$f":"IF(P$1>$E$11,0,IF($G62=0,0,(P$1-$G62)*Hoja1!$A$1/P$1))","v":0},{"$f":"IF(Q$1>$E$11,0,IF($G62=0,0,(Q$1-$G62)*Hoja1!$A$1/Q$1))","v":0},{"$f":"IF(R$1>$E$11,0,IF($G62=0,0,(R$1-$G62)*Hoja1!$A$1/R$1))","v":0},{"$f":"IF(S$1>$E$11,0,IF($G62=0,0,(S$1-$G62)*Hoja1!$A$1/S$1))","v":0},{"$f":"IF(T$1>$E$11,0,IF($G62=0,0,(T$1-$G62)*Hoja1!$A$1/T$1))","v":0},{"$f":"IF(U$1>$E$11,0,IF($G62=0,0,(U$1-$G62)*Hoja1!$A$1/U$1))","v":0},{"$f":"IF(V$1>$E$11,0,IF($G62=0,0,(V$1-$G62)*Hoja1!$A$1/V$1))","v":0},{"$f":"IF(W$1>$E$11,0,IF($G62=0,0,(W$1-$G62)*Hoja1!$A$1/W$1))","v":0},{"$f":"IF(X$1>$E$11,0,IF($G62=0,0,(X$1-$G62)*Hoja1!$A$1/X$1))","v":0},{"$f":"IF(Y$1>$E$11,0,IF($G62=0,0,(Y$1-$G62)*Hoja1!$A$1/Y$1))","v":0},{"$f":"IF(Z$1>$E$11,0,IF($G62=0,0,(Z$1-$G62)*Hoja1!$A$1/Z$1))","v":0},{"$f":"IF(AA$1>$E$11,0,IF($G62=0,0,(AA$1-$G62)*Hoja1!$A$1/AA$1))","v":0},{"$f":"IF(AB$1>$E$11,0,IF($G62=0,0,(AB$1-$G62)*Hoja1!$A$1/AB$1))","v":0},{"$f":"IF(AC$1>$E$11,0,IF($G62=0,0,(AC$1-$G62)*Hoja1!$A$1/AC$1))","v":0},{"$f":"IF(AD$1>$E$11,0,IF($G62=0,0,(AD$1-$G62)*Hoja1!$A$1/AD$1))","v":0},{"$f":"IF(AE$1>$E$11,0,IF($G62=0,0,(AE$1-$G62)*Hoja1!$A$1/AE$1))","v":0},{"$f":"IF(AF$1>$E$11,0,IF($G62=0,0,(AF$1-$G62)*Hoja1!$A$1/AF$1))","v":0},{"$f":"IF(AG$1>$E$11,0,IF($G62=0,0,(AG$1-$G62)*Hoja1!$A$1/AG$1))","v":0},{"$f":"IF(AH$1>$E$11,0,IF($G62=0,0,(AH$1-$G62)*Hoja1!$A$1/AH$1))","v":0},{"$f":"IF(AI$1>$E$11,0,IF($G62=0,0,(AI$1-$G62)*Hoja1!$A$1/AI$1))","v":0},{"$f":"IF(AJ$1>$E$11,0,IF($G62=0,0,(AJ$1-$G62)*Hoja1!$A$1/AJ$1))","v":0},{"$f":"IF(AK$1>$E$11,0,IF($G62=0,0,(AK$1-$G62)*Hoja1!$A$1/AK$1))","v":0},{"$f":"IF(AL$1>$E$11,0,IF($G62=0,0,(AL$1-$G62)*Hoja1!$A$1/AL$1))","v":0},{"$f":"IF(AM$1>$E$11,0,IF($G62=0,0,(AM$1-$G62)*Hoja1!$A$1/AM$1))","v":0},{"$f":"IF(AN$1>$E$11,0,IF($G62=0,0,(AN$1-$G62)*Hoja1!$A$1/AN$1))","v":0},{"$f":"IF(AO$1>$E$11,0,IF($G62=0,0,(AO$1-$G62)*Hoja1!$A$1/AO$1))","v":0},{"$f":"IF(AP$1>$E$11,0,IF($G62=0,0,(AP$1-$G62)*Hoja1!$A$1/AP$1))","v":0},{"$f":"IF(AQ$1>$E$11,0,IF($G62=0,0,(AQ$1-$G62)*Hoja1!$A$1/AQ$1))","v":0},{"$f":"IF(AR$1>$E$11,0,IF($G62=0,0,(AR$1-$G62)*Hoja1!$A$1/AR$1))","v":0},{"$f":"IF(AS$1>$E$11,0,IF($G62=0,0,(AS$1-$G62)*Hoja1!$A$1/AS$1))","v":0},{"$f":"IF(AT$1>$E$11,0,IF($G62=0,0,(AT$1-$G62)*Hoja1!$A$1/AT$1))","v":0},{"$f":"IF(AU$1>$E$11,0,IF($G62=0,0,(AU$1-$G62)*Hoja1!$A$1/AU$1))","v":0},{"$f":"IF(AV$1>$E$11,0,IF($G62=0,0,(AV$1-$G62)*Hoja1!$A$1/AV$1))","v":0},{"$f":"IF(AW$1>$E$11,0,IF($G62=0,0,(AW$1-$G62)*Hoja1!$A$1/AW$1))","v":0},{"$f":"IF(AX$1>$E$11,0,IF($G62=0,0,(AX$1-$G62)*Hoja1!$A$1/AX$1))","v":0},{"$f":"IF(AY$1>$E$11,0,IF($G62=0,0,(AY$1-$G62)*Hoja1!$A$1/AY$1))","v":0},{"$f":"IF(AZ$1>$E$11,0,IF($G62=0,0,(AZ$1-$G62)*Hoja1!$A$1/AZ$1))","v":0},{"$f":"IF(BA$1>$E$11,0,IF($G62=0,0,(BA$1-$G62)*Hoja1!$A$1/BA$1))","v":0},{"$f":"IF(BB$1>$E$11,0,IF($G62=0,0,(BB$1-$G62)*Hoja1!$A$1/BB$1))","v":0},{"$f":"IF(BC$1>$E$11,0,IF($G62=0,0,(BC$1-$G62)*Hoja1!$A$1/BC$1))","v":0},{"$f":"IF(BD$1>$E$11,0,IF($G62=0,0,(BD$1-$G62)*Hoja1!$A$1/BD$1))","v":0},{"$f":"IF(BE$1>$E$11,0,IF($G62=0,0,(BE$1-$G62)*Hoja1!$A$1/BE$1))","v":0},{"$f":"IF(BF$1>$E$11,0,IF($G62=0,0,(BF$1-$G62)*Hoja1!$A$1/BF$1))","v":0},{"$f":"IF(BG$1>$E$11,0,IF($G62=0,0,(BG$1-$G62)*Hoja1!$A$1/BG$1))","v":0},{"$f":"IF(BH$1>$E$11,0,IF($G62=0,0,(BH$1-$G62)*Hoja1!$A$1/BH$1))","v":0},{"$f":"IF(BI$1>$E$11,0,IF($G62=0,0,(BI$1-$G62)*Hoja1!$A$1/BI$1))","v":0},{"$f":"IF(BJ$1>$E$11,0,IF($G62=0,0,(BJ$1-$G62)*Hoja1!$A$1/BJ$1))","v":0},{"$f":"IF(BK$1>$E$11,0,IF($G62=0,0,(BK$1-$G62)*Hoja1!$A$1/BK$1))","v":0},{"$f":"IF(BL$1>$E$11,0,IF($G62=0,0,(BL$1-$G62)*Hoja1!$A$1/BL$1))","v":0},{"$f":"IF(BM$1>$E$11,0,IF($G62=0,0,(BM$1-$G62)*Hoja1!$A$1/BM$1))","v":0},{"$f":"IF(BN$1>$E$11,0,IF($G62=0,0,(BN$1-$G62)*Hoja1!$A$1/BN$1))","v":0},{"$f":"IF(BO$1>$E$11,0,IF($G62=0,0,(BO$1-$G62)*Hoja1!$A$1/BO$1))","v":0},{"$f":"IF(BP$1>$E$11,0,IF($G62=0,0,(BP$1-$G62)*Hoja1!$A$1/BP$1))","v":0},{"$f":"IF(BQ$1>$E$11,0,IF($G62=0,0,(BQ$1-$G62)*Hoja1!$A$1/BQ$1))","v":0},{"$f":"IF(BR$1>$E$11,0,IF($G62=0,0,(BR$1-$G62)*Hoja1!$A$1/BR$1))","v":0},{"$f":"IF(BS$1>$E$11,0,IF($G62=0,0,(BS$1-$G62)*Hoja1!$A$1/BS$1))","v":0},{"$f":"IF(BT$1>$E$11,0,IF($G62=0,0,(BT$1-$G62)*Hoja1!$A$1/BT$1))","v":0},{"$f":"IF(BU$1>$E$11,0,IF($G62=0,0,(BU$1-$G62)*Hoja1!$A$1/BU$1))","v":0},{"$f":"IF(BV$1>$E$11,0,IF($G62=0,0,(BV$1-$G62)*Hoja1!$A$1/BV$1))","v":0},{"$f":"IF(BW$1>$E$11,0,IF($G62=0,0,(BW$1-$G62)*Hoja1!$A$1/BW$1))","v":0},{"$f":"IF(BX$1>$E$11,0,IF($G62=0,0,(BX$1-$G62)*Hoja1!$A$1/BX$1))","v":0},{"$f":"IF(BY$1>$E$11,0,IF($G62=0,0,(BY$1-$G62)*Hoja1!$A$1/BY$1))","v":0},{"$f":"IF(BZ$1>$E$11,0,IF($G62=0,0,(BZ$1-$G62)*Hoja1!$A$1/BZ$1))","v":0},{"$f":"IF(CA$1>$E$11,0,IF($G62=0,0,(CA$1-$G62)*Hoja1!$A$1/CA$1))","v":0},{"$f":"IF(CB$1>$E$11,0,IF($G62=0,0,(CB$1-$G62)*Hoja1!$A$1/CB$1))","v":0},{"$f":"IF(CC$1>$E$11,0,IF($G62=0,0,(CC$1-$G62)*Hoja1!$A$1/CC$1))","v":0},{"$f":"IF(CD$1>$E$11,0,IF($G62=0,0,(CD$1-$G62)*Hoja1!$A$1/CD$1))","v":0},{"$f":"IF(CE$1>$E$11,0,IF($G62=0,0,(CE$1-$G62)*Hoja1!$A$1/CE$1))","v":0},{"$f":"IF(CF$1>$E$11,0,IF($G62=0,0,(CF$1-$G62)*Hoja1!$A$1/CF$1))","v":0},{"$f":"IF(CG$1>$E$11,0,IF($G62=0,0,(CG$1-$G62)*Hoja1!$A$1/CG$1))","v":0},{"$f":"IF(CH$1>$E$11,0,IF($G62=0,0,(CH$1-$G62)*Hoja1!$A$1/CH$1))","v":0},{"$f":"IF(CI$1>$E$11,0,IF($G62=0,0,(CI$1-$G62)*Hoja1!$A$1/CI$1))","v":0},{"$f":"IF(CJ$1>$E$11,0,IF($G62=0,0,(CJ$1-$G62)*Hoja1!$A$1/CJ$1))","v":0},{"$f":"IF(CK$1>$E$11,0,IF($G62=0,0,(CK$1-$G62)*Hoja1!$A$1/CK$1))","v":0},{"$f":"IF(CL$1>$E$11,0,IF($G62=0,0,(CL$1-$G62)*Hoja1!$A$1/CL$1))","v":0},{"$f":"IF(CM$1>$E$11,0,IF($G62=0,0,(CM$1-$G62)*Hoja1!$A$1/CM$1))","v":0},{"$f":"IF(CN$1>$E$11,0,IF($G62=0,0,(CN$1-$G62)*Hoja1!$A$1/CN$1))","v":0},{"$f":"IF(CO$1>$E$11,0,IF($G62=0,0,(CO$1-$G62)*Hoja1!$A$1/CO$1))","v":0},{"$f":"IF(CP$1>$E$11,0,IF($G62=0,0,(CP$1-$G62)*Hoja1!$A$1/CP$1))","v":0},{"$f":"IF(CQ$1>$E$11,0,IF($G62=0,0,(CQ$1-$G62)*Hoja1!$A$1/CQ$1))","v":0},{"$f":"IF(CR$1>$E$11,0,IF($G62=0,0,(CR$1-$G62)*Hoja1!$A$1/CR$1))","v":0},{"$f":"IF(CS$1>$E$11,0,IF($G62=0,0,(CS$1-$G62)*Hoja1!$A$1/CS$1))","v":0},{"$f":"IF(CT$1>$E$11,0,IF($G62=0,0,(CT$1-$G62)*Hoja1!$A$1/CT$1))","v":0},{"$f":"IF(CU$1>$E$11,0,IF($G62=0,0,(CU$1-$G62)*Hoja1!$A$1/CU$1))","v":0},{"$f":"IF(CV$1>$E$11,0,IF($G62=0,0,(CV$1-$G62)*Hoja1!$A$1/CV$1))","v":0},{"$f":"IF(CW$1>$E$11,0,IF($G62=0,0,(CW$1-$G62)*Hoja1!$A$1/CW$1))","v":0},{"$f":"IF(CX$1>$E$11,0,IF($G62=0,0,(CX$1-$G62)*Hoja1!$A$1/CX$1))","v":0},{"$f":"IF(CY$1>$E$11,0,IF($G62=0,0,(CY$1-$G62)*Hoja1!$A$1/CY$1))","v":0},{"$f":"IF(CZ$1>$E$11,0,IF($G62=0,0,(CZ$1-$G62)*Hoja1!$A$1/CZ$1))","v":0},{"$f":"IF(DA$1>$E$11,0,IF($G62=0,0,(DA$1-$G62)*Hoja1!$A$1/DA$1))","v":0},{"$f":"IF(DB$1>$E$11,0,IF($G62=0,0,(DB$1-$G62)*Hoja1!$A$1/DB$1))","v":0},{"$f":"IF(DC$1>$E$11,0,IF($G62=0,0,(DC$1-$G62)*Hoja1!$A$1/DC$1))","v":0},{"$f":"IF(DD$1>$E$11,0,IF($G62=0,0,(DD$1-$G62)*Hoja1!$A$1/DD$1))","v":0},{"$f":"IF(DE$1>$E$11,0,IF($G62=0,0,(DE$1-$G62)*Hoja1!$A$1/DE$1))","v":0},{"$f":"IF(DF$1>$E$11,0,IF($G62=0,0,(DF$1-$G62)*Hoja1!$A$1/DF$1))","v":0},{"$f":"IF(DG$1>$E$11,0,IF($G62=0,0,(DG$1-$G62)*Hoja1!$A$1/DG$1))","v":0},{"$f":"IF(DH$1>$E$11,0,IF($G62=0,0,(DH$1-$G62)*Hoja1!$A$1/DH$1))","v":0},{"$f":"IF(DI$1>$E$11,0,IF($G62=0,0,(DI$1-$G62)*Hoja1!$A$1/DI$1))","v":0},{"$f":"IF(DJ$1>$E$11,0,IF($G62=0,0,(DJ$1-$G62)*Hoja1!$A$1/DJ$1))","v":0},{"$f":"IF(DK$1>$E$11,0,IF($G62=0,0,(DK$1-$G62)*Hoja1!$A$1/DK$1))","v":0},{"$f":"IF(DL$1>$E$11,0,IF($G62=0,0,(DL$1-$G62)*Hoja1!$A$1/DL$1))","v":0},{"$f":"IF(DM$1>$E$11,0,IF($G62=0,0,(DM$1-$G62)*Hoja1!$A$1/DM$1))","v":0}]
[null,null,null,null,null,784.11500000000103,0,{"$f":"IF(H$1>$E$11,0,IF($G63=0,0,(H$1-$G63)*Hoja1!$A$1/H$1))","v":0},{"$f":"IF(I$1>$E$11,0,IF($G63=0,0,(I$1-$G63)*Hoja1!$A$1/I$1))","v":0},{"$f":"IF(J$1>$E$11,0,IF($G63=0,0,(J$1-$G63)*Hoja1!$A$1/J$1))","v":0},{"$f":"IF(K$1>$E$11,0,IF($G63=0,0,(K$1-$G63)*Hoja1!$A$1/K$1))","v":0},{"$f":"IF(L$1>$E$11,0,IF($G63=0,0,(L$1-$G63)*Hoja1!$A$1/L$1))","v":0},{"$f":"IF(M$1>$E$11,0,IF($G63=0,0,(M$1-$G63)*Hoja1!$A$1/M$1))","v":0},{"$f":"IF(N$1>$E$11,0,IF($G63=0,0,(N$1-$G63)*Hoja1!$A$1/N$1))","v":0},{"$f":"IF(O$1>$E$11,0,IF($G63=0,0,(O$1-$G63)*Hoja1!$A$1/O$1))","v":0},{"$f":"IF(P$1>$E$11,0,IF($G63=0,0,(P$1-$G63)*Hoja1!$A$1/P$1))","v":0},{"$f":"IF(Q$1>$E$11,0,IF($G63=0,0,(Q$1-$G63)*Hoja1!$A$1/Q$1))","v":0},{"$f":"IF(R$1>$E$11,0,IF($G63=0,0,(R$1-$G63)*Hoja1!$A$1/R$1))","v":0},{"$f":"IF(S$1>$E$11,0,IF($G63=0,0,(S$1-$G63)*Hoja1!$A$1/S$1))","v":0},{"$f":"IF(T$1>$E$11,0,IF($G63=0,0,(T$1-$G63)*Hoja1!$A$1/T$1))","v":0},{"$f":"IF(U$1>$E$11,0,IF($G63=0,0,(U$1-$G63)*Hoja1!$A$1/U$1))","v":0},{"$f":"IF(V$1>$E$11,0,IF($G63=0,0,(V$1-$G63)*Hoja1!$A$1/V$1))","v":0},{"$f":"IF(W$1>$E$11,0,IF($G63=0,0,(W$1-$G63)*Hoja1!$A$1/W$1))","v":0},{"$f":"IF(X$1>$E$11,0,IF($G63=0,0,(X$1-$G63)*Hoja1!$A$1/X$1))","v":0},{"$f":"IF(Y$1>$E$11,0,IF($G63=0,0,(Y$1-$G63)*Hoja1!$A$1/Y$1))","v":0},{"$f":"IF(Z$1>$E$11,0,IF($G63=0,0,(Z$1-$G63)*Hoja1!$A$1/Z$1))","v":0},{"$f":"IF(AA$1>$E$11,0,IF($G63=0,0,(AA$1-$G63)*Hoja1!$A$1/AA$1))","v":0},{"$f":"IF(AB$1>$E$11,0,IF($G63=0,0,(AB$1-$G63)*Hoja1!$A$1/AB$1))","v":0},{"$f":"IF(AC$1>$E$11,0,IF($G63=0,0,(AC$1-$G63)*Hoja1!$A$1/AC$1))","v":0},{"$f":"IF(AD$1>$E$11,0,IF($G63=0,0,(AD$1-$G63)*Hoja1!$A$1/AD$1))","v":0},{"$f":"IF(AE$1>$E$11,0,IF($G63=0,0,(AE$1-$G63)*Hoja1!$A$1/AE$1))","v":0},{"$f":"IF(AF$1>$E$11,0,IF($G63=0,0,(AF$1-$G63)*Hoja1!$A$1/AF$1))","v":0},{"$f":"IF(AG$1>$E$11,0,IF($G63=0,0,(AG$1-$G63)*Hoja1!$A$1/AG$1))","v":0},{"$f":"IF(AH$1>$E$11,0,IF($G63=0,0,(AH$1-$G63)*Hoja1!$A$1/AH$1))","v":0},{"$f":"IF(AI$1>$E$11,0,IF($G63=0,0,(AI$1-$G63)*Hoja1!$A$1/AI$1))","v":0},{"$f":"IF(AJ$1>$E$11,0,IF($G63=0,0,(AJ$1-$G63)*Hoja1!$A$1/AJ$1))","v":0},{"$f":"IF(AK$1>$E$11,0,IF($G63=0,0,(AK$1-$G63)*Hoja1!$A$1/AK$1))","v":0},{"$f":"IF(AL$1>$E$11,0,IF($G63=0,0,(AL$1-$G63)*Hoja1!$A$1/AL$1))","v":0},{"$f":"IF(AM$1>$E$11,0,IF($G63=0,0,(AM$1-$G63)*Hoja1!$A$1/AM$1))","v":0},{"$f":"IF(AN$1>$E$11,0,IF($G63=0,0,(AN$1-$G63)*Hoja1!$A$1/AN$1))","v":0},{"$f":"IF(AO$1>$E$11,0,IF($G63=0,0,(AO$1-$G63)*Hoja1!$A$1/AO$1))","v":0},{"$f":"IF(AP$1>$E$11,0,IF($G63=0,0,(AP$1-$G63)*Hoja1!$A$1/AP$1))","v":0},{"$f":"IF(AQ$1>$E$11,0,IF($G63=0,0,(AQ$1-$G63)*Hoja1!$A$1/AQ$1))","v":0},{"$f":"IF(AR$1>$E$11,0,IF($G63=0,0,(AR$1-$G63)*Hoja1!$A$1/AR$1))","v":0},{"$f":"IF(AS$1>$E$11,0,IF($G63=0,0,(AS$1-$G63)*Hoja1!$A$1/AS$1))","v":0},{"$f":"IF(AT$1>$E$11,0,IF($G63=0,0,(AT$1-$G63)*Hoja1!$A$1/AT$1))","v":0},{"$f":"IF(AU$1>$E$11,0,IF($G63=0,0,(AU$1-$G63)*Hoja1!$A$1/AU$1))","v":0},{"$f":"IF(AV$1>$E$11,0,IF($G63=0,0,(AV$1-$G63)*Hoja1!$A$1/AV$1))","v":0},{"$f":"IF(AW$1>$E$11,0,IF($G63=0,0,(AW$1-$G63)*Hoja1!$A$1/AW$1))","v":0},{"$f":"IF(AX$1>$E$11,0,IF($G63=0,0,(AX$1-$G63)*Hoja1!$A$1/AX$1))","v":0},{"$f":"IF(AY$1>$E$11,0,IF($G63=0,0,(AY$1-$G63)*Hoja1!$A$1/AY$1))","v":0},{"$f":"IF(AZ$1>$E$11,0,IF($G63=0,0,(AZ$1-$G63)*Hoja1!$A$1/AZ$1))","v":0},{"$f":"IF(BA$1>$E$11,0,IF($G63=0,0,(BA$1-$G63)*Hoja1!$A$1/BA$1))","v":0},{"$f":"IF(BB$1>$E$11,0,IF($G63=0,0,(BB$1-$G63)*Hoja1!$A$1/BB$1))","v":0},{"$f":"IF(BC$1>$E$11,0,IF($G63=0,0,(BC$1-$G63)*Hoja1!$A$1/BC$1))","v":0},{"$f":"IF(BD$1>$E$11,0,IF($G63=0,0,(BD$1-$G63)*Hoja1!$A$1/BD$1))","v":0},{"$f":"IF(BE$1>$E$11,0,IF($G63=0,0,(BE$1-$G63)*Hoja1!$A$1/BE$1))","v":0},{"$f":"IF(BF$1>$E$11,0,IF($G63=0,0,(BF$1-$G63)*Hoja1!$A$1/BF$1))","v":0},{"$f":"IF(BG$1>$E$11,0,IF($G63=0,0,(BG$1-$G63)*Hoja1!$A$1/BG$1))","v":0},{"$f":"IF(BH$1>$E$11,0,IF($G63=0,0,(BH$1-$G63)*Hoja1!$A$1/BH$1))","v":0},{"$f":"IF(BI$1>$E$11,0,IF($G63=0,0,(BI$1-$G63)*Hoja1!$A$1/BI$1))","v":0},{"$f":"IF(BJ$1>$E$11,0,IF($G63=0,0,(BJ$1-$G63)*Hoja1!$A$1/BJ$1))","v":0},{"$f":"IF(BK$1>$E$11,0,IF($G63=0,0,(BK$1-$G63)*Hoja1!$A$1/BK$1))","v":0},{"$f":"IF(BL$1>$E$11,0,IF($G63=0,0,(BL$1-$G63)*Hoja1!$A$1/BL$1))","v":0},{"$f":"IF(BM$1>$E$11,0,IF($G63=0,0,(BM$1-$G63)*Hoja1!$A$1/BM$1))","v":0},{"$f":"IF(BN$1>$E$11,0,IF($G63=0,0,(BN$1-$G63)*Hoja1!$A$1/BN$1))","v":0},{"$f":"IF(BO$1>$E$11,0,IF($G63=0,0,(BO$1-$G63)*Hoja1!$A$1/BO$1))","v":0},{"$f":"IF(BP$1>$E$11,0,IF($G63=0,0,(BP$1-$G63)*Hoja1!$A$1/BP$1))","v":0},{"$f":"IF(BQ$1>$E$11,0,IF($G63=0,0,(BQ$1-$G63)*Hoja1!$A$1/BQ$1))","v":0},{"$f":"IF(BR$1>$E$11,0,IF($G63=0,0,(BR$1-$G63)*Hoja1!$A$1/BR$1))","v":0},{"$f":"IF(BS$1>$E$11,0,IF($G63=0,0,(BS$1-$G63)*Hoja1!$A$1/BS$1))","v":0},{"$f":"IF(BT$1>$E$11,0,IF($G63=0,0,(BT$1-$G63)*Hoja1!$A$1/BT$1))","v":0},{"$f":"IF(BU$1>$E$11,0,IF($G63=0,0,(BU$1-$G63)*Hoja1!$A$1/BU$1))","v":0},{"$f":"IF(BV$1>$E$11,0,IF($G63=0,0,(BV$1-$G63)*Hoja1!$A$1/BV$1))","v":0},{"$f":"IF(BW$1>$E$11,0,IF($G63=0,0,(BW$1-$G63)*Hoja1!$A$1/BW$1))","v":0},{"$f":"IF(BX$1>$E$11,0,IF($G63=0,0,(BX$1-$G63)*Hoja1!$A$1/BX$1))","v":0},{"$f":"IF(BY$1>$E$11,0,IF($G63=0,0,(BY$1-$G63)*Hoja1!$A$1/BY$1))","v":0},{"$f":"IF(BZ$1>$E$11,0,IF($G63=0,0,(BZ$1-$G63)*Hoja1!$A$1/BZ$1))","v":0},{"$f":"IF(CA$1>$E$11,0,IF($G63=0,0,(CA$1-$G63)*Hoja1!$A$1/CA$1))","v":0},{"$f":"IF(CB$1>$E$11,0,IF($G63=0,0,(CB$1-$G63)*Hoja1!$A$1/CB$1))","v":0},{"$f":"IF(CC$1>$E$11,0,IF($G63=0,0,(CC$1-$G63)*Hoja1!$A$1/CC$1))","v":0},{"$f":"IF(CD$1>$E$11,0,IF($G63=0,0,(CD$1-$G63)*Hoja1!$A$1/CD$1))","v":0},{"$f":"IF(CE$1>$E$11,0,IF($G63=0,0,(CE$1-$G63)*Hoja1!$A$1/CE$1))","v":0},{"$f":"IF(CF$1>$E$11,0,IF($G63=0,0,(CF$1-$G63)*Hoja1!$A$1/CF$1))","v":0},{"$f":"IF(CG$1>$E$11,0,IF($G63=0,0,(CG$1-$G63)*Hoja1!$A$1/CG$1))","v":0},{"$f":"IF(CH$1>$E$11,0,IF($G63=0,0,(CH$1-$G63)*Hoja1!$A$1/CH$1))","v":0},{"$f":"IF(CI$1>$E$11,0,IF($G63=0,0,(CI$1-$G63)*Hoja1!$A$1/CI$1))","v":0},{"$f":"IF(CJ$1>$E$11,0,IF($G63=0,0,(CJ$1-$G63)*Hoja1!$A$1/CJ$1))","v":0},{"$f":"IF(CK$1>$E$11,0,IF($G63=0,0,(CK$1-$G63)*Hoja1!$A$1/CK$1))","v":0},{"$f":"IF(CL$1>$E$11,0,IF($G63=0,0,(CL$1-$G63)*Hoja1!$A$1/CL$1))","v":0},{"$f":"IF(CM$1>$E$11,0,IF($G63=0,0,(CM$1-$G63)*Hoja1!$A$1/CM$1))","v":0},{"$f":"IF(CN$1>$E$11,0,IF($G63=0,0,(CN$1-$G63)*Hoja1!$A$1/CN$1))","v":0},{"$f":"IF(CO$1>$E$11,0,IF($G63=0,0,(CO$1-$G63)*Hoja1!$A$1/CO$1))","v":0},{"$f":"IF(CP$1>$E$11,0,IF($G63=0,0,(CP$1-$G63)*Hoja1!$A$1/CP$1))","v":0},{"$f":"IF(CQ$1>$E$11,0,IF($G63=0,0,(CQ$1-$G63)*Hoja1!$A$1/CQ$1))","v":0},{"$f":"IF(CR$1>$E$11,0,IF($G63=0,0,(CR$1-$G63)*Hoja1!$A$1/CR$1))","v":0},{"$f":"IF(CS$1>$E$11,0,IF($G63=0,0,(CS$1-$G63)*Hoja1!$A$1/CS$1))","v":0},{"$f":"IF(CT$1>$E$11,0,IF($G63=0,0,(CT$1-$G63)*Hoja1!$A$1/CT$1))","v":0},{"$f":"IF(CU$1>$E$11,0,IF($G63=0,0,(CU$1-$G63)*Hoja1!$A$1/CU$1))","v":0},{"$f":"IF(CV$1>$E$11,0,IF($G63=0,0,(CV$1-$G63)*Hoja1!$A$1/CV$1))","v":0},{"$f":"IF(CW$1>$E$11,0,IF($G63=0,0,(CW$1-$G63)*Hoja1!$A$1/CW$1))","v":0},{"$f":"IF(CX$1>$E$11,0,IF($G63=0,0,(CX$1-$G63)*Hoja1!$A$1/CX$1))","v":0},{"$f":"IF(CY$1>$E$11,0,IF($G63=0,0,(CY$1-$G63)*Hoja1!$A$1/CY$1))","v":0},{"$f":"IF(CZ$1>$E$11,0,IF($G63=0,0,(CZ$1-$G63)*Hoja1!$A$1/CZ$1))","v":0},{"$f":"IF(DA$1>$E$11,0,IF($G63=0,0,(DA$1-$G63)*Hoja1!$A$1/DA$1))","v":0},{"$f":"IF(DB$1>$E$11,0,IF($G63=0,0,(DB$1-$G63)*Hoja1!$A$1/DB$1))","v":0},{"$f":"IF(DC$1>$E$11,0,IF($G63=0,0,(DC$1-$G63)*Hoja1!$A$1/DC$1))","v":0},{"$f":"IF(DD$1>$E$11,0,IF($G63=0,0,(DD$1-$G63)*Hoja1!$A$1/DD$1))","v":0},{"$f":"IF(DE$1>$E$11,0,IF($G63=0,0,(DE$1-$G63)*Hoja1!$A$1/DE$1))","v":0},{"$f":"IF(DF$1>$E$11,0,IF($G63=0,0,(DF$1-$G63)*Hoja1!$A$1/DF$1))","v":0},{"$f":"IF(DG$1>$E$11,0,IF($G63=0,0,(DG$1-$G63)*Hoja1!$A$1/DG$1))","v":0},{"$f":"IF(DH$1>$E$11,0,IF($G63=0,0,(DH$1-$G63)*Hoja1!$A$1/DH$1))","v":0},{"$f":"IF(DI$1>$E$11,0,IF($G63=0,0,(DI$1-$G63)*Hoja1!$A$1/DI$1))","v":0},{"$f":"IF(DJ$1>$E$11,0,IF($G63=0,0,(DJ$1-$G63)*Hoja1!$A$1/DJ$1))","v":0},{"$f":"IF(DK$1>$E$11,0,IF($G63=0,0,(DK$1-$G63)*Hoja1!$A$1/DK$1))","v":0},{"$f":"IF(DL$1>$E$11,0,IF($G63=0,0,(DL$1-$G63)*Hoja1!$A$1/DL$1))","v":0},{"$f":"IF(DM$1>$E$11,0,IF($G63=0,0,(DM$1-$G63)*Hoja1!$A$1/DM$1))","v":0}]
[null,null,null,null,null,797.30500000000109,0,{"$f":"IF(H$1>$E$11,0,IF($G64=0,0,(H$1-$G64)*Hoja1!$A$1/H$1))","v":0},{"$f":"IF(I$1>$E$11,0,IF($G64=0,0,(I$1-$G64)*Hoja1!$A$1/I$1))","v":0},{"$f":"IF(J$1>$E$11,0,IF($G64=0,0,(J$1-$G64)*Hoja1!$A$1/J$1))","v":0},{"$f":"IF(K$1>$E$11,0,IF($G64=0,0,(K$1-$G64)*Hoja1!$A$1/K$1))","v":0},{"$f":"IF(L$1>$E$11,0,IF($G64=0,0,(L$1-$G64)*Hoja1!$A$1/L$1))","v":0},{"$f":"IF(M$1>$E$11,0,IF($G64=0,0,(M$1-$G64)*Hoja1!$A$1/M$1))","v":0},{"$f":"IF(N$1>$E$11,0,IF($G64=0,0,(N$1-$G64)*Hoja1!$A$1/N$1))","v":0},{"$f":"IF(O$1>$E$11,0,IF($G64=0,0,(O$1-$G64)*Hoja1!$A$1/O$1))","v":0},{"$f":"IF(P$1>$E$11,0,IF($G64=0,0,(P$1-$G64)*Hoja1!$A$1/P$1))","v":0},{"$f":"IF(Q$1>$E$11,0,IF($G64=0,0,(Q$1-$G64)*Hoja1!$A$1/Q$1))","v":0},{"$f":"IF(R$1>$E$11,0,IF($G64=0,0,(R$1-$G64)*Hoja1!$A$1/R$1))","v":0},{"$f":"IF(S$1>$E$11,0,IF($G64=0,0,(S$1-$G64)*Hoja1!$A$1/S$1))","v":0},{"$f":"IF(T$1>$E$11,0,IF($G64=0,0,(T$1-$G64)*Hoja1!$A$1/T$1))","v":0},{"$f":"IF(U$1>$E$11,0,IF($G64=0,0,(U$1-$G64)*Hoja1!$A$1/U$1))","v":0},{"$f":"IF(V$1>$E$11,0,IF($G64=0,0,(V$1-$G64)*Hoja1!$A$1/V$1))","v":0},{"$f":"IF(W$1>$E$11,0,IF($G64=0,0,(W$1-$G64)*Hoja1!$A$1/W$1))","v":0},{"$f":"IF(X$1>$E$11,0,IF($G64=0,0,(X$1-$G64)*Hoja1!$A$1/X$1))","v":0},{"$f":"IF(Y$1>$E$11,0,IF($G64=0,0,(Y$1-$G64)*Hoja1!$A$1/Y$1))","v":0},{"$f":"IF(Z$1>$E$11,0,IF($G64=0,0,(Z$1-$G64)*Hoja1!$A$1/Z$1))","v":0},{"$f":"IF(AA$1>$E$11,0,IF($G64=0,0,(AA$1-$G64)*Hoja1!$A$1/AA$1))","v":0},{"$f":"IF(AB$1>$E$11,0,IF($G64=0,0,(AB$1-$G64)*Hoja1!$A$1/AB$1))","v":0},{"$f":"IF(AC$1>$E$11,0,IF($G64=0,0,(AC$1-$G64)*Hoja1!$A$1/AC$1))","v":0},{"$f":"IF(AD$1>$E$11,0,IF($G64=0,0,(AD$1-$G64)*Hoja1!$A$1/AD$1))","v":0},{"$f":"IF(AE$1>$E$11,0,IF($G64=0,0,(AE$1-$G64)*Hoja1!$A$1/AE$1))","v":0},{"$f":"IF(AF$1>$E$11,0,IF($G64=0,0,(AF$1-$G64)*Hoja1!$A$1/AF$1))","v":0},{"$f":"IF(AG$1>$E$11,0,IF($G64=0,0,(AG$1-$G64)*Hoja1!$A$1/AG$1))","v":0},{"$f":"IF(AH$1>$E$11,0,IF($G64=0,0,(AH$1-$G64)*Hoja1!$A$1/AH$1))","v":0},{"$f":"IF(AI$1>$E$11,0,IF($G64=0,0,(AI$1-$G64)*Hoja1!$A$1/AI$1))","v":0},{"$f":"IF(AJ$1>$E$11,0,IF($G64=0,0,(AJ$1-$G64)*Hoja1!$A$1/AJ$1))","v":0},{"$f":"IF(AK$1>$E$11,0,IF($G64=0,0,(AK$1-$G64)*Hoja1!$A$1/AK$1))","v":0},{"$f":"IF(AL$1>$E$11,0,IF($G64=0,0,(AL$1-$G64)*Hoja1!$A$1/AL$1))","v":0},{"$f":"IF(AM$1>$E$11,0,IF($G64=0,0,(AM$1-$G64)*Hoja1!$A$1/AM$1))","v":0},{"$f":"IF(AN$1>$E$11,0,IF($G64=0,0,(AN$1-$G64)*Hoja1!$A$1/AN$1))","v":0},{"$f":"IF(AO$1>$E$11,0,IF($G64=0,0,(AO$1-$G64)*Hoja1!$A$1/AO$1))","v":0},{"$f":"IF(AP$1>$E$11,0,IF($G64=0,0,(AP$1-$G64)*Hoja1!$A$1/AP$1))","v":0},{"$f":"IF(AQ$1>$E$11,0,IF($G64=0,0,(AQ$1-$G64)*Hoja1!$A$1/AQ$1))","v":0},{"$f":"IF(AR$1>$E$11,0,IF($G64=0,0,(AR$1-$G64)*Hoja1!$A$1/AR$1))","v":0},{"$f":"IF(AS$1>$E$11,0,IF($G64=0,0,(AS$1-$G64)*Hoja1!$A$1/AS$1))","v":0},{"$f":"IF(AT$1>$E$11,0,IF($G64=0,0,(AT$1-$G64)*Hoja1!$A$1/AT$1))","v":0},{"$f":"IF(AU$1>$E$11,0,IF($G64=0,0,(AU$1-$G64)*Hoja1!$A$1/AU$1))","v":0},{"$f":"IF(AV$1>$E$11,0,IF($G64=0,0,(AV$1-$G64)*Hoja1!$A$1/AV$1))","v":0},{"$f":"IF(AW$1>$E$11,0,IF($G64=0,0,(AW$1-$G64)*Hoja1!$A$1/AW$1))","v":0},{"$f":"IF(AX$1>$E$11,0,IF($G64=0,0,(AX$1-$G64)*Hoja1!$A$1/AX$1))","v":0},{"$f":"IF(AY$1>$E$11,0,IF($G64=0,0,(AY$1-$G64)*Hoja1!$A$1/AY$1))","v":0},{"$f":"IF(AZ$1>$E$11,0,IF($G64=0,0,(AZ$1-$G64)*Hoja1!$A$1/AZ$1))","v":0},{"$f":"IF(BA$1>$E$11,0,IF($G64=0,0,(BA$1-$G64)*Hoja1!$A$1/BA$1))","v":0},{"$f":"IF(BB$1>$E$11,0,IF($G64=0,0,(BB$1-$G64)*Hoja1!$A$1/BB$1))","v":0},{"$f":"IF(BC$1>$E$11,0,IF($G64=0,0,(BC$1-$G64)*Hoja1!$A$1/BC$1))","v":0},{"$f":"IF(BD$1>$E$11,0,IF($G64=0,0,(BD$1-$G64)*Hoja1!$A$1/BD$1))","v":0},{"$f":"IF(BE$1>$E$11,0,IF($G64=0,0,(BE$1-$G64)*Hoja1!$A$1/BE$1))","v":0},{"$f":"IF(BF$1>$E$11,0,IF($G64=0,0,(BF$1-$G64)*Hoja1!$A$1/BF$1))","v":0},{"$f":"IF(BG$1>$E$11,0,IF($G64=0,0,(BG$1-$G64)*Hoja1!$A$1/BG$1))","v":0},{"$f":"IF(BH$1>$E$11,0,IF($G64=0,0,(BH$1-$G64)*Hoja1!$A$1/BH$1))","v":0},{"$f":"IF(BI$1>$E$11,0,IF($G64=0,0,(BI$1-$G64)*Hoja1!$A$1/BI$1))","v":0},{"$f":"IF(BJ$1>$E$11,0,IF($G64=0,0,(BJ$1-$G64)*Hoja1!$A$1/BJ$1))","v":0},{"$f":"IF(BK$1>$E$11,0,IF($G64=0,0,(BK$1-$G64)*Hoja1!$A$1/BK$1))","v":0},{"$f":"IF(BL$1>$E$11,0,IF($G64=0,0,(BL$1-$G64)*Hoja1!$A$1/BL$1))","v":0},{"$f":"IF(BM$1>$E$11,0,IF($G64=0,0,(BM$1-$G64)*Hoja1!$A$1/BM$1))","v":0},{"$f":"IF(BN$1>$E$11,0,IF($G64=0,0,(BN$1-$G64)*Hoja1!$A$1/BN$1))","v":0},{"$f":"IF(BO$1>$E$11,0,IF($G64=0,0,(BO$1-$G64)*Hoja1!$A$1/BO$1))","v":0},{"$f":"IF(BP$1>$E$11,0,IF($G64=0,0,(BP$1-$G64)*Hoja1!$A$1/BP$1))","v":0},{"$f":"IF(BQ$1>$E$11,0,IF($G64=0,0,(BQ$1-$G64)*Hoja1!$A$1/BQ$1))","v":0},{"$f":"IF(BR$1>$E$11,0,IF($G64=0,0,(BR$1-$G64)*Hoja1!$A$1/BR$1))","v":0},{"$f":"IF(BS$1>$E$11,0,IF($G64=0,0,(BS$1-$G64)*Hoja1!$A$1/BS$1))","v":0},{"$f":"IF(BT$1>$E$11,0,IF($G64=0,0,(BT$1-$G64)*Hoja1!$A$1/BT$1))","v":0},{"$f":"IF(BU$1>$E$11,0,IF($G64=0,0,(BU$1-$G64)*Hoja1!$A$1/BU$1))","v":0},{"$f":"IF(BV$1>$E$11,0,IF($G64=0,0,(BV$1-$G64)*Hoja1!$A$1/BV$1))","v":0},{"$f":"IF(BW$1>$E$11,0,IF($G64=0,0,(BW$1-$G64)*Hoja1!$A$1/BW$1))","v":0},{"$f":"IF(BX$1>$E$11,0,IF($G64=0,0,(BX$1-$G64)*Hoja1!$A$1/BX$1))","v":0},{"$f":"IF(BY$1>$E$11,0,IF($G64=0,0,(BY$1-$G64)*Hoja1!$A$1/BY$1))","v":0},{"$f":"IF(BZ$1>$E$11,0,IF($G64=0,0,(BZ$1-$G64)*Hoja1!$A$1/BZ$1))","v":0},{"$f":"IF(CA$1>$E$11,0,IF($G64=0,0,(CA$1-$G64)*Hoja1!$A$1/CA$1))","v":0},{"$f":"IF(CB$1>$E$11,0,IF($G64=0,0,(CB$1-$G64)*Hoja1!$A$1/CB$1))","v":0},{"$f":"IF(CC$1>$E$11,0,IF($G64=0,0,(CC$1-$G64)*Hoja1!$A$1/CC$1))","v":0},{"$f":"IF(CD$1>$E$11,0,IF($G64=0,0,(CD$1-$G64)*Hoja1!$A$1/CD$1))","v":0},{"$f":"IF(CE$1>$E$11,0,IF($G64=0,0,(CE$1-$G64)*Hoja1!$A$1/CE$1))","v":0},{"$f":"IF(CF$1>$E$11,0,IF($G64=0,0,(CF$1-$G64)*Hoja1!$A$1/CF$1))","v":0},{"$f":"IF(CG$1>$E$11,0,IF($G64=0,0,(CG$1-$G64)*Hoja1!$A$1/CG$1))","v":0},{"$f":"IF(CH$1>$E$11,0,IF($G64=0,0,(CH$1-$G64)*Hoja1!$A$1/CH$1))","v":0},{"$f":"IF(CI$1>$E$11,0,IF($G64=0,0,(CI$1-$G64)*Hoja1!$A$1/CI$1))","v":0},{"$f":"IF(CJ$1>$E$11,0,IF($G64=0,0,(CJ$1-$G64)*Hoja1!$A$1/CJ$1))","v":0},{"$f":"IF(CK$1>$E$11,0,IF($G64=0,0,(CK$1-$G64)*Hoja1!$A$1/CK$1))","v":0},{"$f":"IF(CL$1>$E$11,0,IF($G64=0,0,(CL$1-$G64)*Hoja1!$A$1/CL$1))","v":0},{"$f":"IF(CM$1>$E$11,0,IF($G64=0,0,(CM$1-$G64)*Hoja1!$A$1/CM$1))","v":0},{"$f":"IF(CN$1>$E$11,0,IF($G64=0,0,(CN$1-$G64)*Hoja1!$A$1/CN$1))","v":0},{"$f":"IF(CO$1>$E$11,0,IF($G64=0,0,(CO$1-$G64)*Hoja1!$A$1/CO$1))","v":0},{"$f":"IF(CP$1>$E$11,0,IF($G64=0,0,(CP$1-$G64)*Hoja1!$A$1/CP$1))","v":0},{"$f":"IF(CQ$1>$E$11,0,IF($G64=0,0,(CQ$1-$G64)*Hoja1!$A$1/CQ$1))","v":0},{"$f":"IF(CR$1>$E$11,0,IF($G64=0,0,(CR$1-$G64)*Hoja1!$A$1/CR$1))","v":0},{"$f":"IF(CS$1>$E$11,0,IF($G64=0,0,(CS$1-$G64)*Hoja1!$A$1/CS$1))","v":0},{"$f":"IF(CT$1>$E$11,0,IF($G64=0,0,(CT$1-$G64)*Hoja1!$A$1/CT$1))","v":0},{"$f":"IF(CU$1>$E$11,0,IF($G64=0,0,(CU$1-$G64)*Hoja1!$A$1/CU$1))","v":0},{"$f":"IF(CV$1>$E$11,0,IF($G64=0,0,(CV$1-$G64)*Hoja1!$A$1/CV$1))","v":0},{"$f":"IF(CW$1>$E$11,0,IF($G64=0,0,(CW$1-$G64)*Hoja1!$A$1/CW$1))","v":0},{"$f":"IF(CX$1>$E$11,0,IF($G64=0,0,(CX$1-$G64)*Hoja1!$A$1/CX$1))","v":0},{"$f":"IF(CY$1>$E$11,0,IF($G64=0,0,(CY$1-$G64)*Hoja1!$A$1/CY$1))","v":0},{"$f":"IF(CZ$1>$E$11,0,IF($G64=0,0,(CZ$1-$G64)*Hoja1!$A$1/CZ$1))","v":0},{"$f":"IF(DA$1>$E$11,0,IF($G64=0,0,(DA$1-$G64)*Hoja1!$A$1/DA$1))","v":0},{"$f":"IF(DB$1>$E$11,0,IF($G64=0,0,(DB$1-$G64)*Hoja1!$A$1/DB$1))","v":0},{"$f":"IF(DC$1>$E$11,0,IF($G64=0,0,(DC$1-$G64)*Hoja1!$A$1/DC$1))","v":0},{"$f":"IF(DD$1>$E$11,0,IF($G64=0,0,(DD$1-$G64)*Hoja1!$A$1/DD$1))","v":0},{"$f":"IF(DE$1>$E$11,0,IF($G64=0,0,(DE$1-$G64)*Hoja1!$A$1/DE$1))","v":0},{"$f":"IF(DF$1>$E$11,0,IF($G64=0,0,(DF$1-$G64)*Hoja1!$A$1/DF$1))","v":0},{"$f":"IF(DG$1>$E$11,0,IF($G64=0,0,(DG$1-$G64)*Hoja1!$A$1/DG$1))","v":0},{"$f":"IF(DH$1>$E$11,0,IF($G64=0,0,(DH$1-$G64)*Hoja1!$A$1/DH$1))","v":0},{"$f":"IF(DI$1>$E$11,0,IF($G64=0,0,(DI$1-$G64)*Hoja1!$A$1/DI$1))","v":0},{"$f":"IF(DJ$1>$E$11,0,IF($G64=0,0,(DJ$1-$G64)*Hoja1!$A$1/DJ$1))","v":0},{"$f":"IF(DK$1>$E$11,0,IF($G64=0,0,(DK$1-$G64)*Hoja1!$A$1/DK$1))","v":0},{"$f":"IF(DL$1>$E$11,0,IF($G64=0,0,(DL$1-$G64)*Hoja1!$A$1/DL$1))","v":0},{"$f":"IF(DM$1>$E$11,0,IF($G64=0,0,(DM$1-$G64)*Hoja1!$A$1/DM$1))","v":0}]
[null,null,null,null,null,810.49500000000114,0,{"$f":"IF(H$1>$E$11,0,IF($G65=0,0,(H$1-$G65)*Hoja1!$A$1/H$1))","v":0},{"$f":"IF(I$1>$E$11,0,IF($G65=0,0,(I$1-$G65)*Hoja1!$A$1/I$1))","v":0},{"$f":"IF(J$1>$E$11,0,IF($G65=0,0,(J$1-$G65)*Hoja1!$A$1/J$1))","v":0},{"$f":"IF(K$1>$E$11,0,IF($G65=0,0,(K$1-$G65)*Hoja1!$A$1/K$1))","v":0},{"$f":"IF(L$1>$E$11,0,IF($G65=0,0,(L$1-$G65)*Hoja1!$A$1/L$1))","v":0},{"$f":"IF(M$1>$E$11,0,IF($G65=0,0,(M$1-$G65)*Hoja1!$A$1/M$1))","v":0},{"$f":"IF(N$1>$E$11,0,IF($G65=0,0,(N$1-$G65)*Hoja1!$A$1/N$1))","v":0},{"$f":"IF(O$1>$E$11,0,IF($G65=0,0,(O$1-$G65)*Hoja1!$A$1/O$1))","v":0},{"$f":"IF(P$1>$E$11,0,IF($G65=0,0,(P$1-$G65)*Hoja1!$A$1/P$1))","v":0},{"$f":"IF(Q$1>$E$11,0,IF($G65=0,0,(Q$1-$G65)*Hoja1!$A$1/Q$1))","v":0},{"$f":"IF(R$1>$E$11,0,IF($G65=0,0,(R$1-$G65)*Hoja1!$A$1/R$1))","v":0},{"$f":"IF(S$1>$E$11,0,IF($G65=0,0,(S$1-$G65)*Hoja1!$A$1/S$1))","v":0},{"$f":"IF(T$1>$E$11,0,IF($G65=0,0,(T$1-$G65)*Hoja1!$A$1/T$1))","v":0},{"$f":"IF(U$1>$E$11,0,IF($G65=0,0,(U$1-$G65)*Hoja1!$A$1/U$1))","v":0},{"$f":"IF(V$1>$E$11,0,IF($G65=0,0,(V$1-$G65)*Hoja1!$A$1/V$1))","v":0},{"$f":"IF(W$1>$E$11,0,IF($G65=0,0,(W$1-$G65)*Hoja1!$A$1/W$1))","v":0},{"$f":"IF(X$1>$E$11,0,IF($G65=0,0,(X$1-$G65)*Hoja1!$A$1/X$1))","v":0},{"$f":"IF(Y$1>$E$11,0,IF($G65=0,0,(Y$1-$G65)*Hoja1!$A$1/Y$1))","v":0},{"$f":"IF(Z$1>$E$11,0,IF($G65=0,0,(Z$1-$G65)*Hoja1!$A$1/Z$1))","v":0},{"$f":"IF(AA$1>$E$11,0,IF($G65=0,0,(AA$1-$G65)*Hoja1!$A$1/AA$1))","v":0},{"$f":"IF(AB$1>$E$11,0,IF($G65=0,0,(AB$1-$G65)*Hoja1!$A$1/AB$1))","v":0},{"$f":"IF(AC$1>$E$11,0,IF($G65=0,0,(AC$1-$G65)*Hoja1!$A$1/AC$1))","v":0},{"$f":"IF(AD$1>$E$11,0,IF($G65=0,0,(AD$1-$G65)*Hoja1!$A$1/AD$1))","v":0},{"$f":"IF(AE$1>$E$11,0,IF($G65=0,0,(AE$1-$G65)*Hoja1!$A$1/AE$1))","v":0},{"$f":"IF(AF$1>$E$11,0,IF($G65=0,0,(AF$1-$G65)*Hoja1!$A$1/AF$1))","v":0},{"$f":"IF(AG$1>$E$11,0,IF($G65=0,0,(AG$1-$G65)*Hoja1!$A$1/AG$1))","v":0},{"$f":"IF(AH$1>$E$11,0,IF($G65=0,0,(AH$1-$G65)*Hoja1!$A$1/AH$1))","v":0},{"$f":"IF(AI$1>$E$11,0,IF($G65=0,0,(AI$1-$G65)*Hoja1!$A$1/AI$1))","v":0},{"$f":"IF(AJ$1>$E$11,0,IF($G65=0,0,(AJ$1-$G65)*Hoja1!$A$1/AJ$1))","v":0},{"$f":"IF(AK$1>$E$11,0,IF($G65=0,0,(AK$1-$G65)*Hoja1!$A$1/AK$1))","v":0},{"$f":"IF(AL$1>$E$11,0,IF($G65=0,0,(AL$1-$G65)*Hoja1!$A$1/AL$1))","v":0},{"$f":"IF(AM$1>$E$11,0,IF($G65=0,0,(AM$1-$G65)*Hoja1!$A$1/AM$1))","v":0},{"$f":"IF(AN$1>$E$11,0,IF($G65=0,0,(AN$1-$G65)*Hoja1!$A$1/AN$1))","v":0},{"$f":"IF(AO$1>$E$11,0,IF($G65=0,0,(AO$1-$G65)*Hoja1!$A$1/AO$1))","v":0},{"$f":"IF(AP$1>$E$11,0,IF($G65=0,0,(AP$1-$G65)*Hoja1!$A$1/AP$1))","v":0},{"$f":"IF(AQ$1>$E$11,0,IF($G65=0,0,(AQ$1-$G65)*Hoja1!$A$1/AQ$1))","v":0},{"$f":"IF(AR$1>$E$11,0,IF($G65=0,0,(AR$1-$G65)*Hoja1!$A$1/AR$1))","v":0},{"$f":"IF(AS$1>$E$11,0,IF($G65=0,0,(AS$1-$G65)*Hoja1!$A$1/AS$1))","v":0},{"$f":"IF(AT$1>$E$11,0,IF($G65=0,0,(AT$1-$G65)*Hoja1!$A$1/AT$1))","v":0},{"$f":"IF(AU$1>$E$11,0,IF($G65=0,0,(AU$1-$G65)*Hoja1!$A$1/AU$1))","v":0},{"$f":"IF(AV$1>$E$11,0,IF($G65=0,0,(AV$1-$G65)*Hoja1!$A$1/AV$1))","v":0},{"$f":"IF(AW$1>$E$11,0,IF($G65=0,0,(AW$1-$G65)*Hoja1!$A$1/AW$1))","v":0},{"$f":"IF(AX$1>$E$11,0,IF($G65=0,0,(AX$1-$G65)*Hoja1!$A$1/AX$1))","v":0},{"$f":"IF(AY$1>$E$11,0,IF($G65=0,0,(AY$1-$G65)*Hoja1!$A$1/AY$1))","v":0},{"$f":"IF(AZ$1>$E$11,0,IF($G65=0,0,(AZ$1-$G65)*Hoja1!$A$1/AZ$1))","v":0},{"$f":"IF(BA$1>$E$11,0,IF($G65=0,0,(BA$1-$G65)*Hoja1!$A$1/BA$1))","v":0},{"$f":"IF(BB$1>$E$11,0,IF($G65=0,0,(BB$1-$G65)*Hoja1!$A$1/BB$1))","v":0},{"$f":"IF(BC$1>$E$11,0,IF($G65=0,0,(BC$1-$G65)*Hoja1!$A$1/BC$1))","v":0},{"$f":"IF(BD$1>$E$11,0,IF($G65=0,0,(BD$1-$G65)*Hoja1!$A$1/BD$1))","v":0},{"$f":"IF(BE$1>$E$11,0,IF($G65=0,0,(BE$1-$G65)*Hoja1!$A$1/BE$1))","v":0},{"$f":"IF(BF$1>$E$11,0,IF($G65=0,0,(BF$1-$G65)*Hoja1!$A$1/BF$1))","v":0},{"$f":"IF(BG$1>$E$11,0,IF($G65=0,0,(BG$1-$G65)*Hoja1!$A$1/BG$1))","v":0},{"$f":"IF(BH$1>$E$11,0,IF($G65=0,0,(BH$1-$G65)*Hoja1!$A$1/BH$1))","v":0},{"$f":"IF(BI$1>$E$11,0,IF($G65=0,0,(BI$1-$G65)*Hoja1!$A$1/BI$1))","v":0},{"$f":"IF(BJ$1>$E$11,0,IF($G65=0,0,(BJ$1-$G65)*Hoja1!$A$1/BJ$1))","v":0},{"$f":"IF(BK$1>$E$11,0,IF($G65=0,0,(BK$1-$G65)*Hoja1!$A$1/BK$1))","v":0},{"$f":"IF(BL$1>$E$11,0,IF($G65=0,0,(BL$1-$G65)*Hoja1!$A$1/BL$1))","v":0},{"$f":"IF(BM$1>$E$11,0,IF($G65=0,0,(BM$1-$G65)*Hoja1!$A$1/BM$1))","v":0},{"$f":"IF(BN$1>$E$11,0,IF($G65=0,0,(BN$1-$G65)*Hoja1!$A$1/BN$1))","v":0},{"$f":"IF(BO$1>$E$11,0,IF($G65=0,0,(BO$1-$G65)*Hoja1!$A$1/BO$1))","v":0},{"$f":"IF(BP$1>$E$11,0,IF($G65=0,0,(BP$1-$G65)*Hoja1!$A$1/BP$1))","v":0},{"$f":"IF(BQ$1>$E$11,0,IF($G65=0,0,(BQ$1-$G65)*Hoja1!$A$1/BQ$1))","v":0},{"$f":"IF(BR$1>$E$11,0,IF($G65=0,0,(BR$1-$G65)*Hoja1!$A$1/BR$1))","v":0},{"$f":"IF(BS$1>$E$11,0,IF($G65=0,0,(BS$1-$G65)*Hoja1!$A$1/BS$1))","v":0},{"$f":"IF(BT$1>$E$11,0,IF($G65=0,0,(BT$1-$G65)*Hoja1!$A$1/BT$1))","v":0},{"$f":"IF(BU$1>$E$11,0,IF($G65=0,0,(BU$1-$G65)*Hoja1!$A$1/BU$1))","v":0},{"$f":"IF(BV$1>$E$11,0,IF($G65=0,0,(BV$1-$G65)*Hoja1!$A$1/BV$1))","v":0},{"$f":"IF(BW$1>$E$11,0,IF($G65=0,0,(BW$1-$G65)*Hoja1!$A$1/BW$1))","v":0},{"$f":"IF(BX$1>$E$11,0,IF($G65=0,0,(BX$1-$G65)*Hoja1!$A$1/BX$1))","v":0},{"$f":"IF(BY$1>$E$11,0,IF($G65=0,0,(BY$1-$G65)*Hoja1!$A$1/BY$1))","v":0},{"$f":"IF(BZ$1>$E$11,0,IF($G65=0,0,(BZ$1-$G65)*Hoja1!$A$1/BZ$1))","v":0},{"$f":"IF(CA$1>$E$11,0,IF($G65=0,0,(CA$1-$G65)*Hoja1!$A$1/CA$1))","v":0},{"$f":"IF(CB$1>$E$11,0,IF($G65=0,0,(CB$1-$G65)*Hoja1!$A$1/CB$1))","v":0},{"$f":"IF(CC$1>$E$11,0,IF($G65=0,0,(CC$1-$G65)*Hoja1!$A$1/CC$1))","v":0},{"$f":"IF(CD$1>$E$11,0,IF($G65=0,0,(CD$1-$G65)*Hoja1!$A$1/CD$1))","v":0},{"$f":"IF(CE$1>$E$11,0,IF($G65=0,0,(CE$1-$G65)*Hoja1!$A$1/CE$1))","v":0},{"$f":"IF(CF$1>$E$11,0,IF($G65=0,0,(CF$1-$G65)*Hoja1!$A$1/CF$1))","v":0},{"$f":"IF(CG$1>$E$11,0,IF($G65=0,0,(CG$1-$G65)*Hoja1!$A$1/CG$1))","v":0},{"$f":"IF(CH$1>$E$11,0,IF($G65=0,0,(CH$1-$G65)*Hoja1!$A$1/CH$1))","v":0},{"$f":"IF(CI$1>$E$11,0,IF($G65=0,0,(CI$1-$G65)*Hoja1!$A$1/CI$1))","v":0},{"$f":"IF(CJ$1>$E$11,0,IF($G65=0,0,(CJ$1-$G65)*Hoja1!$A$1/CJ$1))","v":0},{"$f":"IF(CK$1>$E$11,0,IF($G65=0,0,(CK$1-$G65)*Hoja1!$A$1/CK$1))","v":0},{"$f":"IF(CL$1>$E$11,0,IF($G65=0,0,(CL$1-$G65)*Hoja1!$A$1/CL$1))","v":0},{"$f":"IF(CM$1>$E$11,0,IF($G65=0,0,(CM$1-$G65)*Hoja1!$A$1/CM$1))","v":0},{"$f":"IF(CN$1>$E$11,0,IF($G65=0,0,(CN$1-$G65)*Hoja1!$A$1/CN$1))","v":0},{"$f":"IF(CO$1>$E$11,0,IF($G65=0,0,(CO$1-$G65)*Hoja1!$A$1/CO$1))","v":0},{"$f":"IF(CP$1>$E$11,0,IF($G65=0,0,(CP$1-$G65)*Hoja1!$A$1/CP$1))","v":0},{"$f":"IF(CQ$1>$E$11,0,IF($G65=0,0,(CQ$1-$G65)*Hoja1!$A$1/CQ$1))","v":0},{"$f":"IF(CR$1>$E$11,0,IF($G65=0,0,(CR$1-$G65)*Hoja1!$A$1/CR$1))","v":0},{"$f":"IF(CS$1>$E$11,0,IF($G65=0,0,(CS$1-$G65)*Hoja1!$A$1/CS$1))","v":0},{"$f":"IF(CT$1>$E$11,0,IF($G65=0,0,(CT$1-$G65)*Hoja1!$A$1/CT$1))","v":0},{"$f":"IF(CU$1>$E$11,0,IF($G65=0,0,(CU$1-$G65)*Hoja1!$A$1/CU$1))","v":0},{"$f":"IF(CV$1>$E$11,0,IF($G65=0,0,(CV$1-$G65)*Hoja1!$A$1/CV$1))","v":0},{"$f":"IF(CW$1>$E$11,0,IF($G65=0,0,(CW$1-$G65)*Hoja1!$A$1/CW$1))","v":0},{"$f":"IF(CX$1>$E$11,0,IF($G65=0,0,(CX$1-$G65)*Hoja1!$A$1/CX$1))","v":0},{"$f":"IF(CY$1>$E$11,0,IF($G65=0,0,(CY$1-$G65)*Hoja1!$A$1/CY$1))","v":0},{"$f":"IF(CZ$1>$E$11,0,IF($G65=0,0,(CZ$1-$G65)*Hoja1!$A$1/CZ$1))","v":0},{"$f":"IF(DA$1>$E$11,0,IF($G65=0,0,(DA$1-$G65)*Hoja1!$A$1/DA$1))","v":0},{"$f":"IF(DB$1>$E$11,0,IF($G65=0,0,(DB$1-$G65)*Hoja1!$A$1/DB$1))","v":0},{"$f":"IF(DC$1>$E$11,0,IF($G65=0,0,(DC$1-$G65)*Hoja1!$A$1/DC$1))","v":0},{"$f":"IF(DD$1>$E$11,0,IF($G65=0,0,(DD$1-$G65)*Hoja1!$A$1/DD$1))","v":0},{"$f":"IF(DE$1>$E$11,0,IF($G65=0,0,(DE$1-$G65)*Hoja1!$A$1/DE$1))","v":0},{"$f":"IF(DF$1>$E$11,0,IF($G65=0,0,(DF$1-$G65)*Hoja1!$A$1/DF$1))","v":0},{"$f":"IF(DG$1>$E$11,0,IF($G65=0,0,(DG$1-$G65)*Hoja1!$A$1/DG$1))","v":0},{"$f":"IF(DH$1>$E$11,0,IF($G65=0,0,(DH$1-$G65)*Hoja1!$A$1/DH$1))","v":0},{"$f":"IF(DI$1>$E$11,0,IF($G65=0,0,(DI$1-$G65)*Hoja1!$A$1/DI$1))","v":0},{"$f":"IF(DJ$1>$E$11,0,IF($G65=0,0,(DJ$1-$G65)*Hoja1!$A$1/DJ$1))","v":0},{"$f":"IF(DK$1>$E$11,0,IF($G65=0,0,(DK$1-$G65)*Hoja1!$A$1/DK$1))","v":0},{"$f":"IF(DL$1>$E$11,0,IF($G65=0,0,(DL$1-$G65)*Hoja1!$A$1/DL$1))","v":0},{"$f":"IF(DM$1>$E$11,0,IF($G65=0,0,(DM$1-$G65)*Hoja1!$A$1/DM$1))","v":0}]
[null,null,null,null,null,823.6850000000012,0,{"$f":"IF(H$1>$E$11,0,IF($G66=0,0,(H$1-$G66)*Hoja1!$A$1/H$1))","v":0},{"$f":"IF(I$1>$E$11,0,IF($G66=0,0,(I$1-$G66)*Hoja1!$A$1/I$1))","v":0},{"$f":"IF(J$1>$E$11,0,IF($G66=0,0,(J$1-$G66)*Hoja1!$A$1/J$1))","v":0},{"$f":"IF(K$1>$E$11,0,IF($G66=0,0,(K$1-$G66)*Hoja1!$A$1/K$1))","v":0},{"$f":"IF(L$1>$E$11,0,IF($G66=0,0,(L$1-$G66)*Hoja1!$A$1/L$1))","v":0},{"$f":"IF(M$1>$E$11,0,IF($G66=0,0,(M$1-$G66)*Hoja1!$A$1/M$1))","v":0},{"$f":"IF(N$1>$E$11,0,IF($G66=0,0,(N$1-$G66)*Hoja1!$A$1/N$1))","v":0},{"$f":"IF(O$1>$E$11,0,IF($G66=0,0,(O$1-$G66)*Hoja1!$A$1/O$1))","v":0},{"$f":"IF(P$1>$E$11,0,IF($G66=0,0,(P$1-$G66)*Hoja1!$A$1/P$1))","v":0},{"$f":"IF(Q$1>$E$11,0,IF($G66=0,0,(Q$1-$G66)*Hoja1!$A$1/Q$1))","v":0},{"$f":"IF(R$1>$E$11,0,IF($G66=0,0,(R$1-$G66)*Hoja1!$A$1/R$1))","v":0},{"$f":"IF(S$1>$E$11,0,IF($G66=0,0,(S$1-$G66)*Hoja1!$A$1/S$1))","v":0},{"$f":"IF(T$1>$E$11,0,IF($G66=0,0,(T$1-$G66)*Hoja1!$A$1/T$1))","v":0},{"$f":"IF(U$1>$E$11,0,IF($G66=0,0,(U$1-$G66)*Hoja1!$A$1/U$1))","v":0},{"$f":"IF(V$1>$E$11,0,IF($G66=0,0,(V$1-$G66)*Hoja1!$A$1/V$1))","v":0},{"$f":"IF(W$1>$E$11,0,IF($G66=0,0,(W$1-$G66)*Hoja1!$A$1/W$1))","v":0},{"$f":"IF(X$1>$E$11,0,IF($G66=0,0,(X$1-$G66)*Hoja1!$A$1/X$1))","v":0},{"$f":"IF(Y$1>$E$11,0,IF($G66=0,0,(Y$1-$G66)*Hoja1!$A$1/Y$1))","v":0},{"$f":"IF(Z$1>$E$11,0,IF($G66=0,0,(Z$1-$G66)*Hoja1!$A$1/Z$1))","v":0},{"$f":"IF(AA$1>$E$11,0,IF($G66=0,0,(AA$1-$G66)*Hoja1!$A$1/AA$1))","v":0},{"$f":"IF(AB$1>$E$11,0,IF($G66=0,0,(AB$1-$G66)*Hoja1!$A$1/AB$1))","v":0},{"$f":"IF(AC$1>$E$11,0,IF($G66=0,0,(AC$1-$G66)*Hoja1!$A$1/AC$1))","v":0},{"$f":"IF(AD$1>$E$11,0,IF($G66=0,0,(AD$1-$G66)*Hoja1!$A$1/AD$1))","v":0},{"$f":"IF(AE$1>$E$11,0,IF($G66=0,0,(AE$1-$G66)*Hoja1!$A$1/AE$1))","v":0},{"$f":"IF(AF$1>$E$11,0,IF($G66=0,0,(AF$1-$G66)*Hoja1!$A$1/AF$1))","v":0},{"$f":"IF(AG$1>$E$11,0,IF($G66=0,0,(AG$1-$G66)*Hoja1!$A$1/AG$1))","v":0},{"$f":"IF(AH$1>$E$11,0,IF($G66=0,0,(AH$1-$G66)*Hoja1!$A$1/AH$1))","v":0},{"$f":"IF(AI$1>$E$11,0,IF($G66=0,0,(AI$1-$G66)*Hoja1!$A$1/AI$1))","v":0},{"$f":"IF(AJ$1>$E$11,0,IF($G66=0,0,(AJ$1-$G66)*Hoja1!$A$1/AJ$1))","v":0},{"$f":"IF(AK$1>$E$11,0,IF($G66=0,0,(AK$1-$G66)*Hoja1!$A$1/AK$1))","v":0},{"$f":"IF(AL$1>$E$11,0,IF($G66=0,0,(AL$1-$G66)*Hoja1!$A$1/AL$1))","v":0},{"$f":"IF(AM$1>$E$11,0,IF($G66=0,0,(AM$1-$G66)*Hoja1!$A$1/AM$1))","v":0},{"$f":"IF(AN$1>$E$11,0,IF($G66=0,0,(AN$1-$G66)*Hoja1!$A$1/AN$1))","v":0},{"$f":"IF(AO$1>$E$11,0,IF($G66=0,0,(AO$1-$G66)*Hoja1!$A$1/AO$1))","v":0},{"$f":"IF(AP$1>$E$11,0,IF($G66=0,0,(AP$1-$G66)*Hoja1!$A$1/AP$1))","v":0},{"$f":"IF(AQ$1>$E$11,0,IF($G66=0,0,(AQ$1-$G66)*Hoja1!$A$1/AQ$1))","v":0},{"$f":"IF(AR$1>$E$11,0,IF($G66=0,0,(AR$1-$G66)*Hoja1!$A$1/AR$1))","v":0},{"$f":"IF(AS$1>$E$11,0,IF($G66=0,0,(AS$1-$G66)*Hoja1!$A$1/AS$1))","v":0},{"$f":"IF(AT$1>$E$11,0,IF($G66=0,0,(AT$1-$G66)*Hoja1!$A$1/AT$1))","v":0},{"$f":"IF(AU$1>$E$11,0,IF($G66=0,0,(AU$1-$G66)*Hoja1!$A$1/AU$1))","v":0},{"$f":"IF(AV$1>$E$11,0,IF($G66=0,0,(AV$1-$G66)*Hoja1!$A$1/AV$1))","v":0},{"$f":"IF(AW$1>$E$11,0,IF($G66=0,0,(AW$1-$G66)*Hoja1!$A$1/AW$1))","v":0},{"$f":"IF(AX$1>$E$11,0,IF($G66=0,0,(AX$1-$G66)*Hoja1!$A$1/AX$1))","v":0},{"$f":"IF(AY$1>$E$11,0,IF($G66=0,0,(AY$1-$G66)*Hoja1!$A$1/AY$1))","v":0},{"$f":"IF(AZ$1>$E$11,0,IF($G66=0,0,(AZ$1-$G66)*Hoja1!$A$1/AZ$1))","v":0},{"$f":"IF(BA$1>$E$11,0,IF($G66=0,0,(BA$1-$G66)*Hoja1!$A$1/BA$1))","v":0},{"$f":"IF(BB$1>$E$11,0,IF($G66=0,0,(BB$1-$G66)*Hoja1!$A$1/BB$1))","v":0},{"$f":"IF(BC$1>$E$11,0,IF($G66=0,0,(BC$1-$G66)*Hoja1!$A$1/BC$1))","v":0},{"$f":"IF(BD$1>$E$11,0,IF($G66=0,0,(BD$1-$G66)*Hoja1!$A$1/BD$1))","v":0},{"$f":"IF(BE$1>$E$11,0,IF($G66=0,0,(BE$1-$G66)*Hoja1!$A$1/BE$1))","v":0},{"$f":"IF(BF$1>$E$11,0,IF($G66=0,0,(BF$1-$G66)*Hoja1!$A$1/BF$1))","v":0},{"$f":"IF(BG$1>$E$11,0,IF($G66=0,0,(BG$1-$G66)*Hoja1!$A$1/BG$1))","v":0},{"$f":"IF(BH$1>$E$11,0,IF($G66=0,0,(BH$1-$G66)*Hoja1!$A$1/BH$1))","v":0},{"$f":"IF(BI$1>$E$11,0,IF($G66=0,0,(BI$1-$G66)*Hoja1!$A$1/BI$1))","v":0},{"$f":"IF(BJ$1>$E$11,0,IF($G66=0,0,(BJ$1-$G66)*Hoja1!$A$1/BJ$1))","v":0},{"$f":"IF(BK$1>$E$11,0,IF($G66=0,0,(BK$1-$G66)*Hoja1!$A$1/BK$1))","v":0},{"$f":"IF(BL$1>$E$11,0,IF($G66=0,0,(BL$1-$G66)*Hoja1!$A$1/BL$1))","v":0},{"$f":"IF(BM$1>$E$11,0,IF($G66=0,0,(BM$1-$G66)*Hoja1!$A$1/BM$1))","v":0},{"$f":"IF(BN$1>$E$11,0,IF($G66=0,0,(BN$1-$G66)*Hoja1!$A$1/BN$1))","v":0},{"$f":"IF(BO$1>$E$11,0,IF($G66=0,0,(BO$1-$G66)*Hoja1!$A$1/BO$1))","v":0},{"$f":"IF(BP$1>$E$11,0,IF($G66=0,0,(BP$1-$G66)*Hoja1!$A$1/BP$1))","v":0},{"$f":"IF(BQ$1>$E$11,0,IF($G66=0,0,(BQ$1-$G66)*Hoja1!$A$1/BQ$1))","v":0},{"$f":"IF(BR$1>$E$11,0,IF($G66=0,0,(BR$1-$G66)*Hoja1!$A$1/BR$1))","v":0},{"$f":"IF(BS$1>$E$11,0,IF($G66=0,0,(BS$1-$G66)*Hoja1!$A$1/BS$1))","v":0},{"$f":"IF(BT$1>$E$11,0,IF($G66=0,0,(BT$1-$G66)*Hoja1!$A$1/BT$1))","v":0},{"$f":"IF(BU$1>$E$11,0,IF($G66=0,0,(BU$1-$G66)*Hoja1!$A$1/BU$1))","v":0},{"$f":"IF(BV$1>$E$11,0,IF($G66=0,0,(BV$1-$G66)*Hoja1!$A$1/BV$1))","v":0},{"$f":"IF(BW$1>$E$11,0,IF($G66=0,0,(BW$1-$G66)*Hoja1!$A$1/BW$1))","v":0},{"$f":"IF(BX$1>$E$11,0,IF($G66=0,0,(BX$1-$G66)*Hoja1!$A$1/BX$1))","v":0},{"$f":"IF(BY$1>$E$11,0,IF($G66=0,0,(BY$1-$G66)*Hoja1!$A$1/BY$1))","v":0},{"$f":"IF(BZ$1>$E$11,0,IF($G66=0,0,(BZ$1-$G66)*Hoja1!$A$1/BZ$1))","v":0},{"$f":"IF(CA$1>$E$11,0,IF($G66=0,0,(CA$1-$G66)*Hoja1!$A$1/CA$1))","v":0},{"$f":"IF(CB$1>$E$11,0,IF($G66=0,0,(CB$1-$G66)*Hoja1!$A$1/CB$1))","v":0},{"$f":"IF(CC$1>$E$11,0,IF($G66=0,0,(CC$1-$G66)*Hoja1!$A$1/CC$1))","v":0},{"$f":"IF(CD$1>$E$11,0,IF($G66=0,0,(CD$1-$G66)*Hoja1!$A$1/CD$1))","v":0},{"$f":"IF(CE$1>$E$11,0,IF($G66=0,0,(CE$1-$G66)*Hoja1!$A$1/CE$1))","v":0},{"$f":"IF(CF$1>$E$11,0,IF($G66=0,0,(CF$1-$G66)*Hoja1!$A$1/CF$1))","v":0},{"$f":"IF(CG$1>$E$11,0,IF($G66=0,0,(CG$1-$G66)*Hoja1!$A$1/CG$1))","v":0},{"$f":"IF(CH$1>$E$11,0,IF($G66=0,0,(CH$1-$G66)*Hoja1!$A$1/CH$1))","v":0},{"$f":"IF(CI$1>$E$11,0,IF($G66=0,0,(CI$1-$G66)*Hoja1!$A$1/CI$1))","v":0},{"$f":"IF(CJ$1>$E$11,0,IF($G66=0,0,(CJ$1-$G66)*Hoja1!$A$1/CJ$1))","v":0},{"$f":"IF(CK$1>$E$11,0,IF($G66=0,0,(CK$1-$G66)*Hoja1!$A$1/CK$1))","v":0},{"$f":"IF(CL$1>$E$11,0,IF($G66=0,0,(CL$1-$G66)*Hoja1!$A$1/CL$1))","v":0},{"$f":"IF(CM$1>$E$11,0,IF($G66=0,0,(CM$1-$G66)*Hoja1!$A$1/CM$1))","v":0},{"$f":"IF(CN$1>$E$11,0,IF($G66=0,0,(CN$1-$G66)*Hoja1!$A$1/CN$1))","v":0},{"$f":"IF(CO$1>$E$11,0,IF($G66=0,0,(CO$1-$G66)*Hoja1!$A$1/CO$1))","v":0},{"$f":"IF(CP$1>$E$11,0,IF($G66=0,0,(CP$1-$G66)*Hoja1!$A$1/CP$1))","v":0},{"$f":"IF(CQ$1>$E$11,0,IF($G66=0,0,(CQ$1-$G66)*Hoja1!$A$1/CQ$1))","v":0},{"$f":"IF(CR$1>$E$11,0,IF($G66=0,0,(CR$1-$G66)*Hoja1!$A$1/CR$1))","v":0},{"$f":"IF(CS$1>$E$11,0,IF($G66=0,0,(CS$1-$G66)*Hoja1!$A$1/CS$1))","v":0},{"$f":"IF(CT$1>$E$11,0,IF($G66=0,0,(CT$1-$G66)*Hoja1!$A$1/CT$1))","v":0},{"$f":"IF(CU$1>$E$11,0,IF($G66=0,0,(CU$1-$G66)*Hoja1!$A$1/CU$1))","v":0},{"$f":"IF(CV$1>$E$11,0,IF($G66=0,0,(CV$1-$G66)*Hoja1!$A$1/CV$1))","v":0},{"$f":"IF(CW$1>$E$11,0,IF($G66=0,0,(CW$1-$G66)*Hoja1!$A$1/CW$1))","v":0},{"$f":"IF(CX$1>$E$11,0,IF($G66=0,0,(CX$1-$G66)*Hoja1!$A$1/CX$1))","v":0},{"$f":"IF(CY$1>$E$11,0,IF($G66=0,0,(CY$1-$G66)*Hoja1!$A$1/CY$1))","v":0},{"$f":"IF(CZ$1>$E$11,0,IF($G66=0,0,(CZ$1-$G66)*Hoja1!$A$1/CZ$1))","v":0},{"$f":"IF(DA$1>$E$11,0,IF($G66=0,0,(DA$1-$G66)*Hoja1!$A$1/DA$1))","v":0},{"$f":"IF(DB$1>$E$11,0,IF($G66=0,0,(DB$1-$G66)*Hoja1!$A$1/DB$1))","v":0},{"$f":"IF(DC$1>$E$11,0,IF($G66=0,0,(DC$1-$G66)*Hoja1!$A$1/DC$1))","v":0},{"$f":"IF(DD$1>$E$11,0,IF($G66=0,0,(DD$1-$G66)*Hoja1!$A$1/DD$1))","v":0},{"$f":"IF(DE$1>$E$11,0,IF($G66=0,0,(DE$1-$G66)*Hoja1!$A$1/DE$1))","v":0},{"$f":"IF(DF$1>$E$11,0,IF($G66=0,0,(DF$1-$G66)*Hoja1!$A$1/DF$1))","v":0},{"$f":"IF(DG$1>$E$11,0,IF($G66=0,0,(DG$1-$G66)*Hoja1!$A$1/DG$1))","v":0},{"$f":"IF(DH$1>$E$11,0,IF($G66=0,0,(DH$1-$G66)*Hoja1!$A$1/DH$1))","v":0},{"$f":"IF(DI$1>$E$11,0,IF($G66=0,0,(DI$1-$G66)*Hoja1!$A$1/DI$1))","v":0},{"$f":"IF(DJ$1>$E$11,0,IF($G66=0,0,(DJ$1-$G66)*Hoja1!$A$1/DJ$1))","v":0},{"$f":"IF(DK$1>$E$11,0,IF($G66=0,0,(DK$1-$G66)*Hoja1!$A$1/DK$1))","v":0},{"$f":"IF(DL$1>$E$11,0,IF($G66=0,0,(DL$1-$G66)*Hoja1!$A$1/DL$1))","v":0},{"$f":"IF(DM$1>$E$11,0,IF($G66=0,0,(DM$1-$G66)*Hoja1!$A$1/DM$1))","v":0}]
[null,null,null,null,null,836.87500000000125,0,{"$f":"IF(H$1>$E$11,0,IF($G67=0,0,(H$1-$G67)*Hoja1!$A$1/H$1))","v":0},{"$f":"IF(I$1>$E$11,0,IF($G67=0,0,(I$1-$G67)*Hoja1!$A$1/I$1))","v":0},{"$f":"IF(J$1>$E$11,0,IF($G67=0,0,(J$1-$G67)*Hoja1!$A$1/J$1))","v":0},{"$f":"IF(K$1>$E$11,0,IF($G67=0,0,(K$1-$G67)*Hoja1!$A$1/K$1))","v":0},{"$f":"IF(L$1>$E$11,0,IF($G67=0,0,(L$1-$G67)*Hoja1!$A$1/L$1))","v":0},{"$f":"IF(M$1>$E$11,0,IF($G67=0,0,(M$1-$G67)*Hoja1!$A$1/M$1))","v":0},{"$f":"IF(N$1>$E$11,0,IF($G67=0,0,(N$1-$G67)*Hoja1!$A$1/N$1))","v":0},{"$f":"IF(O$1>$E$11,0,IF($G67=0,0,(O$1-$G67)*Hoja1!$A$1/O$1))","v":0},{"$f":"IF(P$1>$E$11,0,IF($G67=0,0,(P$1-$G67)*Hoja1!$A$1/P$1))","v":0},{"$f":"IF(Q$1>$E$11,0,IF($G67=0,0,(Q$1-$G67)*Hoja1!$A$1/Q$1))","v":0},{"$f":"IF(R$1>$E$11,0,IF($G67=0,0,(R$1-$G67)*Hoja1!$A$1/R$1))","v":0},{"$f":"IF(S$1>$E$11,0,IF($G67=0,0,(S$1-$G67)*Hoja1!$A$1/S$1))","v":0},{"$f":"IF(T$1>$E$11,0,IF($G67=0,0,(T$1-$G67)*Hoja1!$A$1/T$1))","v":0},{"$f":"IF(U$1>$E$11,0,IF($G67=0,0,(U$1-$G67)*Hoja1!$A$1/U$1))","v":0},{"$f":"IF(V$1>$E$11,0,IF($G67=0,0,(V$1-$G67)*Hoja1!$A$1/V$1))","v":0},{"$f":"IF(W$1>$E$11,0,IF($G67=0,0,(W$1-$G67)*Hoja1!$A$1/W$1))","v":0},{"$f":"IF(X$1>$E$11,0,IF($G67=0,0,(X$1-$G67)*Hoja1!$A$1/X$1))","v":0},{"$f":"IF(Y$1>$E$11,0,IF($G67=0,0,(Y$1-$G67)*Hoja1!$A$1/Y$1))","v":0},{"$f":"IF(Z$1>$E$11,0,IF($G67=0,0,(Z$1-$G67)*Hoja1!$A$1/Z$1))","v":0},{"$f":"IF(AA$1>$E$11,0,IF($G67=0,0,(AA$1-$G67)*Hoja1!$A$1/AA$1))","v":0},{"$f":"IF(AB$1>$E$11,0,IF($G67=0,0,(AB$1-$G67)*Hoja1!$A$1/AB$1))","v":0},{"$f":"IF(AC$1>$E$11,0,IF($G67=0,0,(AC$1-$G67)*Hoja1!$A$1/AC$1))","v":0},{"$f":"IF(AD$1>$E$11,0,IF($G67=0,0,(AD$1-$G67)*Hoja1!$A$1/AD$1))","v":0},{"$f":"IF(AE$1>$E$11,0,IF($G67=0,0,(AE$1-$G67)*Hoja1!$A$1/AE$1))","v":0},{"$f":"IF(AF$1>$E$11,0,IF($G67=0,0,(AF$1-$G67)*Hoja1!$A$1/AF$1))","v":0},{"$f":"IF(AG$1>$E$11,0,IF($G67=0,0,(AG$1-$G67)*Hoja1!$A$1/AG$1))","v":0},{"$f":"IF(AH$1>$E$11,0,IF($G67=0,0,(AH$1-$G67)*Hoja1!$A$1/AH$1))","v":0},{"$f":"IF(AI$1>$E$11,0,IF($G67=0,0,(AI$1-$G67)*Hoja1!$A$1/AI$1))","v":0},{"$f":"IF(AJ$1>$E$11,0,IF($G67=0,0,(AJ$1-$G67)*Hoja1!$A$1/AJ$1))","v":0},{"$f":"IF(AK$1>$E$11,0,IF($G67=0,0,(AK$1-$G67)*Hoja1!$A$1/AK$1))","v":0},{"$f":"IF(AL$1>$E$11,0,IF($G67=0,0,(AL$1-$G67)*Hoja1!$A$1/AL$1))","v":0},{"$f":"IF(AM$1>$E$11,0,IF($G67=0,0,(AM$1-$G67)*Hoja1!$A$1/AM$1))","v":0},{"$f":"IF(AN$1>$E$11,0,IF($G67=0,0,(AN$1-$G67)*Hoja1!$A$1/AN$1))","v":0},{"$f":"IF(AO$1>$E$11,0,IF($G67=0,0,(AO$1-$G67)*Hoja1!$A$1/AO$1))","v":0},{"$f":"IF(AP$1>$E$11,0,IF($G67=0,0,(AP$1-$G67)*Hoja1!$A$1/AP$1))","v":0},{"$f":"IF(AQ$1>$E$11,0,IF($G67=0,0,(AQ$1-$G67)*Hoja1!$A$1/AQ$1))","v":0},{"$f":"IF(AR$1>$E$11,0,IF($G67=0,0,(AR$1-$G67)*Hoja1!$A$1/AR$1))","v":0},{"$f":"IF(AS$1>$E$11,0,IF($G67=0,0,(AS$1-$G67)*Hoja1!$A$1/AS$1))","v":0},{"$f":"IF(AT$1>$E$11,0,IF($G67=0,0,(AT$1-$G67)*Hoja1!$A$1/AT$1))","v":0},{"$f":"IF(AU$1>$E$11,0,IF($G67=0,0,(AU$1-$G67)*Hoja1!$A$1/AU$1))","v":0},{"$f":"IF(AV$1>$E$11,0,IF($G67=0,0,(AV$1-$G67)*Hoja1!$A$1/AV$1))","v":0},{"$f":"IF(AW$1>$E$11,0,IF($G67=0,0,(AW$1-$G67)*Hoja1!$A$1/AW$1))","v":0},{"$f":"IF(AX$1>$E$11,0,IF($G67=0,0,(AX$1-$G67)*Hoja1!$A$1/AX$1))","v":0},{"$f":"IF(AY$1>$E$11,0,IF($G67=0,0,(AY$1-$G67)*Hoja1!$A$1/AY$1))","v":0},{"$f":"IF(AZ$1>$E$11,0,IF($G67=0,0,(AZ$1-$G67)*Hoja1!$A$1/AZ$1))","v":0},{"$f":"IF(BA$1>$E$11,0,IF($G67=0,0,(BA$1-$G67)*Hoja1!$A$1/BA$1))","v":0},{"$f":"IF(BB$1>$E$11,0,IF($G67=0,0,(BB$1-$G67)*Hoja1!$A$1/BB$1))","v":0},{"$f":"IF(BC$1>$E$11,0,IF($G67=0,0,(BC$1-$G67)*Hoja1!$A$1/BC$1))","v":0},{"$f":"IF(BD$1>$E$11,0,IF($G67=0,0,(BD$1-$G67)*Hoja1!$A$1/BD$1))","v":0},{"$f":"IF(BE$1>$E$11,0,IF($G67=0,0,(BE$1-$G67)*Hoja1!$A$1/BE$1))","v":0},{"$f":"IF(BF$1>$E$11,0,IF($G67=0,0,(BF$1-$G67)*Hoja1!$A$1/BF$1))","v":0},{"$f":"IF(BG$1>$E$11,0,IF($G67=0,0,(BG$1-$G67)*Hoja1!$A$1/BG$1))","v":0},{"$f":"IF(BH$1>$E$11,0,IF($G67=0,0,(BH$1-$G67)*Hoja1!$A$1/BH$1))","v":0},{"$f":"IF(BI$1>$E$11,0,IF($G67=0,0,(BI$1-$G67)*Hoja1!$A$1/BI$1))","v":0},{"$f":"IF(BJ$1>$E$11,0,IF($G67=0,0,(BJ$1-$G67)*Hoja1!$A$1/BJ$1))","v":0},{"$f":"IF(BK$1>$E$11,0,IF($G67=0,0,(BK$1-$G67)*Hoja1!$A$1/BK$1))","v":0},{"$f":"IF(BL$1>$E$11,0,IF($G67=0,0,(BL$1-$G67)*Hoja1!$A$1/BL$1))","v":0},{"$f":"IF(BM$1>$E$11,0,IF($G67=0,0,(BM$1-$G67)*Hoja1!$A$1/BM$1))","v":0},{"$f":"IF(BN$1>$E$11,0,IF($G67=0,0,(BN$1-$G67)*Hoja1!$A$1/BN$1))","v":0},{"$f":"IF(BO$1>$E$11,0,IF($G67=0,0,(BO$1-$G67)*Hoja1!$A$1/BO$1))","v":0},{"$f":"IF(BP$1>$E$11,0,IF($G67=0,0,(BP$1-$G67)*Hoja1!$A$1/BP$1))","v":0},{"$f":"IF(BQ$1>$E$11,0,IF($G67=0,0,(BQ$1-$G67)*Hoja1!$A$1/BQ$1))","v":0},{"$f":"IF(BR$1>$E$11,0,IF($G67=0,0,(BR$1-$G67)*Hoja1!$A$1/BR$1))","v":0},{"$f":"IF(BS$1>$E$11,0,IF($G67=0,0,(BS$1-$G67)*Hoja1!$A$1/BS$1))","v":0},{"$f":"IF(BT$1>$E$11,0,IF($G67=0,0,(BT$1-$G67)*Hoja1!$A$1/BT$1))","v":0},{"$f":"IF(BU$1>$E$11,0,IF($G67=0,0,(BU$1-$G67)*Hoja1!$A$1/BU$1))","v":0},{"$f":"IF(BV$1>$E$11,0,IF($G67=0,0,(BV$1-$G67)*Hoja1!$A$1/BV$1))","v":0},{"$f":"IF(BW$1>$E$11,0,IF($G67=0,0,(BW$1-$G67)*Hoja1!$A$1/BW$1))","v":0},{"$f":"IF(BX$1>$E$11,0,IF($G67=0,0,(BX$1-$G67)*Hoja1!$A$1/BX$1))","v":0},{"$f":"IF(BY$1>$E$11,0,IF($G67=0,0,(BY$1-$G67)*Hoja1!$A$1/BY$1))","v":0},{"$f":"IF(BZ$1>$E$11,0,IF($G67=0,0,(BZ$1-$G67)*Hoja1!$A$1/BZ$1))","v":0},{"$f":"IF(CA$1>$E$11,0,IF($G67=0,0,(CA$1-$G67)*Hoja1!$A$1/CA$1))","v":0},{"$f":"IF(CB$1>$E$11,0,IF($G67=0,0,(CB$1-$G67)*Hoja1!$A$1/CB$1))","v":0},{"$f":"IF(CC$1>$E$11,0,IF($G67=0,0,(CC$1-$G67)*Hoja1!$A$1/CC$1))","v":0},{"$f":"IF(CD$1>$E$11,0,IF($G67=0,0,(CD$1-$G67)*Hoja1!$A$1/CD$1))","v":0},{"$f":"IF(CE$1>$E$11,0,IF($G67=0,0,(CE$1-$G67)*Hoja1!$A$1/CE$1))","v":0},{"$f":"IF(CF$1>$E$11,0,IF($G67=0,0,(CF$1-$G67)*Hoja1!$A$1/CF$1))","v":0},{"$f":"IF(CG$1>$E$11,0,IF($G67=0,0,(CG$1-$G67)*Hoja1!$A$1/CG$1))","v":0},{"$f":"IF(CH$1>$E$11,0,IF($G67=0,0,(CH$1-$G67)*Hoja1!$A$1/CH$1))","v":0},{"$f":"IF(CI$1>$E$11,0,IF($G67=0,0,(CI$1-$G67)*Hoja1!$A$1/CI$1))","v":0},{"$f":"IF(CJ$1>$E$11,0,IF($G67=0,0,(CJ$1-$G67)*Hoja1!$A$1/CJ$1))","v":0},{"$f":"IF(CK$1>$E$11,0,IF($G67=0,0,(CK$1-$G67)*Hoja1!$A$1/CK$1))","v":0},{"$f":"IF(CL$1>$E$11,0,IF($G67=0,0,(CL$1-$G67)*Hoja1!$A$1/CL$1))","v":0},{"$f":"IF(CM$1>$E$11,0,IF($G67=0,0,(CM$1-$G67)*Hoja1!$A$1/CM$1))","v":0},{"$f":"IF(CN$1>$E$11,0,IF($G67=0,0,(CN$1-$G67)*Hoja1!$A$1/CN$1))","v":0},{"$f":"IF(CO$1>$E$11,0,IF($G67=0,0,(CO$1-$G67)*Hoja1!$A$1/CO$1))","v":0},{"$f":"IF(CP$1>$E$11,0,IF($G67=0,0,(CP$1-$G67)*Hoja1!$A$1/CP$1))","v":0},{"$f":"IF(CQ$1>$E$11,0,IF($G67=0,0,(CQ$1-$G67)*Hoja1!$A$1/CQ$1))","v":0},{"$f":"IF(CR$1>$E$11,0,IF($G67=0,0,(CR$1-$G67)*Hoja1!$A$1/CR$1))","v":0},{"$f":"IF(CS$1>$E$11,0,IF($G67=0,0,(CS$1-$G67)*Hoja1!$A$1/CS$1))","v":0},{"$f":"IF(CT$1>$E$11,0,IF($G67=0,0,(CT$1-$G67)*Hoja1!$A$1/CT$1))","v":0},{"$f":"IF(CU$1>$E$11,0,IF($G67=0,0,(CU$1-$G67)*Hoja1!$A$1/CU$1))","v":0},{"$f":"IF(CV$1>$E$11,0,IF($G67=0,0,(CV$1-$G67)*Hoja1!$A$1/CV$1))","v":0},{"$f":"IF(CW$1>$E$11,0,IF($G67=0,0,(CW$1-$G67)*Hoja1!$A$1/CW$1))","v":0},{"$f":"IF(CX$1>$E$11,0,IF($G67=0,0,(CX$1-$G67)*Hoja1!$A$1/CX$1))","v":0},{"$f":"IF(CY$1>$E$11,0,IF($G67=0,0,(CY$1-$G67)*Hoja1!$A$1/CY$1))","v":0},{"$f":"IF(CZ$1>$E$11,0,IF($G67=0,0,(CZ$1-$G67)*Hoja1!$A$1/CZ$1))","v":0},{"$f":"IF(DA$1>$E$11,0,IF($G67=0,0,(DA$1-$G67)*Hoja1!$A$1/DA$1))","v":0},{"$f":"IF(DB$1>$E$11,0,IF($G67=0,0,(DB$1-$G67)*Hoja1!$A$1/DB$1))","v":0},{"$f":"IF(DC$1>$E$11,0,IF($G67=0,0,(DC$1-$G67)*Hoja1!$A$1/DC$1))","v":0},{"$f":"IF(DD$1>$E$11,0,IF($G67=0,0,(DD$1-$G67)*Hoja1!$A$1/DD$1))","v":0},{"$f":"IF(DE$1>$E$11,0,IF($G67=0,0,(DE$1-$G67)*Hoja1!$A$1/DE$1))","v":0},{"$f":"IF(DF$1>$E$11,0,IF($G67=0,0,(DF$1-$G67)*Hoja1!$A$1/DF$1))","v":0},{"$f":"IF(DG$1>$E$11,0,IF($G67=0,0,(DG$1-$G67)*Hoja1!$A$1/DG$1))","v":0},{"$f":"IF(DH$1>$E$11,0,IF($G67=0,0,(DH$1-$G67)*Hoja1!$A$1/DH$1))","v":0},{"$f":"IF(DI$1>$E$11,0,IF($G67=0,0,(DI$1-$G67)*Hoja1!$A$1/DI$1))","v":0},{"$f":"IF(DJ$1>$E$11,0,IF($G67=0,0,(DJ$1-$G67)*Hoja1!$A$1/DJ$1))","v":0},{"$f":"IF(DK$1>$E$11,0,IF($G67=0,0,(DK$1-$G67)*Hoja1!$A$1/DK$1))","v":0},{"$f":"IF(DL$1>$E$11,0,IF($G67=0,0,(DL$1-$G67)*Hoja1!$A$1/DL$1))","v":0},{"$f":"IF(DM$1>$E$11,0,IF($G67=0,0,(DM$1-$G67)*Hoja1!$A$1/DM$1))","v":0}]
[null,null,null,null,null,850.06500000000131,0,{"$f":"IF(H$1>$E$11,0,IF($G68=0,0,(H$1-$G68)*Hoja1!$A$1/H$1))","v":0},{"$f":"IF(I$1>$E$11,0,IF($G68=0,0,(I$1-$G68)*Hoja1!$A$1/I$1))","v":0},{"$f":"IF(J$1>$E$11,0,IF($G68=0,0,(J$1-$G68)*Hoja1!$A$1/J$1))","v":0},{"$f":"IF(K$1>$E$11,0,IF($G68=0,0,(K$1-$G68)*Hoja1!$A$1/K$1))","v":0},{"$f":"IF(L$1>$E$11,0,IF($G68=0,0,(L$1-$G68)*Hoja1!$A$1/L$1))","v":0},{"$f":"IF(M$1>$E$11,0,IF($G68=0,0,(M$1-$G68)*Hoja1!$A$1/M$1))","v":0},{"$f":"IF(N$1>$E$11,0,IF($G68=0,0,(N$1-$G68)*Hoja1!$A$1/N$1))","v":0},{"$f":"IF(O$1>$E$11,0,IF($G68=0,0,(O$1-$G68)*Hoja1!$A$1/O$1))","v":0},{"$f":"IF(P$1>$E$11,0,IF($G68=0,0,(P$1-$G68)*Hoja1!$A$1/P$1))","v":0},{"$f":"IF(Q$1>$E$11,0,IF($G68=0,0,(Q$1-$G68)*Hoja1!$A$1/Q$1))","v":0},{"$f":"IF(R$1>$E$11,0,IF($G68=0,0,(R$1-$G68)*Hoja1!$A$1/R$1))","v":0},{"$f":"IF(S$1>$E$11,0,IF($G68=0,0,(S$1-$G68)*Hoja1!$A$1/S$1))","v":0},{"$f":"IF(T$1>$E$11,0,IF($G68=0,0,(T$1-$G68)*Hoja1!$A$1/T$1))","v":0},{"$f":"IF(U$1>$E$11,0,IF($G68=0,0,(U$1-$G68)*Hoja1!$A$1/U$1))","v":0},{"$f":"IF(V$1>$E$11,0,IF($G68=0,0,(V$1-$G68)*Hoja1!$A$1/V$1))","v":0},{"$f":"IF(W$1>$E$11,0,IF($G68=0,0,(W$1-$G68)*Hoja1!$A$1/W$1))","v":0},{"$f":"IF(X$1>$E$11,0,IF($G68=0,0,(X$1-$G68)*Hoja1!$A$1/X$1))","v":0},{"$f":"IF(Y$1>$E$11,0,IF($G68=0,0,(Y$1-$G68)*Hoja1!$A$1/Y$1))","v":0},{"$f":"IF(Z$1>$E$11,0,IF($G68=0,0,(Z$1-$G68)*Hoja1!$A$1/Z$1))","v":0},{"$f":"IF(AA$1>$E$11,0,IF($G68=0,0,(AA$1-$G68)*Hoja1!$A$1/AA$1))","v":0},{"$f":"IF(AB$1>$E$11,0,IF($G68=0,0,(AB$1-$G68)*Hoja1!$A$1/AB$1))","v":0},{"$f":"IF(AC$1>$E$11,0,IF($G68=0,0,(AC$1-$G68)*Hoja1!$A$1/AC$1))","v":0},{"$f":"IF(AD$1>$E$11,0,IF($G68=0,0,(AD$1-$G68)*Hoja1!$A$1/AD$1))","v":0},{"$f":"IF(AE$1>$E$11,0,IF($G68=0,0,(AE$1-$G68)*Hoja1!$A$1/AE$1))","v":0},{"$f":"IF(AF$1>$E$11,0,IF($G68=0,0,(AF$1-$G68)*Hoja1!$A$1/AF$1))","v":0},{"$f":"IF(AG$1>$E$11,0,IF($G68=0,0,(AG$1-$G68)*Hoja1!$A$1/AG$1))","v":0},{"$f":"IF(AH$1>$E$11,0,IF($G68=0,0,(AH$1-$G68)*Hoja1!$A$1/AH$1))","v":0},{"$f":"IF(AI$1>$E$11,0,IF($G68=0,0,(AI$1-$G68)*Hoja1!$A$1/AI$1))","v":0},{"$f":"IF(AJ$1>$E$11,0,IF($G68=0,0,(AJ$1-$G68)*Hoja1!$A$1/AJ$1))","v":0},{"$f":"IF(AK$1>$E$11,0,IF($G68=0,0,(AK$1-$G68)*Hoja1!$A$1/AK$1))","v":0},{"$f":"IF(AL$1>$E$11,0,IF($G68=0,0,(AL$1-$G68)*Hoja1!$A$1/AL$1))","v":0},{"$f":"IF(AM$1>$E$11,0,IF($G68=0,0,(AM$1-$G68)*Hoja1!$A$1/AM$1))","v":0},{"$f":"IF(AN$1>$E$11,0,IF($G68=0,0,(AN$1-$G68)*Hoja1!$A$1/AN$1))","v":0},{"$f":"IF(AO$1>$E$11,0,IF($G68=0,0,(AO$1-$G68)*Hoja1!$A$1/AO$1))","v":0},{"$f":"IF(AP$1>$E$11,0,IF($G68=0,0,(AP$1-$G68)*Hoja1!$A$1/AP$1))","v":0},{"$f":"IF(AQ$1>$E$11,0,IF($G68=0,0,(AQ$1-$G68)*Hoja1!$A$1/AQ$1))","v":0},{"$f":"IF(AR$1>$E$11,0,IF($G68=0,0,(AR$1-$G68)*Hoja1!$A$1/AR$1))","v":0},{"$f":"IF(AS$1>$E$11,0,IF($G68=0,0,(AS$1-$G68)*Hoja1!$A$1/AS$1))","v":0},{"$f":"IF(AT$1>$E$11,0,IF($G68=0,0,(AT$1-$G68)*Hoja1!$A$1/AT$1))","v":0},{"$f":"IF(AU$1>$E$11,0,IF($G68=0,0,(AU$1-$G68)*Hoja1!$A$1/AU$1))","v":0},{"$f":"IF(AV$1>$E$11,0,IF($G68=0,0,(AV$1-$G68)*Hoja1!$A$1/AV$1))","v":0},{"$f":"IF(AW$1>$E$11,0,IF($G68=0,0,(AW$1-$G68)*Hoja1!$A$1/AW$1))","v":0},{"$f":"IF(AX$1>$E$11,0,IF($G68=0,0,(AX$1-$G68)*Hoja1!$A$1/AX$1))","v":0},{"$f":"IF(AY$1>$E$11,0,IF($G68=0,0,(AY$1-$G68)*Hoja1!$A$1/AY$1))","v":0},{"$f":"IF(AZ$1>$E$11,0,IF($G68=0,0,(AZ$1-$G68)*Hoja1!$A$1/AZ$1))","v":0},{"$f":"IF(BA$1>$E$11,0,IF($G68=0,0,(BA$1-$G68)*Hoja1!$A$1/BA$1))","v":0},{"$f":"IF(BB$1>$E$11,0,IF($G68=0,0,(BB$1-$G68)*Hoja1!$A$1/BB$1))","v":0},{"$f":"IF(BC$1>$E$11,0,IF($G68=0,0,(BC$1-$G68)*Hoja1!$A$1/BC$1))","v":0},{"$f":"IF(BD$1>$E$11,0,IF($G68=0,0,(BD$1-$G68)*Hoja1!$A$1/BD$1))","v":0},{"$f":"IF(BE$1>$E$11,0,IF($G68=0,0,(BE$1-$G68)*Hoja1!$A$1/BE$1))","v":0},{"$f":"IF(BF$1>$E$11,0,IF($G68=0,0,(BF$1-$G68)*Hoja1!$A$1/BF$1))","v":0},{"$f":"IF(BG$1>$E$11,0,IF($G68=0,0,(BG$1-$G68)*Hoja1!$A$1/BG$1))","v":0},{"$f":"IF(BH$1>$E$11,0,IF($G68=0,0,(BH$1-$G68)*Hoja1!$A$1/BH$1))","v":0},{"$f":"IF(BI$1>$E$11,0,IF($G68=0,0,(BI$1-$G68)*Hoja1!$A$1/BI$1))","v":0},{"$f":"IF(BJ$1>$E$11,0,IF($G68=0,0,(BJ$1-$G68)*Hoja1!$A$1/BJ$1))","v":0},{"$f":"IF(BK$1>$E$11,0,IF($G68=0,0,(BK$1-$G68)*Hoja1!$A$1/BK$1))","v":0},{"$f":"IF(BL$1>$E$11,0,IF($G68=0,0,(BL$1-$G68)*Hoja1!$A$1/BL$1))","v":0},{"$f":"IF(BM$1>$E$11,0,IF($G68=0,0,(BM$1-$G68)*Hoja1!$A$1/BM$1))","v":0},{"$f":"IF(BN$1>$E$11,0,IF($G68=0,0,(BN$1-$G68)*Hoja1!$A$1/BN$1))","v":0},{"$f":"IF(BO$1>$E$11,0,IF($G68=0,0,(BO$1-$G68)*Hoja1!$A$1/BO$1))","v":0},{"$f":"IF(BP$1>$E$11,0,IF($G68=0,0,(BP$1-$G68)*Hoja1!$A$1/BP$1))","v":0},{"$f":"IF(BQ$1>$E$11,0,IF($G68=0,0,(BQ$1-$G68)*Hoja1!$A$1/BQ$1))","v":0},{"$f":"IF(BR$1>$E$11,0,IF($G68=0,0,(BR$1-$G68)*Hoja1!$A$1/BR$1))","v":0},{"$f":"IF(BS$1>$E$11,0,IF($G68=0,0,(BS$1-$G68)*Hoja1!$A$1/BS$1))","v":0},{"$f":"IF(BT$1>$E$11,0,IF($G68=0,0,(BT$1-$G68)*Hoja1!$A$1/BT$1))","v":0},{"$f":"IF(BU$1>$E$11,0,IF($G68=0,0,(BU$1-$G68)*Hoja1!$A$1/BU$1))","v":0},{"$f":"IF(BV$1>$E$11,0,IF($G68=0,0,(BV$1-$G68)*Hoja1!$A$1/BV$1))","v":0},{"$f":"IF(BW$1>$E$11,0,IF($G68=0,0,(BW$1-$G68)*Hoja1!$A$1/BW$1))","v":0},{"$f":"IF(BX$1>$E$11,0,IF($G68=0,0,(BX$1-$G68)*Hoja1!$A$1/BX$1))","v":0},{"$f":"IF(BY$1>$E$11,0,IF($G68=0,0,(BY$1-$G68)*Hoja1!$A$1/BY$1))","v":0},{"$f":"IF(BZ$1>$E$11,0,IF($G68=0,0,(BZ$1-$G68)*Hoja1!$A$1/BZ$1))","v":0},{"$f":"IF(CA$1>$E$11,0,IF($G68=0,0,(CA$1-$G68)*Hoja1!$A$1/CA$1))","v":0},{"$f":"IF(CB$1>$E$11,0,IF($G68=0,0,(CB$1-$G68)*Hoja1!$A$1/CB$1))","v":0},{"$f":"IF(CC$1>$E$11,0,IF($G68=0,0,(CC$1-$G68)*Hoja1!$A$1/CC$1))","v":0},{"$f":"IF(CD$1>$E$11,0,IF($G68=0,0,(CD$1-$G68)*Hoja1!$A$1/CD$1))","v":0},{"$f":"IF(CE$1>$E$11,0,IF($G68=0,0,(CE$1-$G68)*Hoja1!$A$1/CE$1))","v":0},{"$f":"IF(CF$1>$E$11,0,IF($G68=0,0,(CF$1-$G68)*Hoja1!$A$1/CF$1))","v":0},{"$f":"IF(CG$1>$E$11,0,IF($G68=0,0,(CG$1-$G68)*Hoja1!$A$1/CG$1))","v":0},{"$f":"IF(CH$1>$E$11,0,IF($G68=0,0,(CH$1-$G68)*Hoja1!$A$1/CH$1))","v":0},{"$f":"IF(CI$1>$E$11,0,IF($G68=0,0,(CI$1-$G68)*Hoja1!$A$1/CI$1))","v":0},{"$f":"IF(CJ$1>$E$11,0,IF($G68=0,0,(CJ$1-$G68)*Hoja1!$A$1/CJ$1))","v":0},{"$f":"IF(CK$1>$E$11,0,IF($G68=0,0,(CK$1-$G68)*Hoja1!$A$1/CK$1))","v":0},{"$f":"IF(CL$1>$E$11,0,IF($G68=0,0,(CL$1-$G68)*Hoja1!$A$1/CL$1))","v":0},{"$f":"IF(CM$1>$E$11,0,IF($G68=0,0,(CM$1-$G68)*Hoja1!$A$1/CM$1))","v":0},{"$f":"IF(CN$1>$E$11,0,IF($G68=0,0,(CN$1-$G68)*Hoja1!$A$1/CN$1))","v":0},{"$f":"IF(CO$1>$E$11,0,IF($G68=0,0,(CO$1-$G68)*Hoja1!$A$1/CO$1))","v":0},{"$f":"IF(CP$1>$E$11,0,IF($G68=0,0,(CP$1-$G68)*Hoja1!$A$1/CP$1))","v":0},{"$f":"IF(CQ$1>$E$11,0,IF($G68=0,0,(CQ$1-$G68)*Hoja1!$A$1/CQ$1))","v":0},{"$f":"IF(CR$1>$E$11,0,IF($G68=0,0,(CR$1-$G68)*Hoja1!$A$1/CR$1))","v":0},{"$f":"IF(CS$1>$E$11,0,IF($G68=0,0,(CS$1-$G68)*Hoja1!$A$1/CS$1))","v":0},{"$f":"IF(CT$1>$E$11,0,IF($G68=0,0,(CT$1-$G68)*Hoja1!$A$1/CT$1))","v":0},{"$f":"IF(CU$1>$E$11,0,IF($G68=0,0,(CU$1-$G68)*Hoja1!$A$1/CU$1))","v":0},{"$f":"IF(CV$1>$E$11,0,IF($G68=0,0,(CV$1-$G68)*Hoja1!$A$1/CV$1))","v":0},{"$f":"IF(CW$1>$E$11,0,IF($G68=0,0,(CW$1-$G68)*Hoja1!$A$1/CW$1))","v":0},{"$f":"IF(CX$1>$E$11,0,IF($G68=0,0,(CX$1-$G68)*Hoja1!$A$1/CX$1))","v":0},{"$f":"IF(CY$1>$E$11,0,IF($G68=0,0,(CY$1-$G68)*Hoja1!$A$1/CY$1))","v":0},{"$f":"IF(CZ$1>$E$11,0,IF($G68=0,0,(CZ$1-$G68)*Hoja1!$A$1/CZ$1))","v":0},{"$f":"IF(DA$1>$E$11,0,IF($G68=0,0,(DA$1-$G68)*Hoja1!$A$1/DA$1))","v":0},{"$f":"IF(DB$1>$E$11,0,IF($G68=0,0,(DB$1-$G68)*Hoja1!$A$1/DB$1))","v":0},{"$f":"IF(DC$1>$E$11,0,IF($G68=0,0,(DC$1-$G68)*Hoja1!$A$1/DC$1))","v":0},{"$f":"IF(DD$1>$E$11,0,IF($G68=0,0,(DD$1-$G68)*Hoja1!$A$1/DD$1))","v":0},{"$f":"IF(DE$1>$E$11,0,IF($G68=0,0,(DE$1-$G68)*Hoja1!$A$1/DE$1))","v":0},{"$f":"IF(DF$1>$E$11,0,IF($G68=0,0,(DF$1-$G68)*Hoja1!$A$1/DF$1))","v":0},{"$f":"IF(DG$1>$E$11,0,IF($G68=0,0,(DG$1-$G68)*Hoja1!$A$1/DG$1))","v":0},{"$f":"IF(DH$1>$E$11,0,IF($G68=0,0,(DH$1-$G68)*Hoja1!$A$1/DH$1))","v":0},{"$f":"IF(DI$1>$E$11,0,IF($G68=0,0,(DI$1-$G68)*Hoja1!$A$1/DI$1))","v":0},{"$f":"IF(DJ$1>$E$11,0,IF($G68=0,0,(DJ$1-$G68)*Hoja1!$A$1/DJ$1))","v":0},{"$f":"IF(DK$1>$E$11,0,IF($G68=0,0,(DK$1-$G68)*Hoja1!$A$1/DK$1))","v":0},{"$f":"IF(DL$1>$E$11,0,IF($G68=0,0,(DL$1-$G68)*Hoja1!$A$1/DL$1))","v":0},{"$f":"IF(DM$1>$E$11,0,IF($G68=0,0,(DM$1-$G68)*Hoja1!$A$1/DM$1))","v":0}]
[null,null,null,null,null,863.25500000000136,0,{"$f":"IF(H$1>$E$11,0,IF($G69=0,0,(H$1-$G69)*Hoja1!$A$1/H$1))","v":0},{"$f":"IF(I$1>$E$11,0,IF($G69=0,0,(I$1-$G69)*Hoja1!$A$1/I$1))","v":0},{"$f":"IF(J$1>$E$11,0,IF($G69=0,0,(J$1-$G69)*Hoja1!$A$1/J$1))","v":0},{"$f":"IF(K$1>$E$11,0,IF($G69=0,0,(K$1-$G69)*Hoja1!$A$1/K$1))","v":0},{"$f":"IF(L$1>$E$11,0,IF($G69=0,0,(L$1-$G69)*Hoja1!$A$1/L$1))","v":0},{"$f":"IF(M$1>$E$11,0,IF($G69=0,0,(M$1-$G69)*Hoja1!$A$1/M$1))","v":0},{"$f":"IF(N$1>$E$11,0,IF($G69=0,0,(N$1-$G69)*Hoja1!$A$1/N$1))","v":0},{"$f":"IF(O$1>$E$11,0,IF($G69=0,0,(O$1-$G69)*Hoja1!$A$1/O$1))","v":0},{"$f":"IF(P$1>$E$11,0,IF($G69=0,0,(P$1-$G69)*Hoja1!$A$1/P$1))","v":0},{"$f":"IF(Q$1>$E$11,0,IF($G69=0,0,(Q$1-$G69)*Hoja1!$A$1/Q$1))","v":0},{"$f":"IF(R$1>$E$11,0,IF($G69=0,0,(R$1-$G69)*Hoja1!$A$1/R$1))","v":0},{"$f":"IF(S$1>$E$11,0,IF($G69=0,0,(S$1-$G69)*Hoja1!$A$1/S$1))","v":0},{"$f":"IF(T$1>$E$11,0,IF($G69=0,0,(T$1-$G69)*Hoja1!$A$1/T$1))","v":0},{"$f":"IF(U$1>$E$11,0,IF($G69=0,0,(U$1-$G69)*Hoja1!$A$1/U$1))","v":0},{"$f":"IF(V$1>$E$11,0,IF($G69=0,0,(V$1-$G69)*Hoja1!$A$1/V$1))","v":0},{"$f":"IF(W$1>$E$11,0,IF($G69=0,0,(W$1-$G69)*Hoja1!$A$1/W$1))","v":0},{"$f":"IF(X$1>$E$11,0,IF($G69=0,0,(X$1-$G69)*Hoja1!$A$1/X$1))","v":0},{"$f":"IF(Y$1>$E$11,0,IF($G69=0,0,(Y$1-$G69)*Hoja1!$A$1/Y$1))","v":0},{"$f":"IF(Z$1>$E$11,0,IF($G69=0,0,(Z$1-$G69)*Hoja1!$A$1/Z$1))","v":0},{"$f":"IF(AA$1>$E$11,0,IF($G69=0,0,(AA$1-$G69)*Hoja1!$A$1/AA$1))","v":0},{"$f":"IF(AB$1>$E$11,0,IF($G69=0,0,(AB$1-$G69)*Hoja1!$A$1/AB$1))","v":0},{"$f":"IF(AC$1>$E$11,0,IF($G69=0,0,(AC$1-$G69)*Hoja1!$A$1/AC$1))","v":0},{"$f":"IF(AD$1>$E$11,0,IF($G69=0,0,(AD$1-$G69)*Hoja1!$A$1/AD$1))","v":0},{"$f":"IF(AE$1>$E$11,0,IF($G69=0,0,(AE$1-$G69)*Hoja1!$A$1/AE$1))","v":0},{"$f":"IF(AF$1>$E$11,0,IF($G69=0,0,(AF$1-$G69)*Hoja1!$A$1/AF$1))","v":0},{"$f":"IF(AG$1>$E$11,0,IF($G69=0,0,(AG$1-$G69)*Hoja1!$A$1/AG$1))","v":0},{"$f":"IF(AH$1>$E$11,0,IF($G69=0,0,(AH$1-$G69)*Hoja1!$A$1/AH$1))","v":0},{"$f":"IF(AI$1>$E$11,0,IF($G69=0,0,(AI$1-$G69)*Hoja1!$A$1/AI$1))","v":0},{"$f":"IF(AJ$1>$E$11,0,IF($G69=0,0,(AJ$1-$G69)*Hoja1!$A$1/AJ$1))","v":0},{"$f":"IF(AK$1>$E$11,0,IF($G69=0,0,(AK$1-$G69)*Hoja1!$A$1/AK$1))","v":0},{"$f":"IF(AL$1>$E$11,0,IF($G69=0,0,(AL$1-$G69)*Hoja1!$A$1/AL$1))","v":0},{"$f":"IF(AM$1>$E$11,0,IF($G69=0,0,(AM$1-$G69)*Hoja1!$A$1/AM$1))","v":0},{"$f":"IF(AN$1>$E$11,0,IF($G69=0,0,(AN$1-$G69)*Hoja1!$A$1/AN$1))","v":0},{"$f":"IF(AO$1>$E$11,0,IF($G69=0,0,(AO$1-$G69)*Hoja1!$A$1/AO$1))","v":0},{"$f":"IF(AP$1>$E$11,0,IF($G69=0,0,(AP$1-$G69)*Hoja1!$A$1/AP$1))","v":0},{"$f":"IF(AQ$1>$E$11,0,IF($G69=0,0,(AQ$1-$G69)*Hoja1!$A$1/AQ$1))","v":0},{"$f":"IF(AR$1>$E$11,0,IF($G69=0,0,(AR$1-$G69)*Hoja1!$A$1/AR$1))","v":0},{"$f":"IF(AS$1>$E$11,0,IF($G69=0,0,(AS$1-$G69)*Hoja1!$A$1/AS$1))","v":0},{"$f":"IF(AT$1>$E$11,0,IF($G69=0,0,(AT$1-$G69)*Hoja1!$A$1/AT$1))","v":0},{"$f":"IF(AU$1>$E$11,0,IF($G69=0,0,(AU$1-$G69)*Hoja1!$A$1/AU$1))","v":0},{"$f":"IF(AV$1>$E$11,0,IF($G69=0,0,(AV$1-$G69)*Hoja1!$A$1/AV$1))","v":0},{"$f":"IF(AW$1>$E$11,0,IF($G69=0,0,(AW$1-$G69)*Hoja1!$A$1/AW$1))","v":0},{"$f":"IF(AX$1>$E$11,0,IF($G69=0,0,(AX$1-$G69)*Hoja1!$A$1/AX$1))","v":0},{"$f":"IF(AY$1>$E$11,0,IF($G69=0,0,(AY$1-$G69)*Hoja1!$A$1/AY$1))","v":0},{"$f":"IF(AZ$1>$E$11,0,IF($G69=0,0,(AZ$1-$G69)*Hoja1!$A$1/AZ$1))","v":0},{"$f":"IF(BA$1>$E$11,0,IF($G69=0,0,(BA$1-$G69)*Hoja1!$A$1/BA$1))","v":0},{"$f":"IF(BB$1>$E$11,0,IF($G69=0,0,(BB$1-$G69)*Hoja1!$A$1/BB$1))","v":0},{"$f":"IF(BC$1>$E$11,0,IF($G69=0,0,(BC$1-$G69)*Hoja1!$A$1/BC$1))","v":0},{"$f":"IF(BD$1>$E$11,0,IF($G69=0,0,(BD$1-$G69)*Hoja1!$A$1/BD$1))","v":0},{"$f":"IF(BE$1>$E$11,0,IF($G69=0,0,(BE$1-$G69)*Hoja1!$A$1/BE$1))","v":0},{"$f":"IF(BF$1>$E$11,0,IF($G69=0,0,(BF$1-$G69)*Hoja1!$A$1/BF$1))","v":0},{"$f":"IF(BG$1>$E$11,0,IF($G69=0,0,(BG$1-$G69)*Hoja1!$A$1/BG$1))","v":0},{"$f":"IF(BH$1>$E$11,0,IF($G69=0,0,(BH$1-$G69)*Hoja1!$A$1/BH$1))","v":0},{"$f":"IF(BI$1>$E$11,0,IF($G69=0,0,(BI$1-$G69)*Hoja1!$A$1/BI$1))","v":0},{"$f":"IF(BJ$1>$E$11,0,IF($G69=0,0,(BJ$1-$G69)*Hoja1!$A$1/BJ$1))","v":0},{"$f":"IF(BK$1>$E$11,0,IF($G69=0,0,(BK$1-$G69)*Hoja1!$A$1/BK$1))","v":0},{"$f":"IF(BL$1>$E$11,0,IF($G69=0,0,(BL$1-$G69)*Hoja1!$A$1/BL$1))","v":0},{"$f":"IF(BM$1>$E$11,0,IF($G69=0,0,(BM$1-$G69)*Hoja1!$A$1/BM$1))","v":0},{"$f":"IF(BN$1>$E$11,0,IF($G69=0,0,(BN$1-$G69)*Hoja1!$A$1/BN$1))","v":0},{"$f":"IF(BO$1>$E$11,0,IF($G69=0,0,(BO$1-$G69)*Hoja1!$A$1/BO$1))","v":0},{"$f":"IF(BP$1>$E$11,0,IF($G69=0,0,(BP$1-$G69)*Hoja1!$A$1/BP$1))","v":0},{"$f":"IF(BQ$1>$E$11,0,IF($G69=0,0,(BQ$1-$G69)*Hoja1!$A$1/BQ$1))","v":0},{"$f":"IF(BR$1>$E$11,0,IF($G69=0,0,(BR$1-$G69)*Hoja1!$A$1/BR$1))","v":0},{"$f":"IF(BS$1>$E$11,0,IF($G69=0,0,(BS$1-$G69)*Hoja1!$A$1/BS$1))","v":0},{"$f":"IF(BT$1>$E$11,0,IF($G69=0,0,(BT$1-$G69)*Hoja1!$A$1/BT$1))","v":0},{"$f":"IF(BU$1>$E$11,0,IF($G69=0,0,(BU$1-$G69)*Hoja1!$A$1/BU$1))","v":0},{"$f":"IF(BV$1>$E$11,0,IF($G69=0,0,(BV$1-$G69)*Hoja1!$A$1/BV$1))","v":0},{"$f":"IF(BW$1>$E$11,0,IF($G69=0,0,(BW$1-$G69)*Hoja1!$A$1/BW$1))","v":0},{"$f":"IF(BX$1>$E$11,0,IF($G69=0,0,(BX$1-$G69)*Hoja1!$A$1/BX$1))","v":0},{"$f":"IF(BY$1>$E$11,0,IF($G69=0,0,(BY$1-$G69)*Hoja1!$A$1/BY$1))","v":0},{"$f":"IF(BZ$1>$E$11,0,IF($G69=0,0,(BZ$1-$G69)*Hoja1!$A$1/BZ$1))","v":0},{"$f":"IF(CA$1>$E$11,0,IF($G69=0,0,(CA$1-$G69)*Hoja1!$A$1/CA$1))","v":0},{"$f":"IF(CB$1>$E$11,0,IF($G69=0,0,(CB$1-$G69)*Hoja1!$A$1/CB$1))","v":0},{"$f":"IF(CC$1>$E$11,0,IF($G69=0,0,(CC$1-$G69)*Hoja1!$A$1/CC$1))","v":0},{"$f":"IF(CD$1>$E$11,0,IF($G69=0,0,(CD$1-$G69)*Hoja1!$A$1/CD$1))","v":0},{"$f":"IF(CE$1>$E$11,0,IF($G69=0,0,(CE$1-$G69)*Hoja1!$A$1/CE$1))","v":0},{"$f":"IF(CF$1>$E$11,0,IF($G69=0,0,(CF$1-$G69)*Hoja1!$A$1/CF$1))","v":0},{"$f":"IF(CG$1>$E$11,0,IF($G69=0,0,(CG$1-$G69)*Hoja1!$A$1/CG$1))","v":0},{"$f":"IF(CH$1>$E$11,0,IF($G69=0,0,(CH$1-$G69)*Hoja1!$A$1/CH$1))","v":0},{"$f":"IF(CI$1>$E$11,0,IF($G69=0,0,(CI$1-$G69)*Hoja1!$A$1/CI$1))","v":0},{"$f":"IF(CJ$1>$E$11,0,IF($G69=0,0,(CJ$1-$G69)*Hoja1!$A$1/CJ$1))","v":0},{"$f":"IF(CK$1>$E$11,0,IF($G69=0,0,(CK$1-$G69)*Hoja1!$A$1/CK$1))","v":0},{"$f":"IF(CL$1>$E$11,0,IF($G69=0,0,(CL$1-$G69)*Hoja1!$A$1/CL$1))","v":0},{"$f":"IF(CM$1>$E$11,0,IF($G69=0,0,(CM$1-$G69)*Hoja1!$A$1/CM$1))","v":0},{"$f":"IF(CN$1>$E$11,0,IF($G69=0,0,(CN$1-$G69)*Hoja1!$A$1/CN$1))","v":0},{"$f":"IF(CO$1>$E$11,0,IF($G69=0,0,(CO$1-$G69)*Hoja1!$A$1/CO$1))","v":0},{"$f":"IF(CP$1>$E$11,0,IF($G69=0,0,(CP$1-$G69)*Hoja1!$A$1/CP$1))","v":0},{"$f":"IF(CQ$1>$E$11,0,IF($G69=0,0,(CQ$1-$G69)*Hoja1!$A$1/CQ$1))","v":0},{"$f":"IF(CR$1>$E$11,0,IF($G69=0,0,(CR$1-$G69)*Hoja1!$A$1/CR$1))","v":0},{"$f":"IF(CS$1>$E$11,0,IF($G69=0,0,(CS$1-$G69)*Hoja1!$A$1/CS$1))","v":0},{"$f":"IF(CT$1>$E$11,0,IF($G69=0,0,(CT$1-$G69)*Hoja1!$A$1/CT$1))","v":0},{"$f":"IF(CU$1>$E$11,0,IF($G69=0,0,(CU$1-$G69)*Hoja1!$A$1/CU$1))","v":0},{"$f":"IF(CV$1>$E$11,0,IF($G69=0,0,(CV$1-$G69)*Hoja1!$A$1/CV$1))","v":0},{"$f":"IF(CW$1>$E$11,0,IF($G69=0,0,(CW$1-$G69)*Hoja1!$A$1/CW$1))","v":0},{"$f":"IF(CX$1>$E$11,0,IF($G69=0,0,(CX$1-$G69)*Hoja1!$A$1/CX$1))","v":0},{"$f":"IF(CY$1>$E$11,0,IF($G69=0,0,(CY$1-$G69)*Hoja1!$A$1/CY$1))","v":0},{"$f":"IF(CZ$1>$E$11,0,IF($G69=0,0,(CZ$1-$G69)*Hoja1!$A$1/CZ$1))","v":0},{"$f":"IF(DA$1>$E$11,0,IF($G69=0,0,(DA$1-$G69)*Hoja1!$A$1/DA$1))","v":0},{"$f":"IF(DB$1>$E$11,0,IF($G69=0,0,(DB$1-$G69)*Hoja1!$A$1/DB$1))","v":0},{"$f":"IF(DC$1>$E$11,0,IF($G69=0,0,(DC$1-$G69)*Hoja1!$A$1/DC$1))","v":0},{"$f":"IF(DD$1>$E$11,0,IF($G69=0,0,(DD$1-$G69)*Hoja1!$A$1/DD$1))","v":0},{"$f":"IF(DE$1>$E$11,0,IF($G69=0,0,(DE$1-$G69)*Hoja1!$A$1/DE$1))","v":0},{"$f":"IF(DF$1>$E$11,0,IF($G69=0,0,(DF$1-$G69)*Hoja1!$A$1/DF$1))","v":0},{"$f":"IF(DG$1>$E$11,0,IF($G69=0,0,(DG$1-$G69)*Hoja1!$A$1/DG$1))","v":0},{"$f":"IF(DH$1>$E$11,0,IF($G69=0,0,(DH$1-$G69)*Hoja1!$A$1/DH$1))","v":0},{"$f":"IF(DI$1>$E$11,0,IF($G69=0,0,(DI$1-$G69)*Hoja1!$A$1/DI$1))","v":0},{"$f":"IF(DJ$1>$E$11,0,IF($G69=0,0,(DJ$1-$G69)*Hoja1!$A$1/DJ$1))","v":0},{"$f":"IF(DK$1>$E$11,0,IF($G69=0,0,(DK$1-$G69)*Hoja1!$A$1/DK$1))","v":0},{"$f":"IF(DL$1>$E$11,0,IF($G69=0,0,(DL$1-$G69)*Hoja1!$A$1/DL$1))","v":0},{"$f":"IF(DM$1>$E$11,0,IF($G69=0,0,(DM$1-$G69)*Hoja1!$A$1/DM$1))","v":0}]
[null,null,null,null,null,{"$f":"F69+D$6","v":876.44500000000141},0,{"$f":"IF(H$1>$E$11,0,IF($G70=0,0,(H$1-$G70)*Hoja1!$A$1/H$1))","v":0},{"$f":"IF(I$1>$E$11,0,IF($G70=0,0,(I$1-$G70)*Hoja1!$A$1/I$1))","v":0},{"$f":"IF(J$1>$E$11,0,IF($G70=0,0,(J$1-$G70)*Hoja1!$A$1/J$1))","v":0},{"$f":"IF(K$1>$E$11,0,IF($G70=0,0,(K$1-$G70)*Hoja1!$A$1/K$1))","v":0},{"$f":"IF(L$1>$E$11,0,IF($G70=0,0,(L$1-$G70)*Hoja1!$A$1/L$1))","v":0},{"$f":"IF(M$1>$E$11,0,IF($G70=0,0,(M$1-$G70)*Hoja1!$A$1/M$1))","v":0},{"$f":"IF(N$1>$E$11,0,IF($G70=0,0,(N$1-$G70)*Hoja1!$A$1/N$1))","v":0},{"$f":"IF(O$1>$E$11,0,IF($G70=0,0,(O$1-$G70)*Hoja1!$A$1/O$1))","v":0},{"$f":"IF(P$1>$E$11,0,IF($G70=0,0,(P$1-$G70)*Hoja1!$A$1/P$1))","v":0},{"$f":"IF(Q$1>$E$11,0,IF($G70=0,0,(Q$1-$G70)*Hoja1!$A$1/Q$1))","v":0},{"$f":"IF(R$1>$E$11,0,IF($G70=0,0,(R$1-$G70)*Hoja1!$A$1/R$1))","v":0},{"$f":"IF(S$1>$E$11,0,IF($G70=0,0,(S$1-$G70)*Hoja1!$A$1/S$1))","v":0},{"$f":"IF(T$1>$E$11,0,IF($G70=0,0,(T$1-$G70)*Hoja1!$A$1/T$1))","v":0},{"$f":"IF(U$1>$E$11,0,IF($G70=0,0,(U$1-$G70)*Hoja1!$A$1/U$1))","v":0},{"$f":"IF(V$1>$E$11,0,IF($G70=0,0,(V$1-$G70)*Hoja1!$A$1/V$1))","v":0},{"$f":"IF(W$1>$E$11,0,IF($G70=0,0,(W$1-$G70)*Hoja1!$A$1/W$1))","v":0},{"$f":"IF(X$1>$E$11,0,IF($G70=0,0,(X$1-$G70)*Hoja1!$A$1/X$1))","v":0},{"$f":"IF(Y$1>$E$11,0,IF($G70=0,0,(Y$1-$G70)*Hoja1!$A$1/Y$1))","v":0},{"$f":"IF(Z$1>$E$11,0,IF($G70=0,0,(Z$1-$G70)*Hoja1!$A$1/Z$1))","v":0},{"$f":"IF(AA$1>$E$11,0,IF($G70=0,0,(AA$1-$G70)*Hoja1!$A$1/AA$1))","v":0},{"$f":"IF(AB$1>$E$11,0,IF($G70=0,0,(AB$1-$G70)*Hoja1!$A$1/AB$1))","v":0},{"$f":"IF(AC$1>$E$11,0,IF($G70=0,0,(AC$1-$G70)*Hoja1!$A$1/AC$1))","v":0},{"$f":"IF(AD$1>$E$11,0,IF($G70=0,0,(AD$1-$G70)*Hoja1!$A$1/AD$1))","v":0},{"$f":"IF(AE$1>$E$11,0,IF($G70=0,0,(AE$1-$G70)*Hoja1!$A$1/AE$1))","v":0},{"$f":"IF(AF$1>$E$11,0,IF($G70=0,0,(AF$1-$G70)*Hoja1!$A$1/AF$1))","v":0},{"$f":"IF(AG$1>$E$11,0,IF($G70=0,0,(AG$1-$G70)*Hoja1!$A$1/AG$1))","v":0},{"$f":"IF(AH$1>$E$11,0,IF($G70=0,0,(AH$1-$G70)*Hoja1!$A$1/AH$1))","v":0},{"$f":"IF(AI$1>$E$11,0,IF($G70=0,0,(AI$1-$G70)*Hoja1!$A$1/AI$1))","v":0},{"$f":"IF(AJ$1>$E$11,0,IF($G70=0,0,(AJ$1-$G70)*Hoja1!$A$1/AJ$1))","v":0},{"$f":"IF(AK$1>$E$11,0,IF($G70=0,0,(AK$1-$G70)*Hoja1!$A$1/AK$1))","v":0},{"$f":"IF(AL$1>$E$11,0,IF($G70=0,0,(AL$1-$G70)*Hoja1!$A$1/AL$1))","v":0},{"$f":"IF(AM$1>$E$11,0,IF($G70=0,0,(AM$1-$G70)*Hoja1!$A$1/AM$1))","v":0},{"$f":"IF(AN$1>$E$11,0,IF($G70=0,0,(AN$1-$G70)*Hoja1!$A$1/AN$1))","v":0},{"$f":"IF(AO$1>$E$11,0,IF($G70=0,0,(AO$1-$G70)*Hoja1!$A$1/AO$1))","v":0},{"$f":"IF(AP$1>$E$11,0,IF($G70=0,0,(AP$1-$G70)*Hoja1!$A$1/AP$1))","v":0},{"$f":"IF(AQ$1>$E$11,0,IF($G70=0,0,(AQ$1-$G70)*Hoja1!$A$1/AQ$1))","v":0},{"$f":"IF(AR$1>$E$11,0,IF($G70=0,0,(AR$1-$G70)*Hoja1!$A$1/AR$1))","v":0},{"$f":"IF(AS$1>$E$11,0,IF($G70=0,0,(AS$1-$G70)*Hoja1!$A$1/AS$1))","v":0},{"$f":"IF(AT$1>$E$11,0,IF($G70=0,0,(AT$1-$G70)*Hoja1!$A$1/AT$1))","v":0},{"$f":"IF(AU$1>$E$11,0,IF($G70=0,0,(AU$1-$G70)*Hoja1!$A$1/AU$1))","v":0},{"$f":"IF(AV$1>$E$11,0,IF($G70=0,0,(AV$1-$G70)*Hoja1!$A$1/AV$1))","v":0},{"$f":"IF(AW$1>$E$11,0,IF($G70=0,0,(AW$1-$G70)*Hoja1!$A$1/AW$1))","v":0},{"$f":"IF(AX$1>$E$11,0,IF($G70=0,0,(AX$1-$G70)*Hoja1!$A$1/AX$1))","v":0},{"$f":"IF(AY$1>$E$11,0,IF($G70=0,0,(AY$1-$G70)*Hoja1!$A$1/AY$1))","v":0},{"$f":"IF(AZ$1>$E$11,0,IF($G70=0,0,(AZ$1-$G70)*Hoja1!$A$1/AZ$1))","v":0},{"$f":"IF(BA$1>$E$11,0,IF($G70=0,0,(BA$1-$G70)*Hoja1!$A$1/BA$1))","v":0},{"$f":"IF(BB$1>$E$11,0,IF($G70=0,0,(BB$1-$G70)*Hoja1!$A$1/BB$1))","v":0},{"$f":"IF(BC$1>$E$11,0,IF($G70=0,0,(BC$1-$G70)*Hoja1!$A$1/BC$1))","v":0},{"$f":"IF(BD$1>$E$11,0,IF($G70=0,0,(BD$1-$G70)*Hoja1!$A$1/BD$1))","v":0},{"$f":"IF(BE$1>$E$11,0,IF($G70=0,0,(BE$1-$G70)*Hoja1!$A$1/BE$1))","v":0},{"$f":"IF(BF$1>$E$11,0,IF($G70=0,0,(BF$1-$G70)*Hoja1!$A$1/BF$1))","v":0},{"$f":"IF(BG$1>$E$11,0,IF($G70=0,0,(BG$1-$G70)*Hoja1!$A$1/BG$1))","v":0},{"$f":"IF(BH$1>$E$11,0,IF($G70=0,0,(BH$1-$G70)*Hoja1!$A$1/BH$1))","v":0},{"$f":"IF(BI$1>$E$11,0,IF($G70=0,0,(BI$1-$G70)*Hoja1!$A$1/BI$1))","v":0},{"$f":"IF(BJ$1>$E$11,0,IF($G70=0,0,(BJ$1-$G70)*Hoja1!$A$1/BJ$1))","v":0},{"$f":"IF(BK$1>$E$11,0,IF($G70=0,0,(BK$1-$G70)*Hoja1!$A$1/BK$1))","v":0},{"$f":"IF(BL$1>$E$11,0,IF($G70=0,0,(BL$1-$G70)*Hoja1!$A$1/BL$1))","v":0},{"$f":"IF(BM$1>$E$11,0,IF($G70=0,0,(BM$1-$G70)*Hoja1!$A$1/BM$1))","v":0},{"$f":"IF(BN$1>$E$11,0,IF($G70=0,0,(BN$1-$G70)*Hoja1!$A$1/BN$1))","v":0},{"$f":"IF(BO$1>$E$11,0,IF($G70=0,0,(BO$1-$G70)*Hoja1!$A$1/BO$1))","v":0},{"$f":"IF(BP$1>$E$11,0,IF($G70=0,0,(BP$1-$G70)*Hoja1!$A$1/BP$1))","v":0},{"$f":"IF(BQ$1>$E$11,0,IF($G70=0,0,(BQ$1-$G70)*Hoja1!$A$1/BQ$1))","v":0},{"$f":"IF(BR$1>$E$11,0,IF($G70=0,0,(BR$1-$G70)*Hoja1!$A$1/BR$1))","v":0},{"$f":"IF(BS$1>$E$11,0,IF($G70=0,0,(BS$1-$G70)*Hoja1!$A$1/BS$1))","v":0},{"$f":"IF(BT$1>$E$11,0,IF($G70=0,0,(BT$1-$G70)*Hoja1!$A$1/BT$1))","v":0},{"$f":"IF(BU$1>$E$11,0,IF($G70=0,0,(BU$1-$G70)*Hoja1!$A$1/BU$1))","v":0},{"$f":"IF(BV$1>$E$11,0,IF($G70=0,0,(BV$1-$G70)*Hoja1!$A$1/BV$1))","v":0},{"$f":"IF(BW$1>$E$11,0,IF($G70=0,0,(BW$1-$G70)*Hoja1!$A$1/BW$1))","v":0},{"$f":"IF(BX$1>$E$11,0,IF($G70=0,0,(BX$1-$G70)*Hoja1!$A$1/BX$1))","v":0},{"$f":"IF(BY$1>$E$11,0,IF($G70=0,0,(BY$1-$G70)*Hoja1!$A$1/BY$1))","v":0},{"$f":"IF(BZ$1>$E$11,0,IF($G70=0,0,(BZ$1-$G70)*Hoja1!$A$1/BZ$1))","v":0},{"$f":"IF(CA$1>$E$11,0,IF($G70=0,0,(CA$1-$G70)*Hoja1!$A$1/CA$1))","v":0},{"$f":"IF(CB$1>$E$11,0,IF($G70=0,0,(CB$1-$G70)*Hoja1!$A$1/CB$1))","v":0},{"$f":"IF(CC$1>$E$11,0,IF($G70=0,0,(CC$1-$G70)*Hoja1!$A$1/CC$1))","v":0},{"$f":"IF(CD$1>$E$11,0,IF($G70=0,0,(CD$1-$G70)*Hoja1!$A$1/CD$1))","v":0},{"$f":"IF(CE$1>$E$11,0,IF($G70=0,0,(CE$1-$G70)*Hoja1!$A$1/CE$1))","v":0},{"$f":"IF(CF$1>$E$11,0,IF($G70=0,0,(CF$1-$G70)*Hoja1!$A$1/CF$1))","v":0},{"$f":"IF(CG$1>$E$11,0,IF($G70=0,0,(CG$1-$G70)*Hoja1!$A$1/CG$1))","v":0},{"$f":"IF(CH$1>$E$11,0,IF($G70=0,0,(CH$1-$G70)*Hoja1!$A$1/CH$1))","v":0},{"$f":"IF(CI$1>$E$11,0,IF($G70=0,0,(CI$1-$G70)*Hoja1!$A$1/CI$1))","v":0},{"$f":"IF(CJ$1>$E$11,0,IF($G70=0,0,(CJ$1-$G70)*Hoja1!$A$1/CJ$1))","v":0},{"$f":"IF(CK$1>$E$11,0,IF($G70=0,0,(CK$1-$G70)*Hoja1!$A$1/CK$1))","v":0},{"$f":"IF(CL$1>$E$11,0,IF($G70=0,0,(CL$1-$G70)*Hoja1!$A$1/CL$1))","v":0},{"$f":"IF(CM$1>$E$11,0,IF($G70=0,0,(CM$1-$G70)*Hoja1!$A$1/CM$1))","v":0},{"$f":"IF(CN$1>$E$11,0,IF($G70=0,0,(CN$1-$G70)*Hoja1!$A$1/CN$1))","v":0},{"$f":"IF(CO$1>$E$11,0,IF($G70=0,0,(CO$1-$G70)*Hoja1!$A$1/CO$1))","v":0},{"$f":"IF(CP$1>$E$11,0,IF($G70=0,0,(CP$1-$G70)*Hoja1!$A$1/CP$1))","v":0},{"$f":"IF(CQ$1>$E$11,0,IF($G70=0,0,(CQ$1-$G70)*Hoja1!$A$1/CQ$1))","v":0},{"$f":"IF(CR$1>$E$11,0,IF($G70=0,0,(CR$1-$G70)*Hoja1!$A$1/CR$1))","v":0},{"$f":"IF(CS$1>$E$11,0,IF($G70=0,0,(CS$1-$G70)*Hoja1!$A$1/CS$1))","v":0},{"$f":"IF(CT$1>$E$11,0,IF($G70=0,0,(CT$1-$G70)*Hoja1!$A$1/CT$1))","v":0},{"$f":"IF(CU$1>$E$11,0,IF($G70=0,0,(CU$1-$G70)*Hoja1!$A$1/CU$1))","v":0},{"$f":"IF(CV$1>$E$11,0,IF($G70=0,0,(CV$1-$G70)*Hoja1!$A$1/CV$1))","v":0},{"$f":"IF(CW$1>$E$11,0,IF($G70=0,0,(CW$1-$G70)*Hoja1!$A$1/CW$1))","v":0},{"$f":"IF(CX$1>$E$11,0,IF($G70=0,0,(CX$1-$G70)*Hoja1!$A$1/CX$1))","v":0},{"$f":"IF(CY$1>$E$11,0,IF($G70=0,0,(CY$1-$G70)*Hoja1!$A$1/CY$1))","v":0},{"$f":"IF(CZ$1>$E$11,0,IF($G70=0,0,(CZ$1-$G70)*Hoja1!$A$1/CZ$1))","v":0},{"$f":"IF(DA$1>$E$11,0,IF($G70=0,0,(DA$1-$G70)*Hoja1!$A$1/DA$1))","v":0},{"$f":"IF(DB$1>$E$11,0,IF($G70=0,0,(DB$1-$G70)*Hoja1!$A$1/DB$1))","v":0},{"$f":"IF(DC$1>$E$11,0,IF($G70=0,0,(DC$1-$G70)*Hoja1!$A$1/DC$1))","v":0},{"$f":"IF(DD$1>$E$11,0,IF($G70=0,0,(DD$1-$G70)*Hoja1!$A$1/DD$1))","v":0},{"$f":"IF(DE$1>$E$11,0,IF($G70=0,0,(DE$1-$G70)*Hoja1!$A$1/DE$1))","v":0},{"$f":"IF(DF$1>$E$11,0,IF($G70=0,0,(DF$1-$G70)*Hoja1!$A$1/DF$1))","v":0},{"$f":"IF(DG$1>$E$11,0,IF($G70=0,0,(DG$1-$G70)*Hoja1!$A$1/DG$1))","v":0},{"$f":"IF(DH$1>$E$11,0,IF($G70=0,0,(DH$1-$G70)*Hoja1!$A$1/DH$1))","v":0},{"$f":"IF(DI$1>$E$11,0,IF($G70=0,0,(DI$1-$G70)*Hoja1!$A$1/DI$1))","v":0},{"$f":"IF(DJ$1>$E$11,0,IF($G70=0,0,(DJ$1-$G70)*Hoja1!$A$1/DJ$1))","v":0},{"$f":"IF(DK$1>$E$11,0,IF($G70=0,0,(DK$1-$G70)*Hoja1!$A$1/DK$1))","v":0},{"$f":"IF(DL$1>$E$11,0,IF($G70=0,0,(DL$1-$G70)*Hoja1!$A$1/DL$1))","v":0},{"$f":"IF(DM$1>$E$11,0,IF($G70=0,0,(DM$1-$G70)*Hoja1!$A$1/DM$1))","v":0}]
[null,null,null,null,null,889.63500000000147,0,{"$f":"IF(H$1>$E$11,0,IF($G71=0,0,(H$1-$G71)*Hoja1!$A$1/H$1))","v":0},{"$f":"IF(I$1>$E$11,0,IF($G71=0,0,(I$1-$G71)*Hoja1!$A$1/I$1))","v":0},{"$f":"IF(J$1>$E$11,0,IF($G71=0,0,(J$1-$G71)*Hoja1!$A$1/J$1))","v":0},{"$f":"IF(K$1>$E$11,0,IF($G71=0,0,(K$1-$G71)*Hoja1!$A$1/K$1))","v":0},{"$f":"IF(L$1>$E$11,0,IF($G71=0,0,(L$1-$G71)*Hoja1!$A$1/L$1))","v":0},{"$f":"IF(M$1>$E$11,0,IF($G71=0,0,(M$1-$G71)*Hoja1!$A$1/M$1))","v":0},{"$f":"IF(N$1>$E$11,0,IF($G71=0,0,(N$1-$G71)*Hoja1!$A$1/N$1))","v":0},{"$f":"IF(O$1>$E$11,0,IF($G71=0,0,(O$1-$G71)*Hoja1!$A$1/O$1))","v":0},{"$f":"IF(P$1>$E$11,0,IF($G71=0,0,(P$1-$G71)*Hoja1!$A$1/P$1))","v":0},{"$f":"IF(Q$1>$E$11,0,IF($G71=0,0,(Q$1-$G71)*Hoja1!$A$1/Q$1))","v":0},{"$f":"IF(R$1>$E$11,0,IF($G71=0,0,(R$1-$G71)*Hoja1!$A$1/R$1))","v":0},{"$f":"IF(S$1>$E$11,0,IF($G71=0,0,(S$1-$G71)*Hoja1!$A$1/S$1))","v":0},{"$f":"IF(T$1>$E$11,0,IF($G71=0,0,(T$1-$G71)*Hoja1!$A$1/T$1))","v":0},{"$f":"IF(U$1>$E$11,0,IF($G71=0,0,(U$1-$G71)*Hoja1!$A$1/U$1))","v":0},{"$f":"IF(V$1>$E$11,0,IF($G71=0,0,(V$1-$G71)*Hoja1!$A$1/V$1))","v":0},{"$f":"IF(W$1>$E$11,0,IF($G71=0,0,(W$1-$G71)*Hoja1!$A$1/W$1))","v":0},{"$f":"IF(X$1>$E$11,0,IF($G71=0,0,(X$1-$G71)*Hoja1!$A$1/X$1))","v":0},{"$f":"IF(Y$1>$E$11,0,IF($G71=0,0,(Y$1-$G71)*Hoja1!$A$1/Y$1))","v":0},{"$f":"IF(Z$1>$E$11,0,IF($G71=0,0,(Z$1-$G71)*Hoja1!$A$1/Z$1))","v":0},{"$f":"IF(AA$1>$E$11,0,IF($G71=0,0,(AA$1-$G71)*Hoja1!$A$1/AA$1))","v":0},{"$f":"IF(AB$1>$E$11,0,IF($G71=0,0,(AB$1-$G71)*Hoja1!$A$1/AB$1))","v":0},{"$f":"IF(AC$1>$E$11,0,IF($G71=0,0,(AC$1-$G71)*Hoja1!$A$1/AC$1))","v":0},{"$f":"IF(AD$1>$E$11,0,IF($G71=0,0,(AD$1-$G71)*Hoja1!$A$1/AD$1))","v":0},{"$f":"IF(AE$1>$E$11,0,IF($G71=0,0,(AE$1-$G71)*Hoja1!$A$1/AE$1))","v":0},{"$f":"IF(AF$1>$E$11,0,IF($G71=0,0,(AF$1-$G71)*Hoja1!$A$1/AF$1))","v":0},{"$f":"IF(AG$1>$E$11,0,IF($G71=0,0,(AG$1-$G71)*Hoja1!$A$1/AG$1))","v":0},{"$f":"IF(AH$1>$E$11,0,IF($G71=0,0,(AH$1-$G71)*Hoja1!$A$1/AH$1))","v":0},{"$f":"IF(AI$1>$E$11,0,IF($G71=0,0,(AI$1-$G71)*Hoja1!$A$1/AI$1))","v":0},{"$f":"IF(AJ$1>$E$11,0,IF($G71=0,0,(AJ$1-$G71)*Hoja1!$A$1/AJ$1))","v":0},{"$f":"IF(AK$1>$E$11,0,IF($G71=0,0,(AK$1-$G71)*Hoja1!$A$1/AK$1))","v":0},{"$f":"IF(AL$1>$E$11,0,IF($G71=0,0,(AL$1-$G71)*Hoja1!$A$1/AL$1))","v":0},{"$f":"IF(AM$1>$E$11,0,IF($G71=0,0,(AM$1-$G71)*Hoja1!$A$1/AM$1))","v":0},{"$f":"IF(AN$1>$E$11,0,IF($G71=0,0,(AN$1-$G71)*Hoja1!$A$1/AN$1))","v":0},{"$f":"IF(AO$1>$E$11,0,IF($G71=0,0,(AO$1-$G71)*Hoja1!$A$1/AO$1))","v":0},{"$f":"IF(AP$1>$E$11,0,IF($G71=0,0,(AP$1-$G71)*Hoja1!$A$1/AP$1))","v":0},{"$f":"IF(AQ$1>$E$11,0,IF($G71=0,0,(AQ$1-$G71)*Hoja1!$A$1/AQ$1))","v":0},{"$f":"IF(AR$1>$E$11,0,IF($G71=0,0,(AR$1-$G71)*Hoja1!$A$1/AR$1))","v":0},{"$f":"IF(AS$1>$E$11,0,IF($G71=0,0,(AS$1-$G71)*Hoja1!$A$1/AS$1))","v":0},{"$f":"IF(AT$1>$E$11,0,IF($G71=0,0,(AT$1-$G71)*Hoja1!$A$1/AT$1))","v":0},{"$f":"IF(AU$1>$E$11,0,IF($G71=0,0,(AU$1-$G71)*Hoja1!$A$1/AU$1))","v":0},{"$f":"IF(AV$1>$E$11,0,IF($G71=0,0,(AV$1-$G71)*Hoja1!$A$1/AV$1))","v":0},{"$f":"IF(AW$1>$E$11,0,IF($G71=0,0,(AW$1-$G71)*Hoja1!$A$1/AW$1))","v":0},{"$f":"IF(AX$1>$E$11,0,IF($G71=0,0,(AX$1-$G71)*Hoja1!$A$1/AX$1))","v":0},{"$f":"IF(AY$1>$E$11,0,IF($G71=0,0,(AY$1-$G71)*Hoja1!$A$1/AY$1))","v":0},{"$f":"IF(AZ$1>$E$11,0,IF($G71=0,0,(AZ$1-$G71)*Hoja1!$A$1/AZ$1))","v":0},{"$f":"IF(BA$1>$E$11,0,IF($G71=0,0,(BA$1-$G71)*Hoja1!$A$1/BA$1))","v":0},{"$f":"IF(BB$1>$E$11,0,IF($G71=0,0,(BB$1-$G71)*Hoja1!$A$1/BB$1))","v":0},{"$f":"IF(BC$1>$E$11,0,IF($G71=0,0,(BC$1-$G71)*Hoja1!$A$1/BC$1))","v":0},{"$f":"IF(BD$1>$E$11,0,IF($G71=0,0,(BD$1-$G71)*Hoja1!$A$1/BD$1))","v":0},{"$f":"IF(BE$1>$E$11,0,IF($G71=0,0,(BE$1-$G71)*Hoja1!$A$1/BE$1))","v":0},{"$f":"IF(BF$1>$E$11,0,IF($G71=0,0,(BF$1-$G71)*Hoja1!$A$1/BF$1))","v":0},{"$f":"IF(BG$1>$E$11,0,IF($G71=0,0,(BG$1-$G71)*Hoja1!$A$1/BG$1))","v":0},{"$f":"IF(BH$1>$E$11,0,IF($G71=0,0,(BH$1-$G71)*Hoja1!$A$1/BH$1))","v":0},{"$f":"IF(BI$1>$E$11,0,IF($G71=0,0,(BI$1-$G71)*Hoja1!$A$1/BI$1))","v":0},{"$f":"IF(BJ$1>$E$11,0,IF($G71=0,0,(BJ$1-$G71)*Hoja1!$A$1/BJ$1))","v":0},{"$f":"IF(BK$1>$E$11,0,IF($G71=0,0,(BK$1-$G71)*Hoja1!$A$1/BK$1))","v":0},{"$f":"IF(BL$1>$E$11,0,IF($G71=0,0,(BL$1-$G71)*Hoja1!$A$1/BL$1))","v":0},{"$f":"IF(BM$1>$E$11,0,IF($G71=0,0,(BM$1-$G71)*Hoja1!$A$1/BM$1))","v":0},{"$f":"IF(BN$1>$E$11,0,IF($G71=0,0,(BN$1-$G71)*Hoja1!$A$1/BN$1))","v":0},{"$f":"IF(BO$1>$E$11,0,IF($G71=0,0,(BO$1-$G71)*Hoja1!$A$1/BO$1))","v":0},{"$f":"IF(BP$1>$E$11,0,IF($G71=0,0,(BP$1-$G71)*Hoja1!$A$1/BP$1))","v":0},{"$f":"IF(BQ$1>$E$11,0,IF($G71=0,0,(BQ$1-$G71)*Hoja1!$A$1/BQ$1))","v":0},{"$f":"IF(BR$1>$E$11,0,IF($G71=0,0,(BR$1-$G71)*Hoja1!$A$1/BR$1))","v":0},{"$f":"IF(BS$1>$E$11,0,IF($G71=0,0,(BS$1-$G71)*Hoja1!$A$1/BS$1))","v":0},{"$f":"IF(BT$1>$E$11,0,IF($G71=0,0,(BT$1-$G71)*Hoja1!$A$1/BT$1))","v":0},{"$f":"IF(BU$1>$E$11,0,IF($G71=0,0,(BU$1-$G71)*Hoja1!$A$1/BU$1))","v":0},{"$f":"IF(BV$1>$E$11,0,IF($G71=0,0,(BV$1-$G71)*Hoja1!$A$1/BV$1))","v":0},{"$f":"IF(BW$1>$E$11,0,IF($G71=0,0,(BW$1-$G71)*Hoja1!$A$1/BW$1))","v":0},{"$f":"IF(BX$1>$E$11,0,IF($G71=0,0,(BX$1-$G71)*Hoja1!$A$1/BX$1))","v":0},{"$f":"IF(BY$1>$E$11,0,IF($G71=0,0,(BY$1-$G71)*Hoja1!$A$1/BY$1))","v":0},{"$f":"IF(BZ$1>$E$11,0,IF($G71=0,0,(BZ$1-$G71)*Hoja1!$A$1/BZ$1))","v":0},{"$f":"IF(CA$1>$E$11,0,IF($G71=0,0,(CA$1-$G71)*Hoja1!$A$1/CA$1))","v":0},{"$f":"IF(CB$1>$E$11,0,IF($G71=0,0,(CB$1-$G71)*Hoja1!$A$1/CB$1))","v":0},{"$f":"IF(CC$1>$E$11,0,IF($G71=0,0,(CC$1-$G71)*Hoja1!$A$1/CC$1))","v":0},{"$f":"IF(CD$1>$E$11,0,IF($G71=0,0,(CD$1-$G71)*Hoja1!$A$1/CD$1))","v":0},{"$f":"IF(CE$1>$E$11,0,IF($G71=0,0,(CE$1-$G71)*Hoja1!$A$1/CE$1))","v":0},{"$f":"IF(CF$1>$E$11,0,IF($G71=0,0,(CF$1-$G71)*Hoja1!$A$1/CF$1))","v":0},{"$f":"IF(CG$1>$E$11,0,IF($G71=0,0,(CG$1-$G71)*Hoja1!$A$1/CG$1))","v":0},{"$f":"IF(CH$1>$E$11,0,IF($G71=0,0,(CH$1-$G71)*Hoja1!$A$1/CH$1))","v":0},{"$f":"IF(CI$1>$E$11,0,IF($G71=0,0,(CI$1-$G71)*Hoja1!$A$1/CI$1))","v":0},{"$f":"IF(CJ$1>$E$11,0,IF($G71=0,0,(CJ$1-$G71)*Hoja1!$A$1/CJ$1))","v":0},{"$f":"IF(CK$1>$E$11,0,IF($G71=0,0,(CK$1-$G71)*Hoja1!$A$1/CK$1))","v":0},{"$f":"IF(CL$1>$E$11,0,IF($G71=0,0,(CL$1-$G71)*Hoja1!$A$1/CL$1))","v":0},{"$f":"IF(CM$1>$E$11,0,IF($G71=0,0,(CM$1-$G71)*Hoja1!$A$1/CM$1))","v":0},{"$f":"IF(CN$1>$E$11,0,IF($G71=0,0,(CN$1-$G71)*Hoja1!$A$1/CN$1))","v":0},{"$f":"IF(CO$1>$E$11,0,IF($G71=0,0,(CO$1-$G71)*Hoja1!$A$1/CO$1))","v":0},{"$f":"IF(CP$1>$E$11,0,IF($G71=0,0,(CP$1-$G71)*Hoja1!$A$1/CP$1))","v":0},{"$f":"IF(CQ$1>$E$11,0,IF($G71=0,0,(CQ$1-$G71)*Hoja1!$A$1/CQ$1))","v":0},{"$f":"IF(CR$1>$E$11,0,IF($G71=0,0,(CR$1-$G71)*Hoja1!$A$1/CR$1))","v":0},{"$f":"IF(CS$1>$E$11,0,IF($G71=0,0,(CS$1-$G71)*Hoja1!$A$1/CS$1))","v":0},{"$f":"IF(CT$1>$E$11,0,IF($G71=0,0,(CT$1-$G71)*Hoja1!$A$1/CT$1))","v":0},{"$f":"IF(CU$1>$E$11,0,IF($G71=0,0,(CU$1-$G71)*Hoja1!$A$1/CU$1))","v":0},{"$f":"IF(CV$1>$E$11,0,IF($G71=0,0,(CV$1-$G71)*Hoja1!$A$1/CV$1))","v":0},{"$f":"IF(CW$1>$E$11,0,IF($G71=0,0,(CW$1-$G71)*Hoja1!$A$1/CW$1))","v":0},{"$f":"IF(CX$1>$E$11,0,IF($G71=0,0,(CX$1-$G71)*Hoja1!$A$1/CX$1))","v":0},{"$f":"IF(CY$1>$E$11,0,IF($G71=0,0,(CY$1-$G71)*Hoja1!$A$1/CY$1))","v":0},{"$f":"IF(CZ$1>$E$11,0,IF($G71=0,0,(CZ$1-$G71)*Hoja1!$A$1/CZ$1))","v":0},{"$f":"IF(DA$1>$E$11,0,IF($G71=0,0,(DA$1-$G71)*Hoja1!$A$1/DA$1))","v":0},{"$f":"IF(DB$1>$E$11,0,IF($G71=0,0,(DB$1-$G71)*Hoja1!$A$1/DB$1))","v":0},{"$f":"IF(DC$1>$E$11,0,IF($G71=0,0,(DC$1-$G71)*Hoja1!$A$1/DC$1))","v":0},{"$f":"IF(DD$1>$E$11,0,IF($G71=0,0,(DD$1-$G71)*Hoja1!$A$1/DD$1))","v":0},{"$f":"IF(DE$1>$E$11,0,IF($G71=0,0,(DE$1-$G71)*Hoja1!$A$1/DE$1))","v":0},{"$f":"IF(DF$1>$E$11,0,IF($G71=0,0,(DF$1-$G71)*Hoja1!$A$1/DF$1))","v":0},{"$f":"IF(DG$1>$E$11,0,IF($G71=0,0,(DG$1-$G71)*Hoja1!$A$1/DG$1))","v":0},{"$f":"IF(DH$1>$E$11,0,IF($G71=0,0,(DH$1-$G71)*Hoja1!$A$1/DH$1))","v":0},{"$f":"IF(DI$1>$E$11,0,IF($G71=0,0,(DI$1-$G71)*Hoja1!$A$1/DI$1))","v":0},{"$f":"IF(DJ$1>$E$11,0,IF($G71=0,0,(DJ$1-$G71)*Hoja1!$A$1/DJ$1))","v":0},{"$f":"IF(DK$1>$E$11,0,IF($G71=0,0,(DK$1-$G71)*Hoja1!$A$1/DK$1))","v":0},{"$f":"IF(DL$1>$E$11,0,IF($G71=0,0,(DL$1-$G71)*Hoja1!$A$1/DL$1))","v":0},{"$f":"IF(DM$1>$E$11,0,IF($G71=0,0,(DM$1-$G71)*Hoja1!$A$1/DM$1))","v":0}]
[null,null,null,null,null,902.82500000000152,0,{"$f":"IF(H$1>$E$11,0,IF($G72=0,0,(H$1-$G72)*Hoja1!$A$1/H$1))","v":0},{"$f":"IF(I$1>$E$11,0,IF($G72=0,0,(I$1-$G72)*Hoja1!$A$1/I$1))","v":0},{"$f":"IF(J$1>$E$11,0,IF($G72=0,0,(J$1-$G72)*Hoja1!$A$1/J$1))","v":0},{"$f":"IF(K$1>$E$11,0,IF($G72=0,0,(K$1-$G72)*Hoja1!$A$1/K$1))","v":0},{"$f":"IF(L$1>$E$11,0,IF($G72=0,0,(L$1-$G72)*Hoja1!$A$1/L$1))","v":0},{"$f":"IF(M$1>$E$11,0,IF($G72=0,0,(M$1-$G72)*Hoja1!$A$1/M$1))","v":0},{"$f":"IF(N$1>$E$11,0,IF($G72=0,0,(N$1-$G72)*Hoja1!$A$1/N$1))","v":0},{"$f":"IF(O$1>$E$11,0,IF($G72=0,0,(O$1-$G72)*Hoja1!$A$1/O$1))","v":0},{"$f":"IF(P$1>$E$11,0,IF($G72=0,0,(P$1-$G72)*Hoja1!$A$1/P$1))","v":0},{"$f":"IF(Q$1>$E$11,0,IF($G72=0,0,(Q$1-$G72)*Hoja1!$A$1/Q$1))","v":0},{"$f":"IF(R$1>$E$11,0,IF($G72=0,0,(R$1-$G72)*Hoja1!$A$1/R$1))","v":0},{"$f":"IF(S$1>$E$11,0,IF($G72=0,0,(S$1-$G72)*Hoja1!$A$1/S$1))","v":0},{"$f":"IF(T$1>$E$11,0,IF($G72=0,0,(T$1-$G72)*Hoja1!$A$1/T$1))","v":0},{"$f":"IF(U$1>$E$11,0,IF($G72=0,0,(U$1-$G72)*Hoja1!$A$1/U$1))","v":0},{"$f":"IF(V$1>$E$11,0,IF($G72=0,0,(V$1-$G72)*Hoja1!$A$1/V$1))","v":0},{"$f":"IF(W$1>$E$11,0,IF($G72=0,0,(W$1-$G72)*Hoja1!$A$1/W$1))","v":0},{"$f":"IF(X$1>$E$11,0,IF($G72=0,0,(X$1-$G72)*Hoja1!$A$1/X$1))","v":0},{"$f":"IF(Y$1>$E$11,0,IF($G72=0,0,(Y$1-$G72)*Hoja1!$A$1/Y$1))","v":0},{"$f":"IF(Z$1>$E$11,0,IF($G72=0,0,(Z$1-$G72)*Hoja1!$A$1/Z$1))","v":0},{"$f":"IF(AA$1>$E$11,0,IF($G72=0,0,(AA$1-$G72)*Hoja1!$A$1/AA$1))","v":0},{"$f":"IF(AB$1>$E$11,0,IF($G72=0,0,(AB$1-$G72)*Hoja1!$A$1/AB$1))","v":0},{"$f":"IF(AC$1>$E$11,0,IF($G72=0,0,(AC$1-$G72)*Hoja1!$A$1/AC$1))","v":0},{"$f":"IF(AD$1>$E$11,0,IF($G72=0,0,(AD$1-$G72)*Hoja1!$A$1/AD$1))","v":0},{"$f":"IF(AE$1>$E$11,0,IF($G72=0,0,(AE$1-$G72)*Hoja1!$A$1/AE$1))","v":0},{"$f":"IF(AF$1>$E$11,0,IF($G72=0,0,(AF$1-$G72)*Hoja1!$A$1/AF$1))","v":0},{"$f":"IF(AG$1>$E$11,0,IF($G72=0,0,(AG$1-$G72)*Hoja1!$A$1/AG$1))","v":0},{"$f":"IF(AH$1>$E$11,0,IF($G72=0,0,(AH$1-$G72)*Hoja1!$A$1/AH$1))","v":0},{"$f":"IF(AI$1>$E$11,0,IF($G72=0,0,(AI$1-$G72)*Hoja1!$A$1/AI$1))","v":0},{"$f":"IF(AJ$1>$E$11,0,IF($G72=0,0,(AJ$1-$G72)*Hoja1!$A$1/AJ$1))","v":0},{"$f":"IF(AK$1>$E$11,0,IF($G72=0,0,(AK$1-$G72)*Hoja1!$A$1/AK$1))","v":0},{"$f":"IF(AL$1>$E$11,0,IF($G72=0,0,(AL$1-$G72)*Hoja1!$A$1/AL$1))","v":0},{"$f":"IF(AM$1>$E$11,0,IF($G72=0,0,(AM$1-$G72)*Hoja1!$A$1/AM$1))","v":0},{"$f":"IF(AN$1>$E$11,0,IF($G72=0,0,(AN$1-$G72)*Hoja1!$A$1/AN$1))","v":0},{"$f":"IF(AO$1>$E$11,0,IF($G72=0,0,(AO$1-$G72)*Hoja1!$A$1/AO$1))","v":0},{"$f":"IF(AP$1>$E$11,0,IF($G72=0,0,(AP$1-$G72)*Hoja1!$A$1/AP$1))","v":0},{"$f":"IF(AQ$1>$E$11,0,IF($G72=0,0,(AQ$1-$G72)*Hoja1!$A$1/AQ$1))","v":0},{"$f":"IF(AR$1>$E$11,0,IF($G72=0,0,(AR$1-$G72)*Hoja1!$A$1/AR$1))","v":0},{"$f":"IF(AS$1>$E$11,0,IF($G72=0,0,(AS$1-$G72)*Hoja1!$A$1/AS$1))","v":0},{"$f":"IF(AT$1>$E$11,0,IF($G72=0,0,(AT$1-$G72)*Hoja1!$A$1/AT$1))","v":0},{"$f":"IF(AU$1>$E$11,0,IF($G72=0,0,(AU$1-$G72)*Hoja1!$A$1/AU$1))","v":0},{"$f":"IF(AV$1>$E$11,0,IF($G72=0,0,(AV$1-$G72)*Hoja1!$A$1/AV$1))","v":0},{"$f":"IF(AW$1>$E$11,0,IF($G72=0,0,(AW$1-$G72)*Hoja1!$A$1/AW$1))","v":0},{"$f":"IF(AX$1>$E$11,0,IF($G72=0,0,(AX$1-$G72)*Hoja1!$A$1/AX$1))","v":0},{"$f":"IF(AY$1>$E$11,0,IF($G72=0,0,(AY$1-$G72)*Hoja1!$A$1/AY$1))","v":0},{"$f":"IF(AZ$1>$E$11,0,IF($G72=0,0,(AZ$1-$G72)*Hoja1!$A$1/AZ$1))","v":0},{"$f":"IF(BA$1>$E$11,0,IF($G72=0,0,(BA$1-$G72)*Hoja1!$A$1/BA$1))","v":0},{"$f":"IF(BB$1>$E$11,0,IF($G72=0,0,(BB$1-$G72)*Hoja1!$A$1/BB$1))","v":0},{"$f":"IF(BC$1>$E$11,0,IF($G72=0,0,(BC$1-$G72)*Hoja1!$A$1/BC$1))","v":0},{"$f":"IF(BD$1>$E$11,0,IF($G72=0,0,(BD$1-$G72)*Hoja1!$A$1/BD$1))","v":0},{"$f":"IF(BE$1>$E$11,0,IF($G72=0,0,(BE$1-$G72)*Hoja1!$A$1/BE$1))","v":0},{"$f":"IF(BF$1>$E$11,0,IF($G72=0,0,(BF$1-$G72)*Hoja1!$A$1/BF$1))","v":0},{"$f":"IF(BG$1>$E$11,0,IF($G72=0,0,(BG$1-$G72)*Hoja1!$A$1/BG$1))","v":0},{"$f":"IF(BH$1>$E$11,0,IF($G72=0,0,(BH$1-$G72)*Hoja1!$A$1/BH$1))","v":0},{"$f":"IF(BI$1>$E$11,0,IF($G72=0,0,(BI$1-$G72)*Hoja1!$A$1/BI$1))","v":0},{"$f":"IF(BJ$1>$E$11,0,IF($G72=0,0,(BJ$1-$G72)*Hoja1!$A$1/BJ$1))","v":0},{"$f":"IF(BK$1>$E$11,0,IF($G72=0,0,(BK$1-$G72)*Hoja1!$A$1/BK$1))","v":0},{"$f":"IF(BL$1>$E$11,0,IF($G72=0,0,(BL$1-$G72)*Hoja1!$A$1/BL$1))","v":0},{"$f":"IF(BM$1>$E$11,0,IF($G72=0,0,(BM$1-$G72)*Hoja1!$A$1/BM$1))","v":0},{"$f":"IF(BN$1>$E$11,0,IF($G72=0,0,(BN$1-$G72)*Hoja1!$A$1/BN$1))","v":0},{"$f":"IF(BO$1>$E$11,0,IF($G72=0,0,(BO$1-$G72)*Hoja1!$A$1/BO$1))","v":0},{"$f":"IF(BP$1>$E$11,0,IF($G72=0,0,(BP$1-$G72)*Hoja1!$A$1/BP$1))","v":0},{"$f":"IF(BQ$1>$E$11,0,IF($G72=0,0,(BQ$1-$G72)*Hoja1!$A$1/BQ$1))","v":0},{"$f":"IF(BR$1>$E$11,0,IF($G72=0,0,(BR$1-$G72)*Hoja1!$A$1/BR$1))","v":0},{"$f":"IF(BS$1>$E$11,0,IF($G72=0,0,(BS$1-$G72)*Hoja1!$A$1/BS$1))","v":0},{"$f":"IF(BT$1>$E$11,0,IF($G72=0,0,(BT$1-$G72)*Hoja1!$A$1/BT$1))","v":0},{"$f":"IF(BU$1>$E$11,0,IF($G72=0,0,(BU$1-$G72)*Hoja1!$A$1/BU$1))","v":0},{"$f":"IF(BV$1>$E$11,0,IF($G72=0,0,(BV$1-$G72)*Hoja1!$A$1/BV$1))","v":0},{"$f":"IF(BW$1>$E$11,0,IF($G72=0,0,(BW$1-$G72)*Hoja1!$A$1/BW$1))","v":0},{"$f":"IF(BX$1>$E$11,0,IF($G72=0,0,(BX$1-$G72)*Hoja1!$A$1/BX$1))","v":0},{"$f":"IF(BY$1>$E$11,0,IF($G72=0,0,(BY$1-$G72)*Hoja1!$A$1/BY$1))","v":0},{"$f":"IF(BZ$1>$E$11,0,IF($G72=0,0,(BZ$1-$G72)*Hoja1!$A$1/BZ$1))","v":0},{"$f":"IF(CA$1>$E$11,0,IF($G72=0,0,(CA$1-$G72)*Hoja1!$A$1/CA$1))","v":0},{"$f":"IF(CB$1>$E$11,0,IF($G72=0,0,(CB$1-$G72)*Hoja1!$A$1/CB$1))","v":0},{"$f":"IF(CC$1>$E$11,0,IF($G72=0,0,(CC$1-$G72)*Hoja1!$A$1/CC$1))","v":0},{"$f":"IF(CD$1>$E$11,0,IF($G72=0,0,(CD$1-$G72)*Hoja1!$A$1/CD$1))","v":0},{"$f":"IF(CE$1>$E$11,0,IF($G72=0,0,(CE$1-$G72)*Hoja1!$A$1/CE$1))","v":0},{"$f":"IF(CF$1>$E$11,0,IF($G72=0,0,(CF$1-$G72)*Hoja1!$A$1/CF$1))","v":0},{"$f":"IF(CG$1>$E$11,0,IF($G72=0,0,(CG$1-$G72)*Hoja1!$A$1/CG$1))","v":0},{"$f":"IF(CH$1>$E$11,0,IF($G72=0,0,(CH$1-$G72)*Hoja1!$A$1/CH$1))","v":0},{"$f":"IF(CI$1>$E$11,0,IF($G72=0,0,(CI$1-$G72)*Hoja1!$A$1/CI$1))","v":0},{"$f":"IF(CJ$1>$E$11,0,IF($G72=0,0,(CJ$1-$G72)*Hoja1!$A$1/CJ$1))","v":0},{"$f":"IF(CK$1>$E$11,0,IF($G72=0,0,(CK$1-$G72)*Hoja1!$A$1/CK$1))","v":0},{"$f":"IF(CL$1>$E$11,0,IF($G72=0,0,(CL$1-$G72)*Hoja1!$A$1/CL$1))","v":0},{"$f":"IF(CM$1>$E$11,0,IF($G72=0,0,(CM$1-$G72)*Hoja1!$A$1/CM$1))","v":0},{"$f":"IF(CN$1>$E$11,0,IF($G72=0,0,(CN$1-$G72)*Hoja1!$A$1/CN$1))","v":0},{"$f":"IF(CO$1>$E$11,0,IF($G72=0,0,(CO$1-$G72)*Hoja1!$A$1/CO$1))","v":0},{"$f":"IF(CP$1>$E$11,0,IF($G72=0,0,(CP$1-$G72)*Hoja1!$A$1/CP$1))","v":0},{"$f":"IF(CQ$1>$E$11,0,IF($G72=0,0,(CQ$1-$G72)*Hoja1!$A$1/CQ$1))","v":0},{"$f":"IF(CR$1>$E$11,0,IF($G72=0,0,(CR$1-$G72)*Hoja1!$A$1/CR$1))","v":0},{"$f":"IF(CS$1>$E$11,0,IF($G72=0,0,(CS$1-$G72)*Hoja1!$A$1/CS$1))","v":0},{"$f":"IF(CT$1>$E$11,0,IF($G72=0,0,(CT$1-$G72)*Hoja1!$A$1/CT$1))","v":0},{"$f":"IF(CU$1>$E$11,0,IF($G72=0,0,(CU$1-$G72)*Hoja1!$A$1/CU$1))","v":0},{"$f":"IF(CV$1>$E$11,0,IF($G72=0,0,(CV$1-$G72)*Hoja1!$A$1/CV$1))","v":0},{"$f":"IF(CW$1>$E$11,0,IF($G72=0,0,(CW$1-$G72)*Hoja1!$A$1/CW$1))","v":0},{"$f":"IF(CX$1>$E$11,0,IF($G72=0,0,(CX$1-$G72)*Hoja1!$A$1/CX$1))","v":0},{"$f":"IF(CY$1>$E$11,0,IF($G72=0,0,(CY$1-$G72)*Hoja1!$A$1/CY$1))","v":0},{"$f":"IF(CZ$1>$E$11,0,IF($G72=0,0,(CZ$1-$G72)*Hoja1!$A$1/CZ$1))","v":0},{"$f":"IF(DA$1>$E$11,0,IF($G72=0,0,(DA$1-$G72)*Hoja1!$A$1/DA$1))","v":0},{"$f":"IF(DB$1>$E$11,0,IF($G72=0,0,(DB$1-$G72)*Hoja1!$A$1/DB$1))","v":0},{"$f":"IF(DC$1>$E$11,0,IF($G72=0,0,(DC$1-$G72)*Hoja1!$A$1/DC$1))","v":0},{"$f":"IF(DD$1>$E$11,0,IF($G72=0,0,(DD$1-$G72)*Hoja1!$A$1/DD$1))","v":0},{"$f":"IF(DE$1>$E$11,0,IF($G72=0,0,(DE$1-$G72)*Hoja1!$A$1/DE$1))","v":0},{"$f":"IF(DF$1>$E$11,0,IF($G72=0,0,(DF$1-$G72)*Hoja1!$A$1/DF$1))","v":0},{"$f":"IF(DG$1>$E$11,0,IF($G72=0,0,(DG$1-$G72)*Hoja1!$A$1/DG$1))","v":0},{"$f":"IF(DH$1>$E$11,0,IF($G72=0,0,(DH$1-$G72)*Hoja1!$A$1/DH$1))","v":0},{"$f":"IF(DI$1>$E$11,0,IF($G72=0,0,(DI$1-$G72)*Hoja1!$A$1/DI$1))","v":0},{"$f":"IF(DJ$1>$E$11,0,IF($G72=0,0,(DJ$1-$G72)*Hoja1!$A$1/DJ$1))","v":0},{"$f":"IF(DK$1>$E$11,0,IF($G72=0,0,(DK$1-$G72)*Hoja1!$A$1/DK$1))","v":0},{"$f":"IF(DL$1>$E$11,0,IF($G72=0,0,(DL$1-$G72)*Hoja1!$A$1/DL$1))","v":0},{"$f":"IF(DM$1>$E$11,0,IF($G72=0,0,(DM$1-$G72)*Hoja1!$A$1/DM$1))","v":0}]
[null,null,null,null,null,916.01500000000158,0,{"$f":"IF(H$1>$E$11,0,IF($G73=0,0,(H$1-$G73)*Hoja1!$A$1/H$1))","v":0},{"$f":"IF(I$1>$E$11,0,IF($G73=0,0,(I$1-$G73)*Hoja1!$A$1/I$1))","v":0},{"$f":"IF(J$1>$E$11,0,IF($G73=0,0,(J$1-$G73)*Hoja1!$A$1/J$1))","v":0},{"$f":"IF(K$1>$E$11,0,IF($G73=0,0,(K$1-$G73)*Hoja1!$A$1/K$1))","v":0},{"$f":"IF(L$1>$E$11,0,IF($G73=0,0,(L$1-$G73)*Hoja1!$A$1/L$1))","v":0},{"$f":"IF(M$1>$E$11,0,IF($G73=0,0,(M$1-$G73)*Hoja1!$A$1/M$1))","v":0},{"$f":"IF(N$1>$E$11,0,IF($G73=0,0,(N$1-$G73)*Hoja1!$A$1/N$1))","v":0},{"$f":"IF(O$1>$E$11,0,IF($G73=0,0,(O$1-$G73)*Hoja1!$A$1/O$1))","v":0},{"$f":"IF(P$1>$E$11,0,IF($G73=0,0,(P$1-$G73)*Hoja1!$A$1/P$1))","v":0},{"$f":"IF(Q$1>$E$11,0,IF($G73=0,0,(Q$1-$G73)*Hoja1!$A$1/Q$1))","v":0},{"$f":"IF(R$1>$E$11,0,IF($G73=0,0,(R$1-$G73)*Hoja1!$A$1/R$1))","v":0},{"$f":"IF(S$1>$E$11,0,IF($G73=0,0,(S$1-$G73)*Hoja1!$A$1/S$1))","v":0},{"$f":"IF(T$1>$E$11,0,IF($G73=0,0,(T$1-$G73)*Hoja1!$A$1/T$1))","v":0},{"$f":"IF(U$1>$E$11,0,IF($G73=0,0,(U$1-$G73)*Hoja1!$A$1/U$1))","v":0},{"$f":"IF(V$1>$E$11,0,IF($G73=0,0,(V$1-$G73)*Hoja1!$A$1/V$1))","v":0},{"$f":"IF(W$1>$E$11,0,IF($G73=0,0,(W$1-$G73)*Hoja1!$A$1/W$1))","v":0},{"$f":"IF(X$1>$E$11,0,IF($G73=0,0,(X$1-$G73)*Hoja1!$A$1/X$1))","v":0},{"$f":"IF(Y$1>$E$11,0,IF($G73=0,0,(Y$1-$G73)*Hoja1!$A$1/Y$1))","v":0},{"$f":"IF(Z$1>$E$11,0,IF($G73=0,0,(Z$1-$G73)*Hoja1!$A$1/Z$1))","v":0},{"$f":"IF(AA$1>$E$11,0,IF($G73=0,0,(AA$1-$G73)*Hoja1!$A$1/AA$1))","v":0},{"$f":"IF(AB$1>$E$11,0,IF($G73=0,0,(AB$1-$G73)*Hoja1!$A$1/AB$1))","v":0},{"$f":"IF(AC$1>$E$11,0,IF($G73=0,0,(AC$1-$G73)*Hoja1!$A$1/AC$1))","v":0},{"$f":"IF(AD$1>$E$11,0,IF($G73=0,0,(AD$1-$G73)*Hoja1!$A$1/AD$1))","v":0},{"$f":"IF(AE$1>$E$11,0,IF($G73=0,0,(AE$1-$G73)*Hoja1!$A$1/AE$1))","v":0},{"$f":"IF(AF$1>$E$11,0,IF($G73=0,0,(AF$1-$G73)*Hoja1!$A$1/AF$1))","v":0},{"$f":"IF(AG$1>$E$11,0,IF($G73=0,0,(AG$1-$G73)*Hoja1!$A$1/AG$1))","v":0},{"$f":"IF(AH$1>$E$11,0,IF($G73=0,0,(AH$1-$G73)*Hoja1!$A$1/AH$1))","v":0},{"$f":"IF(AI$1>$E$11,0,IF($G73=0,0,(AI$1-$G73)*Hoja1!$A$1/AI$1))","v":0},{"$f":"IF(AJ$1>$E$11,0,IF($G73=0,0,(AJ$1-$G73)*Hoja1!$A$1/AJ$1))","v":0},{"$f":"IF(AK$1>$E$11,0,IF($G73=0,0,(AK$1-$G73)*Hoja1!$A$1/AK$1))","v":0},{"$f":"IF(AL$1>$E$11,0,IF($G73=0,0,(AL$1-$G73)*Hoja1!$A$1/AL$1))","v":0},{"$f":"IF(AM$1>$E$11,0,IF($G73=0,0,(AM$1-$G73)*Hoja1!$A$1/AM$1))","v":0},{"$f":"IF(AN$1>$E$11,0,IF($G73=0,0,(AN$1-$G73)*Hoja1!$A$1/AN$1))","v":0},{"$f":"IF(AO$1>$E$11,0,IF($G73=0,0,(AO$1-$G73)*Hoja1!$A$1/AO$1))","v":0},{"$f":"IF(AP$1>$E$11,0,IF($G73=0,0,(AP$1-$G73)*Hoja1!$A$1/AP$1))","v":0},{"$f":"IF(AQ$1>$E$11,0,IF($G73=0,0,(AQ$1-$G73)*Hoja1!$A$1/AQ$1))","v":0},{"$f":"IF(AR$1>$E$11,0,IF($G73=0,0,(AR$1-$G73)*Hoja1!$A$1/AR$1))","v":0},{"$f":"IF(AS$1>$E$11,0,IF($G73=0,0,(AS$1-$G73)*Hoja1!$A$1/AS$1))","v":0},{"$f":"IF(AT$1>$E$11,0,IF($G73=0,0,(AT$1-$G73)*Hoja1!$A$1/AT$1))","v":0},{"$f":"IF(AU$1>$E$11,0,IF($G73=0,0,(AU$1-$G73)*Hoja1!$A$1/AU$1))","v":0},{"$f":"IF(AV$1>$E$11,0,IF($G73=0,0,(AV$1-$G73)*Hoja1!$A$1/AV$1))","v":0},{"$f":"IF(AW$1>$E$11,0,IF($G73=0,0,(AW$1-$G73)*Hoja1!$A$1/AW$1))","v":0},{"$f":"IF(AX$1>$E$11,0,IF($G73=0,0,(AX$1-$G73)*Hoja1!$A$1/AX$1))","v":0},{"$f":"IF(AY$1>$E$11,0,IF($G73=0,0,(AY$1-$G73)*Hoja1!$A$1/AY$1))","v":0},{"$f":"IF(AZ$1>$E$11,0,IF($G73=0,0,(AZ$1-$G73)*Hoja1!$A$1/AZ$1))","v":0},{"$f":"IF(BA$1>$E$11,0,IF($G73=0,0,(BA$1-$G73)*Hoja1!$A$1/BA$1))","v":0},{"$f":"IF(BB$1>$E$11,0,IF($G73=0,0,(BB$1-$G73)*Hoja1!$A$1/BB$1))","v":0},{"$f":"IF(BC$1>$E$11,0,IF($G73=0,0,(BC$1-$G73)*Hoja1!$A$1/BC$1))","v":0},{"$f":"IF(BD$1>$E$11,0,IF($G73=0,0,(BD$1-$G73)*Hoja1!$A$1/BD$1))","v":0},{"$f":"IF(BE$1>$E$11,0,IF($G73=0,0,(BE$1-$G73)*Hoja1!$A$1/BE$1))","v":0},{"$f":"IF(BF$1>$E$11,0,IF($G73=0,0,(BF$1-$G73)*Hoja1!$A$1/BF$1))","v":0},{"$f":"IF(BG$1>$E$11,0,IF($G73=0,0,(BG$1-$G73)*Hoja1!$A$1/BG$1))","v":0},{"$f":"IF(BH$1>$E$11,0,IF($G73=0,0,(BH$1-$G73)*Hoja1!$A$1/BH$1))","v":0},{"$f":"IF(BI$1>$E$11,0,IF($G73=0,0,(BI$1-$G73)*Hoja1!$A$1/BI$1))","v":0},{"$f":"IF(BJ$1>$E$11,0,IF($G73=0,0,(BJ$1-$G73)*Hoja1!$A$1/BJ$1))","v":0},{"$f":"IF(BK$1>$E$11,0,IF($G73=0,0,(BK$1-$G73)*Hoja1!$A$1/BK$1))","v":0},{"$f":"IF(BL$1>$E$11,0,IF($G73=0,0,(BL$1-$G73)*Hoja1!$A$1/BL$1))","v":0},{"$f":"IF(BM$1>$E$11,0,IF($G73=0,0,(BM$1-$G73)*Hoja1!$A$1/BM$1))","v":0},{"$f":"IF(BN$1>$E$11,0,IF($G73=0,0,(BN$1-$G73)*Hoja1!$A$1/BN$1))","v":0},{"$f":"IF(BO$1>$E$11,0,IF($G73=0,0,(BO$1-$G73)*Hoja1!$A$1/BO$1))","v":0},{"$f":"IF(BP$1>$E$11,0,IF($G73=0,0,(BP$1-$G73)*Hoja1!$A$1/BP$1))","v":0},{"$f":"IF(BQ$1>$E$11,0,IF($G73=0,0,(BQ$1-$G73)*Hoja1!$A$1/BQ$1))","v":0},{"$f":"IF(BR$1>$E$11,0,IF($G73=0,0,(BR$1-$G73)*Hoja1!$A$1/BR$1))","v":0},{"$f":"IF(BS$1>$E$11,0,IF($G73=0,0,(BS$1-$G73)*Hoja1!$A$1/BS$1))","v":0},{"$f":"IF(BT$1>$E$11,0,IF($G73=0,0,(BT$1-$G73)*Hoja1!$A$1/BT$1))","v":0},{"$f":"IF(BU$1>$E$11,0,IF($G73=0,0,(BU$1-$G73)*Hoja1!$A$1/BU$1))","v":0},{"$f":"IF(BV$1>$E$11,0,IF($G73=0,0,(BV$1-$G73)*Hoja1!$A$1/BV$1))","v":0},{"$f":"IF(BW$1>$E$11,0,IF($G73=0,0,(BW$1-$G73)*Hoja1!$A$1/BW$1))","v":0},{"$f":"IF(BX$1>$E$11,0,IF($G73=0,0,(BX$1-$G73)*Hoja1!$A$1/BX$1))","v":0},{"$f":"IF(BY$1>$E$11,0,IF($G73=0,0,(BY$1-$G73)*Hoja1!$A$1/BY$1))","v":0},{"$f":"IF(BZ$1>$E$11,0,IF($G73=0,0,(BZ$1-$G73)*Hoja1!$A$1/BZ$1))","v":0},{"$f":"IF(CA$1>$E$11,0,IF($G73=0,0,(CA$1-$G73)*Hoja1!$A$1/CA$1))","v":0},{"$f":"IF(CB$1>$E$11,0,IF($G73=0,0,(CB$1-$G73)*Hoja1!$A$1/CB$1))","v":0},{"$f":"IF(CC$1>$E$11,0,IF($G73=0,0,(CC$1-$G73)*Hoja1!$A$1/CC$1))","v":0},{"$f":"IF(CD$1>$E$11,0,IF($G73=0,0,(CD$1-$G73)*Hoja1!$A$1/CD$1))","v":0},{"$f":"IF(CE$1>$E$11,0,IF($G73=0,0,(CE$1-$G73)*Hoja1!$A$1/CE$1))","v":0},{"$f":"IF(CF$1>$E$11,0,IF($G73=0,0,(CF$1-$G73)*Hoja1!$A$1/CF$1))","v":0},{"$f":"IF(CG$1>$E$11,0,IF($G73=0,0,(CG$1-$G73)*Hoja1!$A$1/CG$1))","v":0},{"$f":"IF(CH$1>$E$11,0,IF($G73=0,0,(CH$1-$G73)*Hoja1!$A$1/CH$1))","v":0},{"$f":"IF(CI$1>$E$11,0,IF($G73=0,0,(CI$1-$G73)*Hoja1!$A$1/CI$1))","v":0},{"$f":"IF(CJ$1>$E$11,0,IF($G73=0,0,(CJ$1-$G73)*Hoja1!$A$1/CJ$1))","v":0},{"$f":"IF(CK$1>$E$11,0,IF($G73=0,0,(CK$1-$G73)*Hoja1!$A$1/CK$1))","v":0},{"$f":"IF(CL$1>$E$11,0,IF($G73=0,0,(CL$1-$G73)*Hoja1!$A$1/CL$1))","v":0},{"$f":"IF(CM$1>$E$11,0,IF($G73=0,0,(CM$1-$G73)*Hoja1!$A$1/CM$1))","v":0},{"$f":"IF(CN$1>$E$11,0,IF($G73=0,0,(CN$1-$G73)*Hoja1!$A$1/CN$1))","v":0},{"$f":"IF(CO$1>$E$11,0,IF($G73=0,0,(CO$1-$G73)*Hoja1!$A$1/CO$1))","v":0},{"$f":"IF(CP$1>$E$11,0,IF($G73=0,0,(CP$1-$G73)*Hoja1!$A$1/CP$1))","v":0},{"$f":"IF(CQ$1>$E$11,0,IF($G73=0,0,(CQ$1-$G73)*Hoja1!$A$1/CQ$1))","v":0},{"$f":"IF(CR$1>$E$11,0,IF($G73=0,0,(CR$1-$G73)*Hoja1!$A$1/CR$1))","v":0},{"$f":"IF(CS$1>$E$11,0,IF($G73=0,0,(CS$1-$G73)*Hoja1!$A$1/CS$1))","v":0},{"$f":"IF(CT$1>$E$11,0,IF($G73=0,0,(CT$1-$G73)*Hoja1!$A$1/CT$1))","v":0},{"$f":"IF(CU$1>$E$11,0,IF($G73=0,0,(CU$1-$G73)*Hoja1!$A$1/CU$1))","v":0},{"$f":"IF(CV$1>$E$11,0,IF($G73=0,0,(CV$1-$G73)*Hoja1!$A$1/CV$1))","v":0},{"$f":"IF(CW$1>$E$11,0,IF($G73=0,0,(CW$1-$G73)*Hoja1!$A$1/CW$1))","v":0},{"$f":"IF(CX$1>$E$11,0,IF($G73=0,0,(CX$1-$G73)*Hoja1!$A$1/CX$1))","v":0},{"$f":"IF(CY$1>$E$11,0,IF($G73=0,0,(CY$1-$G73)*Hoja1!$A$1/CY$1))","v":0},{"$f":"IF(CZ$1>$E$11,0,IF($G73=0,0,(CZ$1-$G73)*Hoja1!$A$1/CZ$1))","v":0},{"$f":"IF(DA$1>$E$11,0,IF($G73=0,0,(DA$1-$G73)*Hoja1!$A$1/DA$1))","v":0},{"$f":"IF(DB$1>$E$11,0,IF($G73=0,0,(DB$1-$G73)*Hoja1!$A$1/DB$1))","v":0},{"$f":"IF(DC$1>$E$11,0,IF($G73=0,0,(DC$1-$G73)*Hoja1!$A$1/DC$1))","v":0},{"$f":"IF(DD$1>$E$11,0,IF($G73=0,0,(DD$1-$G73)*Hoja1!$A$1/DD$1))","v":0},{"$f":"IF(DE$1>$E$11,0,IF($G73=0,0,(DE$1-$G73)*Hoja1!$A$1/DE$1))","v":0},{"$f":"IF(DF$1>$E$11,0,IF($G73=0,0,(DF$1-$G73)*Hoja1!$A$1/DF$1))","v":0},{"$f":"IF(DG$1>$E$11,0,IF($G73=0,0,(DG$1-$G73)*Hoja1!$A$1/DG$1))","v":0},{"$f":"IF(DH$1>$E$11,0,IF($G73=0,0,(DH$1-$G73)*Hoja1!$A$1/DH$1))","v":0},{"$f":"IF(DI$1>$E$11,0,IF($G73=0,0,(DI$1-$G73)*Hoja1!$A$1/DI$1))","v":0},{"$f":"IF(DJ$1>$E$11,0,IF($G73=0,0,(DJ$1-$G73)*Hoja1!$A$1/DJ$1))","v":0},{"$f":"IF(DK$1>$E$11,0,IF($G73=0,0,(DK$1-$G73)*Hoja1!$A$1/DK$1))","v":0},{"$f":"IF(DL$1>$E$11,0,IF($G73=0,0,(DL$1-$G73)*Hoja1!$A$1/DL$1))","v":0},{"$f":"IF(DM$1>$E$11,0,IF($G73=0,0,(DM$1-$G73)*Hoja1!$A$1/DM$1))","v":0}]
[null,null,null,null,null,929.20500000000163,{"$f":"IF(E$10>=F74,F74,0)","v":0},{"$f":"IF(H$1>$E$11,0,IF($G74=0,0,(H$1-$G74)*Hoja1!$A$1/H$1))","v":0},{"$f":"IF(I$1>$E$11,0,IF($G74=0,0,(I$1-$G74)*Hoja1!$A$1/I$1))","v":0},{"$f":"IF(J$1>$E$11,0,IF($G74=0,0,(J$1-$G74)*Hoja1!$A$1/J$1))","v":0},{"$f":"IF(K$1>$E$11,0,IF($G74=0,0,(K$1-$G74)*Hoja1!$A$1/K$1))","v":0},{"$f":"IF(L$1>$E$11,0,IF($G74=0,0,(L$1-$G74)*Hoja1!$A$1/L$1))","v":0},{"$f":"IF(M$1>$E$11,0,IF($G74=0,0,(M$1-$G74)*Hoja1!$A$1/M$1))","v":0},{"$f":"IF(N$1>$E$11,0,IF($G74=0,0,(N$1-$G74)*Hoja1!$A$1/N$1))","v":0},{"$f":"IF(O$1>$E$11,0,IF($G74=0,0,(O$1-$G74)*Hoja1!$A$1/O$1))","v":0},{"$f":"IF(P$1>$E$11,0,IF($G74=0,0,(P$1-$G74)*Hoja1!$A$1/P$1))","v":0},{"$f":"IF(Q$1>$E$11,0,IF($G74=0,0,(Q$1-$G74)*Hoja1!$A$1/Q$1))","v":0},{"$f":"IF(R$1>$E$11,0,IF($G74=0,0,(R$1-$G74)*Hoja1!$A$1/R$1))","v":0},{"$f":"IF(S$1>$E$11,0,IF($G74=0,0,(S$1-$G74)*Hoja1!$A$1/S$1))","v":0},{"$f":"IF(T$1>$E$11,0,IF($G74=0,0,(T$1-$G74)*Hoja1!$A$1/T$1))","v":0},{"$f":"IF(U$1>$E$11,0,IF($G74=0,0,(U$1-$G74)*Hoja1!$A$1/U$1))","v":0},{"$f":"IF(V$1>$E$11,0,IF($G74=0,0,(V$1-$G74)*Hoja1!$A$1/V$1))","v":0},{"$f":"IF(W$1>$E$11,0,IF($G74=0,0,(W$1-$G74)*Hoja1!$A$1/W$1))","v":0},{"$f":"IF(X$1>$E$11,0,IF($G74=0,0,(X$1-$G74)*Hoja1!$A$1/X$1))","v":0},{"$f":"IF(Y$1>$E$11,0,IF($G74=0,0,(Y$1-$G74)*Hoja1!$A$1/Y$1))","v":0},{"$f":"IF(Z$1>$E$11,0,IF($G74=0,0,(Z$1-$G74)*Hoja1!$A$1/Z$1))","v":0},{"$f":"IF(AA$1>$E$11,0,IF($G74=0,0,(AA$1-$G74)*Hoja1!$A$1/AA$1))","v":0},{"$f":"IF(AB$1>$E$11,0,IF($G74=0,0,(AB$1-$G74)*Hoja1!$A$1/AB$1))","v":0},{"$f":"IF(AC$1>$E$11,0,IF($G74=0,0,(AC$1-$G74)*Hoja1!$A$1/AC$1))","v":0},{"$f":"IF(AD$1>$E$11,0,IF($G74=0,0,(AD$1-$G74)*Hoja1!$A$1/AD$1))","v":0},{"$f":"IF(AE$1>$E$11,0,IF($G74=0,0,(AE$1-$G74)*Hoja1!$A$1/AE$1))","v":0},{"$f":"IF(AF$1>$E$11,0,IF($G74=0,0,(AF$1-$G74)*Hoja1!$A$1/AF$1))","v":0},{"$f":"IF(AG$1>$E$11,0,IF($G74=0,0,(AG$1-$G74)*Hoja1!$A$1/AG$1))","v":0},{"$f":"IF(AH$1>$E$11,0,IF($G74=0,0,(AH$1-$G74)*Hoja1!$A$1/AH$1))","v":0},{"$f":"IF(AI$1>$E$11,0,IF($G74=0,0,(AI$1-$G74)*Hoja1!$A$1/AI$1))","v":0},{"$f":"IF(AJ$1>$E$11,0,IF($G74=0,0,(AJ$1-$G74)*Hoja1!$A$1/AJ$1))","v":0},{"$f":"IF(AK$1>$E$11,0,IF($G74=0,0,(AK$1-$G74)*Hoja1!$A$1/AK$1))","v":0},{"$f":"IF(AL$1>$E$11,0,IF($G74=0,0,(AL$1-$G74)*Hoja1!$A$1/AL$1))","v":0},{"$f":"IF(AM$1>$E$11,0,IF($G74=0,0,(AM$1-$G74)*Hoja1!$A$1/AM$1))","v":0},{"$f":"IF(AN$1>$E$11,0,IF($G74=0,0,(AN$1-$G74)*Hoja1!$A$1/AN$1))","v":0},{"$f":"IF(AO$1>$E$11,0,IF($G74=0,0,(AO$1-$G74)*Hoja1!$A$1/AO$1))","v":0},{"$f":"IF(AP$1>$E$11,0,IF($G74=0,0,(AP$1-$G74)*Hoja1!$A$1/AP$1))","v":0},{"$f":"IF(AQ$1>$E$11,0,IF($G74=0,0,(AQ$1-$G74)*Hoja1!$A$1/AQ$1))","v":0},{"$f":"IF(AR$1>$E$11,0,IF($G74=0,0,(AR$1-$G74)*Hoja1!$A$1/AR$1))","v":0},{"$f":"IF(AS$1>$E$11,0,IF($G74=0,0,(AS$1-$G74)*Hoja1!$A$1/AS$1))","v":0},{"$f":"IF(AT$1>$E$11,0,IF($G74=0,0,(AT$1-$G74)*Hoja1!$A$1/AT$1))","v":0},{"$f":"IF(AU$1>$E$11,0,IF($G74=0,0,(AU$1-$G74)*Hoja1!$A$1/AU$1))","v":0},{"$f":"IF(AV$1>$E$11,0,IF($G74=0,0,(AV$1-$G74)*Hoja1!$A$1/AV$1))","v":0},{"$f":"IF(AW$1>$E$11,0,IF($G74=0,0,(AW$1-$G74)*Hoja1!$A$1/AW$1))","v":0},{"$f":"IF(AX$1>$E$11,0,IF($G74=0,0,(AX$1-$G74)*Hoja1!$A$1/AX$1))","v":0},{"$f":"IF(AY$1>$E$11,0,IF($G74=0,0,(AY$1-$G74)*Hoja1!$A$1/AY$1))","v":0},{"$f":"IF(AZ$1>$E$11,0,IF($G74=0,0,(AZ$1-$G74)*Hoja1!$A$1/AZ$1))","v":0},{"$f":"IF(BA$1>$E$11,0,IF($G74=0,0,(BA$1-$G74)*Hoja1!$A$1/BA$1))","v":0},{"$f":"IF(BB$1>$E$11,0,IF($G74=0,0,(BB$1-$G74)*Hoja1!$A$1/BB$1))","v":0},{"$f":"IF(BC$1>$E$11,0,IF($G74=0,0,(BC$1-$G74)*Hoja1!$A$1/BC$1))","v":0},{"$f":"IF(BD$1>$E$11,0,IF($G74=0,0,(BD$1-$G74)*Hoja1!$A$1/BD$1))","v":0},{"$f":"IF(BE$1>$E$11,0,IF($G74=0,0,(BE$1-$G74)*Hoja1!$A$1/BE$1))","v":0},{"$f":"IF(BF$1>$E$11,0,IF($G74=0,0,(BF$1-$G74)*Hoja1!$A$1/BF$1))","v":0},{"$f":"IF(BG$1>$E$11,0,IF($G74=0,0,(BG$1-$G74)*Hoja1!$A$1/BG$1))","v":0},{"$f":"IF(BH$1>$E$11,0,IF($G74=0,0,(BH$1-$G74)*Hoja1!$A$1/BH$1))","v":0},{"$f":"IF(BI$1>$E$11,0,IF($G74=0,0,(BI$1-$G74)*Hoja1!$A$1/BI$1))","v":0},{"$f":"IF(BJ$1>$E$11,0,IF($G74=0,0,(BJ$1-$G74)*Hoja1!$A$1/BJ$1))","v":0},{"$f":"IF(BK$1>$E$11,0,IF($G74=0,0,(BK$1-$G74)*Hoja1!$A$1/BK$1))","v":0},{"$f":"IF(BL$1>$E$11,0,IF($G74=0,0,(BL$1-$G74)*Hoja1!$A$1/BL$1))","v":0},{"$f":"IF(BM$1>$E$11,0,IF($G74=0,0,(BM$1-$G74)*Hoja1!$A$1/BM$1))","v":0},{"$f":"IF(BN$1>$E$11,0,IF($G74=0,0,(BN$1-$G74)*Hoja1!$A$1/BN$1))","v":0},{"$f":"IF(BO$1>$E$11,0,IF($G74=0,0,(BO$1-$G74)*Hoja1!$A$1/BO$1))","v":0},{"$f":"IF(BP$1>$E$11,0,IF($G74=0,0,(BP$1-$G74)*Hoja1!$A$1/BP$1))","v":0},{"$f":"IF(BQ$1>$E$11,0,IF($G74=0,0,(BQ$1-$G74)*Hoja1!$A$1/BQ$1))","v":0},{"$f":"IF(BR$1>$E$11,0,IF($G74=0,0,(BR$1-$G74)*Hoja1!$A$1/BR$1))","v":0},{"$f":"IF(BS$1>$E$11,0,IF($G74=0,0,(BS$1-$G74)*Hoja1!$A$1/BS$1))","v":0},{"$f":"IF(BT$1>$E$11,0,IF($G74=0,0,(BT$1-$G74)*Hoja1!$A$1/BT$1))","v":0},{"$f":"IF(BU$1>$E$11,0,IF($G74=0,0,(BU$1-$G74)*Hoja1!$A$1/BU$1))","v":0},{"$f":"IF(BV$1>$E$11,0,IF($G74=0,0,(BV$1-$G74)*Hoja1!$A$1/BV$1))","v":0},{"$f":"IF(BW$1>$E$11,0,IF($G74=0,0,(BW$1-$G74)*Hoja1!$A$1/BW$1))","v":0},{"$f":"IF(BX$1>$E$11,0,IF($G74=0,0,(BX$1-$G74)*Hoja1!$A$1/BX$1))","v":0},{"$f":"IF(BY$1>$E$11,0,IF($G74=0,0,(BY$1-$G74)*Hoja1!$A$1/BY$1))","v":0},{"$f":"IF(BZ$1>$E$11,0,IF($G74=0,0,(BZ$1-$G74)*Hoja1!$A$1/BZ$1))","v":0},{"$f":"IF(CA$1>$E$11,0,IF($G74=0,0,(CA$1-$G74)*Hoja1!$A$1/CA$1))","v":0},{"$f":"IF(CB$1>$E$11,0,IF($G74=0,0,(CB$1-$G74)*Hoja1!$A$1/CB$1))","v":0},{"$f":"IF(CC$1>$E$11,0,IF($G74=0,0,(CC$1-$G74)*Hoja1!$A$1/CC$1))","v":0},{"$f":"IF(CD$1>$E$11,0,IF($G74=0,0,(CD$1-$G74)*Hoja1!$A$1/CD$1))","v":0},{"$f":"IF(CE$1>$E$11,0,IF($G74=0,0,(CE$1-$G74)*Hoja1!$A$1/CE$1))","v":0},{"$f":"IF(CF$1>$E$11,0,IF($G74=0,0,(CF$1-$G74)*Hoja1!$A$1/CF$1))","v":0},{"$f":"IF(CG$1>$E$11,0,IF($G74=0,0,(CG$1-$G74)*Hoja1!$A$1/CG$1))","v":0},{"$f":"IF(CH$1>$E$11,0,IF($G74=0,0,(CH$1-$G74)*Hoja1!$A$1/CH$1))","v":0},{"$f":"IF(CI$1>$E$11,0,IF($G74=0,0,(CI$1-$G74)*Hoja1!$A$1/CI$1))","v":0},{"$f":"IF(CJ$1>$E$11,0,IF($G74=0,0,(CJ$1-$G74)*Hoja1!$A$1/CJ$1))","v":0},{"$f":"IF(CK$1>$E$11,0,IF($G74=0,0,(CK$1-$G74)*Hoja1!$A$1/CK$1))","v":0},{"$f":"IF(CL$1>$E$11,0,IF($G74=0,0,(CL$1-$G74)*Hoja1!$A$1/CL$1))","v":0},{"$f":"IF(CM$1>$E$11,0,IF($G74=0,0,(CM$1-$G74)*Hoja1!$A$1/CM$1))","v":0},{"$f":"IF(CN$1>$E$11,0,IF($G74=0,0,(CN$1-$G74)*Hoja1!$A$1/CN$1))","v":0},{"$f":"IF(CO$1>$E$11,0,IF($G74=0,0,(CO$1-$G74)*Hoja1!$A$1/CO$1))","v":0},{"$f":"IF(CP$1>$E$11,0,IF($G74=0,0,(CP$1-$G74)*Hoja1!$A$1/CP$1))","v":0},{"$f":"IF(CQ$1>$E$11,0,IF($G74=0,0,(CQ$1-$G74)*Hoja1!$A$1/CQ$1))","v":0},{"$f":"IF(CR$1>$E$11,0,IF($G74=0,0,(CR$1-$G74)*Hoja1!$A$1/CR$1))","v":0},{"$f":"IF(CS$1>$E$11,0,IF($G74=0,0,(CS$1-$G74)*Hoja1!$A$1/CS$1))","v":0},{"$f":"IF(CT$1>$E$11,0,IF($G74=0,0,(CT$1-$G74)*Hoja1!$A$1/CT$1))","v":0},{"$f":"IF(CU$1>$E$11,0,IF($G74=0,0,(CU$1-$G74)*Hoja1!$A$1/CU$1))","v":0},{"$f":"IF(CV$1>$E$11,0,IF($G74=0,0,(CV$1-$G74)*Hoja1!$A$1/CV$1))","v":0},{"$f":"IF(CW$1>$E$11,0,IF($G74=0,0,(CW$1-$G74)*Hoja1!$A$1/CW$1))","v":0},{"$f":"IF(CX$1>$E$11,0,IF($G74=0,0,(CX$1-$G74)*Hoja1!$A$1/CX$1))","v":0},{"$f":"IF(CY$1>$E$11,0,IF($G74=0,0,(CY$1-$G74)*Hoja1!$A$1/CY$1))","v":0},{"$f":"IF(CZ$1>$E$11,0,IF($G74=0,0,(CZ$1-$G74)*Hoja1!$A$1/CZ$1))","v":0},{"$f":"IF(DA$1>$E$11,0,IF($G74=0,0,(DA$1-$G74)*Hoja1!$A$1/DA$1))","v":0},{"$f":"IF(DB$1>$E$11,0,IF($G74=0,0,(DB$1-$G74)*Hoja1!$A$1/DB$1))","v":0},{"$f":"IF(DC$1>$E$11,0,IF($G74=0,0,(DC$1-$G74)*Hoja1!$A$1/DC$1))","v":0},{"$f":"IF(DD$1>$E$11,0,IF($G74=0,0,(DD$1-$G74)*Hoja1!$A$1/DD$1))","v":0},{"$f":"IF(DE$1>$E$11,0,IF($G74=0,0,(DE$1-$G74)*Hoja1!$A$1/DE$1))","v":0},{"$f":"IF(DF$1>$E$11,0,IF($G74=0,0,(DF$1-$G74)*Hoja1!$A$1/DF$1))","v":0},{"$f":"IF(DG$1>$E$11,0,IF($G74=0,0,(DG$1-$G74)*Hoja1!$A$1/DG$1))","v":0},{"$f":"IF(DH$1>$E$11,0,IF($G74=0,0,(DH$1-$G74)*Hoja1!$A$1/DH$1))","v":0},{"$f":"IF(DI$1>$E$11,0,IF($G74=0,0,(DI$1-$G74)*Hoja1!$A$1/DI$1))","v":0},{"$f":"IF(DJ$1>$E$11,0,IF($G74=0,0,(DJ$1-$G74)*Hoja1!$A$1/DJ$1))","v":0},{"$f":"IF(DK$1>$E$11,0,IF($G74=0,0,(DK$1-$G74)*Hoja1!$A$1/DK$1))","v":0},{"$f":"IF(DL$1>$E$11,0,IF($G74=0,0,(DL$1-$G74)*Hoja1!$A$1/DL$1))","v":0},{"$f":"IF(DM$1>$E$11,0,IF($G74=0,0,(DM$1-$G74)*Hoja1!$A$1/DM$1))","v":0}]
[null,null,null,null,null,942.39500000000169,0,{"$f":"IF(H$1>$E$11,0,IF($G75=0,0,(H$1-$G75)*Hoja1!$A$1/H$1))","v":0},{"$f":"IF(I$1>$E$11,0,IF($G75=0,0,(I$1-$G75)*Hoja1!$A$1/I$1))","v":0},{"$f":"IF(J$1>$E$11,0,IF($G75=0,0,(J$1-$G75)*Hoja1!$A$1/J$1))","v":0},{"$f":"IF(K$1>$E$11,0,IF($G75=0,0,(K$1-$G75)*Hoja1!$A$1/K$1))","v":0},{"$f":"IF(L$1>$E$11,0,IF($G75=0,0,(L$1-$G75)*Hoja1!$A$1/L$1))","v":0},{"$f":"IF(M$1>$E$11,0,IF($G75=0,0,(M$1-$G75)*Hoja1!$A$1/M$1))","v":0},{"$f":"IF(N$1>$E$11,0,IF($G75=0,0,(N$1-$G75)*Hoja1!$A$1/N$1))","v":0},{"$f":"IF(O$1>$E$11,0,IF($G75=0,0,(O$1-$G75)*Hoja1!$A$1/O$1))","v":0},{"$f":"IF(P$1>$E$11,0,IF($G75=0,0,(P$1-$G75)*Hoja1!$A$1/P$1))","v":0},{"$f":"IF(Q$1>$E$11,0,IF($G75=0,0,(Q$1-$G75)*Hoja1!$A$1/Q$1))","v":0},{"$f":"IF(R$1>$E$11,0,IF($G75=0,0,(R$1-$G75)*Hoja1!$A$1/R$1))","v":0},{"$f":"IF(S$1>$E$11,0,IF($G75=0,0,(S$1-$G75)*Hoja1!$A$1/S$1))","v":0},{"$f":"IF(T$1>$E$11,0,IF($G75=0,0,(T$1-$G75)*Hoja1!$A$1/T$1))","v":0},{"$f":"IF(U$1>$E$11,0,IF($G75=0,0,(U$1-$G75)*Hoja1!$A$1/U$1))","v":0},{"$f":"IF(V$1>$E$11,0,IF($G75=0,0,(V$1-$G75)*Hoja1!$A$1/V$1))","v":0},{"$f":"IF(W$1>$E$11,0,IF($G75=0,0,(W$1-$G75)*Hoja1!$A$1/W$1))","v":0},{"$f":"IF(X$1>$E$11,0,IF($G75=0,0,(X$1-$G75)*Hoja1!$A$1/X$1))","v":0},{"$f":"IF(Y$1>$E$11,0,IF($G75=0,0,(Y$1-$G75)*Hoja1!$A$1/Y$1))","v":0},{"$f":"IF(Z$1>$E$11,0,IF($G75=0,0,(Z$1-$G75)*Hoja1!$A$1/Z$1))","v":0},{"$f":"IF(AA$1>$E$11,0,IF($G75=0,0,(AA$1-$G75)*Hoja1!$A$1/AA$1))","v":0},{"$f":"IF(AB$1>$E$11,0,IF($G75=0,0,(AB$1-$G75)*Hoja1!$A$1/AB$1))","v":0},{"$f":"IF(AC$1>$E$11,0,IF($G75=0,0,(AC$1-$G75)*Hoja1!$A$1/AC$1))","v":0},{"$f":"IF(AD$1>$E$11,0,IF($G75=0,0,(AD$1-$G75)*Hoja1!$A$1/AD$1))","v":0},{"$f":"IF(AE$1>$E$11,0,IF($G75=0,0,(AE$1-$G75)*Hoja1!$A$1/AE$1))","v":0},{"$f":"IF(AF$1>$E$11,0,IF($G75=0,0,(AF$1-$G75)*Hoja1!$A$1/AF$1))","v":0},{"$f":"IF(AG$1>$E$11,0,IF($G75=0,0,(AG$1-$G75)*Hoja1!$A$1/AG$1))","v":0},{"$f":"IF(AH$1>$E$11,0,IF($G75=0,0,(AH$1-$G75)*Hoja1!$A$1/AH$1))","v":0},{"$f":"IF(AI$1>$E$11,0,IF($G75=0,0,(AI$1-$G75)*Hoja1!$A$1/AI$1))","v":0},{"$f":"IF(AJ$1>$E$11,0,IF($G75=0,0,(AJ$1-$G75)*Hoja1!$A$1/AJ$1))","v":0},{"$f":"IF(AK$1>$E$11,0,IF($G75=0,0,(AK$1-$G75)*Hoja1!$A$1/AK$1))","v":0},{"$f":"IF(AL$1>$E$11,0,IF($G75=0,0,(AL$1-$G75)*Hoja1!$A$1/AL$1))","v":0},{"$f":"IF(AM$1>$E$11,0,IF($G75=0,0,(AM$1-$G75)*Hoja1!$A$1/AM$1))","v":0},{"$f":"IF(AN$1>$E$11,0,IF($G75=0,0,(AN$1-$G75)*Hoja1!$A$1/AN$1))","v":0},{"$f":"IF(AO$1>$E$11,0,IF($G75=0,0,(AO$1-$G75)*Hoja1!$A$1/AO$1))","v":0},{"$f":"IF(AP$1>$E$11,0,IF($G75=0,0,(AP$1-$G75)*Hoja1!$A$1/AP$1))","v":0},{"$f":"IF(AQ$1>$E$11,0,IF($G75=0,0,(AQ$1-$G75)*Hoja1!$A$1/AQ$1))","v":0},{"$f":"IF(AR$1>$E$11,0,IF($G75=0,0,(AR$1-$G75)*Hoja1!$A$1/AR$1))","v":0},{"$f":"IF(AS$1>$E$11,0,IF($G75=0,0,(AS$1-$G75)*Hoja1!$A$1/AS$1))","v":0},{"$f":"IF(AT$1>$E$11,0,IF($G75=0,0,(AT$1-$G75)*Hoja1!$A$1/AT$1))","v":0},{"$f":"IF(AU$1>$E$11,0,IF($G75=0,0,(AU$1-$G75)*Hoja1!$A$1/AU$1))","v":0},{"$f":"IF(AV$1>$E$11,0,IF($G75=0,0,(AV$1-$G75)*Hoja1!$A$1/AV$1))","v":0},{"$f":"IF(AW$1>$E$11,0,IF($G75=0,0,(AW$1-$G75)*Hoja1!$A$1/AW$1))","v":0},{"$f":"IF(AX$1>$E$11,0,IF($G75=0,0,(AX$1-$G75)*Hoja1!$A$1/AX$1))","v":0},{"$f":"IF(AY$1>$E$11,0,IF($G75=0,0,(AY$1-$G75)*Hoja1!$A$1/AY$1))","v":0},{"$f":"IF(AZ$1>$E$11,0,IF($G75=0,0,(AZ$1-$G75)*Hoja1!$A$1/AZ$1))","v":0},{"$f":"IF(BA$1>$E$11,0,IF($G75=0,0,(BA$1-$G75)*Hoja1!$A$1/BA$1))","v":0},{"$f":"IF(BB$1>$E$11,0,IF($G75=0,0,(BB$1-$G75)*Hoja1!$A$1/BB$1))","v":0},{"$f":"IF(BC$1>$E$11,0,IF($G75=0,0,(BC$1-$G75)*Hoja1!$A$1/BC$1))","v":0},{"$f":"IF(BD$1>$E$11,0,IF($G75=0,0,(BD$1-$G75)*Hoja1!$A$1/BD$1))","v":0},{"$f":"IF(BE$1>$E$11,0,IF($G75=0,0,(BE$1-$G75)*Hoja1!$A$1/BE$1))","v":0},{"$f":"IF(BF$1>$E$11,0,IF($G75=0,0,(BF$1-$G75)*Hoja1!$A$1/BF$1))","v":0},{"$f":"IF(BG$1>$E$11,0,IF($G75=0,0,(BG$1-$G75)*Hoja1!$A$1/BG$1))","v":0},{"$f":"IF(BH$1>$E$11,0,IF($G75=0,0,(BH$1-$G75)*Hoja1!$A$1/BH$1))","v":0},{"$f":"IF(BI$1>$E$11,0,IF($G75=0,0,(BI$1-$G75)*Hoja1!$A$1/BI$1))","v":0},{"$f":"IF(BJ$1>$E$11,0,IF($G75=0,0,(BJ$1-$G75)*Hoja1!$A$1/BJ$1))","v":0},{"$f":"IF(BK$1>$E$11,0,IF($G75=0,0,(BK$1-$G75)*Hoja1!$A$1/BK$1))","v":0},{"$f":"IF(BL$1>$E$11,0,IF($G75=0,0,(BL$1-$G75)*Hoja1!$A$1/BL$1))","v":0},{"$f":"IF(BM$1>$E$11,0,IF($G75=0,0,(BM$1-$G75)*Hoja1!$A$1/BM$1))","v":0},{"$f":"IF(BN$1>$E$11,0,IF($G75=0,0,(BN$1-$G75)*Hoja1!$A$1/BN$1))","v":0},{"$f":"IF(BO$1>$E$11,0,IF($G75=0,0,(BO$1-$G75)*Hoja1!$A$1/BO$1))","v":0},{"$f":"IF(BP$1>$E$11,0,IF($G75=0,0,(BP$1-$G75)*Hoja1!$A$1/BP$1))","v":0},{"$f":"IF(BQ$1>$E$11,0,IF($G75=0,0,(BQ$1-$G75)*Hoja1!$A$1/BQ$1))","v":0},{"$f":"IF(BR$1>$E$11,0,IF($G75=0,0,(BR$1-$G75)*Hoja1!$A$1/BR$1))","v":0},{"$f":"IF(BS$1>$E$11,0,IF($G75=0,0,(BS$1-$G75)*Hoja1!$A$1/BS$1))","v":0},{"$f":"IF(BT$1>$E$11,0,IF($G75=0,0,(BT$1-$G75)*Hoja1!$A$1/BT$1))","v":0},{"$f":"IF(BU$1>$E$11,0,IF($G75=0,0,(BU$1-$G75)*Hoja1!$A$1/BU$1))","v":0},{"$f":"IF(BV$1>$E$11,0,IF($G75=0,0,(BV$1-$G75)*Hoja1!$A$1/BV$1))","v":0},{"$f":"IF(BW$1>$E$11,0,IF($G75=0,0,(BW$1-$G75)*Hoja1!$A$1/BW$1))","v":0},{"$f":"IF(BX$1>$E$11,0,IF($G75=0,0,(BX$1-$G75)*Hoja1!$A$1/BX$1))","v":0},{"$f":"IF(BY$1>$E$11,0,IF($G75=0,0,(BY$1-$G75)*Hoja1!$A$1/BY$1))","v":0},{"$f":"IF(BZ$1>$E$11,0,IF($G75=0,0,(BZ$1-$G75)*Hoja1!$A$1/BZ$1))","v":0},{"$f":"IF(CA$1>$E$11,0,IF($G75=0,0,(CA$1-$G75)*Hoja1!$A$1/CA$1))","v":0},{"$f":"IF(CB$1>$E$11,0,IF($G75=0,0,(CB$1-$G75)*Hoja1!$A$1/CB$1))","v":0},{"$f":"IF(CC$1>$E$11,0,IF($G75=0,0,(CC$1-$G75)*Hoja1!$A$1/CC$1))","v":0},{"$f":"IF(CD$1>$E$11,0,IF($G75=0,0,(CD$1-$G75)*Hoja1!$A$1/CD$1))","v":0},{"$f":"IF(CE$1>$E$11,0,IF($G75=0,0,(CE$1-$G75)*Hoja1!$A$1/CE$1))","v":0},{"$f":"IF(CF$1>$E$11,0,IF($G75=0,0,(CF$1-$G75)*Hoja1!$A$1/CF$1))","v":0},{"$f":"IF(CG$1>$E$11,0,IF($G75=0,0,(CG$1-$G75)*Hoja1!$A$1/CG$1))","v":0},{"$f":"IF(CH$1>$E$11,0,IF($G75=0,0,(CH$1-$G75)*Hoja1!$A$1/CH$1))","v":0},{"$f":"IF(CI$1>$E$11,0,IF($G75=0,0,(CI$1-$G75)*Hoja1!$A$1/CI$1))","v":0},{"$f":"IF(CJ$1>$E$11,0,IF($G75=0,0,(CJ$1-$G75)*Hoja1!$A$1/CJ$1))","v":0},{"$f":"IF(CK$1>$E$11,0,IF($G75=0,0,(CK$1-$G75)*Hoja1!$A$1/CK$1))","v":0},{"$f":"IF(CL$1>$E$11,0,IF($G75=0,0,(CL$1-$G75)*Hoja1!$A$1/CL$1))","v":0},{"$f":"IF(CM$1>$E$11,0,IF($G75=0,0,(CM$1-$G75)*Hoja1!$A$1/CM$1))","v":0},{"$f":"IF(CN$1>$E$11,0,IF($G75=0,0,(CN$1-$G75)*Hoja1!$A$1/CN$1))","v":0},{"$f":"IF(CO$1>$E$11,0,IF($G75=0,0,(CO$1-$G75)*Hoja1!$A$1/CO$1))","v":0},{"$f":"IF(CP$1>$E$11,0,IF($G75=0,0,(CP$1-$G75)*Hoja1!$A$1/CP$1))","v":0},{"$f":"IF(CQ$1>$E$11,0,IF($G75=0,0,(CQ$1-$G75)*Hoja1!$A$1/CQ$1))","v":0},{"$f":"IF(CR$1>$E$11,0,IF($G75=0,0,(CR$1-$G75)*Hoja1!$A$1/CR$1))","v":0},{"$f":"IF(CS$1>$E$11,0,IF($G75=0,0,(CS$1-$G75)*Hoja1!$A$1/CS$1))","v":0},{"$f":"IF(CT$1>$E$11,0,IF($G75=0,0,(CT$1-$G75)*Hoja1!$A$1/CT$1))","v":0},{"$f":"IF(CU$1>$E$11,0,IF($G75=0,0,(CU$1-$G75)*Hoja1!$A$1/CU$1))","v":0},{"$f":"IF(CV$1>$E$11,0,IF($G75=0,0,(CV$1-$G75)*Hoja1!$A$1/CV$1))","v":0},{"$f":"IF(CW$1>$E$11,0,IF($G75=0,0,(CW$1-$G75)*Hoja1!$A$1/CW$1))","v":0},{"$f":"IF(CX$1>$E$11,0,IF($G75=0,0,(CX$1-$G75)*Hoja1!$A$1/CX$1))","v":0},{"$f":"IF(CY$1>$E$11,0,IF($G75=0,0,(CY$1-$G75)*Hoja1!$A$1/CY$1))","v":0},{"$f":"IF(CZ$1>$E$11,0,IF($G75=0,0,(CZ$1-$G75)*Hoja1!$A$1/CZ$1))","v":0},{"$f":"IF(DA$1>$E$11,0,IF($G75=0,0,(DA$1-$G75)*Hoja1!$A$1/DA$1))","v":0},{"$f":"IF(DB$1>$E$11,0,IF($G75=0,0,(DB$1-$G75)*Hoja1!$A$1/DB$1))","v":0},{"$f":"IF(DC$1>$E$11,0,IF($G75=0,0,(DC$1-$G75)*Hoja1!$A$1/DC$1))","v":0},{"$f":"IF(DD$1>$E$11,0,IF($G75=0,0,(DD$1-$G75)*Hoja1!$A$1/DD$1))","v":0},{"$f":"IF(DE$1>$E$11,0,IF($G75=0,0,(DE$1-$G75)*Hoja1!$A$1/DE$1))","v":0},{"$f":"IF(DF$1>$E$11,0,IF($G75=0,0,(DF$1-$G75)*Hoja1!$A$1/DF$1))","v":0},{"$f":"IF(DG$1>$E$11,0,IF($G75=0,0,(DG$1-$G75)*Hoja1!$A$1/DG$1))","v":0},{"$f":"IF(DH$1>$E$11,0,IF($G75=0,0,(DH$1-$G75)*Hoja1!$A$1/DH$1))","v":0},{"$f":"IF(DI$1>$E$11,0,IF($G75=0,0,(DI$1-$G75)*Hoja1!$A$1/DI$1))","v":0},{"$f":"IF(DJ$1>$E$11,0,IF($G75=0,0,(DJ$1-$G75)*Hoja1!$A$1/DJ$1))","v":0},{"$f":"IF(DK$1>$E$11,0,IF($G75=0,0,(DK$1-$G75)*Hoja1!$A$1/DK$1))","v":0},{"$f":"IF(DL$1>$E$11,0,IF($G75=0,0,(DL$1-$G75)*Hoja1!$A$1/DL$1))","v":0},{"$f":"IF(DM$1>$E$11,0,IF($G75=0,0,(DM$1-$G75)*Hoja1!$A$1/DM$1))","v":0}]
[null,null,null,null,null,955.58500000000174,0,{"$f":"IF(H$1>$E$11,0,IF($G76=0,0,(H$1-$G76)*Hoja1!$A$1/H$1))","v":0},{"$f":"IF(I$1>$E$11,0,IF($G76=0,0,(I$1-$G76)*Hoja1!$A$1/I$1))","v":0},{"$f":"IF(J$1>$E$11,0,IF($G76=0,0,(J$1-$G76)*Hoja1!$A$1/J$1))","v":0},{"$f":"IF(K$1>$E$11,0,IF($G76=0,0,(K$1-$G76)*Hoja1!$A$1/K$1))","v":0},{"$f":"IF(L$1>$E$11,0,IF($G76=0,0,(L$1-$G76)*Hoja1!$A$1/L$1))","v":0},{"$f":"IF(M$1>$E$11,0,IF($G76=0,0,(M$1-$G76)*Hoja1!$A$1/M$1))","v":0},{"$f":"IF(N$1>$E$11,0,IF($G76=0,0,(N$1-$G76)*Hoja1!$A$1/N$1))","v":0},{"$f":"IF(O$1>$E$11,0,IF($G76=0,0,(O$1-$G76)*Hoja1!$A$1/O$1))","v":0},{"$f":"IF(P$1>$E$11,0,IF($G76=0,0,(P$1-$G76)*Hoja1!$A$1/P$1))","v":0},{"$f":"IF(Q$1>$E$11,0,IF($G76=0,0,(Q$1-$G76)*Hoja1!$A$1/Q$1))","v":0},{"$f":"IF(R$1>$E$11,0,IF($G76=0,0,(R$1-$G76)*Hoja1!$A$1/R$1))","v":0},{"$f":"IF(S$1>$E$11,0,IF($G76=0,0,(S$1-$G76)*Hoja1!$A$1/S$1))","v":0},{"$f":"IF(T$1>$E$11,0,IF($G76=0,0,(T$1-$G76)*Hoja1!$A$1/T$1))","v":0},{"$f":"IF(U$1>$E$11,0,IF($G76=0,0,(U$1-$G76)*Hoja1!$A$1/U$1))","v":0},{"$f":"IF(V$1>$E$11,0,IF($G76=0,0,(V$1-$G76)*Hoja1!$A$1/V$1))","v":0},{"$f":"IF(W$1>$E$11,0,IF($G76=0,0,(W$1-$G76)*Hoja1!$A$1/W$1))","v":0},{"$f":"IF(X$1>$E$11,0,IF($G76=0,0,(X$1-$G76)*Hoja1!$A$1/X$1))","v":0},{"$f":"IF(Y$1>$E$11,0,IF($G76=0,0,(Y$1-$G76)*Hoja1!$A$1/Y$1))","v":0},{"$f":"IF(Z$1>$E$11,0,IF($G76=0,0,(Z$1-$G76)*Hoja1!$A$1/Z$1))","v":0},{"$f":"IF(AA$1>$E$11,0,IF($G76=0,0,(AA$1-$G76)*Hoja1!$A$1/AA$1))","v":0},{"$f":"IF(AB$1>$E$11,0,IF($G76=0,0,(AB$1-$G76)*Hoja1!$A$1/AB$1))","v":0},{"$f":"IF(AC$1>$E$11,0,IF($G76=0,0,(AC$1-$G76)*Hoja1!$A$1/AC$1))","v":0},{"$f":"IF(AD$1>$E$11,0,IF($G76=0,0,(AD$1-$G76)*Hoja1!$A$1/AD$1))","v":0},{"$f":"IF(AE$1>$E$11,0,IF($G76=0,0,(AE$1-$G76)*Hoja1!$A$1/AE$1))","v":0},{"$f":"IF(AF$1>$E$11,0,IF($G76=0,0,(AF$1-$G76)*Hoja1!$A$1/AF$1))","v":0},{"$f":"IF(AG$1>$E$11,0,IF($G76=0,0,(AG$1-$G76)*Hoja1!$A$1/AG$1))","v":0},{"$f":"IF(AH$1>$E$11,0,IF($G76=0,0,(AH$1-$G76)*Hoja1!$A$1/AH$1))","v":0},{"$f":"IF(AI$1>$E$11,0,IF($G76=0,0,(AI$1-$G76)*Hoja1!$A$1/AI$1))","v":0},{"$f":"IF(AJ$1>$E$11,0,IF($G76=0,0,(AJ$1-$G76)*Hoja1!$A$1/AJ$1))","v":0},{"$f":"IF(AK$1>$E$11,0,IF($G76=0,0,(AK$1-$G76)*Hoja1!$A$1/AK$1))","v":0},{"$f":"IF(AL$1>$E$11,0,IF($G76=0,0,(AL$1-$G76)*Hoja1!$A$1/AL$1))","v":0},{"$f":"IF(AM$1>$E$11,0,IF($G76=0,0,(AM$1-$G76)*Hoja1!$A$1/AM$1))","v":0},{"$f":"IF(AN$1>$E$11,0,IF($G76=0,0,(AN$1-$G76)*Hoja1!$A$1/AN$1))","v":0},{"$f":"IF(AO$1>$E$11,0,IF($G76=0,0,(AO$1-$G76)*Hoja1!$A$1/AO$1))","v":0},{"$f":"IF(AP$1>$E$11,0,IF($G76=0,0,(AP$1-$G76)*Hoja1!$A$1/AP$1))","v":0},{"$f":"IF(AQ$1>$E$11,0,IF($G76=0,0,(AQ$1-$G76)*Hoja1!$A$1/AQ$1))","v":0},{"$f":"IF(AR$1>$E$11,0,IF($G76=0,0,(AR$1-$G76)*Hoja1!$A$1/AR$1))","v":0},{"$f":"IF(AS$1>$E$11,0,IF($G76=0,0,(AS$1-$G76)*Hoja1!$A$1/AS$1))","v":0},{"$f":"IF(AT$1>$E$11,0,IF($G76=0,0,(AT$1-$G76)*Hoja1!$A$1/AT$1))","v":0},{"$f":"IF(AU$1>$E$11,0,IF($G76=0,0,(AU$1-$G76)*Hoja1!$A$1/AU$1))","v":0},{"$f":"IF(AV$1>$E$11,0,IF($G76=0,0,(AV$1-$G76)*Hoja1!$A$1/AV$1))","v":0},{"$f":"IF(AW$1>$E$11,0,IF($G76=0,0,(AW$1-$G76)*Hoja1!$A$1/AW$1))","v":0},{"$f":"IF(AX$1>$E$11,0,IF($G76=0,0,(AX$1-$G76)*Hoja1!$A$1/AX$1))","v":0},{"$f":"IF(AY$1>$E$11,0,IF($G76=0,0,(AY$1-$G76)*Hoja1!$A$1/AY$1))","v":0},{"$f":"IF(AZ$1>$E$11,0,IF($G76=0,0,(AZ$1-$G76)*Hoja1!$A$1/AZ$1))","v":0},{"$f":"IF(BA$1>$E$11,0,IF($G76=0,0,(BA$1-$G76)*Hoja1!$A$1/BA$1))","v":0},{"$f":"IF(BB$1>$E$11,0,IF($G76=0,0,(BB$1-$G76)*Hoja1!$A$1/BB$1))","v":0},{"$f":"IF(BC$1>$E$11,0,IF($G76=0,0,(BC$1-$G76)*Hoja1!$A$1/BC$1))","v":0},{"$f":"IF(BD$1>$E$11,0,IF($G76=0,0,(BD$1-$G76)*Hoja1!$A$1/BD$1))","v":0},{"$f":"IF(BE$1>$E$11,0,IF($G76=0,0,(BE$1-$G76)*Hoja1!$A$1/BE$1))","v":0},{"$f":"IF(BF$1>$E$11,0,IF($G76=0,0,(BF$1-$G76)*Hoja1!$A$1/BF$1))","v":0},{"$f":"IF(BG$1>$E$11,0,IF($G76=0,0,(BG$1-$G76)*Hoja1!$A$1/BG$1))","v":0},{"$f":"IF(BH$1>$E$11,0,IF($G76=0,0,(BH$1-$G76)*Hoja1!$A$1/BH$1))","v":0},{"$f":"IF(BI$1>$E$11,0,IF($G76=0,0,(BI$1-$G76)*Hoja1!$A$1/BI$1))","v":0},{"$f":"IF(BJ$1>$E$11,0,IF($G76=0,0,(BJ$1-$G76)*Hoja1!$A$1/BJ$1))","v":0},{"$f":"IF(BK$1>$E$11,0,IF($G76=0,0,(BK$1-$G76)*Hoja1!$A$1/BK$1))","v":0},{"$f":"IF(BL$1>$E$11,0,IF($G76=0,0,(BL$1-$G76)*Hoja1!$A$1/BL$1))","v":0},{"$f":"IF(BM$1>$E$11,0,IF($G76=0,0,(BM$1-$G76)*Hoja1!$A$1/BM$1))","v":0},{"$f":"IF(BN$1>$E$11,0,IF($G76=0,0,(BN$1-$G76)*Hoja1!$A$1/BN$1))","v":0},{"$f":"IF(BO$1>$E$11,0,IF($G76=0,0,(BO$1-$G76)*Hoja1!$A$1/BO$1))","v":0},{"$f":"IF(BP$1>$E$11,0,IF($G76=0,0,(BP$1-$G76)*Hoja1!$A$1/BP$1))","v":0},{"$f":"IF(BQ$1>$E$11,0,IF($G76=0,0,(BQ$1-$G76)*Hoja1!$A$1/BQ$1))","v":0},{"$f":"IF(BR$1>$E$11,0,IF($G76=0,0,(BR$1-$G76)*Hoja1!$A$1/BR$1))","v":0},{"$f":"IF(BS$1>$E$11,0,IF($G76=0,0,(BS$1-$G76)*Hoja1!$A$1/BS$1))","v":0},{"$f":"IF(BT$1>$E$11,0,IF($G76=0,0,(BT$1-$G76)*Hoja1!$A$1/BT$1))","v":0},{"$f":"IF(BU$1>$E$11,0,IF($G76=0,0,(BU$1-$G76)*Hoja1!$A$1/BU$1))","v":0},{"$f":"IF(BV$1>$E$11,0,IF($G76=0,0,(BV$1-$G76)*Hoja1!$A$1/BV$1))","v":0},{"$f":"IF(BW$1>$E$11,0,IF($G76=0,0,(BW$1-$G76)*Hoja1!$A$1/BW$1))","v":0},{"$f":"IF(BX$1>$E$11,0,IF($G76=0,0,(BX$1-$G76)*Hoja1!$A$1/BX$1))","v":0},{"$f":"IF(BY$1>$E$11,0,IF($G76=0,0,(BY$1-$G76)*Hoja1!$A$1/BY$1))","v":0},{"$f":"IF(BZ$1>$E$11,0,IF($G76=0,0,(BZ$1-$G76)*Hoja1!$A$1/BZ$1))","v":0},{"$f":"IF(CA$1>$E$11,0,IF($G76=0,0,(CA$1-$G76)*Hoja1!$A$1/CA$1))","v":0},{"$f":"IF(CB$1>$E$11,0,IF($G76=0,0,(CB$1-$G76)*Hoja1!$A$1/CB$1))","v":0},{"$f":"IF(CC$1>$E$11,0,IF($G76=0,0,(CC$1-$G76)*Hoja1!$A$1/CC$1))","v":0},{"$f":"IF(CD$1>$E$11,0,IF($G76=0,0,(CD$1-$G76)*Hoja1!$A$1/CD$1))","v":0},{"$f":"IF(CE$1>$E$11,0,IF($G76=0,0,(CE$1-$G76)*Hoja1!$A$1/CE$1))","v":0},{"$f":"IF(CF$1>$E$11,0,IF($G76=0,0,(CF$1-$G76)*Hoja1!$A$1/CF$1))","v":0},{"$f":"IF(CG$1>$E$11,0,IF($G76=0,0,(CG$1-$G76)*Hoja1!$A$1/CG$1))","v":0},{"$f":"IF(CH$1>$E$11,0,IF($G76=0,0,(CH$1-$G76)*Hoja1!$A$1/CH$1))","v":0},{"$f":"IF(CI$1>$E$11,0,IF($G76=0,0,(CI$1-$G76)*Hoja1!$A$1/CI$1))","v":0},{"$f":"IF(CJ$1>$E$11,0,IF($G76=0,0,(CJ$1-$G76)*Hoja1!$A$1/CJ$1))","v":0},{"$f":"IF(CK$1>$E$11,0,IF($G76=0,0,(CK$1-$G76)*Hoja1!$A$1/CK$1))","v":0},{"$f":"IF(CL$1>$E$11,0,IF($G76=0,0,(CL$1-$G76)*Hoja1!$A$1/CL$1))","v":0},{"$f":"IF(CM$1>$E$11,0,IF($G76=0,0,(CM$1-$G76)*Hoja1!$A$1/CM$1))","v":0},{"$f":"IF(CN$1>$E$11,0,IF($G76=0,0,(CN$1-$G76)*Hoja1!$A$1/CN$1))","v":0},{"$f":"IF(CO$1>$E$11,0,IF($G76=0,0,(CO$1-$G76)*Hoja1!$A$1/CO$1))","v":0},{"$f":"IF(CP$1>$E$11,0,IF($G76=0,0,(CP$1-$G76)*Hoja1!$A$1/CP$1))","v":0},{"$f":"IF(CQ$1>$E$11,0,IF($G76=0,0,(CQ$1-$G76)*Hoja1!$A$1/CQ$1))","v":0},{"$f":"IF(CR$1>$E$11,0,IF($G76=0,0,(CR$1-$G76)*Hoja1!$A$1/CR$1))","v":0},{"$f":"IF(CS$1>$E$11,0,IF($G76=0,0,(CS$1-$G76)*Hoja1!$A$1/CS$1))","v":0},{"$f":"IF(CT$1>$E$11,0,IF($G76=0,0,(CT$1-$G76)*Hoja1!$A$1/CT$1))","v":0},{"$f":"IF(CU$1>$E$11,0,IF($G76=0,0,(CU$1-$G76)*Hoja1!$A$1/CU$1))","v":0},{"$f":"IF(CV$1>$E$11,0,IF($G76=0,0,(CV$1-$G76)*Hoja1!$A$1/CV$1))","v":0},{"$f":"IF(CW$1>$E$11,0,IF($G76=0,0,(CW$1-$G76)*Hoja1!$A$1/CW$1))","v":0},{"$f":"IF(CX$1>$E$11,0,IF($G76=0,0,(CX$1-$G76)*Hoja1!$A$1/CX$1))","v":0},{"$f":"IF(CY$1>$E$11,0,IF($G76=0,0,(CY$1-$G76)*Hoja1!$A$1/CY$1))","v":0},{"$f":"IF(CZ$1>$E$11,0,IF($G76=0,0,(CZ$1-$G76)*Hoja1!$A$1/CZ$1))","v":0},{"$f":"IF(DA$1>$E$11,0,IF($G76=0,0,(DA$1-$G76)*Hoja1!$A$1/DA$1))","v":0},{"$f":"IF(DB$1>$E$11,0,IF($G76=0,0,(DB$1-$G76)*Hoja1!$A$1/DB$1))","v":0},{"$f":"IF(DC$1>$E$11,0,IF($G76=0,0,(DC$1-$G76)*Hoja1!$A$1/DC$1))","v":0},{"$f":"IF(DD$1>$E$11,0,IF($G76=0,0,(DD$1-$G76)*Hoja1!$A$1/DD$1))","v":0},{"$f":"IF(DE$1>$E$11,0,IF($G76=0,0,(DE$1-$G76)*Hoja1!$A$1/DE$1))","v":0},{"$f":"IF(DF$1>$E$11,0,IF($G76=0,0,(DF$1-$G76)*Hoja1!$A$1/DF$1))","v":0},{"$f":"IF(DG$1>$E$11,0,IF($G76=0,0,(DG$1-$G76)*Hoja1!$A$1/DG$1))","v":0},{"$f":"IF(DH$1>$E$11,0,IF($G76=0,0,(DH$1-$G76)*Hoja1!$A$1/DH$1))","v":0},{"$f":"IF(DI$1>$E$11,0,IF($G76=0,0,(DI$1-$G76)*Hoja1!$A$1/DI$1))","v":0},{"$f":"IF(DJ$1>$E$11,0,IF($G76=0,0,(DJ$1-$G76)*Hoja1!$A$1/DJ$1))","v":0},{"$f":"IF(DK$1>$E$11,0,IF($G76=0,0,(DK$1-$G76)*Hoja1!$A$1/DK$1))","v":0},{"$f":"IF(DL$1>$E$11,0,IF($G76=0,0,(DL$1-$G76)*Hoja1!$A$1/DL$1))","v":0},{"$f":"IF(DM$1>$E$11,0,IF($G76=0,0,(DM$1-$G76)*Hoja1!$A$1/DM$1))","v":0}]
[null,null,null,null,null,968.7750000000018,0,{"$f":"IF(H$1>$E$11,0,IF($G77=0,0,(H$1-$G77)*Hoja1!$A$1/H$1))","v":0},{"$f":"IF(I$1>$E$11,0,IF($G77=0,0,(I$1-$G77)*Hoja1!$A$1/I$1))","v":0},{"$f":"IF(J$1>$E$11,0,IF($G77=0,0,(J$1-$G77)*Hoja1!$A$1/J$1))","v":0},{"$f":"IF(K$1>$E$11,0,IF($G77=0,0,(K$1-$G77)*Hoja1!$A$1/K$1))","v":0},{"$f":"IF(L$1>$E$11,0,IF($G77=0,0,(L$1-$G77)*Hoja1!$A$1/L$1))","v":0},{"$f":"IF(M$1>$E$11,0,IF($G77=0,0,(M$1-$G77)*Hoja1!$A$1/M$1))","v":0},{"$f":"IF(N$1>$E$11,0,IF($G77=0,0,(N$1-$G77)*Hoja1!$A$1/N$1))","v":0},{"$f":"IF(O$1>$E$11,0,IF($G77=0,0,(O$1-$G77)*Hoja1!$A$1/O$1))","v":0},{"$f":"IF(P$1>$E$11,0,IF($G77=0,0,(P$1-$G77)*Hoja1!$A$1/P$1))","v":0},{"$f":"IF(Q$1>$E$11,0,IF($G77=0,0,(Q$1-$G77)*Hoja1!$A$1/Q$1))","v":0},{"$f":"IF(R$1>$E$11,0,IF($G77=0,0,(R$1-$G77)*Hoja1!$A$1/R$1))","v":0},{"$f":"IF(S$1>$E$11,0,IF($G77=0,0,(S$1-$G77)*Hoja1!$A$1/S$1))","v":0},{"$f":"IF(T$1>$E$11,0,IF($G77=0,0,(T$1-$G77)*Hoja1!$A$1/T$1))","v":0},{"$f":"IF(U$1>$E$11,0,IF($G77=0,0,(U$1-$G77)*Hoja1!$A$1/U$1))","v":0},{"$f":"IF(V$1>$E$11,0,IF($G77=0,0,(V$1-$G77)*Hoja1!$A$1/V$1))","v":0},{"$f":"IF(W$1>$E$11,0,IF($G77=0,0,(W$1-$G77)*Hoja1!$A$1/W$1))","v":0},{"$f":"IF(X$1>$E$11,0,IF($G77=0,0,(X$1-$G77)*Hoja1!$A$1/X$1))","v":0},{"$f":"IF(Y$1>$E$11,0,IF($G77=0,0,(Y$1-$G77)*Hoja1!$A$1/Y$1))","v":0},{"$f":"IF(Z$1>$E$11,0,IF($G77=0,0,(Z$1-$G77)*Hoja1!$A$1/Z$1))","v":0},{"$f":"IF(AA$1>$E$11,0,IF($G77=0,0,(AA$1-$G77)*Hoja1!$A$1/AA$1))","v":0},{"$f":"IF(AB$1>$E$11,0,IF($G77=0,0,(AB$1-$G77)*Hoja1!$A$1/AB$1))","v":0},{"$f":"IF(AC$1>$E$11,0,IF($G77=0,0,(AC$1-$G77)*Hoja1!$A$1/AC$1))","v":0},{"$f":"IF(AD$1>$E$11,0,IF($G77=0,0,(AD$1-$G77)*Hoja1!$A$1/AD$1))","v":0},{"$f":"IF(AE$1>$E$11,0,IF($G77=0,0,(AE$1-$G77)*Hoja1!$A$1/AE$1))","v":0},{"$f":"IF(AF$1>$E$11,0,IF($G77=0,0,(AF$1-$G77)*Hoja1!$A$1/AF$1))","v":0},{"$f":"IF(AG$1>$E$11,0,IF($G77=0,0,(AG$1-$G77)*Hoja1!$A$1/AG$1))","v":0},{"$f":"IF(AH$1>$E$11,0,IF($G77=0,0,(AH$1-$G77)*Hoja1!$A$1/AH$1))","v":0},{"$f":"IF(AI$1>$E$11,0,IF($G77=0,0,(AI$1-$G77)*Hoja1!$A$1/AI$1))","v":0},{"$f":"IF(AJ$1>$E$11,0,IF($G77=0,0,(AJ$1-$G77)*Hoja1!$A$1/AJ$1))","v":0},{"$f":"IF(AK$1>$E$11,0,IF($G77=0,0,(AK$1-$G77)*Hoja1!$A$1/AK$1))","v":0},{"$f":"IF(AL$1>$E$11,0,IF($G77=0,0,(AL$1-$G77)*Hoja1!$A$1/AL$1))","v":0},{"$f":"IF(AM$1>$E$11,0,IF($G77=0,0,(AM$1-$G77)*Hoja1!$A$1/AM$1))","v":0},{"$f":"IF(AN$1>$E$11,0,IF($G77=0,0,(AN$1-$G77)*Hoja1!$A$1/AN$1))","v":0},{"$f":"IF(AO$1>$E$11,0,IF($G77=0,0,(AO$1-$G77)*Hoja1!$A$1/AO$1))","v":0},{"$f":"IF(AP$1>$E$11,0,IF($G77=0,0,(AP$1-$G77)*Hoja1!$A$1/AP$1))","v":0},{"$f":"IF(AQ$1>$E$11,0,IF($G77=0,0,(AQ$1-$G77)*Hoja1!$A$1/AQ$1))","v":0},{"$f":"IF(AR$1>$E$11,0,IF($G77=0,0,(AR$1-$G77)*Hoja1!$A$1/AR$1))","v":0},{"$f":"IF(AS$1>$E$11,0,IF($G77=0,0,(AS$1-$G77)*Hoja1!$A$1/AS$1))","v":0},{"$f":"IF(AT$1>$E$11,0,IF($G77=0,0,(AT$1-$G77)*Hoja1!$A$1/AT$1))","v":0},{"$f":"IF(AU$1>$E$11,0,IF($G77=0,0,(AU$1-$G77)*Hoja1!$A$1/AU$1))","v":0},{"$f":"IF(AV$1>$E$11,0,IF($G77=0,0,(AV$1-$G77)*Hoja1!$A$1/AV$1))","v":0},{"$f":"IF(AW$1>$E$11,0,IF($G77=0,0,(AW$1-$G77)*Hoja1!$A$1/AW$1))","v":0},{"$f":"IF(AX$1>$E$11,0,IF($G77=0,0,(AX$1-$G77)*Hoja1!$A$1/AX$1))","v":0},{"$f":"IF(AY$1>$E$11,0,IF($G77=0,0,(AY$1-$G77)*Hoja1!$A$1/AY$1))","v":0},{"$f":"IF(AZ$1>$E$11,0,IF($G77=0,0,(AZ$1-$G77)*Hoja1!$A$1/AZ$1))","v":0},{"$f":"IF(BA$1>$E$11,0,IF($G77=0,0,(BA$1-$G77)*Hoja1!$A$1/BA$1))","v":0},{"$f":"IF(BB$1>$E$11,0,IF($G77=0,0,(BB$1-$G77)*Hoja1!$A$1/BB$1))","v":0},{"$f":"IF(BC$1>$E$11,0,IF($G77=0,0,(BC$1-$G77)*Hoja1!$A$1/BC$1))","v":0},{"$f":"IF(BD$1>$E$11,0,IF($G77=0,0,(BD$1-$G77)*Hoja1!$A$1/BD$1))","v":0},{"$f":"IF(BE$1>$E$11,0,IF($G77=0,0,(BE$1-$G77)*Hoja1!$A$1/BE$1))","v":0},{"$f":"IF(BF$1>$E$11,0,IF($G77=0,0,(BF$1-$G77)*Hoja1!$A$1/BF$1))","v":0},{"$f":"IF(BG$1>$E$11,0,IF($G77=0,0,(BG$1-$G77)*Hoja1!$A$1/BG$1))","v":0},{"$f":"IF(BH$1>$E$11,0,IF($G77=0,0,(BH$1-$G77)*Hoja1!$A$1/BH$1))","v":0},{"$f":"IF(BI$1>$E$11,0,IF($G77=0,0,(BI$1-$G77)*Hoja1!$A$1/BI$1))","v":0},{"$f":"IF(BJ$1>$E$11,0,IF($G77=0,0,(BJ$1-$G77)*Hoja1!$A$1/BJ$1))","v":0},{"$f":"IF(BK$1>$E$11,0,IF($G77=0,0,(BK$1-$G77)*Hoja1!$A$1/BK$1))","v":0},{"$f":"IF(BL$1>$E$11,0,IF($G77=0,0,(BL$1-$G77)*Hoja1!$A$1/BL$1))","v":0},{"$f":"IF(BM$1>$E$11,0,IF($G77=0,0,(BM$1-$G77)*Hoja1!$A$1/BM$1))","v":0},{"$f":"IF(BN$1>$E$11,0,IF($G77=0,0,(BN$1-$G77)*Hoja1!$A$1/BN$1))","v":0},{"$f":"IF(BO$1>$E$11,0,IF($G77=0,0,(BO$1-$G77)*Hoja1!$A$1/BO$1))","v":0},{"$f":"IF(BP$1>$E$11,0,IF($G77=0,0,(BP$1-$G77)*Hoja1!$A$1/BP$1))","v":0},{"$f":"IF(BQ$1>$E$11,0,IF($G77=0,0,(BQ$1-$G77)*Hoja1!$A$1/BQ$1))","v":0},{"$f":"IF(BR$1>$E$11,0,IF($G77=0,0,(BR$1-$G77)*Hoja1!$A$1/BR$1))","v":0},{"$f":"IF(BS$1>$E$11,0,IF($G77=0,0,(BS$1-$G77)*Hoja1!$A$1/BS$1))","v":0},{"$f":"IF(BT$1>$E$11,0,IF($G77=0,0,(BT$1-$G77)*Hoja1!$A$1/BT$1))","v":0},{"$f":"IF(BU$1>$E$11,0,IF($G77=0,0,(BU$1-$G77)*Hoja1!$A$1/BU$1))","v":0},{"$f":"IF(BV$1>$E$11,0,IF($G77=0,0,(BV$1-$G77)*Hoja1!$A$1/BV$1))","v":0},{"$f":"IF(BW$1>$E$11,0,IF($G77=0,0,(BW$1-$G77)*Hoja1!$A$1/BW$1))","v":0},{"$f":"IF(BX$1>$E$11,0,IF($G77=0,0,(BX$1-$G77)*Hoja1!$A$1/BX$1))","v":0},{"$f":"IF(BY$1>$E$11,0,IF($G77=0,0,(BY$1-$G77)*Hoja1!$A$1/BY$1))","v":0},{"$f":"IF(BZ$1>$E$11,0,IF($G77=0,0,(BZ$1-$G77)*Hoja1!$A$1/BZ$1))","v":0},{"$f":"IF(CA$1>$E$11,0,IF($G77=0,0,(CA$1-$G77)*Hoja1!$A$1/CA$1))","v":0},{"$f":"IF(CB$1>$E$11,0,IF($G77=0,0,(CB$1-$G77)*Hoja1!$A$1/CB$1))","v":0},{"$f":"IF(CC$1>$E$11,0,IF($G77=0,0,(CC$1-$G77)*Hoja1!$A$1/CC$1))","v":0},{"$f":"IF(CD$1>$E$11,0,IF($G77=0,0,(CD$1-$G77)*Hoja1!$A$1/CD$1))","v":0},{"$f":"IF(CE$1>$E$11,0,IF($G77=0,0,(CE$1-$G77)*Hoja1!$A$1/CE$1))","v":0},{"$f":"IF(CF$1>$E$11,0,IF($G77=0,0,(CF$1-$G77)*Hoja1!$A$1/CF$1))","v":0},{"$f":"IF(CG$1>$E$11,0,IF($G77=0,0,(CG$1-$G77)*Hoja1!$A$1/CG$1))","v":0},{"$f":"IF(CH$1>$E$11,0,IF($G77=0,0,(CH$1-$G77)*Hoja1!$A$1/CH$1))","v":0},{"$f":"IF(CI$1>$E$11,0,IF($G77=0,0,(CI$1-$G77)*Hoja1!$A$1/CI$1))","v":0},{"$f":"IF(CJ$1>$E$11,0,IF($G77=0,0,(CJ$1-$G77)*Hoja1!$A$1/CJ$1))","v":0},{"$f":"IF(CK$1>$E$11,0,IF($G77=0,0,(CK$1-$G77)*Hoja1!$A$1/CK$1))","v":0},{"$f":"IF(CL$1>$E$11,0,IF($G77=0,0,(CL$1-$G77)*Hoja1!$A$1/CL$1))","v":0},{"$f":"IF(CM$1>$E$11,0,IF($G77=0,0,(CM$1-$G77)*Hoja1!$A$1/CM$1))","v":0},{"$f":"IF(CN$1>$E$11,0,IF($G77=0,0,(CN$1-$G77)*Hoja1!$A$1/CN$1))","v":0},{"$f":"IF(CO$1>$E$11,0,IF($G77=0,0,(CO$1-$G77)*Hoja1!$A$1/CO$1))","v":0},{"$f":"IF(CP$1>$E$11,0,IF($G77=0,0,(CP$1-$G77)*Hoja1!$A$1/CP$1))","v":0},{"$f":"IF(CQ$1>$E$11,0,IF($G77=0,0,(CQ$1-$G77)*Hoja1!$A$1/CQ$1))","v":0},{"$f":"IF(CR$1>$E$11,0,IF($G77=0,0,(CR$1-$G77)*Hoja1!$A$1/CR$1))","v":0},{"$f":"IF(CS$1>$E$11,0,IF($G77=0,0,(CS$1-$G77)*Hoja1!$A$1/CS$1))","v":0},{"$f":"IF(CT$1>$E$11,0,IF($G77=0,0,(CT$1-$G77)*Hoja1!$A$1/CT$1))","v":0},{"$f":"IF(CU$1>$E$11,0,IF($G77=0,0,(CU$1-$G77)*Hoja1!$A$1/CU$1))","v":0},{"$f":"IF(CV$1>$E$11,0,IF($G77=0,0,(CV$1-$G77)*Hoja1!$A$1/CV$1))","v":0},{"$f":"IF(CW$1>$E$11,0,IF($G77=0,0,(CW$1-$G77)*Hoja1!$A$1/CW$1))","v":0},{"$f":"IF(CX$1>$E$11,0,IF($G77=0,0,(CX$1-$G77)*Hoja1!$A$1/CX$1))","v":0},{"$f":"IF(CY$1>$E$11,0,IF($G77=0,0,(CY$1-$G77)*Hoja1!$A$1/CY$1))","v":0},{"$f":"IF(CZ$1>$E$11,0,IF($G77=0,0,(CZ$1-$G77)*Hoja1!$A$1/CZ$1))","v":0},{"$f":"IF(DA$1>$E$11,0,IF($G77=0,0,(DA$1-$G77)*Hoja1!$A$1/DA$1))","v":0},{"$f":"IF(DB$1>$E$11,0,IF($G77=0,0,(DB$1-$G77)*Hoja1!$A$1/DB$1))","v":0},{"$f":"IF(DC$1>$E$11,0,IF($G77=0,0,(DC$1-$G77)*Hoja1!$A$1/DC$1))","v":0},{"$f":"IF(DD$1>$E$11,0,IF($G77=0,0,(DD$1-$G77)*Hoja1!$A$1/DD$1))","v":0},{"$f":"IF(DE$1>$E$11,0,IF($G77=0,0,(DE$1-$G77)*Hoja1!$A$1/DE$1))","v":0},{"$f":"IF(DF$1>$E$11,0,IF($G77=0,0,(DF$1-$G77)*Hoja1!$A$1/DF$1))","v":0},{"$f":"IF(DG$1>$E$11,0,IF($G77=0,0,(DG$1-$G77)*Hoja1!$A$1/DG$1))","v":0},{"$f":"IF(DH$1>$E$11,0,IF($G77=0,0,(DH$1-$G77)*Hoja1!$A$1/DH$1))","v":0},{"$f":"IF(DI$1>$E$11,0,IF($G77=0,0,(DI$1-$G77)*Hoja1!$A$1/DI$1))","v":0},{"$f":"IF(DJ$1>$E$11,0,IF($G77=0,0,(DJ$1-$G77)*Hoja1!$A$1/DJ$1))","v":0},{"$f":"IF(DK$1>$E$11,0,IF($G77=0,0,(DK$1-$G77)*Hoja1!$A$1/DK$1))","v":0},{"$f":"IF(DL$1>$E$11,0,IF($G77=0,0,(DL$1-$G77)*Hoja1!$A$1/DL$1))","v":0},{"$f":"IF(DM$1>$E$11,0,IF($G77=0,0,(DM$1-$G77)*Hoja1!$A$1/DM$1))","v":0}]
[null,null,null,null,null,981.96500000000185,0,{"$f":"IF(H$1>$E$11,0,IF($G78=0,0,(H$1-$G78)*Hoja1!$A$1/H$1))","v":0},{"$f":"IF(I$1>$E$11,0,IF($G78=0,0,(I$1-$G78)*Hoja1!$A$1/I$1))","v":0},{"$f":"IF(J$1>$E$11,0,IF($G78=0,0,(J$1-$G78)*Hoja1!$A$1/J$1))","v":0},{"$f":"IF(K$1>$E$11,0,IF($G78=0,0,(K$1-$G78)*Hoja1!$A$1/K$1))","v":0},{"$f":"IF(L$1>$E$11,0,IF($G78=0,0,(L$1-$G78)*Hoja1!$A$1/L$1))","v":0},{"$f":"IF(M$1>$E$11,0,IF($G78=0,0,(M$1-$G78)*Hoja1!$A$1/M$1))","v":0},{"$f":"IF(N$1>$E$11,0,IF($G78=0,0,(N$1-$G78)*Hoja1!$A$1/N$1))","v":0},{"$f":"IF(O$1>$E$11,0,IF($G78=0,0,(O$1-$G78)*Hoja1!$A$1/O$1))","v":0},{"$f":"IF(P$1>$E$11,0,IF($G78=0,0,(P$1-$G78)*Hoja1!$A$1/P$1))","v":0},{"$f":"IF(Q$1>$E$11,0,IF($G78=0,0,(Q$1-$G78)*Hoja1!$A$1/Q$1))","v":0},{"$f":"IF(R$1>$E$11,0,IF($G78=0,0,(R$1-$G78)*Hoja1!$A$1/R$1))","v":0},{"$f":"IF(S$1>$E$11,0,IF($G78=0,0,(S$1-$G78)*Hoja1!$A$1/S$1))","v":0},{"$f":"IF(T$1>$E$11,0,IF($G78=0,0,(T$1-$G78)*Hoja1!$A$1/T$1))","v":0},{"$f":"IF(U$1>$E$11,0,IF($G78=0,0,(U$1-$G78)*Hoja1!$A$1/U$1))","v":0},{"$f":"IF(V$1>$E$11,0,IF($G78=0,0,(V$1-$G78)*Hoja1!$A$1/V$1))","v":0},{"$f":"IF(W$1>$E$11,0,IF($G78=0,0,(W$1-$G78)*Hoja1!$A$1/W$1))","v":0},{"$f":"IF(X$1>$E$11,0,IF($G78=0,0,(X$1-$G78)*Hoja1!$A$1/X$1))","v":0},{"$f":"IF(Y$1>$E$11,0,IF($G78=0,0,(Y$1-$G78)*Hoja1!$A$1/Y$1))","v":0},{"$f":"IF(Z$1>$E$11,0,IF($G78=0,0,(Z$1-$G78)*Hoja1!$A$1/Z$1))","v":0},{"$f":"IF(AA$1>$E$11,0,IF($G78=0,0,(AA$1-$G78)*Hoja1!$A$1/AA$1))","v":0},{"$f":"IF(AB$1>$E$11,0,IF($G78=0,0,(AB$1-$G78)*Hoja1!$A$1/AB$1))","v":0},{"$f":"IF(AC$1>$E$11,0,IF($G78=0,0,(AC$1-$G78)*Hoja1!$A$1/AC$1))","v":0},{"$f":"IF(AD$1>$E$11,0,IF($G78=0,0,(AD$1-$G78)*Hoja1!$A$1/AD$1))","v":0},{"$f":"IF(AE$1>$E$11,0,IF($G78=0,0,(AE$1-$G78)*Hoja1!$A$1/AE$1))","v":0},{"$f":"IF(AF$1>$E$11,0,IF($G78=0,0,(AF$1-$G78)*Hoja1!$A$1/AF$1))","v":0},{"$f":"IF(AG$1>$E$11,0,IF($G78=0,0,(AG$1-$G78)*Hoja1!$A$1/AG$1))","v":0},{"$f":"IF(AH$1>$E$11,0,IF($G78=0,0,(AH$1-$G78)*Hoja1!$A$1/AH$1))","v":0},{"$f":"IF(AI$1>$E$11,0,IF($G78=0,0,(AI$1-$G78)*Hoja1!$A$1/AI$1))","v":0},{"$f":"IF(AJ$1>$E$11,0,IF($G78=0,0,(AJ$1-$G78)*Hoja1!$A$1/AJ$1))","v":0},{"$f":"IF(AK$1>$E$11,0,IF($G78=0,0,(AK$1-$G78)*Hoja1!$A$1/AK$1))","v":0},{"$f":"IF(AL$1>$E$11,0,IF($G78=0,0,(AL$1-$G78)*Hoja1!$A$1/AL$1))","v":0},{"$f":"IF(AM$1>$E$11,0,IF($G78=0,0,(AM$1-$G78)*Hoja1!$A$1/AM$1))","v":0},{"$f":"IF(AN$1>$E$11,0,IF($G78=0,0,(AN$1-$G78)*Hoja1!$A$1/AN$1))","v":0},{"$f":"IF(AO$1>$E$11,0,IF($G78=0,0,(AO$1-$G78)*Hoja1!$A$1/AO$1))","v":0},{"$f":"IF(AP$1>$E$11,0,IF($G78=0,0,(AP$1-$G78)*Hoja1!$A$1/AP$1))","v":0},{"$f":"IF(AQ$1>$E$11,0,IF($G78=0,0,(AQ$1-$G78)*Hoja1!$A$1/AQ$1))","v":0},{"$f":"IF(AR$1>$E$11,0,IF($G78=0,0,(AR$1-$G78)*Hoja1!$A$1/AR$1))","v":0},{"$f":"IF(AS$1>$E$11,0,IF($G78=0,0,(AS$1-$G78)*Hoja1!$A$1/AS$1))","v":0},{"$f":"IF(AT$1>$E$11,0,IF($G78=0,0,(AT$1-$G78)*Hoja1!$A$1/AT$1))","v":0},{"$f":"IF(AU$1>$E$11,0,IF($G78=0,0,(AU$1-$G78)*Hoja1!$A$1/AU$1))","v":0},{"$f":"IF(AV$1>$E$11,0,IF($G78=0,0,(AV$1-$G78)*Hoja1!$A$1/AV$1))","v":0},{"$f":"IF(AW$1>$E$11,0,IF($G78=0,0,(AW$1-$G78)*Hoja1!$A$1/AW$1))","v":0},{"$f":"IF(AX$1>$E$11,0,IF($G78=0,0,(AX$1-$G78)*Hoja1!$A$1/AX$1))","v":0},{"$f":"IF(AY$1>$E$11,0,IF($G78=0,0,(AY$1-$G78)*Hoja1!$A$1/AY$1))","v":0},{"$f":"IF(AZ$1>$E$11,0,IF($G78=0,0,(AZ$1-$G78)*Hoja1!$A$1/AZ$1))","v":0},{"$f":"IF(BA$1>$E$11,0,IF($G78=0,0,(BA$1-$G78)*Hoja1!$A$1/BA$1))","v":0},{"$f":"IF(BB$1>$E$11,0,IF($G78=0,0,(BB$1-$G78)*Hoja1!$A$1/BB$1))","v":0},{"$f":"IF(BC$1>$E$11,0,IF($G78=0,0,(BC$1-$G78)*Hoja1!$A$1/BC$1))","v":0},{"$f":"IF(BD$1>$E$11,0,IF($G78=0,0,(BD$1-$G78)*Hoja1!$A$1/BD$1))","v":0},{"$f":"IF(BE$1>$E$11,0,IF($G78=0,0,(BE$1-$G78)*Hoja1!$A$1/BE$1))","v":0},{"$f":"IF(BF$1>$E$11,0,IF($G78=0,0,(BF$1-$G78)*Hoja1!$A$1/BF$1))","v":0},{"$f":"IF(BG$1>$E$11,0,IF($G78=0,0,(BG$1-$G78)*Hoja1!$A$1/BG$1))","v":0},{"$f":"IF(BH$1>$E$11,0,IF($G78=0,0,(BH$1-$G78)*Hoja1!$A$1/BH$1))","v":0},{"$f":"IF(BI$1>$E$11,0,IF($G78=0,0,(BI$1-$G78)*Hoja1!$A$1/BI$1))","v":0},{"$f":"IF(BJ$1>$E$11,0,IF($G78=0,0,(BJ$1-$G78)*Hoja1!$A$1/BJ$1))","v":0},{"$f":"IF(BK$1>$E$11,0,IF($G78=0,0,(BK$1-$G78)*Hoja1!$A$1/BK$1))","v":0},{"$f":"IF(BL$1>$E$11,0,IF($G78=0,0,(BL$1-$G78)*Hoja1!$A$1/BL$1))","v":0},{"$f":"IF(BM$1>$E$11,0,IF($G78=0,0,(BM$1-$G78)*Hoja1!$A$1/BM$1))","v":0},{"$f":"IF(BN$1>$E$11,0,IF($G78=0,0,(BN$1-$G78)*Hoja1!$A$1/BN$1))","v":0},{"$f":"IF(BO$1>$E$11,0,IF($G78=0,0,(BO$1-$G78)*Hoja1!$A$1/BO$1))","v":0},{"$f":"IF(BP$1>$E$11,0,IF($G78=0,0,(BP$1-$G78)*Hoja1!$A$1/BP$1))","v":0},{"$f":"IF(BQ$1>$E$11,0,IF($G78=0,0,(BQ$1-$G78)*Hoja1!$A$1/BQ$1))","v":0},{"$f":"IF(BR$1>$E$11,0,IF($G78=0,0,(BR$1-$G78)*Hoja1!$A$1/BR$1))","v":0},{"$f":"IF(BS$1>$E$11,0,IF($G78=0,0,(BS$1-$G78)*Hoja1!$A$1/BS$1))","v":0},{"$f":"IF(BT$1>$E$11,0,IF($G78=0,0,(BT$1-$G78)*Hoja1!$A$1/BT$1))","v":0},{"$f":"IF(BU$1>$E$11,0,IF($G78=0,0,(BU$1-$G78)*Hoja1!$A$1/BU$1))","v":0},{"$f":"IF(BV$1>$E$11,0,IF($G78=0,0,(BV$1-$G78)*Hoja1!$A$1/BV$1))","v":0},{"$f":"IF(BW$1>$E$11,0,IF($G78=0,0,(BW$1-$G78)*Hoja1!$A$1/BW$1))","v":0},{"$f":"IF(BX$1>$E$11,0,IF($G78=0,0,(BX$1-$G78)*Hoja1!$A$1/BX$1))","v":0},{"$f":"IF(BY$1>$E$11,0,IF($G78=0,0,(BY$1-$G78)*Hoja1!$A$1/BY$1))","v":0},{"$f":"IF(BZ$1>$E$11,0,IF($G78=0,0,(BZ$1-$G78)*Hoja1!$A$1/BZ$1))","v":0},{"$f":"IF(CA$1>$E$11,0,IF($G78=0,0,(CA$1-$G78)*Hoja1!$A$1/CA$1))","v":0},{"$f":"IF(CB$1>$E$11,0,IF($G78=0,0,(CB$1-$G78)*Hoja1!$A$1/CB$1))","v":0},{"$f":"IF(CC$1>$E$11,0,IF($G78=0,0,(CC$1-$G78)*Hoja1!$A$1/CC$1))","v":0},{"$f":"IF(CD$1>$E$11,0,IF($G78=0,0,(CD$1-$G78)*Hoja1!$A$1/CD$1))","v":0},{"$f":"IF(CE$1>$E$11,0,IF($G78=0,0,(CE$1-$G78)*Hoja1!$A$1/CE$1))","v":0},{"$f":"IF(CF$1>$E$11,0,IF($G78=0,0,(CF$1-$G78)*Hoja1!$A$1/CF$1))","v":0},{"$f":"IF(CG$1>$E$11,0,IF($G78=0,0,(CG$1-$G78)*Hoja1!$A$1/CG$1))","v":0},{"$f":"IF(CH$1>$E$11,0,IF($G78=0,0,(CH$1-$G78)*Hoja1!$A$1/CH$1))","v":0},{"$f":"IF(CI$1>$E$11,0,IF($G78=0,0,(CI$1-$G78)*Hoja1!$A$1/CI$1))","v":0},{"$f":"IF(CJ$1>$E$11,0,IF($G78=0,0,(CJ$1-$G78)*Hoja1!$A$1/CJ$1))","v":0},{"$f":"IF(CK$1>$E$11,0,IF($G78=0,0,(CK$1-$G78)*Hoja1!$A$1/CK$1))","v":0},{"$f":"IF(CL$1>$E$11,0,IF($G78=0,0,(CL$1-$G78)*Hoja1!$A$1/CL$1))","v":0},{"$f":"IF(CM$1>$E$11,0,IF($G78=0,0,(CM$1-$G78)*Hoja1!$A$1/CM$1))","v":0},{"$f":"IF(CN$1>$E$11,0,IF($G78=0,0,(CN$1-$G78)*Hoja1!$A$1/CN$1))","v":0},{"$f":"IF(CO$1>$E$11,0,IF($G78=0,0,(CO$1-$G78)*Hoja1!$A$1/CO$1))","v":0},{"$f":"IF(CP$1>$E$11,0,IF($G78=0,0,(CP$1-$G78)*Hoja1!$A$1/CP$1))","v":0},{"$f":"IF(CQ$1>$E$11,0,IF($G78=0,0,(CQ$1-$G78)*Hoja1!$A$1/CQ$1))","v":0},{"$f":"IF(CR$1>$E$11,0,IF($G78=0,0,(CR$1-$G78)*Hoja1!$A$1/CR$1))","v":0},{"$f":"IF(CS$1>$E$11,0,IF($G78=0,0,(CS$1-$G78)*Hoja1!$A$1/CS$1))","v":0},{"$f":"IF(CT$1>$E$11,0,IF($G78=0,0,(CT$1-$G78)*Hoja1!$A$1/CT$1))","v":0},{"$f":"IF(CU$1>$E$11,0,IF($G78=0,0,(CU$1-$G78)*Hoja1!$A$1/CU$1))","v":0},{"$f":"IF(CV$1>$E$11,0,IF($G78=0,0,(CV$1-$G78)*Hoja1!$A$1/CV$1))","v":0},{"$f":"IF(CW$1>$E$11,0,IF($G78=0,0,(CW$1-$G78)*Hoja1!$A$1/CW$1))","v":0},{"$f":"IF(CX$1>$E$11,0,IF($G78=0,0,(CX$1-$G78)*Hoja1!$A$1/CX$1))","v":0},{"$f":"IF(CY$1>$E$11,0,IF($G78=0,0,(CY$1-$G78)*Hoja1!$A$1/CY$1))","v":0},{"$f":"IF(CZ$1>$E$11,0,IF($G78=0,0,(CZ$1-$G78)*Hoja1!$A$1/CZ$1))","v":0},{"$f":"IF(DA$1>$E$11,0,IF($G78=0,0,(DA$1-$G78)*Hoja1!$A$1/DA$1))","v":0},{"$f":"IF(DB$1>$E$11,0,IF($G78=0,0,(DB$1-$G78)*Hoja1!$A$1/DB$1))","v":0},{"$f":"IF(DC$1>$E$11,0,IF($G78=0,0,(DC$1-$G78)*Hoja1!$A$1/DC$1))","v":0},{"$f":"IF(DD$1>$E$11,0,IF($G78=0,0,(DD$1-$G78)*Hoja1!$A$1/DD$1))","v":0},{"$f":"IF(DE$1>$E$11,0,IF($G78=0,0,(DE$1-$G78)*Hoja1!$A$1/DE$1))","v":0},{"$f":"IF(DF$1>$E$11,0,IF($G78=0,0,(DF$1-$G78)*Hoja1!$A$1/DF$1))","v":0},{"$f":"IF(DG$1>$E$11,0,IF($G78=0,0,(DG$1-$G78)*Hoja1!$A$1/DG$1))","v":0},{"$f":"IF(DH$1>$E$11,0,IF($G78=0,0,(DH$1-$G78)*Hoja1!$A$1/DH$1))","v":0},{"$f":"IF(DI$1>$E$11,0,IF($G78=0,0,(DI$1-$G78)*Hoja1!$A$1/DI$1))","v":0},{"$f":"IF(DJ$1>$E$11,0,IF($G78=0,0,(DJ$1-$G78)*Hoja1!$A$1/DJ$1))","v":0},{"$f":"IF(DK$1>$E$11,0,IF($G78=0,0,(DK$1-$G78)*Hoja1!$A$1/DK$1))","v":0},{"$f":"IF(DL$1>$E$11,0,IF($G78=0,0,(DL$1-$G78)*Hoja1!$A$1/DL$1))","v":0},{"$f":"IF(DM$1>$E$11,0,IF($G78=0,0,(DM$1-$G78)*Hoja1!$A$1/DM$1))","v":0}]
[null,null,null,null,null,995.15500000000191,0,{"$f":"IF(H$1>$E$11,0,IF($G79=0,0,(H$1-$G79)*Hoja1!$A$1/H$1))","v":0},{"$f":"IF(I$1>$E$11,0,IF($G79=0,0,(I$1-$G79)*Hoja1!$A$1/I$1))","v":0},{"$f":"IF(J$1>$E$11,0,IF($G79=0,0,(J$1-$G79)*Hoja1!$A$1/J$1))","v":0},{"$f":"IF(K$1>$E$11,0,IF($G79=0,0,(K$1-$G79)*Hoja1!$A$1/K$1))","v":0},{"$f":"IF(L$1>$E$11,0,IF($G79=0,0,(L$1-$G79)*Hoja1!$A$1/L$1))","v":0},{"$f":"IF(M$1>$E$11,0,IF($G79=0,0,(M$1-$G79)*Hoja1!$A$1/M$1))","v":0},{"$f":"IF(N$1>$E$11,0,IF($G79=0,0,(N$1-$G79)*Hoja1!$A$1/N$1))","v":0},{"$f":"IF(O$1>$E$11,0,IF($G79=0,0,(O$1-$G79)*Hoja1!$A$1/O$1))","v":0},{"$f":"IF(P$1>$E$11,0,IF($G79=0,0,(P$1-$G79)*Hoja1!$A$1/P$1))","v":0},{"$f":"IF(Q$1>$E$11,0,IF($G79=0,0,(Q$1-$G79)*Hoja1!$A$1/Q$1))","v":0},{"$f":"IF(R$1>$E$11,0,IF($G79=0,0,(R$1-$G79)*Hoja1!$A$1/R$1))","v":0},{"$f":"IF(S$1>$E$11,0,IF($G79=0,0,(S$1-$G79)*Hoja1!$A$1/S$1))","v":0},{"$f":"IF(T$1>$E$11,0,IF($G79=0,0,(T$1-$G79)*Hoja1!$A$1/T$1))","v":0},{"$f":"IF(U$1>$E$11,0,IF($G79=0,0,(U$1-$G79)*Hoja1!$A$1/U$1))","v":0},{"$f":"IF(V$1>$E$11,0,IF($G79=0,0,(V$1-$G79)*Hoja1!$A$1/V$1))","v":0},{"$f":"IF(W$1>$E$11,0,IF($G79=0,0,(W$1-$G79)*Hoja1!$A$1/W$1))","v":0},{"$f":"IF(X$1>$E$11,0,IF($G79=0,0,(X$1-$G79)*Hoja1!$A$1/X$1))","v":0},{"$f":"IF(Y$1>$E$11,0,IF($G79=0,0,(Y$1-$G79)*Hoja1!$A$1/Y$1))","v":0},{"$f":"IF(Z$1>$E$11,0,IF($G79=0,0,(Z$1-$G79)*Hoja1!$A$1/Z$1))","v":0},{"$f":"IF(AA$1>$E$11,0,IF($G79=0,0,(AA$1-$G79)*Hoja1!$A$1/AA$1))","v":0},{"$f":"IF(AB$1>$E$11,0,IF($G79=0,0,(AB$1-$G79)*Hoja1!$A$1/AB$1))","v":0},{"$f":"IF(AC$1>$E$11,0,IF($G79=0,0,(AC$1-$G79)*Hoja1!$A$1/AC$1))","v":0},{"$f":"IF(AD$1>$E$11,0,IF($G79=0,0,(AD$1-$G79)*Hoja1!$A$1/AD$1))","v":0},{"$f":"IF(AE$1>$E$11,0,IF($G79=0,0,(AE$1-$G79)*Hoja1!$A$1/AE$1))","v":0},{"$f":"IF(AF$1>$E$11,0,IF($G79=0,0,(AF$1-$G79)*Hoja1!$A$1/AF$1))","v":0},{"$f":"IF(AG$1>$E$11,0,IF($G79=0,0,(AG$1-$G79)*Hoja1!$A$1/AG$1))","v":0},{"$f":"IF(AH$1>$E$11,0,IF($G79=0,0,(AH$1-$G79)*Hoja1!$A$1/AH$1))","v":0},{"$f":"IF(AI$1>$E$11,0,IF($G79=0,0,(AI$1-$G79)*Hoja1!$A$1/AI$1))","v":0},{"$f":"IF(AJ$1>$E$11,0,IF($G79=0,0,(AJ$1-$G79)*Hoja1!$A$1/AJ$1))","v":0},{"$f":"IF(AK$1>$E$11,0,IF($G79=0,0,(AK$1-$G79)*Hoja1!$A$1/AK$1))","v":0},{"$f":"IF(AL$1>$E$11,0,IF($G79=0,0,(AL$1-$G79)*Hoja1!$A$1/AL$1))","v":0},{"$f":"IF(AM$1>$E$11,0,IF($G79=0,0,(AM$1-$G79)*Hoja1!$A$1/AM$1))","v":0},{"$f":"IF(AN$1>$E$11,0,IF($G79=0,0,(AN$1-$G79)*Hoja1!$A$1/AN$1))","v":0},{"$f":"IF(AO$1>$E$11,0,IF($G79=0,0,(AO$1-$G79)*Hoja1!$A$1/AO$1))","v":0},{"$f":"IF(AP$1>$E$11,0,IF($G79=0,0,(AP$1-$G79)*Hoja1!$A$1/AP$1))","v":0},{"$f":"IF(AQ$1>$E$11,0,IF($G79=0,0,(AQ$1-$G79)*Hoja1!$A$1/AQ$1))","v":0},{"$f":"IF(AR$1>$E$11,0,IF($G79=0,0,(AR$1-$G79)*Hoja1!$A$1/AR$1))","v":0},{"$f":"IF(AS$1>$E$11,0,IF($G79=0,0,(AS$1-$G79)*Hoja1!$A$1/AS$1))","v":0},{"$f":"IF(AT$1>$E$11,0,IF($G79=0,0,(AT$1-$G79)*Hoja1!$A$1/AT$1))","v":0},{"$f":"IF(AU$1>$E$11,0,IF($G79=0,0,(AU$1-$G79)*Hoja1!$A$1/AU$1))","v":0},{"$f":"IF(AV$1>$E$11,0,IF($G79=0,0,(AV$1-$G79)*Hoja1!$A$1/AV$1))","v":0},{"$f":"IF(AW$1>$E$11,0,IF($G79=0,0,(AW$1-$G79)*Hoja1!$A$1/AW$1))","v":0},{"$f":"IF(AX$1>$E$11,0,IF($G79=0,0,(AX$1-$G79)*Hoja1!$A$1/AX$1))","v":0},{"$f":"IF(AY$1>$E$11,0,IF($G79=0,0,(AY$1-$G79)*Hoja1!$A$1/AY$1))","v":0},{"$f":"IF(AZ$1>$E$11,0,IF($G79=0,0,(AZ$1-$G79)*Hoja1!$A$1/AZ$1))","v":0},{"$f":"IF(BA$1>$E$11,0,IF($G79=0,0,(BA$1-$G79)*Hoja1!$A$1/BA$1))","v":0},{"$f":"IF(BB$1>$E$11,0,IF($G79=0,0,(BB$1-$G79)*Hoja1!$A$1/BB$1))","v":0},{"$f":"IF(BC$1>$E$11,0,IF($G79=0,0,(BC$1-$G79)*Hoja1!$A$1/BC$1))","v":0},{"$f":"IF(BD$1>$E$11,0,IF($G79=0,0,(BD$1-$G79)*Hoja1!$A$1/BD$1))","v":0},{"$f":"IF(BE$1>$E$11,0,IF($G79=0,0,(BE$1-$G79)*Hoja1!$A$1/BE$1))","v":0},{"$f":"IF(BF$1>$E$11,0,IF($G79=0,0,(BF$1-$G79)*Hoja1!$A$1/BF$1))","v":0},{"$f":"IF(BG$1>$E$11,0,IF($G79=0,0,(BG$1-$G79)*Hoja1!$A$1/BG$1))","v":0},{"$f":"IF(BH$1>$E$11,0,IF($G79=0,0,(BH$1-$G79)*Hoja1!$A$1/BH$1))","v":0},{"$f":"IF(BI$1>$E$11,0,IF($G79=0,0,(BI$1-$G79)*Hoja1!$A$1/BI$1))","v":0},{"$f":"IF(BJ$1>$E$11,0,IF($G79=0,0,(BJ$1-$G79)*Hoja1!$A$1/BJ$1))","v":0},{"$f":"IF(BK$1>$E$11,0,IF($G79=0,0,(BK$1-$G79)*Hoja1!$A$1/BK$1))","v":0},{"$f":"IF(BL$1>$E$11,0,IF($G79=0,0,(BL$1-$G79)*Hoja1!$A$1/BL$1))","v":0},{"$f":"IF(BM$1>$E$11,0,IF($G79=0,0,(BM$1-$G79)*Hoja1!$A$1/BM$1))","v":0},{"$f":"IF(BN$1>$E$11,0,IF($G79=0,0,(BN$1-$G79)*Hoja1!$A$1/BN$1))","v":0},{"$f":"IF(BO$1>$E$11,0,IF($G79=0,0,(BO$1-$G79)*Hoja1!$A$1/BO$1))","v":0},{"$f":"IF(BP$1>$E$11,0,IF($G79=0,0,(BP$1-$G79)*Hoja1!$A$1/BP$1))","v":0},{"$f":"IF(BQ$1>$E$11,0,IF($G79=0,0,(BQ$1-$G79)*Hoja1!$A$1/BQ$1))","v":0},{"$f":"IF(BR$1>$E$11,0,IF($G79=0,0,(BR$1-$G79)*Hoja1!$A$1/BR$1))","v":0},{"$f":"IF(BS$1>$E$11,0,IF($G79=0,0,(BS$1-$G79)*Hoja1!$A$1/BS$1))","v":0},{"$f":"IF(BT$1>$E$11,0,IF($G79=0,0,(BT$1-$G79)*Hoja1!$A$1/BT$1))","v":0},{"$f":"IF(BU$1>$E$11,0,IF($G79=0,0,(BU$1-$G79)*Hoja1!$A$1/BU$1))","v":0},{"$f":"IF(BV$1>$E$11,0,IF($G79=0,0,(BV$1-$G79)*Hoja1!$A$1/BV$1))","v":0},{"$f":"IF(BW$1>$E$11,0,IF($G79=0,0,(BW$1-$G79)*Hoja1!$A$1/BW$1))","v":0},{"$f":"IF(BX$1>$E$11,0,IF($G79=0,0,(BX$1-$G79)*Hoja1!$A$1/BX$1))","v":0},{"$f":"IF(BY$1>$E$11,0,IF($G79=0,0,(BY$1-$G79)*Hoja1!$A$1/BY$1))","v":0},{"$f":"IF(BZ$1>$E$11,0,IF($G79=0,0,(BZ$1-$G79)*Hoja1!$A$1/BZ$1))","v":0},{"$f":"IF(CA$1>$E$11,0,IF($G79=0,0,(CA$1-$G79)*Hoja1!$A$1/CA$1))","v":0},{"$f":"IF(CB$1>$E$11,0,IF($G79=0,0,(CB$1-$G79)*Hoja1!$A$1/CB$1))","v":0},{"$f":"IF(CC$1>$E$11,0,IF($G79=0,0,(CC$1-$G79)*Hoja1!$A$1/CC$1))","v":0},{"$f":"IF(CD$1>$E$11,0,IF($G79=0,0,(CD$1-$G79)*Hoja1!$A$1/CD$1))","v":0},{"$f":"IF(CE$1>$E$11,0,IF($G79=0,0,(CE$1-$G79)*Hoja1!$A$1/CE$1))","v":0},{"$f":"IF(CF$1>$E$11,0,IF($G79=0,0,(CF$1-$G79)*Hoja1!$A$1/CF$1))","v":0},{"$f":"IF(CG$1>$E$11,0,IF($G79=0,0,(CG$1-$G79)*Hoja1!$A$1/CG$1))","v":0},{"$f":"IF(CH$1>$E$11,0,IF($G79=0,0,(CH$1-$G79)*Hoja1!$A$1/CH$1))","v":0},{"$f":"IF(CI$1>$E$11,0,IF($G79=0,0,(CI$1-$G79)*Hoja1!$A$1/CI$1))","v":0},{"$f":"IF(CJ$1>$E$11,0,IF($G79=0,0,(CJ$1-$G79)*Hoja1!$A$1/CJ$1))","v":0},{"$f":"IF(CK$1>$E$11,0,IF($G79=0,0,(CK$1-$G79)*Hoja1!$A$1/CK$1))","v":0},{"$f":"IF(CL$1>$E$11,0,IF($G79=0,0,(CL$1-$G79)*Hoja1!$A$1/CL$1))","v":0},{"$f":"IF(CM$1>$E$11,0,IF($G79=0,0,(CM$1-$G79)*Hoja1!$A$1/CM$1))","v":0},{"$f":"IF(CN$1>$E$11,0,IF($G79=0,0,(CN$1-$G79)*Hoja1!$A$1/CN$1))","v":0},{"$f":"IF(CO$1>$E$11,0,IF($G79=0,0,(CO$1-$G79)*Hoja1!$A$1/CO$1))","v":0},{"$f":"IF(CP$1>$E$11,0,IF($G79=0,0,(CP$1-$G79)*Hoja1!$A$1/CP$1))","v":0},{"$f":"IF(CQ$1>$E$11,0,IF($G79=0,0,(CQ$1-$G79)*Hoja1!$A$1/CQ$1))","v":0},{"$f":"IF(CR$1>$E$11,0,IF($G79=0,0,(CR$1-$G79)*Hoja1!$A$1/CR$1))","v":0},{"$f":"IF(CS$1>$E$11,0,IF($G79=0,0,(CS$1-$G79)*Hoja1!$A$1/CS$1))","v":0},{"$f":"IF(CT$1>$E$11,0,IF($G79=0,0,(CT$1-$G79)*Hoja1!$A$1/CT$1))","v":0},{"$f":"IF(CU$1>$E$11,0,IF($G79=0,0,(CU$1-$G79)*Hoja1!$A$1/CU$1))","v":0},{"$f":"IF(CV$1>$E$11,0,IF($G79=0,0,(CV$1-$G79)*Hoja1!$A$1/CV$1))","v":0},{"$f":"IF(CW$1>$E$11,0,IF($G79=0,0,(CW$1-$G79)*Hoja1!$A$1/CW$1))","v":0},{"$f":"IF(CX$1>$E$11,0,IF($G79=0,0,(CX$1-$G79)*Hoja1!$A$1/CX$1))","v":0},{"$f":"IF(CY$1>$E$11,0,IF($G79=0,0,(CY$1-$G79)*Hoja1!$A$1/CY$1))","v":0},{"$f":"IF(CZ$1>$E$11,0,IF($G79=0,0,(CZ$1-$G79)*Hoja1!$A$1/CZ$1))","v":0},{"$f":"IF(DA$1>$E$11,0,IF($G79=0,0,(DA$1-$G79)*Hoja1!$A$1/DA$1))","v":0},{"$f":"IF(DB$1>$E$11,0,IF($G79=0,0,(DB$1-$G79)*Hoja1!$A$1/DB$1))","v":0},{"$f":"IF(DC$1>$E$11,0,IF($G79=0,0,(DC$1-$G79)*Hoja1!$A$1/DC$1))","v":0},{"$f":"IF(DD$1>$E$11,0,IF($G79=0,0,(DD$1-$G79)*Hoja1!$A$1/DD$1))","v":0},{"$f":"IF(DE$1>$E$11,0,IF($G79=0,0,(DE$1-$G79)*Hoja1!$A$1/DE$1))","v":0},{"$f":"IF(DF$1>$E$11,0,IF($G79=0,0,(DF$1-$G79)*Hoja1!$A$1/DF$1))","v":0},{"$f":"IF(DG$1>$E$11,0,IF($G79=0,0,(DG$1-$G79)*Hoja1!$A$1/DG$1))","v":0},{"$f":"IF(DH$1>$E$11,0,IF($G79=0,0,(DH$1-$G79)*Hoja1!$A$1/DH$1))","v":0},{"$f":"IF(DI$1>$E$11,0,IF($G79=0,0,(DI$1-$G79)*Hoja1!$A$1/DI$1))","v":0},{"$f":"IF(DJ$1>$E$11,0,IF($G79=0,0,(DJ$1-$G79)*Hoja1!$A$1/DJ$1))","v":0},{"$f":"IF(DK$1>$E$11,0,IF($G79=0,0,(DK$1-$G79)*Hoja1!$A$1/DK$1))","v":0},{"$f":"IF(DL$1>$E$11,0,IF($G79=0,0,(DL$1-$G79)*Hoja1!$A$1/DL$1))","v":0},{"$f":"IF(DM$1>$E$11,0,IF($G79=0,0,(DM$1-$G79)*Hoja1!$A$1/DM$1))","v":0}]
[null,null,null,null,null,1008.345000000002,0,{"$f":"IF(H$1>$E$11,0,IF($G80=0,0,(H$1-$G80)*Hoja1!$A$1/H$1))","v":0},{"$f":"IF(I$1>$E$11,0,IF($G80=0,0,(I$1-$G80)*Hoja1!$A$1/I$1))","v":0},{"$f":"IF(J$1>$E$11,0,IF($G80=0,0,(J$1-$G80)*Hoja1!$A$1/J$1))","v":0},{"$f":"IF(K$1>$E$11,0,IF($G80=0,0,(K$1-$G80)*Hoja1!$A$1/K$1))","v":0},{"$f":"IF(L$1>$E$11,0,IF($G80=0,0,(L$1-$G80)*Hoja1!$A$1/L$1))","v":0},{"$f":"IF(M$1>$E$11,0,IF($G80=0,0,(M$1-$G80)*Hoja1!$A$1/M$1))","v":0},{"$f":"IF(N$1>$E$11,0,IF($G80=0,0,(N$1-$G80)*Hoja1!$A$1/N$1))","v":0},{"$f":"IF(O$1>$E$11,0,IF($G80=0,0,(O$1-$G80)*Hoja1!$A$1/O$1))","v":0},{"$f":"IF(P$1>$E$11,0,IF($G80=0,0,(P$1-$G80)*Hoja1!$A$1/P$1))","v":0},{"$f":"IF(Q$1>$E$11,0,IF($G80=0,0,(Q$1-$G80)*Hoja1!$A$1/Q$1))","v":0},{"$f":"IF(R$1>$E$11,0,IF($G80=0,0,(R$1-$G80)*Hoja1!$A$1/R$1))","v":0},{"$f":"IF(S$1>$E$11,0,IF($G80=0,0,(S$1-$G80)*Hoja1!$A$1/S$1))","v":0},{"$f":"IF(T$1>$E$11,0,IF($G80=0,0,(T$1-$G80)*Hoja1!$A$1/T$1))","v":0},{"$f":"IF(U$1>$E$11,0,IF($G80=0,0,(U$1-$G80)*Hoja1!$A$1/U$1))","v":0},{"$f":"IF(V$1>$E$11,0,IF($G80=0,0,(V$1-$G80)*Hoja1!$A$1/V$1))","v":0},{"$f":"IF(W$1>$E$11,0,IF($G80=0,0,(W$1-$G80)*Hoja1!$A$1/W$1))","v":0},{"$f":"IF(X$1>$E$11,0,IF($G80=0,0,(X$1-$G80)*Hoja1!$A$1/X$1))","v":0},{"$f":"IF(Y$1>$E$11,0,IF($G80=0,0,(Y$1-$G80)*Hoja1!$A$1/Y$1))","v":0},{"$f":"IF(Z$1>$E$11,0,IF($G80=0,0,(Z$1-$G80)*Hoja1!$A$1/Z$1))","v":0},{"$f":"IF(AA$1>$E$11,0,IF($G80=0,0,(AA$1-$G80)*Hoja1!$A$1/AA$1))","v":0},{"$f":"IF(AB$1>$E$11,0,IF($G80=0,0,(AB$1-$G80)*Hoja1!$A$1/AB$1))","v":0},{"$f":"IF(AC$1>$E$11,0,IF($G80=0,0,(AC$1-$G80)*Hoja1!$A$1/AC$1))","v":0},{"$f":"IF(AD$1>$E$11,0,IF($G80=0,0,(AD$1-$G80)*Hoja1!$A$1/AD$1))","v":0},{"$f":"IF(AE$1>$E$11,0,IF($G80=0,0,(AE$1-$G80)*Hoja1!$A$1/AE$1))","v":0},{"$f":"IF(AF$1>$E$11,0,IF($G80=0,0,(AF$1-$G80)*Hoja1!$A$1/AF$1))","v":0},{"$f":"IF(AG$1>$E$11,0,IF($G80=0,0,(AG$1-$G80)*Hoja1!$A$1/AG$1))","v":0},{"$f":"IF(AH$1>$E$11,0,IF($G80=0,0,(AH$1-$G80)*Hoja1!$A$1/AH$1))","v":0},{"$f":"IF(AI$1>$E$11,0,IF($G80=0,0,(AI$1-$G80)*Hoja1!$A$1/AI$1))","v":0},{"$f":"IF(AJ$1>$E$11,0,IF($G80=0,0,(AJ$1-$G80)*Hoja1!$A$1/AJ$1))","v":0},{"$f":"IF(AK$1>$E$11,0,IF($G80=0,0,(AK$1-$G80)*Hoja1!$A$1/AK$1))","v":0},{"$f":"IF(AL$1>$E$11,0,IF($G80=0,0,(AL$1-$G80)*Hoja1!$A$1/AL$1))","v":0},{"$f":"IF(AM$1>$E$11,0,IF($G80=0,0,(AM$1-$G80)*Hoja1!$A$1/AM$1))","v":0},{"$f":"IF(AN$1>$E$11,0,IF($G80=0,0,(AN$1-$G80)*Hoja1!$A$1/AN$1))","v":0},{"$f":"IF(AO$1>$E$11,0,IF($G80=0,0,(AO$1-$G80)*Hoja1!$A$1/AO$1))","v":0},{"$f":"IF(AP$1>$E$11,0,IF($G80=0,0,(AP$1-$G80)*Hoja1!$A$1/AP$1))","v":0},{"$f":"IF(AQ$1>$E$11,0,IF($G80=0,0,(AQ$1-$G80)*Hoja1!$A$1/AQ$1))","v":0},{"$f":"IF(AR$1>$E$11,0,IF($G80=0,0,(AR$1-$G80)*Hoja1!$A$1/AR$1))","v":0},{"$f":"IF(AS$1>$E$11,0,IF($G80=0,0,(AS$1-$G80)*Hoja1!$A$1/AS$1))","v":0},{"$f":"IF(AT$1>$E$11,0,IF($G80=0,0,(AT$1-$G80)*Hoja1!$A$1/AT$1))","v":0},{"$f":"IF(AU$1>$E$11,0,IF($G80=0,0,(AU$1-$G80)*Hoja1!$A$1/AU$1))","v":0},{"$f":"IF(AV$1>$E$11,0,IF($G80=0,0,(AV$1-$G80)*Hoja1!$A$1/AV$1))","v":0},{"$f":"IF(AW$1>$E$11,0,IF($G80=0,0,(AW$1-$G80)*Hoja1!$A$1/AW$1))","v":0},{"$f":"IF(AX$1>$E$11,0,IF($G80=0,0,(AX$1-$G80)*Hoja1!$A$1/AX$1))","v":0},{"$f":"IF(AY$1>$E$11,0,IF($G80=0,0,(AY$1-$G80)*Hoja1!$A$1/AY$1))","v":0},{"$f":"IF(AZ$1>$E$11,0,IF($G80=0,0,(AZ$1-$G80)*Hoja1!$A$1/AZ$1))","v":0},{"$f":"IF(BA$1>$E$11,0,IF($G80=0,0,(BA$1-$G80)*Hoja1!$A$1/BA$1))","v":0},{"$f":"IF(BB$1>$E$11,0,IF($G80=0,0,(BB$1-$G80)*Hoja1!$A$1/BB$1))","v":0},{"$f":"IF(BC$1>$E$11,0,IF($G80=0,0,(BC$1-$G80)*Hoja1!$A$1/BC$1))","v":0},{"$f":"IF(BD$1>$E$11,0,IF($G80=0,0,(BD$1-$G80)*Hoja1!$A$1/BD$1))","v":0},{"$f":"IF(BE$1>$E$11,0,IF($G80=0,0,(BE$1-$G80)*Hoja1!$A$1/BE$1))","v":0},{"$f":"IF(BF$1>$E$11,0,IF($G80=0,0,(BF$1-$G80)*Hoja1!$A$1/BF$1))","v":0},{"$f":"IF(BG$1>$E$11,0,IF($G80=0,0,(BG$1-$G80)*Hoja1!$A$1/BG$1))","v":0},{"$f":"IF(BH$1>$E$11,0,IF($G80=0,0,(BH$1-$G80)*Hoja1!$A$1/BH$1))","v":0},{"$f":"IF(BI$1>$E$11,0,IF($G80=0,0,(BI$1-$G80)*Hoja1!$A$1/BI$1))","v":0},{"$f":"IF(BJ$1>$E$11,0,IF($G80=0,0,(BJ$1-$G80)*Hoja1!$A$1/BJ$1))","v":0},{"$f":"IF(BK$1>$E$11,0,IF($G80=0,0,(BK$1-$G80)*Hoja1!$A$1/BK$1))","v":0},{"$f":"IF(BL$1>$E$11,0,IF($G80=0,0,(BL$1-$G80)*Hoja1!$A$1/BL$1))","v":0},{"$f":"IF(BM$1>$E$11,0,IF($G80=0,0,(BM$1-$G80)*Hoja1!$A$1/BM$1))","v":0},{"$f":"IF(BN$1>$E$11,0,IF($G80=0,0,(BN$1-$G80)*Hoja1!$A$1/BN$1))","v":0},{"$f":"IF(BO$1>$E$11,0,IF($G80=0,0,(BO$1-$G80)*Hoja1!$A$1/BO$1))","v":0},{"$f":"IF(BP$1>$E$11,0,IF($G80=0,0,(BP$1-$G80)*Hoja1!$A$1/BP$1))","v":0},{"$f":"IF(BQ$1>$E$11,0,IF($G80=0,0,(BQ$1-$G80)*Hoja1!$A$1/BQ$1))","v":0},{"$f":"IF(BR$1>$E$11,0,IF($G80=0,0,(BR$1-$G80)*Hoja1!$A$1/BR$1))","v":0},{"$f":"IF(BS$1>$E$11,0,IF($G80=0,0,(BS$1-$G80)*Hoja1!$A$1/BS$1))","v":0},{"$f":"IF(BT$1>$E$11,0,IF($G80=0,0,(BT$1-$G80)*Hoja1!$A$1/BT$1))","v":0},{"$f":"IF(BU$1>$E$11,0,IF($G80=0,0,(BU$1-$G80)*Hoja1!$A$1/BU$1))","v":0},{"$f":"IF(BV$1>$E$11,0,IF($G80=0,0,(BV$1-$G80)*Hoja1!$A$1/BV$1))","v":0},{"$f":"IF(BW$1>$E$11,0,IF($G80=0,0,(BW$1-$G80)*Hoja1!$A$1/BW$1))","v":0},{"$f":"IF(BX$1>$E$11,0,IF($G80=0,0,(BX$1-$G80)*Hoja1!$A$1/BX$1))","v":0},{"$f":"IF(BY$1>$E$11,0,IF($G80=0,0,(BY$1-$G80)*Hoja1!$A$1/BY$1))","v":0},{"$f":"IF(BZ$1>$E$11,0,IF($G80=0,0,(BZ$1-$G80)*Hoja1!$A$1/BZ$1))","v":0},{"$f":"IF(CA$1>$E$11,0,IF($G80=0,0,(CA$1-$G80)*Hoja1!$A$1/CA$1))","v":0},{"$f":"IF(CB$1>$E$11,0,IF($G80=0,0,(CB$1-$G80)*Hoja1!$A$1/CB$1))","v":0},{"$f":"IF(CC$1>$E$11,0,IF($G80=0,0,(CC$1-$G80)*Hoja1!$A$1/CC$1))","v":0},{"$f":"IF(CD$1>$E$11,0,IF($G80=0,0,(CD$1-$G80)*Hoja1!$A$1/CD$1))","v":0},{"$f":"IF(CE$1>$E$11,0,IF($G80=0,0,(CE$1-$G80)*Hoja1!$A$1/CE$1))","v":0},{"$f":"IF(CF$1>$E$11,0,IF($G80=0,0,(CF$1-$G80)*Hoja1!$A$1/CF$1))","v":0},{"$f":"IF(CG$1>$E$11,0,IF($G80=0,0,(CG$1-$G80)*Hoja1!$A$1/CG$1))","v":0},{"$f":"IF(CH$1>$E$11,0,IF($G80=0,0,(CH$1-$G80)*Hoja1!$A$1/CH$1))","v":0},{"$f":"IF(CI$1>$E$11,0,IF($G80=0,0,(CI$1-$G80)*Hoja1!$A$1/CI$1))","v":0},{"$f":"IF(CJ$1>$E$11,0,IF($G80=0,0,(CJ$1-$G80)*Hoja1!$A$1/CJ$1))","v":0},{"$f":"IF(CK$1>$E$11,0,IF($G80=0,0,(CK$1-$G80)*Hoja1!$A$1/CK$1))","v":0},{"$f":"IF(CL$1>$E$11,0,IF($G80=0,0,(CL$1-$G80)*Hoja1!$A$1/CL$1))","v":0},{"$f":"IF(CM$1>$E$11,0,IF($G80=0,0,(CM$1-$G80)*Hoja1!$A$1/CM$1))","v":0},{"$f":"IF(CN$1>$E$11,0,IF($G80=0,0,(CN$1-$G80)*Hoja1!$A$1/CN$1))","v":0},{"$f":"IF(CO$1>$E$11,0,IF($G80=0,0,(CO$1-$G80)*Hoja1!$A$1/CO$1))","v":0},{"$f":"IF(CP$1>$E$11,0,IF($G80=0,0,(CP$1-$G80)*Hoja1!$A$1/CP$1))","v":0},{"$f":"IF(CQ$1>$E$11,0,IF($G80=0,0,(CQ$1-$G80)*Hoja1!$A$1/CQ$1))","v":0},{"$f":"IF(CR$1>$E$11,0,IF($G80=0,0,(CR$1-$G80)*Hoja1!$A$1/CR$1))","v":0},{"$f":"IF(CS$1>$E$11,0,IF($G80=0,0,(CS$1-$G80)*Hoja1!$A$1/CS$1))","v":0},{"$f":"IF(CT$1>$E$11,0,IF($G80=0,0,(CT$1-$G80)*Hoja1!$A$1/CT$1))","v":0},{"$f":"IF(CU$1>$E$11,0,IF($G80=0,0,(CU$1-$G80)*Hoja1!$A$1/CU$1))","v":0},{"$f":"IF(CV$1>$E$11,0,IF($G80=0,0,(CV$1-$G80)*Hoja1!$A$1/CV$1))","v":0},{"$f":"IF(CW$1>$E$11,0,IF($G80=0,0,(CW$1-$G80)*Hoja1!$A$1/CW$1))","v":0},{"$f":"IF(CX$1>$E$11,0,IF($G80=0,0,(CX$1-$G80)*Hoja1!$A$1/CX$1))","v":0},{"$f":"IF(CY$1>$E$11,0,IF($G80=0,0,(CY$1-$G80)*Hoja1!$A$1/CY$1))","v":0},{"$f":"IF(CZ$1>$E$11,0,IF($G80=0,0,(CZ$1-$G80)*Hoja1!$A$1/CZ$1))","v":0},{"$f":"IF(DA$1>$E$11,0,IF($G80=0,0,(DA$1-$G80)*Hoja1!$A$1/DA$1))","v":0},{"$f":"IF(DB$1>$E$11,0,IF($G80=0,0,(DB$1-$G80)*Hoja1!$A$1/DB$1))","v":0},{"$f":"IF(DC$1>$E$11,0,IF($G80=0,0,(DC$1-$G80)*Hoja1!$A$1/DC$1))","v":0},{"$f":"IF(DD$1>$E$11,0,IF($G80=0,0,(DD$1-$G80)*Hoja1!$A$1/DD$1))","v":0},{"$f":"IF(DE$1>$E$11,0,IF($G80=0,0,(DE$1-$G80)*Hoja1!$A$1/DE$1))","v":0},{"$f":"IF(DF$1>$E$11,0,IF($G80=0,0,(DF$1-$G80)*Hoja1!$A$1/DF$1))","v":0},{"$f":"IF(DG$1>$E$11,0,IF($G80=0,0,(DG$1-$G80)*Hoja1!$A$1/DG$1))","v":0},{"$f":"IF(DH$1>$E$11,0,IF($G80=0,0,(DH$1-$G80)*Hoja1!$A$1/DH$1))","v":0},{"$f":"IF(DI$1>$E$11,0,IF($G80=0,0,(DI$1-$G80)*Hoja1!$A$1/DI$1))","v":0},{"$f":"IF(DJ$1>$E$11,0,IF($G80=0,0,(DJ$1-$G80)*Hoja1!$A$1/DJ$1))","v":0},{"$f":"IF(DK$1>$E$11,0,IF($G80=0,0,(DK$1-$G80)*Hoja1!$A$1/DK$1))","v":0},{"$f":"IF(DL$1>$E$11,0,IF($G80=0,0,(DL$1-$G80)*Hoja1!$A$1/DL$1))","v":0},{"$f":"IF(DM$1>$E$11,0,IF($G80=0,0,(DM$1-$G80)*Hoja1!$A$1/DM$1))","v":0}]
[null,null,null,null,null,1021.535000000002,0,{"$f":"IF(H$1>$E$11,0,IF($G81=0,0,(H$1-$G81)*Hoja1!$A$1/H$1))","v":0},{"$f":"IF(I$1>$E$11,0,IF($G81=0,0,(I$1-$G81)*Hoja1!$A$1/I$1))","v":0},{"$f":"IF(J$1>$E$11,0,IF($G81=0,0,(J$1-$G81)*Hoja1!$A$1/J$1))","v":0},{"$f":"IF(K$1>$E$11,0,IF($G81=0,0,(K$1-$G81)*Hoja1!$A$1/K$1))","v":0},{"$f":"IF(L$1>$E$11,0,IF($G81=0,0,(L$1-$G81)*Hoja1!$A$1/L$1))","v":0},{"$f":"IF(M$1>$E$11,0,IF($G81=0,0,(M$1-$G81)*Hoja1!$A$1/M$1))","v":0},{"$f":"IF(N$1>$E$11,0,IF($G81=0,0,(N$1-$G81)*Hoja1!$A$1/N$1))","v":0},{"$f":"IF(O$1>$E$11,0,IF($G81=0,0,(O$1-$G81)*Hoja1!$A$1/O$1))","v":0},{"$f":"IF(P$1>$E$11,0,IF($G81=0,0,(P$1-$G81)*Hoja1!$A$1/P$1))","v":0},{"$f":"IF(Q$1>$E$11,0,IF($G81=0,0,(Q$1-$G81)*Hoja1!$A$1/Q$1))","v":0},{"$f":"IF(R$1>$E$11,0,IF($G81=0,0,(R$1-$G81)*Hoja1!$A$1/R$1))","v":0},{"$f":"IF(S$1>$E$11,0,IF($G81=0,0,(S$1-$G81)*Hoja1!$A$1/S$1))","v":0},{"$f":"IF(T$1>$E$11,0,IF($G81=0,0,(T$1-$G81)*Hoja1!$A$1/T$1))","v":0},{"$f":"IF(U$1>$E$11,0,IF($G81=0,0,(U$1-$G81)*Hoja1!$A$1/U$1))","v":0},{"$f":"IF(V$1>$E$11,0,IF($G81=0,0,(V$1-$G81)*Hoja1!$A$1/V$1))","v":0},{"$f":"IF(W$1>$E$11,0,IF($G81=0,0,(W$1-$G81)*Hoja1!$A$1/W$1))","v":0},{"$f":"IF(X$1>$E$11,0,IF($G81=0,0,(X$1-$G81)*Hoja1!$A$1/X$1))","v":0},{"$f":"IF(Y$1>$E$11,0,IF($G81=0,0,(Y$1-$G81)*Hoja1!$A$1/Y$1))","v":0},{"$f":"IF(Z$1>$E$11,0,IF($G81=0,0,(Z$1-$G81)*Hoja1!$A$1/Z$1))","v":0},{"$f":"IF(AA$1>$E$11,0,IF($G81=0,0,(AA$1-$G81)*Hoja1!$A$1/AA$1))","v":0},{"$f":"IF(AB$1>$E$11,0,IF($G81=0,0,(AB$1-$G81)*Hoja1!$A$1/AB$1))","v":0},{"$f":"IF(AC$1>$E$11,0,IF($G81=0,0,(AC$1-$G81)*Hoja1!$A$1/AC$1))","v":0},{"$f":"IF(AD$1>$E$11,0,IF($G81=0,0,(AD$1-$G81)*Hoja1!$A$1/AD$1))","v":0},{"$f":"IF(AE$1>$E$11,0,IF($G81=0,0,(AE$1-$G81)*Hoja1!$A$1/AE$1))","v":0},{"$f":"IF(AF$1>$E$11,0,IF($G81=0,0,(AF$1-$G81)*Hoja1!$A$1/AF$1))","v":0},{"$f":"IF(AG$1>$E$11,0,IF($G81=0,0,(AG$1-$G81)*Hoja1!$A$1/AG$1))","v":0},{"$f":"IF(AH$1>$E$11,0,IF($G81=0,0,(AH$1-$G81)*Hoja1!$A$1/AH$1))","v":0},{"$f":"IF(AI$1>$E$11,0,IF($G81=0,0,(AI$1-$G81)*Hoja1!$A$1/AI$1))","v":0},{"$f":"IF(AJ$1>$E$11,0,IF($G81=0,0,(AJ$1-$G81)*Hoja1!$A$1/AJ$1))","v":0},{"$f":"IF(AK$1>$E$11,0,IF($G81=0,0,(AK$1-$G81)*Hoja1!$A$1/AK$1))","v":0},{"$f":"IF(AL$1>$E$11,0,IF($G81=0,0,(AL$1-$G81)*Hoja1!$A$1/AL$1))","v":0},{"$f":"IF(AM$1>$E$11,0,IF($G81=0,0,(AM$1-$G81)*Hoja1!$A$1/AM$1))","v":0},{"$f":"IF(AN$1>$E$11,0,IF($G81=0,0,(AN$1-$G81)*Hoja1!$A$1/AN$1))","v":0},{"$f":"IF(AO$1>$E$11,0,IF($G81=0,0,(AO$1-$G81)*Hoja1!$A$1/AO$1))","v":0},{"$f":"IF(AP$1>$E$11,0,IF($G81=0,0,(AP$1-$G81)*Hoja1!$A$1/AP$1))","v":0},{"$f":"IF(AQ$1>$E$11,0,IF($G81=0,0,(AQ$1-$G81)*Hoja1!$A$1/AQ$1))","v":0},{"$f":"IF(AR$1>$E$11,0,IF($G81=0,0,(AR$1-$G81)*Hoja1!$A$1/AR$1))","v":0},{"$f":"IF(AS$1>$E$11,0,IF($G81=0,0,(AS$1-$G81)*Hoja1!$A$1/AS$1))","v":0},{"$f":"IF(AT$1>$E$11,0,IF($G81=0,0,(AT$1-$G81)*Hoja1!$A$1/AT$1))","v":0},{"$f":"IF(AU$1>$E$11,0,IF($G81=0,0,(AU$1-$G81)*Hoja1!$A$1/AU$1))","v":0},{"$f":"IF(AV$1>$E$11,0,IF($G81=0,0,(AV$1-$G81)*Hoja1!$A$1/AV$1))","v":0},{"$f":"IF(AW$1>$E$11,0,IF($G81=0,0,(AW$1-$G81)*Hoja1!$A$1/AW$1))","v":0},{"$f":"IF(AX$1>$E$11,0,IF($G81=0,0,(AX$1-$G81)*Hoja1!$A$1/AX$1))","v":0},{"$f":"IF(AY$1>$E$11,0,IF($G81=0,0,(AY$1-$G81)*Hoja1!$A$1/AY$1))","v":0},{"$f":"IF(AZ$1>$E$11,0,IF($G81=0,0,(AZ$1-$G81)*Hoja1!$A$1/AZ$1))","v":0},{"$f":"IF(BA$1>$E$11,0,IF($G81=0,0,(BA$1-$G81)*Hoja1!$A$1/BA$1))","v":0},{"$f":"IF(BB$1>$E$11,0,IF($G81=0,0,(BB$1-$G81)*Hoja1!$A$1/BB$1))","v":0},{"$f":"IF(BC$1>$E$11,0,IF($G81=0,0,(BC$1-$G81)*Hoja1!$A$1/BC$1))","v":0},{"$f":"IF(BD$1>$E$11,0,IF($G81=0,0,(BD$1-$G81)*Hoja1!$A$1/BD$1))","v":0},{"$f":"IF(BE$1>$E$11,0,IF($G81=0,0,(BE$1-$G81)*Hoja1!$A$1/BE$1))","v":0},{"$f":"IF(BF$1>$E$11,0,IF($G81=0,0,(BF$1-$G81)*Hoja1!$A$1/BF$1))","v":0},{"$f":"IF(BG$1>$E$11,0,IF($G81=0,0,(BG$1-$G81)*Hoja1!$A$1/BG$1))","v":0},{"$f":"IF(BH$1>$E$11,0,IF($G81=0,0,(BH$1-$G81)*Hoja1!$A$1/BH$1))","v":0},{"$f":"IF(BI$1>$E$11,0,IF($G81=0,0,(BI$1-$G81)*Hoja1!$A$1/BI$1))","v":0},{"$f":"IF(BJ$1>$E$11,0,IF($G81=0,0,(BJ$1-$G81)*Hoja1!$A$1/BJ$1))","v":0},{"$f":"IF(BK$1>$E$11,0,IF($G81=0,0,(BK$1-$G81)*Hoja1!$A$1/BK$1))","v":0},{"$f":"IF(BL$1>$E$11,0,IF($G81=0,0,(BL$1-$G81)*Hoja1!$A$1/BL$1))","v":0},{"$f":"IF(BM$1>$E$11,0,IF($G81=0,0,(BM$1-$G81)*Hoja1!$A$1/BM$1))","v":0},{"$f":"IF(BN$1>$E$11,0,IF($G81=0,0,(BN$1-$G81)*Hoja1!$A$1/BN$1))","v":0},{"$f":"IF(BO$1>$E$11,0,IF($G81=0,0,(BO$1-$G81)*Hoja1!$A$1/BO$1))","v":0},{"$f":"IF(BP$1>$E$11,0,IF($G81=0,0,(BP$1-$G81)*Hoja1!$A$1/BP$1))","v":0},{"$f":"IF(BQ$1>$E$11,0,IF($G81=0,0,(BQ$1-$G81)*Hoja1!$A$1/BQ$1))","v":0},{"$f":"IF(BR$1>$E$11,0,IF($G81=0,0,(BR$1-$G81)*Hoja1!$A$1/BR$1))","v":0},{"$f":"IF(BS$1>$E$11,0,IF($G81=0,0,(BS$1-$G81)*Hoja1!$A$1/BS$1))","v":0},{"$f":"IF(BT$1>$E$11,0,IF($G81=0,0,(BT$1-$G81)*Hoja1!$A$1/BT$1))","v":0},{"$f":"IF(BU$1>$E$11,0,IF($G81=0,0,(BU$1-$G81)*Hoja1!$A$1/BU$1))","v":0},{"$f":"IF(BV$1>$E$11,0,IF($G81=0,0,(BV$1-$G81)*Hoja1!$A$1/BV$1))","v":0},{"$f":"IF(BW$1>$E$11,0,IF($G81=0,0,(BW$1-$G81)*Hoja1!$A$1/BW$1))","v":0},{"$f":"IF(BX$1>$E$11,0,IF($G81=0,0,(BX$1-$G81)*Hoja1!$A$1/BX$1))","v":0},{"$f":"IF(BY$1>$E$11,0,IF($G81=0,0,(BY$1-$G81)*Hoja1!$A$1/BY$1))","v":0},{"$f":"IF(BZ$1>$E$11,0,IF($G81=0,0,(BZ$1-$G81)*Hoja1!$A$1/BZ$1))","v":0},{"$f":"IF(CA$1>$E$11,0,IF($G81=0,0,(CA$1-$G81)*Hoja1!$A$1/CA$1))","v":0},{"$f":"IF(CB$1>$E$11,0,IF($G81=0,0,(CB$1-$G81)*Hoja1!$A$1/CB$1))","v":0},{"$f":"IF(CC$1>$E$11,0,IF($G81=0,0,(CC$1-$G81)*Hoja1!$A$1/CC$1))","v":0},{"$f":"IF(CD$1>$E$11,0,IF($G81=0,0,(CD$1-$G81)*Hoja1!$A$1/CD$1))","v":0},{"$f":"IF(CE$1>$E$11,0,IF($G81=0,0,(CE$1-$G81)*Hoja1!$A$1/CE$1))","v":0},{"$f":"IF(CF$1>$E$11,0,IF($G81=0,0,(CF$1-$G81)*Hoja1!$A$1/CF$1))","v":0},{"$f":"IF(CG$1>$E$11,0,IF($G81=0,0,(CG$1-$G81)*Hoja1!$A$1/CG$1))","v":0},{"$f":"IF(CH$1>$E$11,0,IF($G81=0,0,(CH$1-$G81)*Hoja1!$A$1/CH$1))","v":0},{"$f":"IF(CI$1>$E$11,0,IF($G81=0,0,(CI$1-$G81)*Hoja1!$A$1/CI$1))","v":0},{"$f":"IF(CJ$1>$E$11,0,IF($G81=0,0,(CJ$1-$G81)*Hoja1!$A$1/CJ$1))","v":0},{"$f":"IF(CK$1>$E$11,0,IF($G81=0,0,(CK$1-$G81)*Hoja1!$A$1/CK$1))","v":0},{"$f":"IF(CL$1>$E$11,0,IF($G81=0,0,(CL$1-$G81)*Hoja1!$A$1/CL$1))","v":0},{"$f":"IF(CM$1>$E$11,0,IF($G81=0,0,(CM$1-$G81)*Hoja1!$A$1/CM$1))","v":0},{"$f":"IF(CN$1>$E$11,0,IF($G81=0,0,(CN$1-$G81)*Hoja1!$A$1/CN$1))","v":0},{"$f":"IF(CO$1>$E$11,0,IF($G81=0,0,(CO$1-$G81)*Hoja1!$A$1/CO$1))","v":0},{"$f":"IF(CP$1>$E$11,0,IF($G81=0,0,(CP$1-$G81)*Hoja1!$A$1/CP$1))","v":0},{"$f":"IF(CQ$1>$E$11,0,IF($G81=0,0,(CQ$1-$G81)*Hoja1!$A$1/CQ$1))","v":0},{"$f":"IF(CR$1>$E$11,0,IF($G81=0,0,(CR$1-$G81)*Hoja1!$A$1/CR$1))","v":0},{"$f":"IF(CS$1>$E$11,0,IF($G81=0,0,(CS$1-$G81)*Hoja1!$A$1/CS$1))","v":0},{"$f":"IF(CT$1>$E$11,0,IF($G81=0,0,(CT$1-$G81)*Hoja1!$A$1/CT$1))","v":0},{"$f":"IF(CU$1>$E$11,0,IF($G81=0,0,(CU$1-$G81)*Hoja1!$A$1/CU$1))","v":0},{"$f":"IF(CV$1>$E$11,0,IF($G81=0,0,(CV$1-$G81)*Hoja1!$A$1/CV$1))","v":0},{"$f":"IF(CW$1>$E$11,0,IF($G81=0,0,(CW$1-$G81)*Hoja1!$A$1/CW$1))","v":0},{"$f":"IF(CX$1>$E$11,0,IF($G81=0,0,(CX$1-$G81)*Hoja1!$A$1/CX$1))","v":0},{"$f":"IF(CY$1>$E$11,0,IF($G81=0,0,(CY$1-$G81)*Hoja1!$A$1/CY$1))","v":0},{"$f":"IF(CZ$1>$E$11,0,IF($G81=0,0,(CZ$1-$G81)*Hoja1!$A$1/CZ$1))","v":0},{"$f":"IF(DA$1>$E$11,0,IF($G81=0,0,(DA$1-$G81)*Hoja1!$A$1/DA$1))","v":0},{"$f":"IF(DB$1>$E$11,0,IF($G81=0,0,(DB$1-$G81)*Hoja1!$A$1/DB$1))","v":0},{"$f":"IF(DC$1>$E$11,0,IF($G81=0,0,(DC$1-$G81)*Hoja1!$A$1/DC$1))","v":0},{"$f":"IF(DD$1>$E$11,0,IF($G81=0,0,(DD$1-$G81)*Hoja1!$A$1/DD$1))","v":0},{"$f":"IF(DE$1>$E$11,0,IF($G81=0,0,(DE$1-$G81)*Hoja1!$A$1/DE$1))","v":0},{"$f":"IF(DF$1>$E$11,0,IF($G81=0,0,(DF$1-$G81)*Hoja1!$A$1/DF$1))","v":0},{"$f":"IF(DG$1>$E$11,0,IF($G81=0,0,(DG$1-$G81)*Hoja1!$A$1/DG$1))","v":0},{"$f":"IF(DH$1>$E$11,0,IF($G81=0,0,(DH$1-$G81)*Hoja1!$A$1/DH$1))","v":0},{"$f":"IF(DI$1>$E$11,0,IF($G81=0,0,(DI$1-$G81)*Hoja1!$A$1/DI$1))","v":0},{"$f":"IF(DJ$1>$E$11,0,IF($G81=0,0,(DJ$1-$G81)*Hoja1!$A$1/DJ$1))","v":0},{"$f":"IF(DK$1>$E$11,0,IF($G81=0,0,(DK$1-$G81)*Hoja1!$A$1/DK$1))","v":0},{"$f":"IF(DL$1>$E$11,0,IF($G81=0,0,(DL$1-$G81)*Hoja1!$A$1/DL$1))","v":0},{"$f":"IF(DM$1>$E$11,0,IF($G81=0,0,(DM$1-$G81)*Hoja1!$A$1/DM$1))","v":0}]
[null,null,null,null,null,null,"alto","alto"]
[]
[null,null,null,null,null,null,null,"fs"]
[null,null,null,null,null,null,null,{"$f":"IF(ABS(H4)>$B$17,$B$17,ABS(H4))","v":4200},{"$f":"IF(ABS(I4)>$B$17,$B$17,ABS(I4))","v":4200},{"$f":"IF(ABS(J4)>$B$17,$B$17,ABS(J4))","v":2928.1814363712729},1131.1640389131164,63.669366098855207,915.57043769433164,1553.6498640451789,2049.4331908567187,2445.7448587192785,2769.791824950616,3039.6880657290076,3267.9604163989211,3463.5485025653265,3633.0030063467325,3781.2336916814534,3911.9929280031429,4028.1977553102679,4132.1500746858801,4200,4200,4200,4200,4200,4200,0,0,0,0,0,0,0,0,0,0,0,0,0,0,0,0,0,0,0,0,0,0,0,0,0,0,0,0,0,0,0,0,0,0,0,0,0,0,0,0,0,0,{"$f":"IF(ABS(BV4)>$B$17,$B$17,ABS(BV4))","v":0},0,0,0,{"$f":"IF(ABS(BZ4)>$B$17,$B$17,ABS(BZ4))","v":0},{"$f":"IF(ABS(CA4)>$B$17,$B$17,ABS(CA4))","v":0},{"$f":"IF(ABS(CB4)>$B$17,$B$17,ABS(CB4))","v":0},0,0,0,0,0,0,0,0,0,0,0,0,0,0,0,0,0,0,0,0,0,0,0,0,0,0,0,0,0,0,0,0,0,0,0,0,0]
[null,null,null,null,null,null,null,{"$f":"IF(ABS(H5)>$B$17,$B$17,ABS(H5))","v":4200},{"$f":"IF(ABS(I5)>$B$17,$B$17,ABS(I5))","v":4200},4200,4200,4200,4200,4200,4200,4200,4200,3572.7614538365124,2834.5970954890108,2202.1238515690247,1654.1587796459187,1174.8251748251744,751.98899911599983,376.21741953436549,40.06677796327164,262.41549119439156,536.0464192035613,784.76595099006181,1011.827878963791,1219.9429803212574,1411.3877578265806,0,0,0,0,0,0,0,0,0,0,0,0,0,0,0,0,0,0,0,0,0,0,0,0,0,0,0,0,0,0,0,0,0,0,0,0,0,0,0,0,0,0,0,0,0,0,{"$f":"IF(ABS(BZ5)>$B$17,$B$17,ABS(BZ5))","v":0},{"$f":"IF(ABS(CA5)>$B$17,$B$17,ABS(CA5))","v":0},0,0,0,0,0,0,0,0,0,0,0,0,0,0,0,0,0,0,0,0,0,0,0,0,0,0,0,0,0,0,0,0,0,0,0,0,0,0]
[null,null,null,null,null,null,null,{"$f":"IF(ABS(H6)>$B$17,$B$17,ABS(H6))","v":0},0,0,0,0,0,0,0,0,0,0,0,0,0,0,0,0,0,0,0,0,0,0,0,0,0,0,0,0,0,0,0,0,0,0,0,0,0,0,0,0,0,0,0,0,0,0,0,0,0,0,0,0,0,0,0,0,0,0,0,0,0,0,0,0,0,0,0,0,0,0,0,0,0,0,0,0,0,0,0,0,0,0,0,0,0,0,0,0,0,0,0,0,0,0,0,0,0,0,0,0,0,0,0,0,0,0,0,0,0]
[null,null,null,null,null,null,null,0,0,0,0,0,0,0,0,0,0,0,0,0,0,0,0,0,0,0,0,0,0,0,0,0,0,0,0,0,0,0,0,0,0,0,0,0,0,0,0,0,0,0,0,0,0,0,0,0,0,0,0,0,0,0,0,0,0,0,0,0,0,0,0,0,0,0,0,0,0,0,0,0,0,0,0,0,0,0,0,0,0,0,0,0,0,0,0,0,0,0,0,0,0,0,0,0,0,0,0,0,0,0,0,0,0,0,0,0,0]
[null,null,null,null,null,null,null,0,0,0,0,0,0,0,0,0,0,0,0,0,0,0,0,0,0,0,0,0,0,0,0,0,0,0,0,0,0,0,0,0,0,0,0,0,0,0,0,0,0,0,0,0,0,0,0,0,0,0,0,0,0,0,0,0,0,0,0,0,0,0,0,0,0,0,0,0,0,0,0,0,0,0,0,0,0,0,0,0,0,0,0,0,0,0,0,0,0,0,0,0,0,0,0,0,0,0,0,0,0,0,0,0,0,0,0,0,0]
[null,null,null,null,null,null,null,0,0,0,0,0,0,0,0,0,0,0,0,0,0,0,0,0,0,0,0,0,0,0,0,0,0,0,0,0,0,0,0,0,0,0,0,0,0,0,0,0,0,0,0,0,0,0,0,0,0,0,0,0,0,0,0,0,0,0,0,0,0,0,{"$f":"IF(ABS(BS9)>$B$17,$B$17,ABS(BS9))","v":0},0,0,0,0,0,0,0,0,0,0,0,0,0,0,0,0,0,0,0,0,0,0,0,0,0,0,0,0,0,0,0,0,0,0,0,0,0,0,0,0,0,0,0,0,0,0]
[null,null,null,null,null,null,null,{"$f":"IF(ABS(H10)>$B$17,$B$17,ABS(H10))","v":0},0,0,0,0,0,0,0,0,0,0,0,0,0,0,0,0,0,0,0,0,0,0,0,0,0,0,0,0,0,0,0,0,0,0,0,0,0,0,0,0,0,0,0,0,0,0,0,0,0,0,0,0,0,0,0,0,0,0,0,0,0,0,0,0,0,0,0,0,0,0,0,0,0,0,0,0,0,0,0,0,0,0,0,0,0,0,0,0,0,0,0,0,0,0,0,0,0,0,0,0,0,0,0,0,0,0,0,0,0]
[null,null,null,null,null,null,null,0,0,0,0,0,0,0,0,0,0,0,0,0,0,0,0,0,0,0,0,0,0,0,0,0,0,0,0,0,0,0,0,0,0,0,0,0,0,0,0,0,0,0,0,0,0,0,0,0,0,0,0,0,0,0,0,0,0,0,0,0,0,0,0,0,0,0,0,0,0,0,0,0,0,0,0,0,0,0,0,0,0,0,0,0,0,0,0,0,0,0,0,0,0,0,0,0,0,0,0,0,0,0,0,0,0,0,0,0,0]
[null,null,null,null,null,null,null,0,0,0,0,0,0,0,0,0,0,0,0,0,0,0,0,0,0,0,0,0,0,0,0,0,0,0,0,0,0,0,0,0,0,0,0,0,0,0,0,0,0,0,0,0,0,0,0,0,0,0,0,0,0,0,0,0,0,0,0,0,0,0,0,0,0,0,0,0,0,0,0,0,{"$f":"IF(ABS(CC12)>$B$17,$B$17,ABS(CC12))","v":0},0,0,0,0,0,0,0,0,0,0,0,0,0,0,0,0,0,0,0,0,0,0,0,0,0,0,0,0,0,0,0,0,0,0,0,0]
[null,null,null,null,null,null,null,0,0,0,0,0,0,0,0,0,0,0,0,0,0,0,0,0,0,0,0,0,0,0,0,0,0,0,0,0,0,0,0,0,0,0,0,0,0,0,0,0,0,0,0,0,0,0,0,0,0,0,0,0,0,0,0,0,0,0,0,0,0,0,{"$f":"IF(ABS(BS13)>$B$17,$B$17,ABS(BS13))","v":0},0,0,{"$f":"IF(ABS(BV13)>$B$17,$B$17,ABS(BV13))","v":0},0,0,0,0,0,0,0,0,0,0,0,0,0,0,0,0,0,0,0,0,0,0,0,0,0,0,0,0,0,0,0,0,0,0,0,0,0,0,0,0,0,0,0]
[null,null,null,null,null,null,null,{"$f":"IF(ABS(H14)>$B$17,$B$17,ABS(H14))","v":0},0,0,0,0,0,0,0,0,0,0,0,0,0,0,0,0,0,0,0,0,0,0,0,0,0,0,0,0,0,0,0,0,0,0,0,0,0,0,0,0,0,0,0,0,0,0,0,0,0,0,0,0,0,0,0,0,0,0,0,0,0,0,0,0,0,0,0,0,0,0,0,0,0,0,0,0,0,0,0,0,0,0,0,0,0,0,0,0,0,0,0,0,0,0,0,0,0,0,0,0,0,0,0,0,0,0,0,0,0]
[null,null,null,null,null,null,null,0,0,0,0,0,0,0,0,0,0,0,0,0,0,0,0,0,0,0,0,0,0,0,0,0,0,0,0,0,0,0,0,0,0,0,0,0,0,0,0,0,0,0,0,0,0,0,0,0,0,0,0,0,0,0,0,0,0,0,0,0,0,0,0,0,0,0,0,0,0,0,0,0,0,0,0,0,0,0,0,0,0,0,0,0,0,0,0,0,0,0,0,0,0,0,0,0,0,0,0,0,0,0,0,0,0,0,0,0,0]
[null,null,null,null,null,null,null,0,0,0,0,0,0,0,0,0,0,0,0,0,0,0,0,0,0,0,0,0,0,0,0,0,0,0,0,0,0,0,0,0,0,0,0,0,0,0,0,0,0,0,0,0,0,0,0,0,0,0,0,0,0,0,0,0,0,0,0,0,0,0,0,0,0,0,0,0,0,0,0,0,0,0,0,0,0,0,0,0,0,0,0,0,0,0,0,0,0,0,0,0,0,0,0,0,0,0,0,0,0,0,0,0,0,0,0,0,0]
[null,null,null,null,null,null,null,0,0,0,0,0,0,0,0,0,0,0,0,0,0,0,0,0,0,0,0,0,0,0,0,0,0,0,0,0,0,0,0,0,0,0,0,0,0,0,0,0,0,0,0,0,0,0,0,0,0,0,0,0,0,0,0,0,0,0,0,0,0,0,{"$f":"IF(ABS(BS17)>$B$17,$B$17,ABS(BS17))","v":0},0,0,0,0,0,0,0,0,0,0,0,0,0,0,0,0,0,0,0,0,0,0,0,0,0,0,0,0,0,0,0,0,0,0,0,0,0,0,0,0,0,0,0,0,0,0]
[null,null,null,null,null,null,null,{"$f":"IF(ABS(H18)>$B$17,$B$17,ABS(H18))","v":0},0,0,0,0,0,0,0,0,0,0,0,0,0,0,0,0,0,0,0,0,0,0,0,0,0,0,0,0,0,0,0,0,0,0,0,0,0,0,0,0,0,0,0,0,0,0,0,0,0,0,0,0,0,0,0,0,0,0,0,0,0,0,0,0,0,0,0,0,0,0,0,0,0,0,0,0,0,0,0,0,0,0,0,0,0,0,0,0,0,0,0,0,0,0,0,0,0,0,0,0,{"$f":"IF(ABS(DE18)>$B$17,$B$17,ABS(DE18))","v":0},0,0,0,0,0,0,0,0]
[null,null,null,null,null,null,null,0,0,0,0,0,0,0,0,0,0,0,0,0,0,0,0,0,0,0,0,0,0,0,0,0,0,0,0,0,0,0,0,0,0,0,0,0,0,0,0,0,0,0,0,0,0,0,0,0,0,0,0,0,0,0,0,0,0,0,0,0,0,0,0,0,0,{"$f":"IF(ABS(BV19)>$B$17,$B$17,ABS(BV19))","v":0},0,0,0,0,0,0,0,0,0,0,0,0,0,0,0,0,0,0,0,0,0,0,0,0,0,0,0,0,0,0,0,0,0,0,0,0,0,0,0,0,0,0,0]
[null,null,null,null,null,null,null,0,0,0,0,0,0,0,0,0,0,0,0,0,0,0,0,0,0,0,0,0,0,0,0,0,0,0,0,0,0,0,0,0,0,0,0,0,0,0,0,0,0,0,0,0,0,0,0,0,0,0,0,0,0,0,0,0,0,0,0,0,0,0,0,{"$f":"IF(ABS(BT20)>$B$17,$B$17,ABS(BT20))","v":0},0,0,0,0,0,0,0,0,0,0,0,0,0,0,0,0,0,0,0,0,0,0,0,0,0,0,0,0,0,0,0,0,0,0,0,0,0,0,0,0,0,0,0,0,0]
[null,null,null,null,null,null,null,0,0,0,0,0,0,0,0,0,0,0,0,0,0,0,0,0,0,0,0,0,0,0,0,0,0,0,0,0,0,0,0,0,0,0,0,0,0,0,0,0,0,0,0,0,0,0,0,0,0,0,0,0,0,0,0,0,0,0,0,0,0,0,{"$f":"IF(ABS(BS21)>$B$17,$B$17,ABS(BS21))","v":0},0,0,0,0,0,0,0,0,0,0,0,0,0,0,0,0,0,0,0,0,0,0,0,0,0,0,0,0,0,0,0,0,0,0,0,0,0,0,0,0,0,0,0,0,0,0]
[null,null,null,null,null,null,null,{"$f":"IF(ABS(H22)>$B$17,$B$17,ABS(H22))","v":0},0,0,0,0,0,0,0,0,0,0,0,0,0,0,0,0,0,0,0,0,0,0,0,0,0,0,0,0,0,0,0,0,0,0,0,0,0,0,0,0,0,0,0,0,0,0,0,0,0,0,0,0,0,0,0,0,0,0,0,0,0,0,0,0,0,0,0,0,0,0,0,0,0,0,0,0,0,0,0,0,0,0,0,0,0,0,0,0,0,0,0,0,0,0,0,0,0,0,0,0,0,0,0,0,0,0,0,0,0]
[null,null,null,null,null,null,null,0,0,0,0,0,0,0,0,0,0,0,0,0,0,0,0,0,0,0,0,0,0,0,0,0,0,0,0,0,0,0,0,0,0,0,0,0,0,0,0,0,0,0,0,0,0,0,0,0,0,0,0,0,0,0,0,0,0,0,0,0,0,0,0,0,0,0,0,0,0,0,0,0,0,0,0,0,0,0,0,0,0,0,0,0,0,0,0,0,0,0,0,0,0,0,0,0,0,0,0,0,0,0,0,0,0,0,0,0,0]
[null,null,null,null,null,null,null,0,0,0,0,0,0,0,0,0,0,0,0,0,0,0,0,0,0,0,0,0,0,0,0,0,0,0,0,0,0,0,0,0,0,0,0,0,0,0,0,0,0,0,0,0,0,0,0,0,0,0,0,0,0,0,0,0,0,0,0,0,0,0,0,0,0,0,0,0,0,0,0,0,0,0,0,0,0,0,0,0,0,0,0,0,0,0,0,0,0,0,0,0,0,0,0,0,0,0,0,0,0,0,0,0,0,0,0,0,0]
[null,null,null,null,null,null,null,0,0,0,0,0,0,0,0,0,0,0,0,0,0,0,0,0,0,0,0,0,0,0,0,0,0,0,0,0,0,0,0,0,0,0,0,0,0,0,0,0,0,0,0,0,0,0,0,0,0,0,0,0,0,0,0,0,0,0,0,0,0,0,{"$f":"IF(ABS(BS25)>$B$17,$B$17,ABS(BS25))","v":0},0,0,0,0,0,0,0,0,0,0,0,0,0,0,0,0,0,0,0,0,0,0,0,0,0,{"$f":"IF(ABS(CS25)>$B$17,$B$17,ABS(CS25))","v":0},0,0,0,0,0,0,0,0,0,0,0,0,0,0,0,0,0,0,0,0]
[null,null,null,null,null,null,null,{"$f":"IF(ABS(H26)>$B$17,$B$17,ABS(H26))","v":0},0,0,0,0,0,0,0,0,0,0,0,0,0,0,0,0,0,0,0,0,0,0,0,0,0,0,0,0,0,0,0,0,0,0,0,0,0,0,0,0,0,0,0,0,0,0,0,0,0,0,0,0,0,0,0,0,0,0,0,0,0,0,0,{"$f":"IF(ABS(BT26)>$B$17,$B$17,ABS(BT26))","v":0},0,0,0,0,0,0,0,0,0,0,0,0,0,0,0,0,0,0,0,0,0,0,0,0,0,0,0,0,0,0,0,0,0,0,0,0,0,0,0,0,0,0,0,0,0]
[null,null,null,null,null,null,null,0,0,0,0,0,0,0,0,0,0,0,0,0,0,0,0,0,0,0,0,0,0,0,0,0,0,0,0,0,0,0,0,0,0,0,0,0,0,0,0,0,0,0,0,0,0,0,0,0,0,0,0,0,0,0,0,0,0,0,0,0,0,0,0,0,0,0,0,0,0,0,0,0,0,0,0,0,0,0,0,0,0,0,0,0,0,0,0,0,0,0,0,0,0,0,0,0,0,0,0,0,0,0,0,0,0,0,0,0,0]
[null,null,null,null,null,null,null,0,0,0,0,0,0,0,0,0,0,0,0,0,0,0,0,0,0,0,0,0,0,0,0,0,0,0,0,0,0,0,0,0,0,0,0,0,0,0,0,0,0,0,0,0,0,0,0,0,0,0,0,0,0,0,0,0,0,0,0,0,0,0,0,0,0,0,0,0,0,0,0,0,0,0,0,0,0,0,0,0,0,0,0,0,0,0,0,0,0,0,0,0,0,0,0,0,0,0,0,0,0,0,0,0,0,0,0,0,0]
[null,null,null,null,null,null,null,0,0,0,0,0,0,0,0,0,0,0,0,0,0,0,0,0,0,0,0,0,0,0,0,0,0,0,0,0,0,0,0,0,0,0,0,0,0,0,0,0,0,0,0,0,0,0,0,0,0,0,0,0,0,0,0,0,0,0,0,0,0,0,{"$f":"IF(ABS(BS29)>$B$17,$B$17,ABS(BS29))","v":0},0,0,0,0,0,0,0,0,0,0,0,0,0,0,0,0,0,0,0,0,0,0,0,0,0,0,0,0,0,0,0,0,0,0,0,0,0,0,0,0,0,0,0,0,0,0]
[null,null,null,null,null,null,null,{"$f":"IF(ABS(H30)>$B$17,$B$17,ABS(H30))","v":0},0,0,0,0,0,0,0,0,0,0,0,0,0,0,0,0,0,0,0,0,0,0,0,0,0,0,0,0,0,0,0,0,0,0,0,0,0,0,0,0,0,0,0,0,0,0,0,0,0,0,0,0,0,0,0,0,0,0,0,0,0,0,0,0,0,0,0,0,0,0,0,0,0,0,0,0,0,0,0,0,0,0,0,0,0,0,0,0,0,0,0,0,0,0,0,0,0,0,0,0,0,0,0,0,0,0,0,0,0]
[null,null,null,null,null,null,null,0,0,0,0,0,0,0,0,0,0,0,0,0,0,0,0,0,0,0,0,0,0,0,0,0,0,0,0,0,0,0,0,0,0,0,0,0,0,0,0,0,0,0,0,0,0,0,0,0,0,0,0,0,0,0,0,0,0,0,0,0,0,0,0,0,0,0,0,0,0,0,0,0,0,0,0,0,0,0,0,0,0,0,0,0,0,0,0,0,{"$f":"IF(ABS(CS31)>$B$17,$B$17,ABS(CS31))","v":0},0,0,0,0,0,0,0,0,0,0,0,0,0,0,0,0,0,0,0,0]
[null,null,null,null,null,null,null,0,0,0,0,0,0,0,0,0,0,0,0,0,0,0,0,0,0,0,0,0,0,0,0,0,0,0,0,0,0,0,0,0,0,0,0,0,0,0,0,0,0,0,0,0,0,0,0,0,0,0,0,0,0,0,0,0,0,0,0,0,0,0,0,{"$f":"IF(ABS(BT32)>$B$17,$B$17,ABS(BT32))","v":0},0,0,0,0,0,0,0,0,0,0,0,0,0,0,0,0,0,0,0,0,0,0,0,0,0,0,0,0,0,0,0,0,0,0,0,0,0,0,0,0,0,0,0,0,0]
[null,null,null,null,null,null,null,0,0,0,0,0,0,0,0,0,0,0,0,0,0,0,0,0,0,0,0,0,0,0,0,0,0,0,0,0,0,0,0,0,0,0,0,0,0,0,0,0,0,0,0,0,0,0,0,0,0,0,0,0,0,0,0,0,0,0,0,0,0,0,{"$f":"IF(ABS(BS33)>$B$17,$B$17,ABS(BS33))","v":0},0,0,0,0,0,0,0,0,0,0,0,0,0,0,0,0,0,0,0,0,0,0,0,0,0,0,0,0,0,0,0,0,0,0,0,0,0,0,0,0,0,0,0,0,0,0]
[null,null,null,null,null,null,null,{"$f":"IF(ABS(H34)>$B$17,$B$17,ABS(H34))","v":0},0,0,0,0,0,0,0,0,0,0,0,0,0,0,0,0,0,0,0,0,0,0,0,0,0,0,0,0,0,0,0,0,0,0,0,0,0,0,0,0,0,0,0,0,0,0,0,0,0,0,0,0,0,0,0,0,0,0,0,0,0,0,0,0,0,0,0,0,0,0,0,0,0,0,0,0,0,0,0,0,0,0,0,0,0,0,0,0,0,0,0,0,0,0,0,0,0,0,0,0,0,0,0,0,0,0,0,0,0]
[null,null,null,null,null,null,null,0,0,0,0,0,0,0,0,0,0,0,0,0,0,0,0,0,0,0,0,0,0,0,0,0,0,0,0,0,0,0,0,0,0,0,0,0,0,0,0,0,0,0,0,0,0,0,0,0,0,0,0,0,0,0,0,0,0,0,0,0,0,0,0,0,0,0,0,0,0,0,0,0,0,0,0,0,0,0,0,0,0,0,0,0,0,0,0,0,0,0,0,0,0,0,0,0,0,0,0,0,0,0,0,0,0,0,0,0,0]
[null,null,null,null,null,null,null,0,0,0,0,0,0,0,0,0,0,0,0,0,0,0,0,0,0,0,0,0,0,0,0,0,0,0,0,0,0,0,0,0,0,0,0,0,0,0,0,0,0,0,0,0,0,0,0,0,0,0,0,0,0,0,0,0,0,0,0,0,0,0,0,0,0,0,0,0,0,0,0,0,0,0,0,0,0,0,0,0,0,0,0,0,0,0,0,0,0,0,0,0,0,0,0,0,0,0,0,0,0,0,0,0,0,0,0,0,0]
[null,null,null,null,null,null,null,0,0,0,0,0,0,0,0,0,0,0,0,0,0,0,0,0,0,0,0,0,0,0,0,0,0,0,0,0,0,0,0,0,0,0,0,0,0,0,0,0,0,0,0,0,0,0,0,0,0,0,0,0,0,0,0,0,0,0,0,0,0,0,{"$f":"IF(ABS(BS37)>$B$17,$B$17,ABS(BS37))","v":0},0,0,0,0,0,0,0,0,0,0,0,0,0,0,0,0,0,0,0,0,0,0,0,0,0,{"$f":"IF(ABS(CS37)>$B$17,$B$17,ABS(CS37))","v":0},0,0,0,0,0,0,0,0,0,0,0,0,0,0,0,0,0,0,0,0]
[null,null,null,null,null,null,null,{"$f":"IF(ABS(H38)>$B$17,$B$17,ABS(H38))","v":0},0,0,0,0,0,0,0,0,0,0,0,0,0,0,0,0,0,0,0,0,0,0,0,0,0,0,0,0,0,0,0,0,0,0,0,0,0,0,0,0,0,0,0,0,0,0,0,0,0,0,0,0,0,0,0,0,0,0,0,0,0,0,0,{"$f":"IF(ABS(BT38)>$B$17,$B$17,ABS(BT38))","v":0},0,0,0,0,0,0,0,0,0,0,0,0,0,0,0,0,0,0,0,0,0,0,0,0,0,0,0,0,0,0,0,0,0,0,0,0,0,0,0,0,0,0,0,0,0]
[null,null,null,null,null,null,null,0,0,0,0,0,0,0,0,0,0,0,0,0,0,0,0,0,0,0,0,0,0,0,0,0,0,0,0,0,0,0,0,0,0,0,0,0,0,0,0,0,0,0,0,0,0,0,0,0,0,0,0,0,0,0,0,0,0,0,0,0,0,0,0,0,0,0,0,0,0,0,0,0,0,0,0,0,0,0,0,0,0,0,0,0,0,0,0,0,0,0,0,0,0,0,0,0,0,0,0,0,0,0,0,0,0,0,0,0,0]
[null,null,null,null,null,null,null,0,0,0,0,0,0,0,0,0,0,0,0,0,0,0,0,0,0,0,0,0,0,0,0,0,0,0,0,0,0,0,0,0,0,0,0,0,0,0,0,0,0,0,0,0,0,0,0,0,0,0,0,0,0,0,0,0,0,0,0,0,0,0,0,0,0,0,0,0,0,0,0,0,0,0,0,0,0,0,0,0,0,0,0,0,0,0,0,0,0,0,0,0,0,0,0,0,0,0,0,0,0,0,0,0,0,0,0,0,0]
[null,null,null,null,null,null,null,0,0,0,0,0,0,0,0,0,0,0,0,0,0,0,0,0,0,0,0,0,0,0,0,0,0,0,0,0,0,0,0,0,0,0,0,0,0,0,0,0,0,0,0,0,0,0,0,0,0,0,0,0,0,0,0,0,0,0,0,0,0,0,{"$f":"IF(ABS(BS41)>$B$17,$B$17,ABS(BS41))","v":0},0,0,0,0,0,0,0,0,0,0,0,0,0,0,0,0,0,0,0,0,0,0,0,0,0,0,0,0,0,0,0,0,0,0,0,0,0,0,0,0,0,0,0,0,0,0]
[null,null,null,null,null,null,null,{"$f":"IF(ABS(H42)>$B$17,$B$17,ABS(H42))","v":0},0,0,0,0,0,0,0,0,0,0,0,0,0,0,0,0,0,0,0,0,0,0,0,0,0,0,0,0,0,0,0,0,0,0,0,0,0,0,0,0,0,0,0,0,0,0,0,0,0,0,0,0,0,0,0,0,0,0,0,0,0,0,0,0,0,0,0,0,0,0,0,0,0,0,0,0,0,0,0,0,0,0,0,0,0,0,0,0,0,0,0,0,0,0,0,0,0,0,0,0,0,0,0,0,0,0,0,0,0]
[null,null,null,null,null,null,null,0,0,0,0,0,0,0,0,0,0,0,0,0,0,0,0,0,0,0,0,0,0,0,0,0,0,0,0,0,0,0,0,0,0,0,0,0,0,0,0,0,0,0,0,0,0,0,0,0,0,0,0,0,0,0,0,0,0,0,0,0,0,0,0,0,0,0,0,0,0,0,0,0,0,0,0,0,0,0,0,0,0,0,0,0,0,0,0,0,{"$f":"IF(ABS(CS43)>$B$17,$B$17,ABS(CS43))","v":0},0,0,0,0,0,0,0,0,0,0,0,0,0,0,0,0,0,0,0,0]
[null,null,null,null,null,null,null,0,0,0,0,0,0,0,0,0,0,0,0,0,0,0,0,0,0,0,0,0,0,0,0,0,0,0,0,0,0,0,0,0,0,0,0,0,0,0,0,0,0,0,0,0,0,0,0,0,0,0,0,0,0,0,0,0,0,0,0,0,0,0,0,{"$f":"IF(ABS(BT44)>$B$17,$B$17,ABS(BT44))","v":0},0,0,0,0,0,0,0,0,0,0,0,0,0,0,0,0,0,0,0,0,0,0,0,0,0,0,0,0,0,0,0,0,0,0,0,0,0,0,0,0,0,0,0,0,0]
[null,null,null,null,null,null,null,0,0,0,0,0,0,0,0,0,0,0,0,0,0,0,0,0,0,0,0,0,0,0,0,0,0,0,0,0,0,0,0,0,0,0,0,0,0,0,0,0,0,0,0,0,0,0,0,0,0,0,0,0,0,0,0,0,0,0,0,0,0,0,{"$f":"IF(ABS(BS45)>$B$17,$B$17,ABS(BS45))","v":0},0,0,0,0,0,0,0,0,0,0,0,0,0,0,0,0,0,0,0,0,0,0,0,0,0,0,0,0,0,0,0,0,0,0,0,0,0,0,0,0,0,0,0,0,0,0]
[null,null,null,null,null,null,null,{"$f":"IF(ABS(H46)>$B$17,$B$17,ABS(H46))","v":0},0,0,0,0,0,0,0,0,0,0,0,0,0,0,0,0,0,0,0,0,0,0,0,0,0,0,0,0,0,0,0,0,0,0,0,0,0,0,0,0,0,0,0,0,0,0,0,0,0,0,0,0,0,0,0,0,0,0,0,0,0,0,0,0,0,0,0,0,0,0,0,0,0,0,0,0,0,0,0,0,0,0,0,0,0,0,0,0,0,0,0,0,0,0,0,0,0,0,0,0,0,0,0,0,0,0,0,0,0]
[null,null,null,null,null,null,null,0,0,0,0,0,0,0,0,0,0,0,0,0,0,0,0,0,0,0,0,0,0,0,0,0,0,0,0,0,0,0,0,0,0,0,0,0,0,0,0,0,0,0,0,0,0,0,0,0,0,0,0,0,0,0,0,0,0,0,0,0,0,0,0,0,0,0,0,0,0,0,0,0,0,0,0,0,0,0,0,0,0,0,0,0,0,0,0,0,0,0,0,0,0,0,0,0,0,0,0,0,0,0,0,0,0,0,0,0,0]
[null,null,null,null,null,null,null,0,0,0,0,0,0,0,0,0,0,0,0,0,0,0,0,0,0,0,0,0,0,0,0,0,0,0,0,0,0,0,0,0,0,0,0,0,0,0,0,0,0,0,0,0,0,0,0,0,0,0,0,0,0,0,0,0,0,0,0,0,0,0,0,0,0,0,0,0,0,0,0,0,0,0,0,0,0,0,0,0,0,0,0,0,0,0,0,0,0,0,0,0,0,0,0,0,0,0,0,0,0,0,0,0,0,0,0,0,0]
[null,null,null,null,null,null,null,0,0,0,0,0,0,0,0,0,0,0,0,0,0,0,0,0,0,0,0,0,0,0,0,0,0,0,0,0,0,0,0,0,0,0,0,0,0,0,0,0,0,0,0,0,0,0,0,0,0,0,0,0,0,0,0,0,0,0,0,0,0,0,{"$f":"IF(ABS(BS49)>$B$17,$B$17,ABS(BS49))","v":0},0,0,0,0,0,0,0,0,0,0,0,0,0,0,0,0,0,0,0,0,0,0,0,0,0,{"$f":"IF(ABS(CS49)>$B$17,$B$17,ABS(CS49))","v":0},0,0,0,0,0,0,0,0,0,0,0,0,0,0,0,0,0,0,0,0]
[null,null,null,null,null,null,null,{"$f":"IF(ABS(H50)>$B$17,$B$17,ABS(H50))","v":0},0,0,0,0,0,0,0,0,0,0,0,0,0,0,0,0,0,0,0,0,0,0,0,0,0,0,0,0,0,0,0,0,0,0,0,0,0,0,0,0,0,0,0,0,0,0,0,0,0,0,0,0,0,0,0,0,0,0,0,0,0,0,0,{"$f":"IF(ABS(BT50)>$B$17,$B$17,ABS(BT50))","v":0},0,0,0,0,0,0,0,0,0,0,0,0,0,0,0,0,0,0,0,0,0,0,0,0,0,0,0,0,0,0,0,0,0,0,0,0,0,0,0,0,0,0,0,0,0]
[null,null,null,null,null,null,null,0,0,0,0,0,0,0,0,0,0,0,0,0,0,0,0,0,0,0,0,0,0,0,0,0,0,0,0,0,0,0,0,0,0,0,0,0,0,0,0,0,0,0,0,0,0,0,0,0,0,0,0,0,0,0,0,0,0,0,0,0,0,0,0,0,0,0,0,0,0,0,0,0,0,0,0,0,0,0,0,0,0,0,0,0,0,0,0,0,0,0,0,0,0,0,0,0,0,0,0,0,0,0,0,0,0,0,0,0,0]
[null,null,null,null,null,null,null,0,0,0,0,0,0,0,0,0,0,0,0,0,0,0,0,0,0,0,0,0,0,0,0,0,0,0,0,0,0,0,0,0,0,0,0,0,0,0,0,0,0,0,0,0,0,0,0,0,0,0,0,0,0,0,0,0,0,0,0,0,0,0,0,0,0,0,0,0,0,0,0,0,0,0,0,0,0,0,0,0,0,0,0,0,0,0,0,0,0,0,0,0,0,0,0,0,0,0,0,0,0,0,0,0,0,0,0,0,0]
[null,null,null,null,null,null,null,0,0,0,0,0,0,0,0,0,0,0,0,0,0,0,0,0,0,0,0,0,0,0,0,0,0,0,0,0,0,0,0,0,0,0,0,0,0,0,0,0,0,0,0,0,0,0,0,0,0,0,0,0,0,0,0,0,0,0,0,0,0,0,{"$f":"IF(ABS(BS53)>$B$17,$B$17,ABS(BS53))","v":0},0,0,0,0,0,0,0,0,0,0,0,0,0,0,0,0,0,0,0,0,0,0,0,0,0,0,0,0,0,0,0,0,0,0,0,0,0,0,0,0,0,0,0,0,0,0]
[null,null,null,null,null,null,null,{"$f":"IF(ABS(H54)>$B$17,$B$17,ABS(H54))","v":0},0,0,0,0,0,0,0,0,0,0,0,0,0,0,0,0,0,0,0,0,0,0,0,0,0,0,0,0,0,0,0,0,0,0,0,0,0,0,0,0,0,0,0,0,0,0,0,0,0,0,0,0,0,0,0,0,0,0,0,0,0,0,0,0,0,0,0,0,0,0,0,0,0,0,0,0,0,0,0,0,0,0,0,0,0,0,0,0,0,0,0,0,0,0,0,0,0,0,0,0,0,0,0,0,0,0,0,0,0]
[null,null,null,null,null,null,null,0,0,0,0,0,0,0,0,0,0,0,0,0,0,0,0,0,0,0,0,0,0,0,0,0,0,0,0,0,0,0,0,0,0,0,0,0,0,0,0,0,0,0,0,0,0,0,0,0,0,0,0,0,0,0,0,0,0,0,0,0,0,0,0,0,0,0,0,0,0,0,0,0,0,0,0,0,0,0,0,0,0,0,0,0,0,0,0,0,{"$f":"IF(ABS(CS55)>$B$17,$B$17,ABS(CS55))","v":0},0,0,0,0,0,0,0,0,0,0,0,0,0,0,0,0,0,0,0,0]
[null,null,null,null,null,null,null,0,0,0,0,0,0,0,0,0,0,0,0,0,0,0,0,0,0,0,0,0,0,0,0,0,0,0,0,0,0,0,0,0,0,0,0,0,0,0,0,0,0,0,0,0,0,0,0,0,0,0,0,0,0,0,0,0,0,0,0,0,0,0,0,{"$f":"IF(ABS(BT56)>$B$17,$B$17,ABS(BT56))","v":0},0,0,0,0,0,0,0,0,0,0,0,0,0,0,0,0,0,0,0,0,0,0,0,0,0,0,0,0,0,0,0,0,0,0,0,0,0,0,0,0,0,0,0,0,0]
[null,null,null,null,null,null,null,0,0,0,0,0,0,0,0,0,0,0,0,0,0,0,0,0,0,0,0,0,0,0,0,0,0,0,0,0,0,0,0,0,0,0,0,0,0,0,0,0,0,0,0,0,0,0,0,0,0,0,0,0,0,0,0,0,0,0,0,0,0,0,{"$f":"IF(ABS(BS57)>$B$17,$B$17,ABS(BS57))","v":0},0,0,0,0,0,0,0,0,0,0,0,0,0,0,0,0,0,0,0,0,0,0,0,0,0,0,0,0,0,0,0,0,0,0,0,0,0,0,0,0,0,0,0,0,0,0]
[null,null,null,null,null,null,null,{"$f":"IF(ABS(H58)>$B$17,$B$17,ABS(H58))","v":0},0,0,0,0,0,0,0,0,0,0,0,0,0,0,0,0,0,0,0,0,0,0,0,0,0,0,0,0,0,0,0,0,0,0,0,0,0,0,0,0,0,0,0,0,0,0,0,0,0,0,0,0,0,0,0,0,0,0,0,0,0,0,0,0,0,0,0,0,0,0,0,0,0,0,0,0,0,0,0,0,0,0,0,0,0,0,0,0,0,0,0,0,0,0,0,0,0,0,0,0,0,0,0,0,0,0,0,0,0]
[null,null,null,null,null,null,null,0,0,0,0,0,0,0,0,0,0,0,0,0,0,0,0,0,0,0,0,0,0,0,0,0,0,0,0,0,0,0,0,0,0,0,0,0,0,0,0,0,0,0,0,0,0,0,0,0,0,0,0,0,0,0,0,0,0,0,0,0,0,0,0,0,0,0,0,0,0,0,0,0,0,0,0,0,0,0,0,0,0,0,0,0,0,0,0,0,0,0,0,0,0,0,0,0,0,0,0,0,0,0,0,0,0,0,0,0,0]
[null,null,null,null,null,null,null,0,0,0,0,0,0,0,0,0,0,0,0,0,0,0,0,0,0,0,0,0,0,0,0,0,0,0,0,0,0,0,0,0,0,0,0,0,0,0,0,0,0,0,0,0,0,0,0,0,0,0,0,0,0,0,0,0,0,0,0,0,0,0,0,0,0,0,0,0,0,0,0,0,0,0,0,0,0,0,0,0,0,0,0,0,0,0,0,0,0,0,0,0,0,0,0,0,0,0,0,0,0,0,0,0,0,0,0,0,0]
[null,null,null,null,null,null,null,0,0,0,0,0,0,0,0,0,0,0,0,0,0,0,0,0,0,0,0,0,0,0,0,0,0,0,0,0,0,0,0,0,0,0,0,0,0,0,0,0,0,0,0,0,0,0,0,0,0,0,0,0,0,0,0,0,0,0,0,0,0,0,{"$f":"IF(ABS(BS61)>$B$17,$B$17,ABS(BS61))","v":0},0,0,0,0,0,0,0,0,0,0,0,0,0,0,0,0,0,0,0,0,0,0,0,0,0,{"$f":"IF(ABS(CS61)>$B$17,$B$17,ABS(CS61))","v":0},0,0,0,0,0,0,0,0,0,0,0,0,0,0,0,0,0,0,0,0]
[null,null,null,null,null,null,null,{"$f":"IF(ABS(H62)>$B$17,$B$17,ABS(H62))","v":0},0,0,0,0,0,0,0,0,0,0,0,0,0,0,0,0,0,0,0,0,0,0,0,0,0,0,0,0,0,0,0,0,0,0,0,0,0,0,0,0,0,0,0,0,0,0,0,0,0,0,0,0,0,0,0,0,0,0,0,0,0,0,0,{"$f":"IF(ABS(BT62)>$B$17,$B$17,ABS(BT62))","v":0},0,0,0,0,0,0,0,0,0,0,0,0,0,0,0,0,0,0,0,0,0,0,0,0,0,0,0,0,0,0,0,0,0,0,0,0,0,0,0,0,0,0,0,0,0]
[null,null,null,null,null,null,null,0,0,0,0,0,0,0,0,0,0,0,0,0,0,0,0,0,0,0,0,0,0,0,0,0,0,0,0,0,0,0,0,0,0,0,0,0,0,0,0,0,0,0,0,0,0,0,0,0,0,0,0,0,0,0,0,0,0,0,0,0,0,0,0,0,0,0,0,0,0,0,0,0,0,0,0,0,0,0,0,0,0,0,0,0,0,0,0,0,0,0,0,0,0,0,0,0,0,0,0,0,0,0,0,0,0,0,0,0,0]
[null,null,null,null,null,null,null,0,0,0,0,0,0,0,0,0,0,0,0,0,0,0,0,0,0,0,0,0,0,0,0,0,0,0,0,0,0,0,0,0,0,0,0,0,0,0,0,0,0,0,0,0,0,0,0,0,0,0,0,0,0,0,0,0,0,0,0,0,0,0,0,0,0,0,0,0,0,0,0,0,0,0,0,0,0,0,0,0,0,0,0,0,0,0,0,0,0,0,0,0,0,0,0,0,0,0,0,0,0,0,0,0,0,0,0,0,0]
[null,null,null,null,null,null,null,0,0,0,0,0,0,0,0,0,0,0,0,0,0,0,0,0,0,0,0,0,0,0,0,0,0,0,0,0,0,0,0,0,0,0,0,0,0,0,0,0,0,0,0,0,0,0,0,0,0,0,0,0,0,0,0,0,0,0,0,0,0,0,{"$f":"IF(ABS(BS65)>$B$17,$B$17,ABS(BS65))","v":0},0,0,0,0,0,0,0,0,0,0,0,0,0,0,0,0,0,0,0,0,0,0,0,0,0,0,0,0,0,0,0,0,0,0,0,0,0,0,0,0,0,0,0,0,0,0]
[null,null,null,null,null,null,null,{"$f":"IF(ABS(H66)>$B$17,$B$17,ABS(H66))","v":0},0,0,0,0,0,0,0,0,0,0,0,0,0,0,0,0,0,0,0,0,0,0,0,0,0,0,0,0,0,0,0,0,0,0,0,0,0,0,0,0,0,0,0,0,0,0,0,0,0,0,0,0,0,0,0,0,0,0,0,0,0,0,0,0,0,0,0,0,0,0,0,0,0,0,0,0,0,0,0,0,0,0,0,0,0,0,0,0,0,0,0,0,0,0,0,0,0,0,0,0,0,0,0,0,0,0,0,0,0]
[null,null,null,null,null,null,null,0,0,0,0,0,0,0,0,0,0,0,0,0,0,0,0,0,0,0,0,0,0,0,0,0,0,0,0,0,0,0,0,0,0,0,0,0,0,0,0,0,0,0,0,0,0,0,0,0,0,0,0,0,0,0,0,0,0,0,0,0,0,0,0,0,0,0,0,0,0,0,0,0,0,0,0,0,0,0,0,0,0,0,0,0,0,0,0,0,{"$f":"IF(ABS(CS67)>$B$17,$B$17,ABS(CS67))","v":0},0,0,0,0,0,0,0,0,0,0,0,0,0,0,0,0,0,0,0,0]
[null,null,null,null,null,null,null,0,0,0,0,0,0,0,0,0,0,0,0,0,0,0,0,0,0,0,0,0,0,0,0,0,0,0,0,0,0,0,0,0,0,0,0,0,0,0,0,0,0,0,0,0,0,0,0,0,0,0,0,0,0,0,0,0,0,0,0,0,0,0,0,{"$f":"IF(ABS(BT68)>$B$17,$B$17,ABS(BT68))","v":0},0,0,0,0,0,0,0,0,0,0,0,0,0,0,0,0,0,0,0,0,0,0,0,0,0,0,0,0,0,0,0,0,0,0,0,0,0,0,0,0,0,0,0,0,0]
[null,null,null,null,null,null,null,0,0,0,0,0,0,0,0,0,0,0,0,0,0,0,0,0,0,0,0,0,0,0,0,0,0,0,0,0,0,0,0,0,0,0,0,0,0,0,0,0,0,0,0,0,0,0,0,0,0,0,0,0,0,0,0,0,0,0,0,0,0,0,{"$f":"IF(ABS(BS69)>$B$17,$B$17,ABS(BS69))","v":0},0,0,0,0,0,0,0,0,0,0,0,0,0,0,0,0,0,0,0,0,0,0,0,0,0,0,0,0,0,0,0,0,0,0,0,0,0,0,0,0,0,0,0,0,0,0]
[null,null,null,null,null,null,null,{"$f":"IF(ABS(H70)>$B$17,$B$17,ABS(H70))","v":0},0,0,0,0,0,0,0,0,0,0,0,0,0,0,0,0,0,0,0,0,0,0,0,0,0,0,0,0,0,0,0,0,0,0,0,0,0,0,0,0,0,0,0,0,0,0,0,0,0,0,0,0,0,0,0,0,0,0,0,0,0,0,0,0,0,0,0,0,0,0,0,0,0,0,0,0,0,0,0,0,0,0,0,0,0,0,0,0,0,0,0,0,0,0,0,0,0,0,0,0,0,0,0,0,0,0,0,0,0]
[null,null,null,null,null,null,null,0,0,0,0,0,0,0,0,0,0,0,0,0,0,0,0,0,0,0,0,0,0,0,0,0,0,0,0,0,0,0,0,0,0,0,0,0,0,0,0,0,0,0,0,0,0,0,0,0,0,0,0,0,0,0,0,0,0,0,0,0,0,0,0,0,0,0,0,0,0,0,0,0,0,0,0,0,0,0,0,0,0,0,0,0,0,0,0,0,0,0,0,0,0,0,0,0,0,0,0,0,0,0,0,0,0,0,0,0,0]
[null,null,null,null,null,null,null,0,0,0,0,0,0,0,0,0,0,0,0,0,0,0,0,0,0,0,0,0,0,0,0,0,0,0,0,0,0,0,0,0,0,0,0,0,0,0,0,0,0,0,0,0,0,0,0,0,0,0,0,0,0,0,0,0,0,0,0,0,0,0,0,0,0,0,0,0,0,0,0,0,0,0,0,0,0,0,0,0,0,0,0,0,0,0,0,0,0,0,0,0,0,0,0,0,0,0,0,0,0,0,0,0,0,0,0,0,0]
[null,null,null,null,null,null,null,0,0,0,0,0,0,0,0,0,0,0,0,0,0,0,0,0,0,0,0,0,0,0,0,0,0,0,0,0,0,0,0,0,0,0,0,0,0,0,0,0,0,0,0,0,0,0,0,0,0,0,0,0,0,0,0,0,0,0,0,0,0,0,{"$f":"IF(ABS(BS73)>$B$17,$B$17,ABS(BS73))","v":0},0,0,0,0,0,0,0,0,0,0,0,0,0,0,0,0,0,0,0,0,0,0,0,0,0,{"$f":"IF(ABS(CS73)>$B$17,$B$17,ABS(CS73))","v":0},0,0,0,0,0,0,0,0,0,0,0,0,0,0,0,0,0,0,0,0]
[null,null,null,null,null,null,null,{"$f":"IF(ABS(H74)>$B$17,$B$17,ABS(H74))","v":0},0,0,0,0,0,0,0,0,0,0,0,0,0,0,0,0,0,0,0,0,0,0,0,0,0,0,0,0,0,0,0,0,0,0,0,0,0,0,0,0,0,0,0,0,0,0,0,0,0,0,0,0,0,0,0,0,0,0,0,0,0,0,0,{"$f":"IF(ABS(BT74)>$B$17,$B$17,ABS(BT74))","v":0},0,0,0,0,0,0,0,0,0,0,0,0,0,0,0,0,0,0,0,0,0,0,0,0,0,0,0,0,0,0,0,0,0,0,0,0,0,0,0,0,0,0,0,0,0]
[null,null,null,null,null,null,null,0,0,0,0,0,0,0,0,0,0,0,0,0,0,0,0,0,0,0,0,0,0,0,0,0,0,0,0,0,0,0,0,0,0,0,0,0,0,0,0,0,0,0,0,0,0,0,0,0,0,0,0,0,0,0,0,0,0,0,0,0,0,0,0,0,0,0,0,0,0,0,0,0,0,0,0,0,0,0,0,0,0,0,0,0,0,0,0,0,0,0,0,0,0,0,0,0,0,0,0,0,0,0,0,0,0,0,0,0,0]
[null,null,null,null,null,null,null,0,0,0,0,0,0,0,0,0,0,0,0,0,0,0,0,0,0,0,0,0,0,0,0,0,0,0,0,0,0,0,0,0,0,0,0,0,0,0,0,0,0,0,0,0,0,0,0,0,0,0,0,0,0,0,0,0,0,0,0,0,0,0,0,0,0,0,0,0,0,0,0,0,0,0,0,0,0,0,0,0,0,0,0,0,0,0,0,0,0,0,0,0,0,0,0,0,0,0,0,0,0,0,0,0,0,0,0,0,0]
[null,null,null,null,null,null,null,0,0,0,0,0,0,0,0,0,0,0,0,0,0,0,0,0,0,0,0,0,0,0,0,0,0,0,0,0,0,0,0,0,0,0,0,0,0,0,0,0,0,0,0,0,0,0,0,0,0,0,0,0,0,0,0,0,0,0,0,0,0,0,{"$f":"IF(ABS(BS77)>$B$17,$B$17,ABS(BS77))","v":0},0,0,0,0,0,0,0,0,0,0,0,0,0,0,0,0,0,0,0,0,0,0,0,0,0,0,0,0,0,0,0,0,0,0,0,0,0,0,0,0,0,0,0,0,0,0]
[null,null,null,null,null,null,null,{"$f":"IF(ABS(H78)>$B$17,$B$17,ABS(H78))","v":0},0,0,0,0,0,0,0,0,0,0,0,0,0,0,0,0,0,0,0,0,0,0,0,0,0,0,0,0,0,0,0,0,0,0,0,0,0,0,0,0,0,0,0,0,0,0,0,0,0,0,0,0,0,0,0,0,0,0,0,0,0,0,0,0,0,0,0,0,0,0,0,0,0,0,0,0,0,0,0,0,0,0,0,0,0,0,0,0,0,0,0,0,0,0,0,0,0,0,0,0,0,0,0,0,0,0,0,0,0]
[null,null,null,null,null,null,null,0,0,0,0,0,0,0,0,0,0,0,0,0,0,0,0,0,0,0,0,0,0,0,0,0,0,0,0,0,0,0,0,0,0,0,0,0,0,0,0,0,0,0,0,0,0,0,0,0,0,0,0,0,0,0,0,0,0,0,0,0,0,0,0,0,0,0,0,0,0,0,0,0,0,0,0,0,0,0,0,0,0,0,0,0,0,0,0,0,{"$f":"IF(ABS(CS79)>$B$17,$B$17,ABS(CS79))","v":0},0,0,0,0,0,0,0,0,0,0,0,0,0,0,0,0,0,0,0,0]
[null,null,null,null,null,null,null,0,0,0,0,0,0,0,0,0,0,0,0,0,0,0,0,0,0,0,0,0,0,0,0,0,0,0,0,0,0,0,0,0,0,0,0,0,0,0,0,0,0,0,0,0,0,0,0,0,0,0,0,0,0,0,0,0,0,0,0,0,0,0,0,{"$f":"IF(ABS(BT80)>$B$17,$B$17,ABS(BT80))","v":0},0,0,0,0,0,0,0,0,0,0,0,0,0,0,0,0,0,0,0,0,0,0,0,0,0,0,0,0,0,0,0,0,0,0,0,0,0,0,0,0,0,0,0,0,0]
[null,null,null,null,null,null,null,0,0,0,0,0,0,0,0,0,0,0,0,0,0,0,0,0,0,0,0,0,0,0,0,0,0,0,0,0,0,0,0,0,0,0,0,0,0,0,0,0,0,0,0,0,0,0,0,0,0,0,0,0,0,0,0,0,0,0,0,0,0,0,{"$f":"IF(ABS(BS81)>$B$17,$B$17,ABS(BS81))","v":0},0,0,0,0,0,0,0,0,0,0,0,0,0,0,0,0,0,0,0,0,0,0,0,0,0,0,0,0,0,0,0,0,0,0,0,0,0,0,0,0,0,0,0,0,0,0]
[null,null,null,null,null,null,null,"alto"]
[]
[]
[null,null,null,null,null,null,null,{"$f":"IFERROR(H4/ABS(H4),0)*H85","v":-4200},{"$f":"IFERROR(I4/ABS(I4),0)*I85","v":-4200},{"$f":"IFERROR(J4/ABS(J4),0)*J85","v":-2928.1814363712729},-1131.1640389131164,63.669366098855207,915.57043769433164,1553.6498640451789,2049.4331908567187,2445.7448587192785,2769.791824950616,3039.6880657290076,3267.9604163989211,3463.5485025653265,3633.0030063467325,3781.2336916814534,3911.9929280031429,4028.1977553102679,4132.1500746858801,4200,4200,4200,4200,4200,4200,0,0,0,0,0,0,0,0,0,0,0,0,0,0,0,0,0,0,0,0,0,0,0,0,0,0,0,0,0,0,0,0,0,0,0,0,0,0,0,0,0,0,{"$f":"IFERROR(BV4/ABS(BV4),0)*BV85","v":0},0,0,0,0,0,0,0,0,0,0,0,0,0,0,0,0,0,0,0,0,0,0,0,0,0,0,0,0,0,0,0,0,0,0,0,0,0,0,0,0,0,0,0]
[null,null,null,null,null,null,null,{"$f":"IFERROR(H5/ABS(H5),0)*H86","v":-4200},-4200,-4200,-4200,-4200,-4200,-4200,-4200,-4200,-4200,-3572.7614538365124,-2834.5970954890108,-2202.1238515690247,-1654.1587796459187,-1174.8251748251744,-751.98899911599983,-376.21741953436549,-40.06677796327164,262.41549119439156,536.0464192035613,784.76595099006181,1011.827878963791,1219.9429803212574,1411.3877578265806,0,0,0,0,0,0,0,0,0,0,0,0,0,0,0,0,0,0,0,0,0,0,0,0,0,0,0,0,0,0,0,0,0,0,0,0,0,0,0,0,0,0,0,0,0,0,0,0,0,0,0,0,0,0,0,0,0,0,0,0,0,0,0,0,0,0,0,0,0,0,0,0,0,0,0,0,0,0,0,0,0,0,0,0,0,0]
[null,null,null,null,null,null,null,0,0,0,0,0,0,0,0,0,0,0,0,0,0,0,0,0,0,0,0,0,0,0,0,0,0,0,0,0,0,0,0,0,0,0,0,0,0,0,0,0,0,0,0,0,0,0,0,0,0,0,0,0,0,0,0,0,0,0,0,0,0,0,0,0,0,0,0,0,0,0,0,0,0,0,0,0,0,0,0,0,0,0,0,0,0,0,0,0,0,0,0,0,0,0,0,0,0,0,0,0,0,0,0,0,0,0,0,0,0]
[null,null,null,null,null,null,null,0,0,0,0,0,0,0,0,0,0,0,0,0,0,0,0,0,0,0,0,0,0,0,0,0,0,0,0,0,0,0,0,0,0,0,0,0,0,0,0,0,0,0,0,0,0,0,0,0,0,0,0,0,0,0,0,0,0,0,0,0,0,0,0,0,{"$f":"IFERROR(BU7/ABS(BU7),0)*BU88","v":0},0,0,0,0,0,0,0,0,0,0,0,0,0,0,0,0,0,0,0,0,0,0,0,0,0,0,0,0,0,0,0,0,0,0,0,0,0,0,0,0,0,0,0,0]
[null,null,null,null,null,null,null,0,0,0,0,0,0,0,0,0,0,0,0,0,0,0,0,{"$f":"IFERROR(X8/ABS(X8),0)*X89","v":0},0,0,0,0,0,0,0,0,0,0,0,0,0,0,0,0,0,0,0,0,0,0,0,0,0,0,0,0,0,0,0,0,0,0,0,0,0,0,0,0,0,0,0,0,0,0,0,0,0,0,0,0,0,0,0,0,0,0,0,0,0,0,0,0,0,0,0,0,0,0,0,0,0,0,0,0,0,0,0,0,0,0,0,0,0,0,0,0,0,0,0,0,0]
[null,null,null,null,null,null,null,0,0,0,0,0,0,0,0,0,0,0,0,0,0,0,0,0,0,0,0,0,0,0,0,0,0,0,0,0,0,0,0,0,0,0,0,0,0,0,0,0,0,0,0,0,0,0,0,0,0,0,0,0,0,0,0,0,0,0,0,0,0,0,0,0,0,0,0,0,0,0,0,0,0,0,0,0,0,0,0,0,0,0,0,0,0,0,0,0,0,0,0,0,0,0,0,0,0,0,0,0,{"$f":"IFERROR(DE9/ABS(DE9),0)*DE90","v":0},0,0,0,0,0,0,0,0]
[null,null,null,null,null,null,null,0,0,0,0,0,0,0,0,0,0,0,0,0,0,0,0,0,0,0,0,0,0,0,0,0,0,0,0,0,0,0,0,0,0,0,0,0,0,0,0,0,0,0,0,0,0,0,0,0,0,0,0,0,0,0,0,0,0,0,0,0,0,0,0,0,0,0,0,0,0,0,0,0,0,0,0,0,0,0,0,{"$f":"IFERROR(CJ10/ABS(CJ10),0)*CJ91","v":0},0,0,0,0,0,0,0,0,0,0,0,0,0,0,0,0,0,0,0,0,0,0,0,0,0,0,0,0,0]
[null,null,null,null,null,null,null,0,0,0,0,0,0,0,0,0,0,0,0,0,0,0,0,0,0,0,0,0,0,0,0,0,0,0,0,0,0,0,0,0,0,0,0,0,0,0,0,0,0,0,0,0,0,0,0,0,0,0,0,0,0,0,0,0,0,0,0,0,0,0,0,0,0,0,0,0,0,0,0,0,0,0,0,0,0,0,0,0,0,0,0,0,0,0,0,0,0,0,0,0,0,0,0,0,0,0,0,0,0,0,0,0,0,0,0,0,0]
[null,null,null,null,null,null,null,0,0,0,0,0,0,0,0,0,0,0,0,0,0,0,0,0,0,0,0,0,0,0,0,0,0,0,0,0,0,0,0,0,0,0,0,0,0,0,0,0,0,0,{"$f":"IFERROR(AY12/ABS(AY12),0)*AY93","v":0},0,0,0,0,0,0,0,0,0,0,0,0,0,0,0,0,0,0,0,0,0,0,0,0,0,0,0,0,0,0,0,0,0,0,0,0,0,0,0,0,0,0,0,0,0,0,0,0,0,0,0,0,0,0,0,0,0,0,0,0,0,0,0,0,0,0]
[null,null,null,null,null,null,null,0,0,0,0,0,0,0,0,0,0,0,0,0,0,0,0,{"$f":"IFERROR(X13/ABS(X13),0)*X94","v":0},0,0,0,0,0,0,0,0,0,0,0,0,0,0,0,0,0,0,0,0,0,0,0,0,0,0,0,0,0,0,0,0,0,0,0,0,0,0,0,0,0,0,0,0,0,0,0,0,0,0,0,0,0,0,0,0,0,0,0,0,0,0,0,0,0,0,0,0,0,0,0,0,0,0,0,0,0,0,0,0,0,0,0,0,0,0,0,0,0,0,0,0,0]
[null,null,null,null,null,null,null,0,0,0,0,0,0,0,0,0,0,0,0,0,0,0,0,0,0,0,0,0,0,0,0,0,0,0,0,0,0,0,0,0,0,0,0,0,0,0,0,0,0,0,0,0,0,0,0,0,0,0,0,0,0,0,0,0,0,0,0,0,0,0,0,0,0,0,0,0,0,0,0,0,0,0,0,0,0,0,0,0,0,0,0,0,0,0,0,0,0,0,0,0,0,0,0,0,0,0,0,0,0,0,0,0,0,0,0,0,0]
[null,null,null,null,null,null,null,0,0,0,0,0,0,0,0,0,0,0,0,0,0,0,0,0,0,0,0,0,0,0,0,0,0,0,0,0,0,0,0,0,0,0,0,0,0,0,0,0,0,0,0,0,0,0,0,0,0,0,0,0,0,0,0,0,0,0,0,0,0,0,0,0,0,0,0,0,0,0,0,0,0,0,0,0,0,0,0,0,0,0,0,0,0,0,0,0,0,0,0,0,0,0,0,0,0,0,0,0,0,0,0,0,0,0,0,0,0]
[null,null,null,null,null,null,null,0,0,0,0,0,0,0,0,0,0,0,0,0,0,0,0,0,0,0,0,0,0,0,0,0,0,0,0,0,0,0,0,0,0,0,0,0,0,0,0,0,0,0,0,0,0,0,0,0,0,0,0,0,0,0,0,0,0,0,0,0,0,0,0,0,0,0,0,0,0,0,0,0,0,0,0,0,0,0,0,0,0,0,0,0,0,0,0,0,0,0,0,0,0,0,0,0,0,0,0,0,0,0,0,0,0,0,0,0,0]
[null,null,null,null,null,null,null,0,0,0,0,0,0,0,0,0,0,0,0,0,0,0,0,0,0,0,0,0,0,0,0,0,0,0,0,0,0,0,0,0,0,0,0,0,0,0,0,0,0,0,0,0,0,0,0,0,0,0,0,0,0,0,0,0,0,0,0,0,0,0,0,0,0,0,0,0,0,0,0,0,0,0,0,0,0,0,0,0,0,0,0,0,0,0,0,0,0,0,0,0,{"$f":"IFERROR(CW17/ABS(CW17),0)*CW98","v":0},0,0,0,0,0,0,0,0,0,0,0,0,0,0,0,0]
[null,null,null,null,null,null,null,0,0,0,0,0,0,0,0,0,0,0,0,0,0,0,0,0,0,0,0,0,{"$f":"IFERROR(AC18/ABS(AC18),0)*AC99","v":0},0,0,0,0,0,0,0,0,0,0,0,0,0,0,0,0,0,0,0,0,0,0,0,0,0,0,0,0,0,0,0,0,0,0,0,0,0,0,0,0,0,0,0,0,0,0,0,0,0,0,0,0,0,0,0,0,0,0,0,0,0,0,0,{"$f":"IFERROR(CO18/ABS(CO18),0)*CO99","v":0},0,0,0,0,0,0,0,0,0,0,0,0,0,0,0,0,0,0,0,0,0,0,0,0]
[null,null,null,null,null,null,null,0,0,0,0,0,0,0,0,0,0,0,0,0,0,0,0,{"$f":"IFERROR(X19/ABS(X19),0)*X100","v":0},0,0,0,0,0,0,0,0,0,0,0,0,0,0,0,0,0,0,0,0,0,0,0,0,0,0,0,0,0,0,0,0,0,0,0,0,0,0,0,0,0,0,0,0,0,0,0,0,0,0,0,0,0,0,0,0,0,0,0,0,0,0,0,0,0,0,0,0,0,0,0,0,0,0,0,0,0,0,0,0,0,0,0,0,0,0,0,0,0,0,0,0,0]
[null,null,null,null,null,null,null,0,0,0,0,0,0,0,0,0,0,0,0,0,0,0,0,0,0,0,0,0,0,0,0,0,0,0,0,0,0,0,0,0,0,0,0,0,0,0,0,0,0,0,0,0,0,0,0,0,0,0,0,0,0,0,0,0,0,0,0,0,0,0,0,0,0,0,0,0,0,0,0,0,0,0,0,0,0,0,0,0,0,0,0,0,0,0,0,0,0,0,0,0,0,0,0,0,0,0,0,0,0,0,0,0,0,0,0,0,0]
[null,null,null,null,null,null,null,{"$f":"IFERROR(H21/ABS(H21),0)*H102","v":0},0,0,0,0,0,0,0,0,0,0,0,0,0,0,0,0,0,0,0,0,0,0,0,0,0,0,0,0,0,0,0,0,0,0,0,0,0,0,0,0,0,0,0,0,0,0,0,0,0,0,0,0,0,0,0,0,0,0,0,0,0,0,0,0,0,0,0,0,0,0,0,0,0,0,0,0,0,0,0,0,0,0,0,0,0,0,0,0,0,0,0,0,0,0,0,0,0,0,0,0,0,0,0,0,0,0,0,0,0]
[null,null,null,null,null,null,null,0,0,0,0,0,0,0,0,0,0,0,0,0,0,0,0,0,0,0,0,0,0,0,0,0,0,0,0,0,0,0,0,0,0,0,0,0,0,0,0,0,0,0,0,0,0,0,0,0,0,0,0,0,0,0,0,0,0,0,0,0,0,0,0,0,0,0,0,0,0,0,0,0,0,0,0,0,0,0,0,0,0,0,0,0,0,0,0,0,0,0,0,0,0,0,0,0,0,0,0,0,0,0,0,0,0,0,0,0,0]
[null,null,null,null,null,null,null,0,0,0,0,0,0,0,0,0,0,0,0,0,0,0,0,0,0,0,0,0,0,0,0,0,0,0,0,0,0,0,0,0,0,0,0,0,0,0,0,0,0,0,0,0,0,0,0,0,0,0,0,0,0,0,0,0,0,0,0,0,0,0,0,0,0,0,0,0,0,0,0,0,0,0,0,0,0,0,0,0,0,0,0,0,0,0,0,0,0,0,0,0,0,0,0,0,0,0,0,0,0,0,0,0,0,0,0,0,0]
[null,null,null,null,null,null,null,0,0,0,0,0,0,0,0,0,0,0,0,0,0,0,0,0,0,0,0,0,0,0,0,0,0,0,0,0,0,0,0,0,0,0,0,0,0,0,0,0,0,0,0,0,0,0,0,0,0,0,0,0,0,0,0,0,0,0,0,0,0,0,{"$f":"IFERROR(BS24/ABS(BS24),0)*BS105","v":0},0,0,0,0,0,0,0,0,0,0,0,0,0,0,0,0,0,0,0,0,0,0,0,0,0,0,0,0,0,0,0,0,0,0,0,0,0,0,0,0,0,0,0,0,0,0]
[null,null,null,null,null,null,null,{"$f":"IFERROR(H25/ABS(H25),0)*H106","v":0},0,0,0,0,0,0,0,0,0,0,0,0,0,0,0,0,0,0,0,0,0,0,0,0,0,0,0,0,0,0,0,0,0,0,0,0,0,0,0,0,0,0,0,0,0,0,0,0,0,0,0,0,0,0,0,0,0,0,0,0,0,0,0,0,0,0,0,0,0,0,0,0,0,0,0,0,0,0,0,0,0,0,0,0,0,0,0,0,0,0,0,0,0,0,0,0,0,0,0,0,0,0,0,0,0,0,0,0,0]
[null,null,null,null,null,null,null,0,0,0,0,0,0,0,0,0,0,0,0,0,0,0,0,0,0,0,0,0,0,0,0,0,0,0,0,0,0,0,0,0,0,0,0,0,0,0,0,0,0,0,0,0,0,0,0,0,0,0,0,0,0,0,0,0,0,0,0,0,0,0,0,0,0,0,0,0,0,0,0,0,0,0,0,0,0,0,0,0,0,0,0,0,0,0,0,0,0,0,0,0,0,0,0,0,0,0,0,0,0,0,0,0,0,0,0,0,0]
[null,null,null,null,null,null,null,0,0,0,0,0,0,0,0,0,0,0,0,0,0,0,0,0,0,0,0,0,0,0,0,0,0,0,0,0,0,0,0,0,0,0,0,0,0,0,0,0,0,0,0,0,0,0,0,0,0,0,0,0,0,0,0,0,0,0,0,0,0,0,0,0,0,0,0,0,0,0,0,0,0,0,0,0,0,0,0,0,0,0,0,0,0,0,0,0,0,0,0,0,0,0,0,0,0,0,0,0,0,0,0,0,0,0,0,0,0]
[null,null,null,null,null,null,null,0,0,0,0,0,0,0,0,0,0,0,0,0,0,0,0,0,0,0,0,0,0,0,0,0,0,0,0,0,0,0,0,0,0,0,0,0,0,0,0,0,0,0,0,0,0,0,0,0,0,0,0,0,0,0,0,0,0,0,0,0,0,0,{"$f":"IFERROR(BS28/ABS(BS28),0)*BS109","v":0},0,0,0,0,0,0,0,0,0,0,0,0,0,0,0,0,0,0,0,0,0,0,0,0,0,0,{"$f":"IFERROR(CT28/ABS(CT28),0)*CT109","v":0},0,0,0,0,0,0,0,0,0,0,0,0,0,0,0,0,0,0,0]
[null,null,null,null,null,null,null,{"$f":"IFERROR(H29/ABS(H29),0)*H110","v":0},0,0,0,0,0,0,0,0,0,0,0,0,0,0,0,0,0,0,0,0,0,0,0,0,0,0,0,0,0,0,0,0,0,0,0,0,0,0,0,0,0,0,0,0,0,0,0,0,0,0,0,0,0,0,0,0,0,0,0,0,0,0,0,0,0,0,{"$f":"IFERROR(BW29/ABS(BW29),0)*BW110","v":0},0,0,0,0,0,0,0,0,0,0,0,0,0,0,0,0,0,0,0,0,0,0,0,0,0,0,0,0,0,0,0,0,0,0,0,0,0,0,0,0,0,0]
[null,null,null,null,null,null,null,0,0,0,0,0,0,0,0,0,0,0,0,0,0,0,0,0,0,0,0,0,0,0,0,0,0,0,0,0,0,0,0,0,0,0,0,0,0,0,0,0,0,0,0,0,0,0,0,0,0,0,0,0,0,0,0,0,0,0,0,0,0,0,0,0,0,0,0,0,0,0,0,0,0,0,0,0,0,0,0,0,0,0,0,0,0,0,0,0,0,0,0,0,0,0,0,0,0,0,0,0,0,0,0,0,0,0,0,0,0]
[null,null,null,null,null,null,null,0,0,0,0,0,0,0,0,0,0,0,0,0,0,0,0,0,0,0,0,0,0,0,0,0,0,0,0,0,0,0,0,0,0,0,0,0,0,0,0,0,0,0,0,0,0,0,0,0,0,0,0,0,0,0,0,0,0,0,0,0,0,0,0,0,0,0,0,0,0,0,0,0,0,0,0,0,0,0,0,0,0,0,0,0,0,0,0,0,0,0,0,0,0,0,0,0,0,0,0,0,0,0,0,0,0,0,0,0,0]
[null,null,null,null,null,null,null,0,0,0,0,0,0,0,0,0,0,0,0,0,0,0,0,0,0,0,0,0,0,0,0,0,0,0,0,0,0,0,0,0,0,0,0,0,0,0,0,0,0,0,0,0,0,0,0,0,0,0,0,0,0,0,0,0,0,0,0,0,0,0,{"$f":"IFERROR(BS32/ABS(BS32),0)*BS113","v":0},0,0,0,0,0,0,0,0,0,0,0,0,0,0,0,0,0,0,0,0,0,0,0,0,0,0,0,0,0,0,0,0,0,0,0,0,0,0,0,0,0,0,0,0,0,0]
[null,null,null,null,null,null,null,{"$f":"IFERROR(H33/ABS(H33),0)*H114","v":0},0,0,0,0,0,0,0,0,0,0,0,0,0,0,0,0,0,0,0,0,0,0,0,0,0,0,0,0,0,0,0,0,0,0,0,0,0,0,0,0,0,0,0,0,0,0,0,0,0,0,0,0,0,0,0,0,0,0,0,0,0,0,0,0,0,0,0,0,0,0,0,0,0,0,0,0,0,0,0,0,0,0,0,0,0,0,0,0,0,0,0,0,0,0,0,0,0,0,0,0,0,0,0,0,0,0,0,0,0]
[null,null,null,null,null,null,null,0,0,0,0,0,0,0,0,0,0,0,0,0,0,0,0,0,0,0,0,0,0,0,0,0,0,0,0,0,0,0,0,0,0,0,0,0,0,0,0,0,0,0,0,0,0,0,0,0,0,0,0,0,0,0,0,0,0,0,0,0,0,0,0,0,0,0,0,0,0,0,0,0,0,0,0,0,0,0,0,0,0,0,0,0,0,0,0,0,0,0,0,0,0,0,0,0,0,0,0,0,0,0,0,0,0,0,0,0,0]
[null,null,null,null,null,null,null,0,0,0,0,0,0,0,0,0,0,0,0,0,0,0,0,0,0,0,0,0,0,0,0,0,0,0,0,0,0,0,0,0,0,0,0,0,0,0,0,0,0,0,0,0,0,0,0,0,0,0,0,0,0,0,0,0,0,0,0,0,0,0,0,0,0,0,0,0,0,0,0,0,0,0,0,0,0,0,0,0,0,0,0,0,0,0,0,0,0,0,0,{"$f":"IFERROR(CV35/ABS(CV35),0)*CV116","v":0},0,0,0,0,0,0,0,0,0,0,0,0,0,0,0,0,0]
[null,null,null,null,null,null,null,0,0,0,0,0,0,0,0,0,0,0,0,0,0,0,0,0,0,0,0,0,0,0,0,0,0,0,0,0,0,0,0,0,0,0,0,0,0,0,0,0,0,0,0,0,0,0,0,0,0,0,0,0,0,0,0,0,0,0,0,0,0,0,{"$f":"IFERROR(BS36/ABS(BS36),0)*BS117","v":0},0,0,0,0,0,0,0,0,0,0,0,0,0,0,0,0,0,0,0,0,0,0,0,0,0,0,0,0,0,0,0,0,0,0,0,0,0,0,0,0,0,0,0,0,0,0]
[null,null,null,null,null,null,null,{"$f":"IFERROR(H37/ABS(H37),0)*H118","v":0},0,0,0,0,0,0,0,0,0,0,0,0,0,0,0,0,0,0,0,0,0,0,0,0,0,0,0,0,0,0,0,0,0,0,0,0,0,0,0,0,0,0,0,0,0,0,0,0,0,0,0,0,0,0,0,0,0,0,0,0,0,0,0,0,0,0,0,0,0,0,0,0,0,0,0,0,0,0,0,0,0,0,0,0,0,0,0,0,0,0,0,0,0,0,0,0,0,0,0,0,0,0,0,0,0,0,0,0,0]
[null,null,null,null,null,null,null,0,0,0,0,0,0,0,0,0,0,0,0,0,0,0,0,0,0,0,0,0,0,0,0,0,0,0,0,0,0,0,0,0,0,0,0,0,0,0,0,0,0,0,0,0,0,0,0,0,0,0,0,0,0,0,0,0,0,0,0,0,0,0,0,0,0,0,0,0,0,0,0,0,0,0,0,0,0,0,0,0,0,0,0,0,0,0,0,0,0,0,0,0,0,0,0,0,0,0,0,0,0,0,0,0,0,0,0,0,0]
[null,null,null,null,null,null,null,0,0,0,0,0,0,0,0,0,0,0,0,0,0,0,0,0,0,0,0,0,0,0,0,0,0,0,0,0,0,0,0,0,0,0,0,0,0,0,0,0,0,0,0,0,0,0,0,0,0,0,0,0,0,0,0,0,0,0,0,0,0,0,0,0,0,0,0,0,0,0,0,0,0,0,0,0,0,0,0,0,0,0,0,0,0,0,0,0,0,0,0,0,0,0,0,0,0,0,0,0,0,0,0,0,0,0,0,0,0]
[null,null,null,null,null,null,null,0,0,0,0,0,0,0,0,0,0,0,0,0,0,0,0,0,0,0,0,0,0,0,0,0,0,0,0,0,0,0,0,0,0,0,0,0,0,0,0,0,0,0,0,0,0,0,0,0,0,0,0,0,0,0,0,0,0,0,0,0,0,0,{"$f":"IFERROR(BS40/ABS(BS40),0)*BS121","v":0},0,0,0,0,0,0,0,0,0,0,0,0,0,0,0,0,0,0,0,0,0,0,0,0,0,0,0,0,0,0,0,0,0,0,0,0,0,0,0,0,0,0,0,0,0,0]
[null,null,null,null,null,null,null,{"$f":"IFERROR(H41/ABS(H41),0)*H122","v":0},0,0,0,0,0,0,0,0,0,0,0,0,0,0,0,0,0,0,0,0,0,0,0,0,0,0,0,0,0,0,0,0,0,0,0,0,0,0,0,0,0,0,0,0,0,0,0,0,0,0,0,0,0,0,0,0,0,0,0,0,0,0,0,0,0,0,0,0,0,0,0,0,0,0,0,0,0,0,0,0,0,0,0,0,0,0,0,0,0,0,0,{"$f":"IFERROR(CV41/ABS(CV41),0)*CV122","v":0},0,0,0,0,0,0,0,0,0,0,0,0,0,0,0,0,0]
[null,null,null,null,null,null,null,0,0,0,0,0,0,0,0,0,0,0,0,0,0,0,0,0,0,0,0,0,0,0,0,0,0,0,0,0,0,0,0,0,0,0,0,0,0,0,0,0,0,0,0,0,0,0,0,0,0,0,0,0,0,0,0,0,0,0,0,0,0,0,0,0,0,0,0,0,0,0,0,0,0,0,0,0,0,0,0,0,0,0,0,0,0,0,0,0,0,0,0,0,0,0,0,0,0,0,0,0,0,0,0,0,0,0,0,0,0]
[null,null,null,null,null,null,null,0,0,0,0,0,0,0,0,0,0,0,0,0,0,0,0,0,0,0,0,0,0,0,0,0,0,0,0,0,0,0,0,0,0,0,0,0,0,0,0,0,0,0,0,0,0,0,0,0,0,0,0,0,0,0,0,0,0,0,0,0,0,0,0,0,0,0,0,0,0,0,0,0,0,0,0,0,0,0,0,0,0,0,0,0,0,0,0,0,0,0,0,0,0,0,0,0,0,0,0,0,0,0,0,0,0,0,0,0,0]
[null,null,null,null,null,null,null,0,0,0,0,0,0,0,0,0,0,0,0,0,0,0,0,0,0,0,0,0,0,0,0,0,0,0,0,0,0,0,0,0,0,0,0,0,0,0,0,0,0,0,0,0,0,0,0,0,0,0,0,0,0,0,0,0,0,0,0,0,0,0,{"$f":"IFERROR(BS44/ABS(BS44),0)*BS125","v":0},0,0,0,0,0,0,0,0,0,0,0,0,0,0,0,0,0,0,0,0,0,0,0,0,0,0,0,0,0,0,0,0,0,0,0,0,0,0,0,0,0,0,0,0,0,0]
[null,null,null,null,null,null,null,{"$f":"IFERROR(H45/ABS(H45),0)*H126","v":0},0,0,0,0,0,0,0,0,0,0,0,0,0,0,0,0,0,0,0,0,0,0,0,0,0,0,0,0,0,0,0,0,0,0,0,0,0,0,0,0,0,0,0,0,0,0,0,0,0,0,0,0,0,0,0,0,0,0,0,0,0,0,0,0,0,0,0,0,0,0,0,0,0,0,0,0,0,0,0,0,0,0,0,0,0,0,0,0,0,0,0,0,0,0,0,0,0,0,0,0,0,0,0,0,0,0,0,0,0]
[null,null,null,null,null,null,null,0,0,0,0,0,0,0,0,0,0,0,0,0,0,0,0,0,0,0,0,0,0,0,0,0,0,0,0,0,0,0,0,0,0,0,0,0,0,0,0,0,0,0,0,0,0,0,0,0,0,0,0,0,0,0,0,0,0,0,0,0,0,0,0,0,0,0,0,0,0,0,0,0,0,0,0,0,0,0,0,0,0,0,0,0,0,0,0,0,0,0,0,0,0,0,0,0,0,0,0,0,0,0,0,0,0,0,0,0,0]
[null,null,null,null,null,null,null,0,0,0,0,0,0,0,0,0,0,0,0,0,0,0,0,0,0,0,0,0,0,0,0,0,0,0,0,0,0,0,0,0,0,0,0,0,0,0,0,0,0,0,0,0,0,0,0,0,0,0,0,0,0,0,0,0,0,0,0,0,0,0,0,0,0,0,0,0,0,0,0,0,0,0,0,0,0,0,0,0,0,0,0,0,0,0,0,0,0,0,0,{"$f":"IFERROR(CV47/ABS(CV47),0)*CV128","v":0},0,0,0,0,0,0,0,0,0,0,0,0,0,0,0,0,0]
[null,null,null,null,null,null,null,0,0,0,0,0,0,0,0,0,0,0,0,0,0,0,0,0,0,0,0,0,0,0,0,0,0,0,0,0,0,0,0,0,0,0,0,0,0,0,0,0,0,0,0,0,0,0,0,0,0,0,0,0,0,0,0,0,0,0,0,0,0,0,{"$f":"IFERROR(BS48/ABS(BS48),0)*BS129","v":0},0,0,0,0,0,0,0,0,0,0,0,0,0,0,0,0,0,0,0,0,0,0,0,0,0,0,0,0,0,0,0,0,0,0,0,0,0,0,0,0,0,0,0,0,0,0]
[null,null,null,null,null,null,null,{"$f":"IFERROR(H49/ABS(H49),0)*H130","v":0},0,0,0,0,0,0,0,0,0,0,0,0,0,0,0,0,0,0,0,0,0,0,0,0,0,0,0,0,0,0,0,0,0,0,0,0,0,0,0,0,0,0,0,0,0,0,0,0,0,0,0,0,0,0,0,0,0,0,0,0,0,0,0,0,0,0,0,0,0,0,0,0,0,0,0,0,0,0,0,0,0,0,0,0,0,0,0,0,0,0,0,0,0,0,0,0,0,0,0,0,0,0,0,0,0,0,0,0,0]
[null,null,null,null,null,null,null,0,0,0,0,0,0,0,0,0,0,0,0,0,0,0,0,0,0,0,0,0,0,0,0,0,0,0,0,0,0,0,0,0,0,0,0,0,0,0,0,0,0,0,0,0,0,0,0,0,0,0,0,0,0,0,0,0,0,0,0,0,0,0,0,0,0,0,0,0,0,0,0,0,0,0,0,0,0,0,0,0,0,0,0,0,0,0,0,0,0,0,0,0,0,0,0,0,0,0,0,0,0,0,0,0,0,0,0,0,0]
[null,null,null,null,null,null,null,0,0,0,0,0,0,0,0,0,0,0,0,0,0,0,0,0,0,0,0,0,0,0,0,0,0,0,0,0,0,0,0,0,0,0,0,0,0,0,0,0,0,0,0,0,0,0,0,0,0,0,0,0,0,0,0,0,0,0,0,0,0,0,0,0,0,0,0,0,0,0,0,0,0,0,0,0,0,0,0,0,0,0,0,0,0,0,0,0,0,0,0,0,0,0,0,0,0,0,0,0,0,0,0,0,0,0,0,0,0]
[null,null,null,null,null,null,null,0,0,0,0,0,0,0,0,0,0,0,0,0,0,0,0,0,0,0,0,0,0,0,0,0,0,0,0,0,0,0,0,0,0,0,0,0,0,0,0,0,0,0,0,0,0,0,0,0,0,0,0,0,0,0,0,0,0,0,0,0,0,0,{"$f":"IFERROR(BS52/ABS(BS52),0)*BS133","v":0},0,0,0,0,0,0,0,0,0,0,0,0,0,0,0,0,0,0,0,0,0,0,0,0,0,0,0,0,0,0,0,0,0,0,0,0,0,0,0,0,0,0,0,0,0,0]
[null,null,null,null,null,null,null,{"$f":"IFERROR(H53/ABS(H53),0)*H134","v":0},0,0,0,0,0,0,0,0,0,0,0,0,0,0,0,0,0,0,0,0,0,0,0,0,0,0,0,0,0,0,0,0,0,0,0,0,0,0,0,0,0,0,0,0,0,0,0,0,0,0,0,0,0,0,0,0,0,0,0,0,0,0,0,0,0,0,0,0,0,0,0,0,0,0,0,0,0,0,0,0,0,0,0,0,0,0,0,0,0,0,0,{"$f":"IFERROR(CV53/ABS(CV53),0)*CV134","v":0},0,0,0,0,0,0,0,0,0,0,0,0,0,0,0,0,0]
[null,null,null,null,null,null,null,0,0,0,0,0,0,0,0,0,0,0,0,0,0,0,0,0,0,0,0,0,0,0,0,0,0,0,0,0,0,0,0,0,0,0,0,0,0,0,0,0,0,0,0,0,0,0,0,0,0,0,0,0,0,0,0,0,0,0,0,0,0,0,0,0,0,0,0,0,0,0,0,0,0,0,0,0,0,0,0,0,0,0,0,0,0,0,0,0,0,0,0,0,0,0,0,0,0,0,0,0,0,0,0,0,0,0,0,0,0]
[null,null,null,null,null,null,null,0,0,0,0,0,0,0,0,0,0,0,0,0,0,0,0,0,0,0,0,0,0,0,0,0,0,0,0,0,0,0,0,0,0,0,0,0,0,0,0,0,0,0,0,0,0,0,0,0,0,0,0,0,0,0,0,0,0,0,0,0,0,0,0,0,0,0,0,0,0,0,0,0,0,0,0,0,0,0,0,0,0,0,0,0,0,0,0,0,0,0,0,0,0,0,0,0,0,0,0,0,0,0,0,0,0,0,0,0,0]
[null,null,null,null,null,null,null,0,0,0,0,0,0,0,0,0,0,0,0,0,0,0,0,0,0,0,0,0,0,0,0,0,0,0,0,0,0,0,0,0,0,0,0,0,0,0,0,0,0,0,0,0,0,0,0,0,0,0,0,0,0,0,0,0,0,0,0,0,0,0,{"$f":"IFERROR(BS56/ABS(BS56),0)*BS137","v":0},0,0,0,0,0,0,0,0,0,0,0,0,0,0,0,0,0,0,0,0,0,0,0,0,0,0,0,0,0,0,0,0,0,0,0,0,0,0,0,0,0,0,0,0,0,0]
[null,null,null,null,null,null,null,{"$f":"IFERROR(H57/ABS(H57),0)*H138","v":0},0,0,0,0,0,0,0,0,0,0,0,0,0,0,0,0,0,0,0,0,0,0,0,0,0,0,0,0,0,0,0,0,0,0,0,0,0,0,0,0,0,0,0,0,0,0,0,0,0,0,0,0,0,0,0,0,0,0,0,0,0,0,0,0,0,0,0,0,0,0,0,0,0,0,0,0,0,0,0,0,0,0,0,0,0,0,0,0,0,0,0,0,0,0,0,0,0,0,0,0,0,0,0,0,0,0,0,0,0]
[null,null,null,null,null,null,null,0,0,0,0,0,0,0,0,0,0,0,0,0,0,0,0,0,0,0,0,0,0,0,0,0,0,0,0,0,0,0,0,0,0,0,0,0,0,0,0,0,0,0,0,0,0,0,0,0,0,0,0,0,0,0,0,0,0,0,0,0,0,0,0,0,0,0,0,0,0,0,0,0,0,0,0,0,0,0,0,0,0,0,0,0,0,0,0,0,0,0,0,0,0,0,0,0,0,0,0,0,0,0,0,0,0,0,0,0,0]
[null,null,null,null,null,null,null,0,0,0,0,0,0,0,0,0,0,0,0,0,0,0,0,0,0,0,0,0,0,0,0,0,0,0,0,0,0,0,0,0,0,0,0,0,0,0,0,0,0,0,0,0,0,0,0,0,0,0,0,0,0,0,0,0,0,0,0,0,0,0,0,0,0,0,0,0,0,0,0,0,0,0,0,0,0,0,0,0,0,0,0,0,0,0,0,0,0,0,0,{"$f":"IFERROR(CV59/ABS(CV59),0)*CV140","v":0},0,0,0,0,0,0,0,0,0,0,0,0,0,0,0,0,0]
[null,null,null,null,null,null,null,0,0,0,0,0,0,0,0,0,0,0,0,0,0,0,0,0,0,0,0,0,0,0,0,0,0,0,0,0,0,0,0,0,0,0,0,0,0,0,0,0,0,0,0,0,0,0,0,0,0,0,0,0,0,0,0,0,0,0,0,0,0,0,{"$f":"IFERROR(BS60/ABS(BS60),0)*BS141","v":0},0,0,0,0,0,0,0,0,0,0,0,0,0,0,0,0,0,0,0,0,0,0,0,0,0,0,0,0,0,0,0,0,0,0,0,0,0,0,0,0,0,0,0,0,0,0]
[null,null,null,null,null,null,null,{"$f":"IFERROR(H61/ABS(H61),0)*H142","v":0},0,0,0,0,0,0,0,0,0,0,0,0,0,0,0,0,0,0,0,0,0,0,0,0,0,0,0,0,0,0,0,0,0,0,0,0,0,0,0,0,0,0,0,0,0,0,0,0,0,0,0,0,0,0,0,0,0,0,0,0,0,0,0,0,0,0,0,0,0,0,0,0,0,0,0,0,0,0,0,0,0,0,0,0,0,0,0,0,0,0,0,0,0,0,0,0,0,0,0,0,0,0,0,0,0,0,0,0,0]
[null,null,null,null,null,null,null,0,0,0,0,0,0,0,0,0,0,0,0,0,0,0,0,0,0,0,0,0,0,0,0,0,0,0,0,0,0,0,0,0,0,0,0,0,0,0,0,0,0,0,0,0,0,0,0,0,0,0,0,0,0,0,0,0,0,0,0,0,0,0,0,0,0,0,0,0,0,0,0,0,0,0,0,0,0,0,0,0,0,0,0,0,0,0,0,0,0,0,0,0,0,0,0,0,0,0,0,0,0,0,0,0,0,0,0,0,0]
[null,null,null,null,null,null,null,0,0,0,0,0,0,0,0,0,0,0,0,0,0,0,0,0,0,0,0,0,0,0,0,0,0,0,0,0,0,0,0,0,0,0,0,0,0,0,0,0,0,0,0,0,0,0,0,0,0,0,0,0,0,0,0,0,0,0,0,0,0,0,0,0,0,0,0,0,0,0,0,0,0,0,0,0,0,0,0,0,0,0,0,0,0,0,0,0,0,0,0,0,0,0,0,0,0,0,0,0,0,0,0,0,0,0,0,0,0]
[null,null,null,null,null,null,null,0,0,0,0,0,0,0,0,0,0,0,0,0,0,0,0,0,0,0,0,0,0,0,0,0,0,0,0,0,0,0,0,0,0,0,0,0,0,0,0,0,0,0,0,0,0,0,0,0,0,0,0,0,0,0,0,0,0,0,0,0,0,0,{"$f":"IFERROR(BS64/ABS(BS64),0)*BS145","v":0},0,0,0,0,0,0,0,0,0,0,0,0,0,0,0,0,0,0,0,0,0,0,0,0,0,0,0,0,0,0,0,0,0,0,0,0,0,0,0,0,0,0,0,0,0,0]
[null,null,null,null,null,null,null,{"$f":"IFERROR(H65/ABS(H65),0)*H146","v":0},0,0,0,0,0,0,0,0,0,0,0,0,0,0,0,0,0,0,0,0,0,0,0,0,0,0,0,0,0,0,0,0,0,0,0,0,0,0,0,0,0,0,0,0,0,0,0,0,0,0,0,0,0,0,0,0,0,0,0,0,0,0,0,0,0,0,0,0,0,0,0,0,0,0,0,0,0,0,0,0,0,0,0,0,0,0,0,0,0,0,0,{"$f":"IFERROR(CV65/ABS(CV65),0)*CV146","v":0},0,0,0,0,0,0,0,0,0,0,0,0,0,0,0,0,0]
[null,null,null,null,null,null,null,0,0,0,0,0,0,0,0,0,0,0,0,0,0,0,0,0,0,0,0,0,0,0,0,0,0,0,0,0,0,0,0,0,0,0,0,0,0,0,0,0,0,0,0,0,0,0,0,0,0,0,0,0,0,0,0,0,0,0,0,0,0,0,0,0,0,0,0,0,0,0,0,0,0,0,0,0,0,0,0,0,0,0,0,0,0,0,0,0,0,0,0,0,0,0,0,0,0,0,0,0,0,0,0,0,0,0,0,0,0]
[null,null,null,null,null,null,null,0,0,0,0,0,0,0,0,0,0,0,0,0,0,0,0,0,0,0,0,0,0,0,0,0,0,0,0,0,0,0,0,0,0,0,0,0,0,0,0,0,0,0,0,0,0,0,0,0,0,0,0,0,0,0,0,0,0,0,0,0,0,0,0,0,0,0,0,0,0,0,0,0,0,0,0,0,0,0,0,0,0,0,0,0,0,0,0,0,0,0,0,0,0,0,0,0,0,0,0,0,0,0,0,0,0,0,0,0,0]
[null,null,null,null,null,null,null,0,0,0,0,0,0,0,0,0,0,0,0,0,0,0,0,0,0,0,0,0,0,0,0,0,0,0,0,0,0,0,0,0,0,0,0,0,0,0,0,0,0,0,0,0,0,0,0,0,0,0,0,0,0,0,0,0,0,0,0,0,0,0,{"$f":"IFERROR(BS68/ABS(BS68),0)*BS149","v":0},0,0,0,0,0,0,0,0,0,0,0,0,0,0,0,0,0,0,0,0,0,0,0,0,0,0,0,0,0,0,0,0,0,0,0,0,0,0,0,0,0,0,0,0,0,0]
[null,null,null,null,null,null,null,{"$f":"IFERROR(H69/ABS(H69),0)*H150","v":0},0,0,0,0,0,0,0,0,0,0,0,0,0,0,0,0,0,0,0,0,0,0,0,0,0,0,0,0,0,0,0,0,0,0,0,0,0,0,0,0,0,0,0,0,0,0,0,0,0,0,0,0,0,0,0,0,0,0,0,0,0,0,0,0,0,0,0,0,0,0,0,0,0,0,0,0,0,0,0,0,0,0,0,0,0,0,0,0,0,0,0,0,0,0,0,0,0,0,0,0,0,0,0,0,0,0,0,0,0]
[null,null,null,null,null,null,null,0,0,0,0,0,0,0,0,0,0,0,0,0,0,0,0,0,0,0,0,0,0,0,0,0,0,0,0,0,0,0,0,0,0,0,0,0,0,0,0,0,0,0,0,0,0,0,0,0,0,0,0,0,0,0,0,0,0,0,0,0,0,0,0,0,0,0,0,0,0,0,0,0,0,0,0,0,0,0,0,0,0,0,0,0,0,0,0,0,0,0,0,0,0,0,0,0,0,0,0,0,0,0,0,0,0,0,0,0,0]
[null,null,null,null,null,null,null,0,0,0,0,0,0,0,0,0,0,0,0,0,0,0,0,0,0,0,0,0,0,0,0,0,0,0,0,0,0,0,0,0,0,0,0,0,0,0,0,0,0,0,0,0,0,0,0,0,0,0,0,0,0,0,0,0,0,0,0,0,0,0,0,0,0,0,0,0,0,0,0,0,0,0,0,0,0,0,0,0,0,0,0,0,0,0,0,0,0,0,0,{"$f":"IFERROR(CV71/ABS(CV71),0)*CV152","v":0},0,0,0,0,0,0,0,0,0,0,0,0,0,0,0,0,0]
[null,null,null,null,null,null,null,0,0,0,0,0,0,0,0,0,0,0,0,0,0,0,0,0,0,0,0,0,0,0,0,0,0,0,0,0,0,0,0,0,0,0,0,0,0,0,0,0,0,0,0,0,0,0,0,0,0,0,0,0,0,0,0,0,0,0,0,0,0,0,{"$f":"IFERROR(BS72/ABS(BS72),0)*BS153","v":0},0,0,0,0,0,0,0,0,0,0,0,0,0,0,0,0,0,0,0,0,0,0,0,0,0,0,0,0,0,0,0,0,0,0,0,0,0,0,0,0,0,0,0,0,0,0]
[null,null,null,null,null,null,null,{"$f":"IFERROR(H73/ABS(H73),0)*H154","v":0},0,0,0,0,0,0,0,0,0,0,0,0,0,0,0,0,0,0,0,0,0,0,0,0,0,0,0,0,0,0,0,0,0,0,0,0,0,0,0,0,0,0,0,0,0,0,0,0,0,0,0,0,0,0,0,0,0,0,0,0,0,0,0,0,0,0,0,0,0,0,0,0,0,0,0,0,0,0,0,0,0,0,0,0,0,0,0,0,0,0,0,0,0,0,0,0,0,0,0,0,0,0,0,0,0,0,0,0,0]
[null,null,null,null,null,null,null,0,0,0,0,0,0,0,0,0,0,0,0,0,0,0,0,0,0,0,0,0,0,0,0,0,0,0,0,0,0,0,0,0,0,0,0,0,0,0,0,0,0,0,0,0,0,0,0,0,0,0,0,0,0,0,0,0,0,0,0,0,0,0,0,0,0,0,0,0,0,0,0,0,0,0,0,0,0,0,0,0,0,0,0,0,0,0,0,0,0,0,0,0,0,0,0,0,0,0,0,0,0,0,0,0,0,0,0,0,0]
[null,null,null,null,null,null,null,0,0,0,0,0,0,0,0,0,0,0,0,0,0,0,0,0,0,0,0,0,0,0,0,0,0,0,0,0,0,0,0,0,0,0,0,0,0,0,0,0,0,0,0,0,0,0,0,0,0,0,0,0,0,0,0,0,0,0,0,0,0,0,0,0,0,0,0,0,0,0,0,0,0,0,0,0,0,0,0,0,0,0,0,0,0,0,0,0,0,0,0,0,0,0,0,0,0,0,0,0,0,0,0,0,0,0,0,0,0]
[null,null,null,null,null,null,null,0,0,0,0,0,0,0,0,0,0,0,0,0,0,0,0,0,0,0,0,0,0,0,0,0,0,0,0,0,0,0,0,0,0,0,0,0,0,0,0,0,0,0,0,0,0,0,0,0,0,0,0,0,0,0,0,0,0,0,0,0,0,0,{"$f":"IFERROR(BS76/ABS(BS76),0)*BS157","v":0},0,0,0,0,0,0,0,0,0,0,0,0,0,0,0,0,0,0,0,0,0,0,0,0,0,0,0,0,0,0,0,0,0,0,0,0,0,0,0,0,0,0,0,0,0,0]
[null,null,null,null,null,null,null,{"$f":"IFERROR(H77/ABS(H77),0)*H158","v":0},0,0,0,0,0,0,0,0,0,0,0,0,0,0,0,0,0,0,0,0,0,0,0,0,0,0,0,0,0,0,0,0,0,0,0,0,0,0,0,0,0,0,0,0,0,0,0,0,0,0,0,0,0,0,0,0,0,0,0,0,0,0,0,0,0,0,0,0,0,0,0,0,0,0,0,0,0,0,0,0,0,0,0,0,0,0,0,0,0,0,0,{"$f":"IFERROR(CV77/ABS(CV77),0)*CV158","v":0},0,0,0,0,0,0,0,0,0,0,0,0,0,0,0,0,0]
[null,null,null,null,null,null,null,0,0,0,0,0,0,0,0,0,0,0,0,0,0,0,0,0,0,0,0,0,0,0,0,0,0,0,0,0,0,0,0,0,0,0,0,0,0,0,0,0,0,0,0,0,0,0,0,0,0,0,0,0,0,0,0,0,0,0,0,0,0,0,0,0,0,0,0,0,0,0,0,0,0,0,0,0,0,0,0,0,0,0,0,0,0,0,0,0,0,0,0,0,0,0,0,0,0,0,0,0,0,0,0,0,0,0,0,0,0]
[null,null,null,null,null,null,null,0,0,0,0,0,0,0,0,0,0,0,0,0,0,0,0,0,0,0,0,0,0,0,0,0,0,0,0,0,0,0,0,0,0,0,0,0,0,0,0,0,0,0,0,0,0,0,0,0,0,0,0,0,0,0,0,0,0,0,0,0,0,0,0,0,0,0,0,0,0,0,0,0,0,0,0,0,0,0,0,0,0,0,0,0,0,0,0,0,0,0,0,0,0,0,0,0,0,0,0,0,0,0,0,0,0,0,0,0,0]
[null,null,null,null,null,null,null,0,0,0,0,0,0,0,0,0,0,0,0,0,0,0,0,0,0,0,0,0,0,0,0,0,0,0,0,0,0,0,0,0,0,0,0,0,0,0,0,0,0,0,0,0,0,0,0,0,0,0,0,0,0,0,0,0,0,0,0,0,0,0,{"$f":"IFERROR(BS80/ABS(BS80),0)*BS161","v":0},0,0,0,0,0,0,0,0,0,0,0,0,0,0,0,0,0,0,0,0,0,0,0,0,0,0,0,0,0,0,0,0,0,0,0,0,0,0,0,0,0,0,0,0,0,0]
[null,null,null,null,null,null,null,{"$f":"IFERROR(H81/ABS(H81),0)*H162","v":0},0,0,0,0,0,0,0,0,0,0,0,0,0,0,0,0,0,0,0,0,0,0,0,0,0,0,0,0,0,0,0,0,0,0,0,0,0,0,0,0,0,0,0,0,0,0,0,0,0,0,0,0,0,0,0,0,0,0,0,0,0,0,0,0,0,0,0,0,0,0,0,0,0,0,0,0,0,0,0,0,0,0,0,0,0,0,0,0,0,0,0,0,0,0,0,0,0,0,0,0,0,0,0,0,0,0,0,0,0]
[]
[]
[null,null,null,null,null,null,{"$f":"IF(OR(G4=$C$5,G4=$E$10),$B$12*$C$6,2*$B$12)","v":8.5506887097702737},{"$f":"$G246*H166","v":-35912.89258103515},{"$f":"$G246*I166","v":-35912.89258103515},{"$f":"$G246*J166","v":-25037.967948138747},-9672.2315764325267,544.41692985971144,7828.7578045923492,13284.776351427232,17524.065246487011,20912.802950429628,23683.627686019234,25991.426424852467,27943.312236478418,29615.725076627077,31064.677788930469,32332.152236463575,33450.233762177631,34443.86506705347,35332.728990692951,35912.89258103515,35912.89258103515,35912.89258103515,35912.89258103515,35912.89258103515,35912.89258103515,0,0,0,0,0,0,0,0,0,0,0,0,0,0,0,0,0,0,0,0,0,0,0,0,0,0,0,0,0,0,0,0,0,0,0,0,0,0,0,0,0,0,{"$f":"$G246*BV166","v":0},0,0,0,0,0,0,0,0,0,0,0,0,0,0,0,0,0,0,0,0,0,0,0,0,0,0,0,0,0,0,0,0,0,0,0,0,0,0,0,0,0,0,0]
[null,null,null,null,null,null,{"$f":"IF(OR(G5=$C$5,G5=$E$10),$B$12*$C$6,2*$B$12)","v":8.5506887097702737},{"$f":"$G247*H167","v":-35912.89258103515},-35912.89258103515,-35912.89258103515,-35912.89258103515,-35912.89258103515,-35912.89258103515,-35912.89258103515,-35912.89258103515,-35912.89258103515,-35912.89258103515,-30549.571026022295,-24237.757381145497,-18829.675555127091,-14144.196801285731,-10045.564358331507,-6430.0238446126277,-3216.9180416314052,-342.59854596741923,2243.8331778247048,4583.5660645966746,6710.2893569428534,8651.8252208864906,10431.352668396476,12068.337365955724,0,0,0,0,0,0,0,0,0,0,0,0,0,0,0,0,0,0,0,0,0,0,0,0,0,0,0,0,0,0,0,0,0,0,0,0,0,0,0,0,0,0,0,0,0,0,0,0,0,0,0,0,0,0,0,0,0,0,0,0,0,0,0,0,0,0,0,0,0,0,0,0,0,0,0,0,0,0,0,0,0,0,0,0,0,0]
[null,null,null,null,null,null,5.7004591398468492,0,0,0,0,0,0,0,0,0,0,0,0,0,0,0,0,0,0,0,0,0,0,0,0,0,0,0,0,0,0,0,0,0,0,0,0,0,0,0,0,0,0,0,0,0,0,0,0,0,0,0,0,0,0,0,0,0,0,0,0,0,0,0,0,0,0,0,0,0,0,0,0,0,0,0,0,0,0,0,0,0,0,0,0,0,0,0,0,0,0,0,0,0,0,0,0,0,0,0,0,0,0,0,0,0,0,0,0,0,0]
[null,null,null,null,null,null,5.7004591398468492,0,0,0,0,0,0,0,0,0,0,0,0,0,0,0,0,0,0,0,0,0,0,0,0,0,0,0,0,0,0,0,0,0,0,0,0,0,0,0,0,0,0,0,0,0,0,0,0,0,0,0,0,0,0,0,0,0,0,0,0,0,0,0,0,0,0,0,0,0,0,0,0,0,0,0,0,0,0,0,0,0,0,0,0,0,0,0,0,0,0,0,0,0,0,0,0,0,0,0,0,0,0,0,0,0,0,0,0,0,0]
[null,null,null,null,null,null,{"$f":"IF(OR(G8=$C$5,G8=$E$10),$B$12*$C$6,2*$B$12)","v":5.7004591398468492},0,0,0,0,0,0,0,0,0,0,0,0,0,0,0,0,0,0,0,0,0,0,0,0,0,0,0,0,0,0,0,0,0,0,0,0,0,0,0,0,0,0,0,0,0,0,0,0,0,0,0,0,0,0,0,0,0,0,0,0,0,0,0,{"$f":"$G250*BS170","v":0},0,0,0,0,0,0,0,0,0,0,0,0,0,0,0,0,0,0,0,0,0,0,0,0,0,0,0,0,0,0,0,0,0,0,0,0,0,0,0,0,0,0,0,0,0,0]
[null,null,null,null,null,null,5.7004591398468492,{"$f":"$G251*H171","v":0},0,0,0,0,0,0,0,0,0,0,0,0,0,0,0,0,0,0,0,0,0,0,0,0,0,0,0,0,0,0,0,0,0,0,0,0,0,0,0,0,0,0,0,0,0,0,0,0,0,0,0,0,0,0,0,0,0,0,0,0,0,0,0,0,0,0,0,0,0,0,0,0,0,0,0,0,0,0,0,0,0,0,0,0,0,0,0,0,0,0,0,0,0,0,0,0,0,0,0,0,{"$f":"$G251*DE171","v":0},0,0,0,0,0,0,0,0]
[null,null,null,null,null,null,5.7004591398468492,0,0,0,0,0,0,0,0,0,0,0,0,0,0,0,0,0,0,0,0,0,0,0,0,0,0,0,0,0,0,0,0,0,0,0,0,0,0,0,0,0,0,0,0,0,0,0,0,0,0,0,0,0,0,0,0,0,0,0,0,0,0,0,0,0,0,{"$f":"$G252*BV172","v":0},0,0,0,0,0,0,0,0,0,0,0,0,0,0,0,0,0,0,0,0,0,0,0,0,0,0,0,0,0,0,0,0,0,0,0,0,0,0,0,0,0,0,0]
[null,null,null,null,null,null,5.7004591398468492,0,0,0,0,0,0,0,0,0,0,0,0,0,0,0,0,0,0,0,0,0,0,0,0,0,0,0,0,0,0,0,0,0,0,0,0,0,0,0,0,0,0,0,0,0,0,0,0,0,0,0,0,0,0,0,0,0,0,0,0,0,0,0,0,0,0,0,0,0,0,0,0,0,0,0,0,0,0,0,0,0,0,0,0,0,0,0,0,0,0,0,0,0,0,0,0,0,0,0,0,0,0,0,0,0,0,0,0,0,0]
[null,null,null,null,null,null,5.7004591398468492,0,0,0,0,0,0,0,0,0,0,0,0,0,0,0,0,0,0,0,0,0,0,0,0,0,0,0,0,0,0,0,0,0,0,0,0,0,0,0,0,0,0,0,0,0,0,0,0,0,0,0,0,0,0,0,0,0,0,0,0,0,0,0,{"$f":"$G254*BS174","v":0},0,0,0,0,0,0,0,0,0,0,0,0,0,0,0,0,0,0,0,0,0,0,0,0,0,0,0,0,0,0,0,0,0,0,0,0,0,0,0,0,0,0,0,0,0,0]
[null,null,null,null,null,null,5.7004591398468492,{"$f":"$G255*H175","v":0},0,0,0,0,0,0,0,0,0,0,0,0,0,0,0,0,0,0,0,0,0,0,0,0,0,0,0,0,0,0,0,0,0,0,0,0,0,0,0,0,0,0,0,0,0,0,0,0,0,0,0,0,0,0,0,0,0,0,0,0,0,0,0,0,0,0,0,0,0,0,0,0,0,0,0,0,0,0,0,0,0,0,0,0,0,0,0,0,0,0,0,0,0,0,0,0,0,0,0,0,0,0,0,0,0,0,0,0,0]
[null,null,null,null,null,null,5.7004591398468492,0,0,0,0,0,0,0,0,0,0,0,0,0,0,0,0,0,0,0,0,0,0,0,0,0,0,0,0,0,0,0,0,0,0,0,0,0,0,0,0,0,0,0,0,0,0,0,0,0,0,0,0,0,0,0,0,0,0,0,0,0,0,0,0,0,0,0,0,0,0,0,0,0,0,0,0,0,0,0,0,0,0,0,0,0,0,0,0,0,0,0,0,0,0,0,0,0,0,0,0,0,0,0,0,0,0,0,0,0,0]
[null,null,null,null,null,null,5.7004591398468492,0,0,0,0,0,0,0,0,0,0,0,0,0,0,0,0,0,0,0,0,0,0,0,0,0,0,0,0,0,0,0,0,0,0,0,0,0,0,0,0,0,0,0,0,0,0,0,0,0,0,0,0,0,0,0,0,0,0,0,0,0,0,0,0,0,0,0,0,0,0,0,0,0,0,0,0,0,0,0,0,0,0,0,0,0,0,0,0,0,0,0,0,0,0,0,0,0,0,0,0,0,{"$f":"$G257*DE177","v":0},0,0,0,0,0,0,0,0]
[null,null,null,null,null,null,5.7004591398468492,0,0,0,0,0,0,0,0,0,0,0,0,0,0,0,0,0,0,0,0,0,0,0,0,0,0,0,0,0,0,0,0,0,0,0,0,0,0,0,0,0,0,0,0,0,0,0,0,0,0,0,0,0,0,0,0,0,0,0,0,0,0,0,{"$f":"$G258*BS178","v":0},0,0,{"$f":"$G258*BV178","v":0},0,0,0,0,0,0,0,0,0,0,0,0,0,0,0,0,0,0,0,0,0,0,0,0,0,0,0,0,0,0,0,0,0,0,0,0,0,0,0,0,0,0,0]
[null,null,null,null,null,null,5.7004591398468492,{"$f":"$G259*H179","v":0},0,0,0,0,0,0,0,0,0,0,0,0,0,0,0,0,0,0,0,0,0,0,0,0,0,0,0,0,0,0,0,0,0,0,0,0,0,0,0,0,0,0,0,0,0,0,0,0,0,0,0,0,0,0,0,0,0,0,0,0,0,0,0,0,0,0,0,0,0,0,0,0,0,0,0,0,0,0,0,0,0,0,0,0,0,0,0,0,0,0,0,0,0,0,0,0,0,0,0,0,0,0,0,0,0,0,0,0,0]
[null,null,null,null,null,null,5.7004591398468492,0,0,0,0,0,0,0,0,0,0,0,0,0,0,0,0,0,0,0,0,0,0,0,0,0,0,0,0,0,0,0,0,0,0,0,0,0,0,0,0,0,0,0,0,0,0,0,0,0,0,0,0,0,0,0,0,0,0,0,0,0,0,0,0,0,0,0,0,0,0,0,0,0,0,0,0,0,0,0,0,0,0,0,0,0,0,0,0,0,0,0,0,0,0,0,0,0,0,0,0,0,0,0,0,0,0,0,0,0,0]
[null,null,null,null,null,null,5.7004591398468492,0,0,0,0,0,0,0,0,0,0,0,0,0,0,0,0,0,0,0,0,0,0,0,0,0,0,0,0,0,0,0,0,0,0,0,0,0,0,0,0,0,0,0,0,0,0,0,0,0,0,0,0,0,0,0,0,0,0,0,0,0,0,0,0,0,0,0,0,0,0,0,0,0,0,0,0,0,0,0,0,0,0,0,0,0,0,0,0,0,0,0,0,0,0,0,0,0,0,0,0,0,0,0,0,0,0,0,0,0,0]
[null,null,null,null,null,null,5.7004591398468492,0,0,0,0,0,0,0,0,0,0,0,0,0,0,0,0,0,0,0,0,0,0,0,0,0,0,0,0,0,0,0,0,0,0,0,0,0,0,0,0,0,0,0,0,0,0,0,0,0,0,0,0,0,0,0,0,0,0,0,0,0,0,0,{"$f":"$G262*BS182","v":0},0,0,0,0,0,0,0,0,0,0,0,0,0,0,0,0,0,0,0,0,0,0,0,0,0,0,0,0,0,0,0,0,0,0,0,0,0,0,0,0,0,0,0,0,0,0]
[null,null,null,null,null,null,5.7004591398468492,{"$f":"$G263*H183","v":0},0,0,0,0,0,0,0,0,0,0,0,0,0,0,0,0,0,0,0,0,0,0,0,0,0,0,0,0,0,0,0,0,0,0,0,0,0,0,0,0,0,0,0,0,0,0,0,0,0,0,0,0,0,0,0,0,0,0,0,0,0,0,0,0,0,0,0,0,0,0,0,0,0,0,0,0,0,0,0,0,0,0,0,0,0,0,0,0,0,0,0,0,0,0,0,0,0,0,0,0,0,0,0,0,0,0,0,0,0]
[null,null,null,null,null,null,5.7004591398468492,0,0,0,0,0,0,0,0,0,0,0,0,0,0,0,0,0,0,0,0,0,0,0,0,0,0,0,0,0,0,0,0,0,0,0,0,0,0,0,0,0,0,0,0,0,0,0,0,0,0,0,0,0,0,0,0,0,0,0,0,0,0,0,0,0,0,0,0,0,0,0,0,0,0,0,0,0,0,0,0,0,0,0,0,0,0,0,0,0,0,0,0,0,0,0,0,0,0,0,0,0,0,0,0,0,0,0,0,0,0]
[null,null,null,null,null,null,5.7004591398468492,0,0,0,0,0,0,0,0,0,0,0,0,0,0,0,0,0,0,0,0,0,0,0,0,0,0,0,0,0,0,0,0,0,0,0,0,0,0,0,0,0,0,0,0,0,0,0,0,0,0,0,0,0,0,0,0,0,0,0,0,0,0,0,0,0,0,0,0,0,0,0,0,0,0,0,0,0,0,0,0,0,0,0,0,0,0,0,0,0,0,0,0,0,0,0,0,0,0,0,0,0,0,0,0,0,0,0,0,0,0]
[null,null,null,null,null,null,5.7004591398468492,0,0,0,0,0,0,0,0,0,0,0,0,0,0,0,0,0,0,0,0,0,0,0,0,0,0,0,0,0,0,0,0,0,0,0,0,0,0,0,0,0,0,0,0,0,0,0,0,0,0,0,0,0,0,0,0,0,0,0,0,0,0,0,{"$f":"$G266*BS186","v":0},0,0,0,0,0,0,0,0,0,0,0,0,0,0,0,0,0,0,0,0,0,0,0,0,0,0,0,0,0,0,0,0,0,0,0,0,0,0,0,0,0,0,0,0,0,0]
[null,null,null,null,null,null,5.7004591398468492,{"$f":"$G267*H187","v":0},0,0,0,0,0,0,0,0,0,0,0,0,0,0,0,0,0,0,0,0,0,0,0,0,0,0,0,0,0,0,0,0,0,0,0,0,0,0,0,0,0,0,0,0,0,0,0,0,0,0,0,0,0,0,0,0,0,0,0,0,0,0,0,0,0,0,0,0,0,0,0,0,0,0,0,0,0,0,0,0,0,0,0,0,0,0,0,{"$f":"$G267*CR187","v":0},0,0,0,0,0,0,0,0,0,0,0,0,0,0,0,0,0,0,0,0,0]
[null,null,null,null,null,null,5.7004591398468492,0,0,0,0,0,0,0,0,0,0,0,0,0,0,0,0,0,0,0,0,0,0,0,0,0,0,0,0,0,0,0,0,0,0,0,0,0,0,0,0,0,0,0,0,0,0,0,0,0,0,0,0,0,0,0,0,0,0,0,0,0,0,0,0,{"$f":"$G268*BT188","v":0},0,0,0,0,0,0,0,0,0,0,0,0,0,0,0,0,0,0,0,0,0,0,0,0,0,0,0,0,0,0,0,0,0,0,0,0,0,0,0,0,0,0,0,0,0]
[null,null,null,null,null,null,5.7004591398468492,0,0,0,0,0,0,0,0,0,0,0,0,0,0,0,0,0,0,0,0,0,0,0,0,0,0,0,0,0,0,0,0,0,0,0,0,0,0,0,0,0,0,0,0,0,0,0,0,0,0,0,0,0,0,0,0,0,0,0,0,0,0,0,0,0,0,0,0,0,0,0,0,0,0,0,0,0,0,0,0,0,0,0,0,0,0,0,0,0,0,0,0,0,0,0,0,0,0,0,0,0,0,0,0,0,0,0,0,0,0]
[null,null,null,null,null,null,5.7004591398468492,0,0,0,0,0,0,0,0,0,0,0,0,0,0,0,0,0,0,0,0,0,0,0,0,0,0,0,0,0,0,0,0,0,0,0,0,0,0,0,0,0,0,0,0,0,0,0,0,0,0,0,0,0,0,0,0,0,0,0,0,0,0,0,{"$f":"$G270*BS190","v":0},0,0,0,0,0,0,0,0,0,0,0,0,0,0,0,0,0,0,0,0,0,0,0,0,0,0,0,0,0,0,0,0,0,0,0,0,0,0,0,0,0,0,0,0,0,0]
[null,null,null,null,null,null,5.7004591398468492,{"$f":"$G271*H191","v":0},0,0,0,0,0,0,0,0,0,0,0,0,0,0,0,0,0,0,0,0,0,0,0,0,0,0,0,0,0,0,0,0,0,0,0,0,0,0,0,0,0,0,0,0,0,0,0,0,0,0,0,0,0,0,0,0,0,0,0,0,0,0,0,0,0,0,0,0,0,0,0,0,0,0,0,0,0,0,0,0,0,0,0,0,0,0,0,0,0,0,0,0,0,0,0,0,0,0,0,0,0,0,0,0,0,0,0,0,0]
[null,null,null,null,null,null,5.7004591398468492,0,0,0,0,0,0,0,0,0,0,0,0,0,0,0,0,0,0,0,0,0,0,0,0,0,0,0,0,0,0,0,0,0,0,0,0,0,0,0,0,0,0,0,0,0,0,0,0,0,0,0,0,0,0,0,0,0,0,0,0,0,0,0,0,0,0,0,0,0,0,0,0,0,0,0,0,0,0,0,0,0,0,0,0,0,0,0,0,0,0,0,0,0,0,0,0,0,0,0,0,0,0,0,0,0,0,0,0,0,0]
[null,null,null,null,null,null,5.7004591398468492,0,0,0,0,0,0,0,0,0,0,0,0,0,0,0,0,0,0,0,0,0,0,0,0,0,0,0,0,0,0,0,0,0,0,0,0,0,0,0,0,0,0,0,0,0,0,0,0,0,0,0,0,0,0,0,0,0,0,0,0,0,0,0,0,0,0,0,0,0,0,0,0,0,0,0,0,0,0,0,0,0,0,0,0,0,0,0,0,0,{"$f":"$G273*CS193","v":0},0,0,0,0,0,0,0,0,0,0,0,0,0,0,0,0,0,0,0,0]
[null,null,null,null,null,null,5.7004591398468492,0,0,0,0,0,0,0,0,0,0,0,0,0,0,0,0,0,0,0,0,0,0,0,0,0,0,0,0,0,0,0,0,0,0,0,0,0,0,0,0,0,0,0,0,0,0,0,0,0,0,0,0,0,0,0,0,0,0,0,0,0,0,0,{"$f":"$G274*BS194","v":0},0,0,0,0,0,0,0,0,0,0,0,0,0,0,0,0,0,0,0,0,0,0,0,0,0,0,0,0,0,0,0,0,0,0,0,0,0,0,0,0,0,0,0,0,0,0]
[null,null,null,null,null,null,5.7004591398468492,{"$f":"$G275*H195","v":0},0,0,0,0,0,0,0,0,0,0,0,0,0,0,0,0,0,0,0,0,0,0,0,0,0,0,0,0,0,0,0,0,0,0,0,0,0,0,0,0,0,0,0,0,0,0,0,0,0,0,0,0,0,0,0,0,0,0,0,0,0,0,0,0,0,0,0,0,0,0,0,0,0,0,0,0,0,0,0,0,0,0,0,0,0,0,0,0,0,0,0,0,0,0,0,0,0,0,0,0,0,0,0,0,0,0,0,0,0]
[null,null,null,null,null,null,5.7004591398468492,0,0,0,0,0,0,0,0,0,0,0,0,0,0,0,0,0,0,0,0,0,0,0,0,0,0,0,0,0,0,0,0,0,0,0,0,0,0,0,0,0,0,0,0,0,0,0,0,0,0,0,0,0,0,0,0,0,0,0,0,0,0,0,0,0,0,0,0,0,0,0,0,0,0,0,0,0,0,0,0,0,0,0,0,0,0,0,0,0,0,0,0,0,0,0,0,0,0,0,0,0,0,0,0,0,0,0,0,0,0]
[null,null,null,null,null,null,5.7004591398468492,0,0,0,0,0,0,0,0,0,0,0,0,0,0,0,0,0,0,0,0,0,0,0,0,0,0,0,0,0,0,0,0,0,0,0,0,0,0,0,0,0,0,0,0,0,0,0,0,0,0,0,0,0,0,0,0,0,0,0,0,0,0,0,0,0,0,0,0,0,0,0,0,0,0,0,0,0,0,0,0,0,0,0,0,0,0,0,0,0,0,0,0,0,0,0,0,0,0,0,0,0,0,0,0,0,0,0,0,0,0]
[null,null,null,null,null,null,5.7004591398468492,0,0,0,0,0,0,0,0,0,0,0,0,0,0,0,0,0,0,0,0,0,0,0,0,0,0,0,0,0,0,0,0,0,0,0,0,0,0,0,0,0,0,0,0,0,0,0,0,0,0,0,0,0,0,0,0,0,0,0,0,0,0,0,{"$f":"$G278*BS198","v":0},0,0,0,0,0,0,0,0,0,0,0,0,0,0,0,0,0,0,0,0,0,0,0,0,0,0,0,0,0,0,0,0,0,0,0,0,0,0,0,0,0,0,0,0,0,0]
[null,null,null,null,null,null,5.7004591398468492,{"$f":"$G279*H199","v":0},0,0,0,0,0,0,0,0,0,0,0,0,0,0,0,0,0,0,0,0,0,0,0,0,0,0,0,0,0,0,0,0,0,0,0,0,0,0,0,0,0,0,0,0,0,0,0,0,0,0,0,0,0,0,0,0,0,0,0,0,0,0,0,0,0,0,0,0,0,0,0,0,0,0,0,0,0,0,0,0,0,0,0,0,0,0,0,{"$f":"$G279*CR199","v":0},0,0,0,0,0,0,0,0,0,0,0,0,0,0,0,0,0,0,0,0,0]
[null,null,null,null,null,null,5.7004591398468492,0,0,0,0,0,0,0,0,0,0,0,0,0,0,0,0,0,0,0,0,0,0,0,0,0,0,0,0,0,0,0,0,0,0,0,0,0,0,0,0,0,0,0,0,0,0,0,0,0,0,0,0,0,0,0,0,0,0,0,0,0,0,0,0,{"$f":"$G280*BT200","v":0},0,0,0,0,0,0,0,0,0,0,0,0,0,0,0,0,0,0,0,0,0,0,0,0,0,0,0,0,0,0,0,0,0,0,0,0,0,0,0,0,0,0,0,0,0]
[null,null,null,null,null,null,5.7004591398468492,0,0,0,0,0,0,0,0,0,0,0,0,0,0,0,0,0,0,0,0,0,0,0,0,0,0,0,0,0,0,0,0,0,0,0,0,0,0,0,0,0,0,0,0,0,0,0,0,0,0,0,0,0,0,0,0,0,0,0,0,0,0,0,0,0,0,0,0,0,0,0,0,0,0,0,0,0,0,0,0,0,0,0,0,0,0,0,0,0,0,0,0,0,0,0,0,0,0,0,0,0,0,0,0,0,0,0,0,0,0]
[null,null,null,null,null,null,5.7004591398468492,0,0,0,0,0,0,0,0,0,0,0,0,0,0,0,0,0,0,0,0,0,0,0,0,0,0,0,0,0,0,0,0,0,0,0,0,0,0,0,0,0,0,0,0,0,0,0,0,0,0,0,0,0,0,0,0,0,0,0,0,0,0,0,{"$f":"$G282*BS202","v":0},0,0,0,0,0,0,0,0,0,0,0,0,0,0,0,0,0,0,0,0,0,0,0,0,0,0,0,0,0,0,0,0,0,0,0,0,0,0,0,0,0,0,0,0,0,0]
[null,null,null,null,null,null,5.7004591398468492,{"$f":"$G283*H203","v":0},0,0,0,0,0,0,0,0,0,0,0,0,0,0,0,0,0,0,0,0,0,0,0,0,0,0,0,0,0,0,0,0,0,0,0,0,0,0,0,0,0,0,0,0,0,0,0,0,0,0,0,0,0,0,0,0,0,0,0,0,0,0,0,0,0,0,0,0,0,0,0,0,0,0,0,0,0,0,0,0,0,0,0,0,0,0,0,0,0,0,0,0,0,0,0,0,0,0,0,0,0,0,0,0,0,0,0,0,0]
[null,null,null,null,null,null,5.7004591398468492,0,0,0,0,0,0,0,0,0,0,0,0,0,0,0,0,0,0,0,0,0,0,0,0,0,0,0,0,0,0,0,0,0,0,0,0,0,0,0,0,0,0,0,0,0,0,0,0,0,0,0,0,0,0,0,0,0,0,0,0,0,0,0,0,0,0,0,0,0,0,0,0,0,0,0,0,0,0,0,0,0,0,0,0,0,0,0,0,0,0,0,0,0,0,0,0,0,0,0,0,0,0,0,0,0,0,0,0,0,0]
[null,null,null,null,null,null,5.7004591398468492,0,0,0,0,0,0,0,0,0,0,0,0,0,0,0,0,0,0,0,0,0,0,0,0,0,0,0,0,0,0,0,0,0,0,0,0,0,0,0,0,0,0,0,0,0,0,0,0,0,0,0,0,0,0,0,0,0,0,0,0,0,0,0,0,0,0,0,0,0,0,0,0,0,0,0,0,0,0,0,0,0,0,0,0,0,0,0,0,0,{"$f":"$G285*CS205","v":0},0,0,0,0,0,0,0,0,0,0,0,0,0,0,0,0,0,0,0,0]
[null,null,null,null,null,null,5.7004591398468492,0,0,0,0,0,0,0,0,0,0,0,0,0,0,0,0,0,0,0,0,0,0,0,0,0,0,0,0,0,0,0,0,0,0,0,0,0,0,0,0,0,0,0,0,0,0,0,0,0,0,0,0,0,0,0,0,0,0,0,0,0,0,0,{"$f":"$G286*BS206","v":0},0,0,0,0,0,0,0,0,0,0,0,0,0,0,0,0,0,0,0,0,0,0,0,0,0,0,0,0,0,0,0,0,0,0,0,0,0,0,0,0,0,0,0,0,0,0]
[null,null,null,null,null,null,5.7004591398468492,{"$f":"$G287*H207","v":0},0,0,0,0,0,0,0,0,0,0,0,0,0,0,0,0,0,0,0,0,0,0,0,0,0,0,0,0,0,0,0,0,0,0,0,0,0,0,0,0,0,0,0,0,0,0,0,0,0,0,0,0,0,0,0,0,0,0,0,0,0,0,0,0,0,0,0,0,0,0,0,0,0,0,0,0,0,0,0,0,0,0,0,0,0,0,0,0,0,0,0,0,0,0,0,0,0,0,0,0,0,0,0,0,0,0,0,0,0]
[null,null,null,null,null,null,5.7004591398468492,0,0,0,0,0,0,0,0,0,0,0,0,0,0,0,0,0,0,0,0,0,0,0,0,0,0,0,0,0,0,0,0,0,0,0,0,0,0,0,0,0,0,0,0,0,0,0,0,0,0,0,0,0,0,0,0,0,0,0,0,0,0,0,0,0,0,0,0,0,0,0,0,0,0,0,0,0,0,0,0,0,0,0,0,0,0,0,0,0,0,0,0,0,0,0,0,0,0,0,0,0,0,0,0,0,0,0,0,0,0]
[null,null,null,null,null,null,5.7004591398468492,0,0,0,0,0,0,0,0,0,0,0,0,0,0,0,0,0,0,0,0,0,0,0,0,0,0,0,0,0,0,0,0,0,0,0,0,0,0,0,0,0,0,0,0,0,0,0,0,0,0,0,0,0,0,0,0,0,0,0,0,0,0,0,0,0,0,0,0,0,0,0,0,0,0,0,0,0,0,0,0,0,0,0,0,0,0,0,0,0,0,0,0,0,0,0,0,0,0,0,0,0,0,0,0,0,0,0,0,0,0]
[null,null,null,null,null,null,5.7004591398468492,0,0,0,0,0,0,0,0,0,0,0,0,0,0,0,0,0,0,0,0,0,0,0,0,0,0,0,0,0,0,0,0,0,0,0,0,0,0,0,0,0,0,0,0,0,0,0,0,0,0,0,0,0,0,0,0,0,0,0,0,0,0,0,{"$f":"$G290*BS210","v":0},0,0,0,0,0,0,0,0,0,0,0,0,0,0,0,0,0,0,0,0,0,0,0,0,0,0,0,0,0,0,0,0,0,0,0,0,0,0,0,0,0,0,0,0,0,0]
[null,null,null,null,null,null,5.7004591398468492,{"$f":"$G291*H211","v":0},0,0,0,0,0,0,0,0,0,0,0,0,0,0,0,0,0,0,0,0,0,0,0,0,0,0,0,0,0,0,0,0,0,0,0,0,0,0,0,0,0,0,0,0,0,0,0,0,0,0,0,0,0,0,0,0,0,0,0,0,0,0,0,0,0,0,0,0,0,0,0,0,0,0,0,0,0,0,0,0,0,0,0,0,0,0,0,{"$f":"$G291*CR211","v":0},0,0,0,0,0,0,0,0,0,0,0,0,0,0,0,0,0,0,0,0,0]
[null,null,null,null,null,null,5.7004591398468492,0,0,0,0,0,0,0,0,0,0,0,0,0,0,0,0,0,0,0,0,0,0,0,0,0,0,0,0,0,0,0,0,0,0,0,0,0,0,0,0,0,0,0,0,0,0,0,0,0,0,0,0,0,0,0,0,0,0,0,0,0,0,0,0,{"$f":"$G292*BT212","v":0},0,0,0,0,0,0,0,0,0,0,0,0,0,0,0,0,0,0,0,0,0,0,0,0,0,0,0,0,0,0,0,0,0,0,0,0,0,0,0,0,0,0,0,0,0]
[null,null,null,null,null,null,5.7004591398468492,0,0,0,0,0,0,0,0,0,0,0,0,0,0,0,0,0,0,0,0,0,0,0,0,0,0,0,0,0,0,0,0,0,0,0,0,0,0,0,0,0,0,0,0,0,0,0,0,0,0,0,0,0,0,0,0,0,0,0,0,0,0,0,0,0,0,0,0,0,0,0,0,0,0,0,0,0,0,0,0,0,0,0,0,0,0,0,0,0,0,0,0,0,0,0,0,0,0,0,0,0,0,0,0,0,0,0,0,0,0]
[null,null,null,null,null,null,5.7004591398468492,0,0,0,0,0,0,0,0,0,0,0,0,0,0,0,0,0,0,0,0,0,0,0,0,0,0,0,0,0,0,0,0,0,0,0,0,0,0,0,0,0,0,0,0,0,0,0,0,0,0,0,0,0,0,0,0,0,0,0,0,0,0,0,{"$f":"$G294*BS214","v":0},0,0,0,0,0,0,0,0,0,0,0,0,0,0,0,0,0,0,0,0,0,0,0,0,0,0,0,0,0,0,0,0,0,0,0,0,0,0,0,0,0,0,0,0,0,0]
[null,null,null,null,null,null,5.7004591398468492,{"$f":"$G295*H215","v":0},0,0,0,0,0,0,0,0,0,0,0,0,0,0,0,0,0,0,0,0,0,0,0,0,0,0,0,0,0,0,0,0,0,0,0,0,0,0,0,0,0,0,0,0,0,0,0,0,0,0,0,0,0,0,0,0,0,0,0,0,0,0,0,0,0,0,0,0,0,0,0,0,0,0,0,0,0,0,0,0,0,0,0,0,0,0,0,0,0,0,0,0,0,0,0,0,0,0,0,0,0,0,0,0,0,0,0,0,0]
[null,null,null,null,null,null,5.7004591398468492,0,0,0,0,0,0,0,0,0,0,0,0,0,0,0,0,0,0,0,0,0,0,0,0,0,0,0,0,0,0,0,0,0,0,0,0,0,0,0,0,0,0,0,0,0,0,0,0,0,0,0,0,0,0,0,0,0,0,0,0,0,0,0,0,0,0,0,0,0,0,0,0,0,0,0,0,0,0,0,0,0,0,0,0,0,0,0,0,0,0,0,0,0,0,0,0,0,0,0,0,0,0,0,0,0,0,0,0,0,0]
[null,null,null,null,null,null,5.7004591398468492,0,0,0,0,0,0,0,0,0,0,0,0,0,0,0,0,0,0,0,0,0,0,0,0,0,0,0,0,0,0,0,0,0,0,0,0,0,0,0,0,0,0,0,0,0,0,0,0,0,0,0,0,0,0,0,0,0,0,0,0,0,0,0,0,0,0,0,0,0,0,0,0,0,0,0,0,0,0,0,0,0,0,0,0,0,0,0,0,0,{"$f":"$G297*CS217","v":0},0,0,0,0,0,0,0,0,0,0,0,0,0,0,0,0,0,0,0,0]
[null,null,null,null,null,null,5.7004591398468492,0,0,0,0,0,0,0,0,0,0,0,0,0,0,0,0,0,0,0,0,0,0,0,0,0,0,0,0,0,0,0,0,0,0,0,0,0,0,0,0,0,0,0,0,0,0,0,0,0,0,0,0,0,0,0,0,0,0,0,0,0,0,0,{"$f":"$G298*BS218","v":0},0,0,0,0,0,0,0,0,0,0,0,0,0,0,0,0,0,0,0,0,0,0,0,0,0,0,0,0,0,0,0,0,0,0,0,0,0,0,0,0,0,0,0,0,0,0]
[null,null,null,null,null,null,5.7004591398468492,{"$f":"$G299*H219","v":0},0,0,0,0,0,0,0,0,0,0,0,0,0,0,0,0,0,0,0,0,0,0,0,0,0,0,0,0,0,0,0,0,0,0,0,0,0,0,0,0,0,0,0,0,0,0,0,0,0,0,0,0,0,0,0,0,0,0,0,0,0,0,0,0,0,0,0,0,0,0,0,0,0,0,0,0,0,0,0,0,0,0,0,0,0,0,0,0,0,0,0,0,0,0,0,0,0,0,0,0,0,0,0,0,0,0,0,0,0]
[null,null,null,null,null,null,5.7004591398468492,0,0,0,0,0,0,0,0,0,0,0,0,0,0,0,0,0,0,0,0,0,0,0,0,0,0,0,0,0,0,0,0,0,0,0,0,0,0,0,0,0,0,0,0,0,0,0,0,0,0,0,0,0,0,0,0,0,0,0,0,0,0,0,0,0,0,0,0,0,0,0,0,0,0,0,0,0,0,0,0,0,0,0,0,0,0,0,0,0,0,0,0,0,0,0,0,0,0,0,0,0,0,0,0,0,0,0,0,0,0]
[null,null,null,null,null,null,5.7004591398468492,0,0,0,0,0,0,0,0,0,0,0,0,0,0,0,0,0,0,0,0,0,0,0,0,0,0,0,0,0,0,0,0,0,0,0,0,0,0,0,0,0,0,0,0,0,0,0,0,0,0,0,0,0,0,0,0,0,0,0,0,0,0,0,0,0,0,0,0,0,0,0,0,0,0,0,0,0,0,0,0,0,0,0,0,0,0,0,0,0,0,0,0,0,0,0,0,0,0,0,0,0,0,0,0,0,0,0,0,0,0]
[null,null,null,null,null,null,5.7004591398468492,0,0,0,0,0,0,0,0,0,0,0,0,0,0,0,0,0,0,0,0,0,0,0,0,0,0,0,0,0,0,0,0,0,0,0,0,0,0,0,0,0,0,0,0,0,0,0,0,0,0,0,0,0,0,0,0,0,0,0,0,0,0,0,{"$f":"$G302*BS222","v":0},0,0,0,0,0,0,0,0,0,0,0,0,0,0,0,0,0,0,0,0,0,0,0,0,0,0,0,0,0,0,0,0,0,0,0,0,0,0,0,0,0,0,0,0,0,0]
[null,null,null,null,null,null,5.7004591398468492,{"$f":"$G303*H223","v":0},0,0,0,0,0,0,0,0,0,0,0,0,0,0,0,0,0,0,0,0,0,0,0,0,0,0,0,0,0,0,0,0,0,0,0,0,0,0,0,0,0,0,0,0,0,0,0,0,0,0,0,0,0,0,0,0,0,0,0,0,0,0,0,0,0,0,0,0,0,0,0,0,0,0,0,0,0,0,0,0,0,0,0,0,0,0,0,{"$f":"$G303*CR223","v":0},0,0,0,0,0,0,0,0,0,0,0,0,0,0,0,0,0,0,0,0,0]
[null,null,null,null,null,null,5.7004591398468492,0,0,0,0,0,0,0,0,0,0,0,0,0,0,0,0,0,0,0,0,0,0,0,0,0,0,0,0,0,0,0,0,0,0,0,0,0,0,0,0,0,0,0,0,0,0,0,0,0,0,0,0,0,0,0,0,0,0,0,0,0,0,0,0,{"$f":"$G304*BT224","v":0},0,0,0,0,0,0,0,0,0,0,0,0,0,0,0,0,0,0,0,0,0,0,0,0,0,0,0,0,0,0,0,0,0,0,0,0,0,0,0,0,0,0,0,0,0]
[null,null,null,null,null,null,5.7004591398468492,0,0,0,0,0,0,0,0,0,0,0,0,0,0,0,0,0,0,0,0,0,0,0,0,0,0,0,0,0,0,0,0,0,0,0,0,0,0,0,0,0,0,0,0,0,0,0,0,0,0,0,0,0,0,0,0,0,0,0,0,0,0,0,0,0,0,0,0,0,0,0,0,0,0,0,0,0,0,0,0,0,0,0,0,0,0,0,0,0,0,0,0,0,0,0,0,0,0,0,0,0,0,0,0,0,0,0,0,0,0]
[null,null,null,null,null,null,5.7004591398468492,0,0,0,0,0,0,0,0,0,0,0,0,0,0,0,0,0,0,0,0,0,0,0,0,0,0,0,0,0,0,0,0,0,0,0,0,0,0,0,0,0,0,0,0,0,0,0,0,0,0,0,0,0,0,0,0,0,0,0,0,0,0,0,{"$f":"$G306*BS226","v":0},0,0,0,0,0,0,0,0,0,0,0,0,0,0,0,0,0,0,0,0,0,0,0,0,0,0,0,0,0,0,0,0,0,0,0,0,0,0,0,0,0,0,0,0,0,0]
[null,null,null,null,null,null,5.7004591398468492,{"$f":"$G307*H227","v":0},0,0,0,0,0,0,0,0,0,0,0,0,0,0,0,0,0,0,0,0,0,0,0,0,0,0,0,0,0,0,0,0,0,0,0,0,0,0,0,0,0,0,0,0,0,0,0,0,0,0,0,0,0,0,0,0,0,0,0,0,0,0,0,0,0,0,0,0,0,0,0,0,0,0,0,0,0,0,0,0,0,0,0,0,0,0,0,0,0,0,0,0,0,0,0,0,0,0,0,0,0,0,0,0,0,0,0,0,0]
[null,null,null,null,null,null,5.7004591398468492,0,0,0,0,0,0,0,0,0,0,0,0,0,0,0,0,0,0,0,0,0,0,0,0,0,0,0,0,0,0,0,0,0,0,0,0,0,0,0,0,0,0,0,0,0,0,0,0,0,0,0,0,0,0,0,0,0,0,0,0,0,0,0,0,0,0,0,0,0,0,0,0,0,0,0,0,0,0,0,0,0,0,0,0,0,0,0,0,0,0,0,0,0,0,0,0,0,0,0,0,0,0,0,0,0,0,0,0,0,0]
[null,null,null,null,null,null,5.7004591398468492,0,0,0,0,0,0,0,0,0,0,0,0,0,0,0,0,0,0,0,0,0,0,0,0,0,0,0,0,0,0,0,0,0,0,0,0,0,0,0,0,0,0,0,0,0,0,0,0,0,0,0,0,0,0,0,0,0,0,0,0,0,0,0,0,0,0,0,0,0,0,0,0,0,0,0,0,0,0,0,0,0,0,0,0,0,0,0,0,0,{"$f":"$G309*CS229","v":0},0,0,0,0,0,0,0,0,0,0,0,0,0,0,0,0,0,0,0,0]
[null,null,null,null,null,null,5.7004591398468492,0,0,0,0,0,0,0,0,0,0,0,0,0,0,0,0,0,0,0,0,0,0,0,0,0,0,0,0,0,0,0,0,0,0,0,0,0,0,0,0,0,0,0,0,0,0,0,0,0,0,0,0,0,0,0,0,0,0,0,0,0,0,0,{"$f":"$G310*BS230","v":0},0,0,0,0,0,0,0,0,0,0,0,0,0,0,0,0,0,0,0,0,0,0,0,0,0,0,0,0,0,0,0,0,0,0,0,0,0,0,0,0,0,0,0,0,0,0]
[null,null,null,null,null,null,{"$f":"IF(OR(G69=$C$5,G69=$E$10),$B$12*$C$6,2*$B$12)","v":5.7004591398468492},{"$f":"$G311*H231","v":0},0,0,0,0,0,0,0,0,0,0,0,0,0,0,0,0,0,0,0,0,0,0,0,0,0,0,0,0,0,0,0,0,0,0,0,0,0,0,0,0,0,0,0,0,0,0,0,0,0,0,0,0,0,0,0,0,0,0,0,0,0,0,0,0,0,0,0,0,0,0,0,0,0,0,0,0,0,0,0,0,0,0,0,0,0,0,0,0,0,0,0,0,0,0,0,0,0,0,0,0,0,0,0,0,0,0,0,0,0]
[null,null,null,null,null,null,5.7004591398468492,0,0,0,0,0,0,0,0,0,0,0,0,0,0,0,0,0,0,0,0,0,0,0,0,0,0,0,0,0,0,0,0,0,0,0,0,0,0,0,0,0,0,0,0,0,0,0,0,0,0,0,0,0,0,0,0,0,0,0,0,0,0,0,0,0,0,0,0,0,0,0,0,0,0,0,0,0,0,0,0,0,0,0,0,0,0,0,0,0,0,0,0,0,0,0,0,0,0,0,0,0,0,0,0,0,0,0,0,0,0]
[null,null,null,null,null,null,5.7004591398468492,0,0,0,0,0,0,0,0,0,0,0,0,0,0,0,0,0,0,0,0,0,0,0,0,0,0,0,0,0,0,0,0,0,0,0,0,0,0,0,0,0,0,0,0,0,0,0,0,0,0,0,0,0,0,0,0,0,0,0,0,0,0,0,0,0,0,0,0,0,0,0,0,0,0,0,0,0,0,0,0,0,0,0,0,0,0,0,0,0,0,0,0,0,0,0,0,0,0,0,0,0,0,0,0,0,0,0,0,0,0]
[null,null,null,null,null,null,5.7004591398468492,0,0,0,0,0,0,0,0,0,0,0,0,0,0,0,0,0,0,0,0,0,0,0,0,0,0,0,0,0,0,0,0,0,0,0,0,0,0,0,0,0,0,0,0,0,0,0,0,0,0,0,0,0,0,0,0,0,0,0,0,0,0,0,{"$f":"$G314*BS234","v":0},0,0,0,0,0,0,0,0,0,0,0,0,0,0,0,0,0,0,0,0,0,0,0,0,0,0,0,0,0,0,0,0,0,0,0,0,0,0,0,0,0,0,0,0,0,0]
[null,null,null,null,null,null,5.7004591398468492,{"$f":"$G315*H235","v":0},0,0,0,0,0,0,0,0,0,0,0,0,0,0,0,0,0,0,0,0,0,0,0,0,0,0,0,0,0,0,0,0,0,0,0,0,0,0,0,0,0,0,0,0,0,0,0,0,0,0,0,0,0,0,0,0,0,0,0,0,0,0,0,0,0,0,0,0,0,0,0,0,0,0,0,0,0,0,0,0,0,0,0,0,0,0,0,{"$f":"$G315*CR235","v":0},0,0,0,0,0,0,0,0,0,0,0,0,0,0,0,0,0,0,0,0,0,null,null,null,null,"MAX","P"]
[null,null,null,null,null,null,5.7004591398468492,0,0,0,0,0,0,0,0,0,0,0,0,0,0,0,0,0,0,0,0,0,0,0,0,0,0,0,0,0,0,0,0,0,0,0,0,0,0,0,0,0,0,0,0,0,0,0,0,0,0,0,0,0,0,0,0,0,0,0,0,0,0,0,0,{"$f":"$G316*BT236","v":0},0,0,0,0,0,0,0,0,0,0,0,0,0,0,0,0,0,0,0,0,0,0,0,0,0,0,0,0,0,0,0,0,0,0,0,0,0,0,0,0,0,0,0,0,0,null,null,null,null,{"$f":"MAX(H414:DN414)","v":6.4037417984500236},{"$f":"HLOOKUP(DR316,H414:DN415,2,0)","v":38.036285073488855}]
[null,null,null,null,null,null,5.7004591398468492,0,0,0,0,0,0,0,0,0,0,0,0,0,0,0,0,0,0,0,0,0,0,0,0,0,0,0,0,0,0,0,0,0,0,0,0,0,0,0,0,0,0,0,0,0,0,0,0,0,0,0,0,0,0,0,0,0,0,0,0,0,0,0,0,0,0,0,0,0,0,0,0,0,0,0,0,0,0,0,0,0,0,0,0,0,0,0,0,0,0,0,0,0,0,0,0,0,0,0,0,0,0,0,0,0,0,0,0,0,0,null,null,null,null,0,0]
[null,null,null,null,null,null,5.7004591398468492,0,0,0,0,0,0,0,0,0,0,0,0,0,0,0,0,0,0,0,0,0,0,0,0,0,0,0,0,0,0,0,0,0,0,0,0,0,0,0,0,0,0,0,0,0,0,0,0,0,0,0,0,0,0,0,0,0,0,0,0,0,0,0,{"$f":"$G318*BS238","v":0},0,0,0,0,0,0,0,0,0,0,0,0,0,0,0,0,0,0,0,0,0,0,0,0,0,0,0,0,0,0,0,0,0,0,0,0,0,0,0,0,0,0,0,0,0,0]
[null,null,null,null,null,null,5.7004591398468492,{"$f":"$G319*H239","v":0},0,0,0,0,0,0,0,0,0,0,0,0,0,0,0,0,0,0,0,0,0,0,0,0,0,0,0,0,0,0,0,0,0,0,0,0,0,0,0,0,0,0,0,0,0,0,0,0,0,0,0,0,0,0,0,0,0,0,0,0,0,0,0,0,0,0,0,0,0,0,0,0,0,0,0,0,0,0,0,0,0,0,0,0,0,0,0,0,0,0,0,0,0,0,0,0,0,0,0,0,0,0,0,0,0,0,0,0,0]
[null,null,null,null,null,null,5.7004591398468492,0,0,0,0,0,0,0,0,0,0,0,0,0,0,0,0,0,0,0,0,0,0,0,0,0,0,0,0,0,0,0,0,0,0,0,0,0,0,0,0,0,0,0,0,0,0,0,0,0,0,0,0,0,0,0,0,0,0,0,0,0,0,0,0,0,0,0,0,0,0,0,0,0,0,0,0,0,0,0,0,0,0,0,0,0,0,0,0,0,0,0,0,0,0,0,0,0,0,0,0,0,0,0,0,0,0,0,0,0,0]
[null,null,null,null,null,null,5.7004591398468492,0,0,0,0,0,0,0,0,0,0,0,0,0,0,0,0,0,0,0,0,0,0,0,0,0,0,0,0,0,0,0,0,0,0,0,0,0,0,0,0,0,0,0,0,0,0,0,0,0,0,0,0,0,0,0,0,0,0,0,0,0,0,0,0,0,0,0,0,0,0,0,0,0,0,0,0,0,0,0,0,0,0,0,0,0,0,0,0,0,{"$f":"$G321*CS241","v":0},0,0,0,0,0,0,0,0,0,0,0,0,0,0,0,0,0,0,0,0]
[null,null,null,null,null,null,5.7004591398468492,0,0,0,0,0,0,0,0,0,0,0,0,0,0,0,0,0,0,0,0,0,0,0,0,0,0,0,0,0,0,0,0,0,0,0,0,0,0,0,0,0,0,0,0,0,0,0,0,0,0,0,0,0,0,0,0,0,0,0,0,0,0,0,{"$f":"$G322*BS242","v":0},0,0,0,0,0,0,0,0,0,0,0,0,0,0,0,0,0,0,0,0,0,0,0,0,0,0,0,0,0,0,0,0,0,0,0,0,0,0,0,0,0,0,0,0,0,0,null,null,null,null,{"$f":"DO324*DQ327/DQ326","v":3.0583213481572491},null,0,{"$f":"DR323","v":140.18243969075937}]
[null,null,null,null,null,null,5.7004591398468492,{"$f":"$G323*H243","v":0},0,0,0,0,0,0,0,0,0,0,0,0,0,0,0,0,0,0,0,0,0,0,0,0,0,0,0,0,0,0,0,0,0,0,0,0,0,0,0,0,0,0,0,0,0,0,0,0,0,0,0,0,0,0,0,0,0,0,0,0,0,0,0,0,0,0,0,0,0,0,0,0,0,0,0,0,0,0,0,0,0,0,0,0,0,0,0,0,0,0,0,0,0,0,0,0,0,0,0,0,0,0,0,0,0,0,0,0,0,null,null,null,null,{"$f":"DQ328","v":140.18243969075937},null,{"$f":"DR322","v":3.0583213481572491},{"$f":"DU322","v":140.18243969075937}]
[null,null,null,null,null,null,"C",{"$f":"IF(H$1>$E$11,0,0.85*$B$15*$C$9*$B$16*H1)","v":11945.814999999999},{"$f":"IF(I$1>$E$11,0,0.85*$B$15*$C$9*$B$16*I1)","v":18014.814999999999},{"$f":"IF(J$1>$E$11,0,0.85*$B$15*$C$9*$B$16*J1)","v":24083.814999999999},30152.814999999999,36221.814999999995,42290.814999999995,48359.814999999995,54428.815000000002,60497.815000000002,66566.815000000002,72635.815000000002,78704.815000000002,{"$f":"IF(T$1>$E$11,0,0.85*$B$15*$C$9*$B$16*T1)","v":84773.815000000002},90842.815000000002,96911.815000000002,102980.815,109049.815,115118.815,121187.815,127256.815,133325.815,139394.815,145463.815,151532.815,0,0,0,0,0,0,0,0,0,0,0,0,0,0,0,0,0,0,0,0,0,0,0,0,0,0,0,0,0,0,0,0,0,0,0,0,0,0,0,0,0,0,{"$f":"IF(BV$1>$E$11,0,0.85*$B$15*$C$9*$B$16*BV1)","v":0},0,0,0,0,0,0,0,0,0,0,0,0,0,0,0,0,0,0,0,0,0,0,0,0,0,0,0,0,0,0,0,0,0,0,0,0,0,0,0,0,0,0,0,null,{"$f":"DM414","v":3.1039277423256006}]
[null,null,null,null,null,null,"pn=",{"$f":"SUM(H246:H324)","v":-59879.970162070298},{"$f":"SUM(I246:I324)","v":-53810.970162070298},{"$f":"SUM(J246:J324)","v":-36867.045529173891},{"$f":"SUM(K246:K324)","v":-15432.309157467676},853.33934882455651,14206.680223557196,{"$f":"SUM(N246:N324)","v":25731.698770392075},{"$f":"SUM(O246:O324)","v":36039.987665451859},{"$f":"SUM(P246:P324)","v":45497.72536939448},54337.550104984082,68077.670398830174,82410.369855332916,95559.864521499985,107763.29598764474,119198.40287813207,130001.02491756501,140276.76202542207,150108.94544472554,159344.54075885986,167753.27364563182,175948.99693797802,183959.53280192165,191808.06024943164,199514.04494699088,0,0,0,0,0,0,0,0,0,0,0,0,0,0,0,0,0,0,0,0,0,0,0,0,0,0,0,0,0,0,0,0,0,0,0,0,0,0,0,0,0,0,0,0,0,0,0,0,{"$f":"SUM(CB246:CB324)","v":0},0,0,0,0,0,0,0,0,0,0,0,0,0,0,0,0,0,0,0,0,0,0,0,0,0,0,0,0,0,0,0,0,0,0,0,0,0]
[null,null,null,null,null,null,null,{"$f":"H325","v":-59879.970162070298},{"$f":"IF(I325=0,H326,I325)","v":-53810.970162070298},{"$f":"IF(J325=0,I326,J325)","v":-36867.045529173891},{"$f":"IF(K325=0,J326,K325)","v":-15432.309157467676},853.33934882455651,14206.680223557196,25731.698770392075,36039.987665451859,45497.72536939448,54337.550104984082,68077.670398830174,82410.369855332916,95559.864521499985,107763.29598764474,119198.40287813207,130001.02491756501,140276.76202542207,150108.94544472554,159344.54075885986,167753.27364563182,175948.99693797802,183959.53280192165,191808.06024943164,199514.04494699088,{"$f":"IF(AF325=0,AE326,AF325)","v":199514.04494699088},{"$f":"IF(AG325=0,AF326,AG325)","v":199514.04494699088},199514.04494699088,199514.04494699088,199514.04494699088,199514.04494699088,199514.04494699088,199514.04494699088,199514.04494699088,199514.04494699088,199514.04494699088,199514.04494699088,199514.04494699088,199514.04494699088,199514.04494699088,199514.04494699088,199514.04494699088,199514.04494699088,199514.04494699088,199514.04494699088,199514.04494699088,199514.04494699088,199514.04494699088,199514.04494699088,199514.04494699088,199514.04494699088,199514.04494699088,199514.04494699088,199514.04494699088,199514.04494699088,199514.04494699088,199514.04494699088,199514.04494699088,199514.04494699088,199514.04494699088,199514.04494699088,199514.04494699088,199514.04494699088,199514.04494699088,199514.04494699088,199514.04494699088,199514.04494699088,199514.04494699088,199514.04494699088,199514.04494699088,199514.04494699088,199514.04494699088,199514.04494699088,199514.04494699088,199514.04494699088,199514.04494699088,199514.04494699088,199514.04494699088,199514.04494699088,199514.04494699088,199514.04494699088,199514.04494699088,199514.04494699088,199514.04494699088,199514.04494699088,199514.04494699088,199514.04494699088,199514.04494699088,199514.04494699088,199514.04494699088,{"$f":"IF(CS325=0,CR326,CS325)","v":199514.04494699088},199514.04494699088,199514.04494699088,199514.04494699088,199514.04494699088,199514.04494699088,199514.04494699088,199514.04494699088,199514.04494699088,199514.04494699088,199514.04494699088,199514.04494699088,199514.04494699088,199514.04494699088,199514.04494699088,199514.04494699088,199514.04494699088,199514.04494699088,199514.04494699088,199514.04494699088,199514.04494699088,null,null,null,{"$f":"DN329-DM329","v":35.568218150555595}]
[null,null,null,null,null,null,null,{"$f":"H326","v":-59879.970162070298},{"$f":"I326","v":-53810.970162070298},-36867.045529173891,-15432.309157467676,853.33934882455651,14206.680223557196,25731.698770392075,36039.987665451859,45497.72536939448,54337.550104984082,68077.670398830174,82410.369855332916,95559.864521499985,107763.29598764474,119198.40287813207,130001.02491756501,140276.76202542207,150108.94544472554,159344.54075885986,167753.27364563182,175948.99693797802,183959.53280192165,191808.06024943164,199514.04494699088,199514.04494699088,199514.04494699088,199514.04494699088,199514.04494699088,199514.04494699088,199514.04494699088,199514.04494699088,199514.04494699088,199514.04494699088,199514.04494699088,199514.04494699088,199514.04494699088,199514.04494699088,199514.04494699088,199514.04494699088,199514.04494699088,199514.04494699088,199514.04494699088,199514.04494699088,199514.04494699088,199514.04494699088,199514.04494699088,199514.04494699088,199514.04494699088,199514.04494699088,199514.04494699088,199514.04494699088,199514.04494699088,199514.04494699088,199514.04494699088,199514.04494699088,199514.04494699088,199514.04494699088,199514.04494699088,199514.04494699088,199514.04494699088,199514.04494699088,199514.04494699088,199514.04494699088,199514.04494699088,199514.04494699088,{"$f":"BU326","v":199514.04494699088},199514.04494699088,199514.04494699088,199514.04494699088,199514.04494699088,199514.04494699088,199514.04494699088,199514.04494699088,199514.04494699088,199514.04494699088,199514.04494699088,199514.04494699088,199514.04494699088,199514.04494699088,199514.04494699088,199514.04494699088,199514.04494699088,199514.04494699088,199514.04494699088,199514.04494699088,199514.04494699088,199514.04494699088,199514.04494699088,199514.04494699088,199514.04494699088,199514.04494699088,199514.04494699088,199514.04494699088,199514.04494699088,199514.04494699088,199514.04494699088,199514.04494699088,199514.04494699088,199514.04494699088,199514.04494699088,199514.04494699088,199514.04494699088,199514.04494699088,199514.04494699088,199514.04494699088,199514.04494699088,199514.04494699088,199514.04494699088,199514.04494699088,199514.04494699088,null,null,null,{"$f":"DN329-DQ328","v":35.045609922689835}]
[null,null,null,null,null,null,null,{"$f":"H327/1000","v":-59.8799701620703},{"$f":"I327/1000","v":-53.810970162070298},-36.867045529173893,-15.432309157467676,0.85333934882455653,14.206680223557196,25.731698770392075,36.039987665451861,45.49772536939448,54.337550104984082,68.077670398830179,82.410369855332917,95.559864521499989,107.76329598764474,119.19840287813207,130.00102491756502,140.27676202542207,150.10894544472555,159.34454075885986,167.75327364563182,175.94899693797802,183.95953280192165,191.80806024943163,199.51404494699088,199.51404494699088,199.51404494699088,199.51404494699088,199.51404494699088,199.51404494699088,199.51404494699088,199.51404494699088,199.51404494699088,199.51404494699088,199.51404494699088,199.51404494699088,199.51404494699088,199.51404494699088,199.51404494699088,199.51404494699088,199.51404494699088,199.51404494699088,199.51404494699088,199.51404494699088,199.51404494699088,199.51404494699088,199.51404494699088,199.51404494699088,199.51404494699088,199.51404494699088,199.51404494699088,199.51404494699088,199.51404494699088,199.51404494699088,199.51404494699088,199.51404494699088,199.51404494699088,199.51404494699088,199.51404494699088,199.51404494699088,199.51404494699088,199.51404494699088,199.51404494699088,199.51404494699088,199.51404494699088,199.51404494699088,{"$f":"BU327/1000","v":199.51404494699088},199.51404494699088,199.51404494699088,199.51404494699088,199.51404494699088,199.51404494699088,199.51404494699088,199.51404494699088,199.51404494699088,199.51404494699088,199.51404494699088,199.51404494699088,199.51404494699088,199.51404494699088,199.51404494699088,199.51404494699088,199.51404494699088,199.51404494699088,199.51404494699088,199.51404494699088,199.51404494699088,199.51404494699088,199.51404494699088,199.51404494699088,199.51404494699088,199.51404494699088,199.51404494699088,199.51404494699088,199.51404494699088,199.51404494699088,199.51404494699088,199.51404494699088,199.51404494699088,199.51404494699088,199.51404494699088,199.51404494699088,199.51404494699088,199.51404494699088,199.51404494699088,199.51404494699088,199.51404494699088,199.51404494699088,199.51404494699088,199.51404494699088,199.51404494699088,{"$f":"(0.85*B15*C9*C10+(2*C6+2*C7-4)*B12*B17)/1000","v":250.3257851620703},null,null,{"$f":"DN329*0.8","v":140.18243969075937}]
[null,null,null,null,null,null,null,{"$f":"H328*0.7","v":-41.915979113449211},-37.667679113449203,-25.806931870421725,-10.802616410227373,0.59733754417718954,9.9446761564900363,18.012189139274451,25.227991365816301,31.848407758576133,38.036285073488855,47.654369279181125,57.687258898733035,66.891905165049991,75.434307191351309,83.438882014692439,91.00071744229551,98.193733417795443,105.07626181130787,111.54117853120189,117.42729155194226,123.16429785658461,128.77167296134516,134.26564217460214,139.65983146289361,139.65983146289361,139.65983146289361,139.65983146289361,139.65983146289361,139.65983146289361,139.65983146289361,139.65983146289361,139.65983146289361,139.65983146289361,139.65983146289361,139.65983146289361,139.65983146289361,139.65983146289361,139.65983146289361,139.65983146289361,139.65983146289361,139.65983146289361,139.65983146289361,139.65983146289361,139.65983146289361,139.65983146289361,139.65983146289361,139.65983146289361,139.65983146289361,139.65983146289361,139.65983146289361,139.65983146289361,139.65983146289361,139.65983146289361,139.65983146289361,139.65983146289361,139.65983146289361,139.65983146289361,139.65983146289361,139.65983146289361,139.65983146289361,139.65983146289361,139.65983146289361,139.65983146289361,139.65983146289361,{"$f":"BT328*0.7","v":139.65983146289361},139.65983146289361,139.65983146289361,139.65983146289361,139.65983146289361,139.65983146289361,139.65983146289361,139.65983146289361,139.65983146289361,139.65983146289361,139.65983146289361,139.65983146289361,139.65983146289361,139.65983146289361,139.65983146289361,139.65983146289361,139.65983146289361,139.65983146289361,139.65983146289361,139.65983146289361,139.65983146289361,139.65983146289361,139.65983146289361,139.65983146289361,139.65983146289361,139.65983146289361,139.65983146289361,139.65983146289361,139.65983146289361,139.65983146289361,139.65983146289361,139.65983146289361,139.65983146289361,139.65983146289361,139.65983146289361,139.65983146289361,139.65983146289361,139.65983146289361,139.65983146289361,139.65983146289361,139.65983146289361,139.65983146289361,139.65983146289361,139.65983146289361,139.65983146289361,139.65983146289361,{"$f":"DN328*0.7","v":175.2280496134492}]
[]
[null,null,null,null,{"$f":"C10/2","v":12.5},{"$f":"E$331-G4","v":6.5950000000000006},{"$f":"IF(E$331=F331,0,F331)","v":6.5950000000000006},{"$f":"H246*$G331","v":-236845.52657192684},-236845.52657192684,-165125.39861797504,-63788.367246572518,3590.4296524247975,51630.657721286545,87613.100037662603,115571.21030058185,137919.9354580834,156193.52458929687,171413.45727190204,184286.14419957518,195315.7068803556,204871.55001799646,213230.54399947729,220604.2916615615,227157.29011721766,233019.34769362005,236845.52657192684,236845.52657192684,236845.52657192684,236845.52657192684,236845.52657192684,236845.52657192684,0,0,0,0,0,0,0,0,0,0,0,0,0,0,0,0,0,0,0,0,0,0,0,0,0,0,0,0,0,0,0,0,0,0,0,0,0,0,0,0,{"$f":"BT246*$G331","v":0},0,0,0,0,0,0,0,0,0,0,0,0,0,0,0,0,0,0,0,0,0,0,0,0,0,0,0,0,0,0,0,0,0,0,0,0,0,0,0,0,0,0,0,0,0]
[null,null,null,null,null,-6.5949999999999989,{"$f":"IF(E$331=F332,0,F332)","v":-6.5949999999999989},236845.52657192678,236845.52657192678,236845.52657192678,236845.52657192678,236845.52657192678,236845.52657192678,236845.52657192678,236845.52657192678,236845.52657192678,236845.52657192678,201474.420916617,159848.00992865453,124181.71028606314,93280.977904479383,66250.496943196282,42406.007255220269,21215.574484559114,2259.4374106551295,-14798.079807753926,-30228.618196015064,-44254.358309038107,-57058.787331746396,-68794.770848074739,-79590.684928477989,0,0,0,0,0,0,0,0,0,0,0,0,0,0,0,0,0,0,0,0,0,0,0,0,0,0,0,0,0,0,0,0,0,0,0,0,0,0,0,0,0,0,0,0,0,0,0,0,0,0,0,0,0,0,0,0,0,0,0,0,0,0,0,0,0,0,0,0,0,0,0,0,0,0,0,0,0,0,0,0,0,0,0,0,0,0]
[null,null,null,null,null,12.5,0,0,0,0,0,0,0,0,0,0,0,0,0,0,0,0,0,0,0,0,0,0,0,0,0,0,0,0,0,0,0,0,0,0,0,0,0,0,0,0,0,0,0,0,0,0,0,0,0,0,0,0,0,0,0,0,0,0,0,0,0,0,0,0,0,0,0,0,0,0,0,0,0,0,0,0,0,0,0,0,0,0,0,0,0,0,0,0,0,0,0,0,0,0,0,0,0,0,0,0,0,0,0,0,0,0,0,0,0,0,0]
[null,null,null,null,null,12.5,0,0,0,0,0,0,0,0,0,0,0,0,0,0,0,0,0,0,0,0,0,0,0,0,0,0,0,0,0,0,0,0,0,0,0,0,0,0,0,0,0,0,0,0,0,0,0,0,0,0,0,0,0,0,0,0,0,0,0,0,0,0,0,0,{"$f":"BS249*$G334","v":0},0,0,0,0,0,0,0,0,0,0,0,0,0,0,0,0,0,0,0,0,0,0,0,0,0,0,0,0,0,0,0,0,0,0,0,0,0,0,0,0,0,0,0,0,0,0]
[null,null,null,null,null,12.5,0,{"$f":"H250*$G335","v":0},0,0,0,0,0,0,0,0,0,0,0,0,0,0,0,0,0,0,0,0,0,0,0,0,0,0,0,0,0,0,0,0,0,0,0,0,0,0,0,0,0,0,0,0,0,0,0,0,0,0,0,0,0,0,0,0,0,0,0,0,0,0,0,0,0,0,0,0,0,0,0,0,0,0,0,0,0,0,0,0,0,0,0,0,0,0,0,0,0,0,0,0,0,0,0,0,0,0,0,0,0,0,0,0,0,0,0,0,0]
[null,null,null,null,null,12.5,0,0,0,0,0,0,0,0,0,0,0,0,0,0,0,0,0,0,0,0,0,0,0,0,0,0,0,0,0,0,0,0,0,0,0,0,0,0,0,0,0,0,0,0,0,0,0,0,0,0,0,0,0,0,0,0,0,0,0,0,0,0,0,0,0,0,0,0,0,0,0,0,0,0,0,0,0,0,0,0,0,0,0,0,0,0,0,0,0,0,0,0,0,0,0,0,{"$f":"CY251*$G336","v":0},0,0,0,0,0,0,0,0,0,0,0,0,0,0]
[null,null,null,null,null,12.5,0,0,0,0,0,0,0,0,0,0,0,0,0,0,0,0,0,0,0,0,0,0,0,0,0,0,0,0,0,0,0,0,0,0,0,0,0,0,0,0,0,0,0,0,0,0,0,0,0,0,0,0,0,0,0,0,0,0,0,0,0,0,0,0,0,0,0,0,0,0,0,0,0,0,0,0,0,0,0,0,0,0,0,0,0,0,0,0,0,0,0,0,0,0,0,0,0,0,0,0,0,0,0,0,0,0,0,0,0,0,0]
[null,null,null,null,null,12.5,0,0,0,0,0,0,0,0,0,0,0,0,0,0,0,0,0,0,0,0,0,0,0,0,0,0,0,0,0,0,0,0,0,0,0,0,0,0,0,0,0,0,0,0,0,0,0,0,0,0,0,0,0,0,0,0,0,0,0,0,0,0,0,0,{"$f":"BS253*$G338","v":0},0,0,0,0,0,0,0,0,0,0,0,0,0,0,0,0,0,0,0,0,0,0,0,0,0,0,0,0,0,0,0,0,0,0,0,0,0,0,0,0,0,0,0,0,0,0]
[null,null,null,null,null,12.5,0,{"$f":"H254*$G339","v":0},0,0,0,0,0,0,0,0,0,0,0,0,0,0,0,0,0,0,0,0,0,0,0,0,0,0,0,0,0,0,0,0,0,0,0,0,0,0,0,0,0,0,0,0,0,0,0,0,0,0,0,0,0,0,0,0,0,0,0,0,0,0,0,0,0,0,0,0,0,0,0,0,0,0,0,0,0,0,0,0,0,0,0,0,0,0,0,0,0,0,0,0,0,0,0,0,0,0,0,0,0,0,0,0,0,0,0,0,0]
[null,null,null,null,null,12.5,0,0,0,0,0,0,0,0,0,0,0,0,0,0,0,0,0,0,0,0,0,0,0,0,0,0,0,0,0,0,0,0,0,0,0,0,0,0,0,0,0,0,0,0,0,0,0,0,0,0,0,0,0,0,0,0,0,0,0,0,0,0,0,0,0,0,0,0,0,0,0,0,0,0,0,0,0,0,0,0,0,0,0,0,0,0,0,0,0,0,0,0,0,0,0,0,0,0,0,0,0,0,0,0,0,0,0,0,0,0,0]
[null,null,null,null,null,12.5,0,0,0,0,0,0,0,0,0,0,0,0,0,0,0,0,0,0,0,0,0,0,0,0,0,0,0,0,0,0,0,0,0,0,0,0,0,0,0,0,0,0,0,0,0,0,0,0,0,0,0,0,0,0,0,0,0,0,0,0,0,0,0,0,0,0,0,0,0,0,0,0,0,0,0,0,0,0,0,0,0,0,0,0,0,0,0,0,0,0,0,0,0,0,0,0,0,0,0,0,0,0,0,0,0,0,0,0,0,0,0]
[null,null,null,null,null,12.5,0,0,0,0,0,0,0,0,0,0,0,0,0,0,0,0,0,0,0,0,0,0,0,0,0,0,0,0,0,0,0,0,0,0,0,0,0,0,0,0,0,0,0,0,0,0,0,0,0,0,0,0,0,0,0,0,0,0,0,0,0,0,0,0,{"$f":"BS257*$G342","v":0},0,0,0,0,0,0,0,0,0,0,0,0,0,0,0,0,0,0,0,0,0,0,0,0,0,0,0,0,0,0,0,0,0,0,0,0,0,0,0,0,0,0,0,0,0,0]
[null,null,null,null,null,12.5,0,{"$f":"H258*$G343","v":0},0,0,0,0,0,0,0,0,0,0,0,0,0,0,0,0,0,0,0,0,0,0,0,0,0,0,0,0,0,0,0,0,0,0,0,0,0,0,0,0,0,0,0,0,0,0,0,0,0,0,0,0,0,0,0,0,0,0,0,0,0,0,0,0,0,0,0,0,0,0,0,0,0,0,0,0,0,0,0,0,0,0,0,0,0,0,0,0,0,0,0,0,0,0,0,0,0,0,0,0,0,0,0,0,0,0,0,0,0]
[null,null,null,null,null,12.5,0,0,0,0,0,0,0,0,0,0,0,0,0,0,0,0,0,0,0,0,0,0,0,0,0,0,0,0,0,0,0,0,0,0,0,0,0,0,0,0,0,0,0,0,0,0,0,0,0,0,0,0,0,0,0,0,0,0,0,0,0,0,0,0,0,0,0,0,0,0,0,0,0,0,0,0,0,0,0,0,0,0,0,0,0,0,0,0,0,0,0,0,0,0,0,0,0,0,0,0,0,0,0,0,0,0,0,0,0,0,0]
[null,null,null,null,null,12.5,0,0,0,0,0,0,0,0,0,0,0,0,0,0,0,0,0,0,0,0,0,0,0,0,0,0,0,0,0,0,0,0,0,0,0,0,0,0,0,0,0,0,0,0,0,0,0,0,0,0,0,0,0,0,0,0,0,0,0,0,0,0,0,0,0,0,0,0,0,0,0,0,0,0,0,0,0,0,0,0,0,{"$f":"CJ260*$G345","v":0},0,0,0,0,0,0,0,0,0,0,0,0,0,0,0,0,0,0,0,0,0,0,0,0,0,0,0,0,0]
[null,null,null,null,null,12.5,0,0,0,0,0,0,0,0,0,0,0,0,0,0,0,0,0,0,0,0,0,0,0,0,0,0,0,0,0,0,0,0,0,0,0,0,0,0,0,0,0,0,0,0,0,0,0,0,0,0,0,0,0,0,0,0,0,0,0,0,0,0,0,0,{"$f":"BS261*$G346","v":0},0,0,0,0,0,0,0,0,0,0,0,0,0,0,0,0,0,0,0,0,0,0,0,0,0,0,0,0,0,0,0,0,0,0,0,0,0,0,0,0,0,0,0,0,0,0]
[null,null,null,null,null,12.5,0,{"$f":"H262*$G347","v":0},0,0,0,0,0,0,0,0,0,0,0,0,0,0,0,0,0,0,0,0,0,0,0,0,0,0,0,0,0,0,0,0,0,0,0,0,0,0,0,0,0,0,0,0,0,0,0,0,0,0,0,0,0,0,0,0,0,0,0,0,0,0,0,0,0,0,0,0,0,0,0,0,0,0,0,0,0,0,0,0,0,0,0,0,0,0,0,0,0,0,0,0,0,0,0,0,0,0,0,0,0,0,0,0,0,0,0,0,0]
[null,null,null,null,null,12.5,0,0,0,0,0,0,0,0,0,0,0,0,0,0,0,0,0,0,0,0,0,0,0,0,0,0,0,0,0,0,0,0,0,0,0,0,0,0,0,0,0,0,0,0,0,0,0,0,0,0,0,0,0,0,0,0,0,0,0,0,0,0,0,0,0,0,0,0,0,0,0,0,0,0,0,0,0,0,0,0,0,0,0,0,0,0,0,0,0,0,0,0,0,0,0,0,0,0,0,0,0,0,0,0,0,0,0,0,0,0,0]
[null,null,null,null,null,12.5,0,0,0,0,0,0,0,0,0,0,0,0,0,0,0,0,0,0,0,0,0,0,0,0,0,0,0,0,0,0,0,0,0,0,0,0,0,0,0,0,0,0,0,0,0,0,0,0,0,0,0,0,0,0,0,0,0,0,0,0,0,0,0,0,0,0,0,0,0,0,0,0,0,0,0,0,0,0,0,0,0,0,0,0,0,0,0,0,0,0,0,0,0,0,0,0,0,0,0,0,0,0,0,0,0,0,0,0,0,0,0]
[null,null,null,null,null,12.5,0,0,0,0,0,0,0,0,0,0,0,0,0,0,0,0,0,0,0,0,0,0,0,0,0,0,0,0,0,0,0,0,0,0,0,0,0,0,0,0,0,0,0,0,0,0,0,0,0,0,0,0,0,0,0,0,0,0,0,0,0,0,0,0,{"$f":"BS265*$G350","v":0},0,0,0,0,0,0,0,0,0,0,0,0,0,0,0,0,0,0,0,0,0,0,0,0,0,0,0,0,0,0,0,0,0,0,0,0,0,0,0,0,0,0,0,0,0,0]
[null,null,null,null,null,12.5,0,{"$f":"H266*$G351","v":0},0,0,0,0,0,0,0,0,0,0,0,0,0,0,0,0,0,0,0,0,0,0,0,0,0,0,0,0,0,0,0,0,0,0,0,0,0,0,0,0,0,0,0,0,0,0,0,0,0,0,0,0,0,0,0,0,0,0,0,0,0,0,0,0,0,0,0,0,0,0,0,0,0,0,0,0,0,0,0,0,0,0,0,0,0,0,0,0,0,0,0,0,0,0,0,0,0,0,0,0,0,0,0,0,0,0,0,0,0]
[null,null,null,null,null,12.5,0,0,0,0,0,0,0,0,0,0,0,0,0,0,0,0,0,0,0,0,0,0,0,0,0,0,0,0,0,0,0,0,0,0,0,0,0,0,0,0,0,0,0,0,0,0,0,0,0,0,0,0,0,0,0,0,0,0,0,0,0,0,0,0,0,0,0,0,0,0,0,0,0,0,0,0,0,0,0,0,0,0,0,0,0,0,0,0,0,0,0,0,0,0,0,0,0,0,0,{"$f":"DB267*$G352","v":0},0,0,0,0,0,0,0,0,0,0,0]
[null,null,null,null,null,12.5,0,0,0,0,0,0,0,0,0,0,0,0,0,0,0,0,0,0,0,0,0,0,0,0,0,0,0,0,0,0,0,0,0,0,0,0,0,0,0,0,0,0,0,0,0,0,0,0,0,0,0,0,0,0,0,0,0,0,0,0,0,0,0,0,0,0,0,0,0,0,0,0,0,0,0,0,0,0,0,0,0,0,0,0,0,0,0,0,0,{"$f":"CR268*$G353","v":0},0,0,0,0,0,0,0,0,0,0,0,0,0,0,0,0,0,0,0,0,0]
[null,null,null,null,null,12.5,0,0,0,0,0,0,0,0,0,0,0,0,0,0,0,0,0,0,0,0,0,0,0,0,0,0,0,0,0,0,0,0,0,0,0,0,0,0,0,0,0,0,0,0,0,0,0,0,0,0,0,0,0,0,0,0,0,0,0,0,0,0,0,0,{"$f":"BS269*$G354","v":0},0,0,0,0,0,0,0,0,0,0,0,0,0,0,0,0,0,0,0,0,0,0,0,0,0,0,0,0,0,0,0,0,0,0,0,0,0,0,0,0,0,0,0,0,0,0]
[null,null,null,null,null,12.5,0,{"$f":"H270*$G355","v":0},0,0,0,0,0,0,0,0,0,0,0,0,0,0,0,0,0,0,0,0,0,0,0,0,0,0,0,0,0,0,0,0,0,0,0,0,0,0,0,0,0,0,0,0,0,0,0,0,0,0,0,0,0,0,0,0,0,0,0,0,0,0,0,0,0,0,0,0,0,0,0,0,0,0,0,0,0,0,0,0,0,0,0,0,0,0,0,0,0,0,0,0,0,0,0,0,0,0,0,0,0,0,0,0,0,0,0,0,0]
[null,null,null,null,null,12.5,0,0,0,0,0,0,0,0,0,0,0,0,0,0,0,0,0,0,0,0,0,0,0,0,0,0,0,0,0,0,0,0,0,0,0,0,0,0,0,0,0,0,0,0,0,0,0,0,0,0,0,0,0,0,0,0,0,0,0,0,0,0,0,0,0,0,0,0,0,0,0,0,0,0,0,0,0,0,0,0,0,0,0,0,0,0,0,0,0,0,0,0,0,0,0,0,0,0,0,0,0,0,0,0,0,0,0,0,0,0,0]
[null,null,null,null,null,12.5,0,0,0,0,0,0,0,0,0,0,0,0,0,0,0,0,0,0,0,0,0,0,0,0,0,0,0,0,0,0,0,0,0,0,0,0,0,0,0,0,0,0,0,0,0,0,0,0,0,0,0,0,0,0,0,0,0,0,0,0,0,0,0,0,0,0,0,0,0,0,0,0,0,0,0,0,0,0,0,0,0,0,0,0,0,0,0,0,0,0,0,0,0,0,0,0,0,0,0,0,0,0,0,0,0,0,0,0,0,0,0]
[null,null,null,null,null,12.5,0,0,0,0,0,0,0,0,0,0,0,0,0,0,0,0,0,0,0,0,0,0,0,0,0,0,0,0,0,0,0,0,0,0,0,0,0,0,0,0,0,0,0,0,0,0,0,0,0,0,0,0,0,0,0,0,0,0,0,0,0,0,0,0,{"$f":"BS273*$G358","v":0},0,0,0,0,0,0,0,0,0,0,0,0,0,0,0,0,0,0,0,0,0,0,0,0,0,0,0,0,0,0,0,0,0,0,0,0,0,0,0,0,0,0,0,0,0,0]
[null,null,null,null,null,12.5,0,{"$f":"H274*$G359","v":0},0,0,0,0,0,0,0,0,0,0,0,0,0,0,0,0,0,0,0,0,0,0,0,0,0,0,0,0,0,0,0,0,0,0,0,0,0,0,0,0,0,0,0,0,0,0,0,0,0,0,0,0,0,0,0,0,0,0,0,0,0,0,0,0,0,0,0,0,0,0,0,0,0,0,0,0,0,0,0,0,0,0,0,0,0,0,0,0,0,0,0,0,0,0,0,0,0,0,0,0,0,0,0,0,0,0,0,0,0]
[null,null,null,null,null,12.5,0,0,0,0,0,0,0,0,0,0,0,0,0,0,0,0,0,0,0,0,0,0,0,0,0,0,0,0,0,0,0,0,0,0,0,0,0,0,0,0,0,0,0,0,0,0,0,0,0,0,0,0,0,0,0,0,0,0,0,0,0,0,0,0,0,0,0,0,0,0,0,0,0,0,0,0,0,0,0,0,0,0,0,0,0,0,0,0,0,0,0,0,0,0,0,0,0,0,0,0,0,0,0,0,0,0,0,0,0,0,0]
[null,null,null,null,null,12.5,0,0,0,0,0,0,0,0,0,0,0,0,0,0,0,0,0,0,0,0,0,0,0,0,0,0,0,0,0,0,0,0,0,0,0,0,0,0,0,0,0,0,0,0,0,0,0,0,0,0,0,0,0,0,0,0,0,0,0,0,0,0,0,0,0,0,0,0,0,0,0,0,0,0,0,0,0,0,0,0,0,0,0,0,0,0,0,0,0,{"$f":"CR276*$G361","v":0},0,0,0,0,0,0,0,0,0,0,0,0,0,0,0,0,0,0,0,0,0]
[null,null,null,null,null,12.5,0,0,0,0,0,0,0,0,0,0,0,0,0,0,0,0,0,0,0,0,0,0,0,0,0,0,0,0,0,0,0,0,0,0,0,0,0,0,0,0,0,0,0,0,0,0,0,0,0,0,0,0,0,0,0,0,0,0,0,0,0,0,0,0,{"$f":"BS277*$G362","v":0},0,0,0,0,0,0,0,0,0,0,0,0,0,0,0,0,0,0,0,0,0,0,0,0,0,0,0,0,0,0,0,0,0,0,0,0,0,0,0,0,0,0,0,0,0,0]
[null,null,null,null,null,12.5,0,{"$f":"H278*$G363","v":0},0,0,0,0,0,0,0,0,0,0,0,0,0,0,0,0,0,0,0,0,0,0,0,0,0,0,0,0,0,0,0,0,0,0,0,0,0,0,0,0,0,0,0,0,0,0,0,0,0,0,0,0,0,0,0,0,0,0,0,0,0,0,0,0,0,0,0,0,0,0,0,0,0,0,0,0,0,0,0,0,0,0,0,0,0,0,0,0,0,0,0,0,0,0,0,0,0,0,0,0,0,0,0,0,0,0,0,0,0]
[null,null,null,null,null,12.5,0,0,0,0,0,0,0,0,0,0,0,0,0,0,0,0,0,0,0,0,0,0,0,0,0,0,0,0,0,0,0,0,0,0,0,0,0,0,0,0,0,0,0,0,0,0,0,0,0,0,0,0,0,0,0,0,0,0,0,0,0,0,0,0,0,0,0,0,0,0,0,0,0,0,0,0,0,0,0,0,0,0,0,0,0,0,0,0,0,0,0,0,0,0,0,0,0,0,0,0,0,0,0,0,0,0,0,0,0,0,0]
[null,null,null,null,null,12.5,0,0,0,0,0,0,0,0,0,0,0,0,0,0,0,0,0,0,0,0,0,0,0,0,0,0,0,0,0,0,0,0,0,0,0,0,0,0,0,0,0,0,0,0,0,0,0,0,0,0,0,0,0,0,0,0,0,0,0,0,0,0,0,0,0,0,0,0,0,0,0,0,0,0,0,0,0,0,0,0,0,0,0,0,0,0,0,0,0,0,0,0,0,0,0,0,0,0,0,0,0,0,0,0,0,0,0,0,0,0,0]
[null,null,null,null,null,12.5,0,0,0,0,0,0,0,0,0,0,0,0,0,0,0,0,0,0,0,0,0,0,0,0,0,0,0,0,0,0,0,0,0,0,0,0,0,0,0,0,0,0,0,0,0,0,0,0,0,0,0,0,0,0,0,0,0,0,0,0,0,0,0,0,{"$f":"BS281*$G366","v":0},0,0,0,0,0,0,0,0,0,0,0,0,0,0,0,0,0,0,0,0,0,0,0,0,0,0,0,0,0,0,0,0,0,0,0,0,0,0,0,0,0,0,0,0,0,0]
[null,null,null,null,null,12.5,0,{"$f":"H282*$G367","v":0},0,0,0,0,0,0,0,0,0,0,0,0,0,0,0,0,0,0,0,0,0,0,0,0,0,0,0,0,0,0,0,0,0,0,0,0,0,0,0,0,0,0,0,0,0,0,0,0,0,0,0,0,0,0,0,0,0,0,0,0,0,0,0,0,0,0,0,0,0,0,0,0,0,0,0,0,0,0,0,0,0,0,0,0,0,0,0,0,0,0,0,0,0,0,0,0,0,0,0,0,0,0,0,0,0,0,0,0,0]
[null,null,null,null,null,12.5,0,0,0,0,0,0,0,0,0,0,0,0,0,0,0,0,0,0,0,0,0,0,0,0,0,0,0,0,0,0,0,0,0,0,0,0,0,0,0,0,0,0,0,0,0,0,0,0,0,0,0,0,0,0,0,0,0,0,0,0,0,0,0,0,0,0,0,0,0,0,0,0,0,0,0,0,0,0,0,0,0,0,0,0,0,0,0,0,0,0,0,0,0,0,0,0,0,0,0,{"$f":"DB283*$G368","v":0},0,0,0,0,0,0,0,0,0,0,0]
[null,null,null,null,null,12.5,0,0,0,0,0,0,0,0,0,0,0,0,0,0,0,0,0,0,0,0,0,0,0,0,0,0,0,0,0,0,0,0,0,0,0,0,0,0,0,0,0,0,0,0,0,0,0,0,0,0,0,0,0,0,0,0,0,0,0,0,0,0,0,0,0,0,0,0,0,0,0,0,0,0,0,0,0,0,0,0,0,0,0,0,0,0,0,0,0,{"$f":"CR284*$G369","v":0},0,0,0,0,0,0,0,0,0,0,0,0,0,0,0,0,0,0,0,0,0]
[null,null,null,null,null,12.5,0,0,0,0,0,0,0,0,0,0,0,0,0,0,0,0,0,0,0,0,0,0,0,0,0,0,0,0,0,0,0,0,0,0,0,0,0,0,0,0,0,0,0,0,0,0,0,0,0,0,0,0,0,0,0,0,0,0,0,0,0,0,0,0,{"$f":"BS285*$G370","v":0},0,0,0,0,0,0,0,0,0,0,0,0,0,0,0,0,0,0,0,0,0,0,0,0,0,0,0,0,0,0,0,0,0,0,0,0,0,0,0,0,0,0,0,0,0,0]
[null,null,null,null,null,12.5,0,{"$f":"H286*$G371","v":0},0,0,0,0,0,0,0,0,0,0,0,0,0,0,0,0,0,0,0,0,0,0,0,0,0,0,0,0,0,0,0,0,0,0,0,0,0,0,0,0,0,0,0,0,0,0,0,0,0,0,0,0,0,0,0,0,0,0,0,0,0,0,0,0,0,0,0,0,0,0,0,0,0,0,0,0,0,0,0,0,0,0,0,0,0,0,0,0,0,0,0,0,0,0,0,0,0,0,0,0,0,0,0,0,0,0,0,0,0]
[null,null,null,null,null,12.5,0,0,0,0,0,0,0,0,0,0,0,0,0,0,0,0,0,0,0,0,0,0,0,0,0,0,0,0,0,0,0,0,0,0,0,0,0,0,0,0,0,0,0,0,0,0,0,0,0,0,0,0,0,0,0,0,0,0,0,0,0,0,0,0,0,0,0,0,0,0,0,0,0,0,0,0,0,0,0,0,0,0,0,0,0,0,0,0,0,0,0,0,0,0,0,0,0,0,0,0,0,0,0,0,0,0,0,0,0,0,0]
[null,null,null,null,null,12.5,0,0,0,0,0,0,0,0,0,0,0,0,0,0,0,0,0,0,0,0,0,0,0,0,0,0,0,0,0,0,0,0,0,0,0,0,0,0,0,0,0,0,0,0,0,0,0,0,0,0,0,0,0,0,0,0,0,0,0,0,0,0,0,0,0,0,0,0,0,0,0,0,0,0,0,0,0,0,0,0,0,0,0,0,0,0,0,0,0,0,0,0,0,0,0,0,0,0,0,0,0,0,0,0,0,0,0,0,0,0,0]
[null,null,null,null,null,12.5,0,0,0,0,0,0,0,0,0,0,0,0,0,0,0,0,0,0,0,0,0,0,0,0,0,0,0,0,0,0,0,0,0,0,0,0,0,0,0,0,0,0,0,0,0,0,0,0,0,0,0,0,0,0,0,0,0,0,0,0,0,0,0,0,{"$f":"BS289*$G374","v":0},0,0,0,0,0,0,0,0,0,0,0,0,0,0,0,0,0,0,0,0,0,0,0,0,0,0,0,0,0,0,0,0,0,0,0,0,0,0,0,0,0,0,0,0,0,0]
[null,null,null,null,null,12.5,0,{"$f":"H290*$G375","v":0},0,0,0,0,0,0,0,0,0,0,0,0,0,0,0,0,0,0,0,0,0,0,0,0,0,0,0,0,0,0,0,0,0,0,0,0,0,0,0,0,0,0,0,0,0,0,0,0,0,0,0,0,0,0,0,0,0,0,0,0,0,0,0,0,0,0,0,0,0,0,0,0,0,0,0,0,0,0,0,0,0,0,0,0,0,0,0,0,0,0,0,0,0,0,0,0,0,0,0,0,0,0,0,0,0,0,0,0,0]
[null,null,null,null,null,12.5,0,0,0,0,0,0,0,0,0,0,0,0,0,0,0,0,0,0,0,0,0,0,0,0,0,0,0,0,0,0,0,0,0,0,0,0,0,0,0,0,0,0,0,0,0,0,0,0,0,0,0,0,0,0,0,0,0,0,0,0,0,0,0,0,0,0,0,0,0,0,0,0,0,0,0,0,0,0,0,0,0,0,0,0,0,0,0,0,0,0,0,0,0,0,0,0,0,0,0,0,0,0,0,0,0,0,0,0,0,0,0]
[null,null,null,null,null,12.5,0,0,0,0,0,0,0,0,0,0,0,0,0,0,0,0,0,0,0,0,0,0,0,0,0,0,0,0,0,0,0,0,0,0,0,0,0,0,0,0,0,0,0,0,0,0,0,0,0,0,0,0,0,0,0,0,0,0,0,0,0,0,0,0,0,0,0,0,0,0,0,0,0,0,0,0,0,0,0,0,0,0,0,0,0,0,0,0,0,{"$f":"CR292*$G377","v":0},0,0,0,0,0,0,0,0,0,0,0,0,0,0,0,0,0,0,0,0,0]
[null,null,null,null,null,12.5,0,0,0,0,0,0,0,0,0,0,0,0,0,0,0,0,0,0,0,0,0,0,0,0,0,0,0,0,0,0,0,0,0,0,0,0,0,0,0,0,0,0,0,0,0,0,0,0,0,0,0,0,0,0,0,0,0,0,0,0,0,0,0,0,{"$f":"BS293*$G378","v":0},0,0,0,0,0,0,0,0,0,0,0,0,0,0,0,0,0,0,0,0,0,0,0,0,0,0,0,0,0,0,0,0,0,0,0,0,0,0,0,0,0,0,0,0,0,0]
[null,null,null,null,null,12.5,0,{"$f":"H294*$G379","v":0},0,0,0,0,0,0,0,0,0,0,0,0,0,0,0,0,0,0,0,0,0,0,0,0,0,0,0,0,0,0,0,0,0,0,0,0,0,0,0,0,0,0,0,0,0,0,0,0,0,0,0,0,0,0,0,0,0,0,0,0,0,0,0,0,0,0,0,0,0,0,0,0,0,0,0,0,0,0,0,0,0,0,0,0,0,0,0,0,0,0,0,0,0,0,0,0,0,0,0,0,0,0,0,0,0,0,0,0,0]
[null,null,null,null,null,12.5,0,0,0,0,0,0,0,0,0,0,0,0,0,0,0,0,0,0,0,0,0,0,0,0,0,0,0,0,0,0,0,0,0,0,0,0,0,0,0,0,0,0,0,0,0,0,0,0,0,0,0,0,0,0,0,0,0,0,0,0,0,0,0,0,0,0,0,0,0,0,0,0,0,0,0,0,0,0,0,0,0,0,0,0,0,0,0,0,0,0,0,0,0,0,0,0,0,0,0,0,0,0,0,0,0,0,0,0,0,0,0]
[null,null,null,null,null,12.5,0,0,0,0,0,0,0,0,0,0,0,0,0,0,0,0,0,0,0,0,0,0,0,0,0,0,0,0,0,0,0,0,0,0,0,0,0,0,0,0,0,0,0,0,0,0,0,0,0,0,0,0,0,0,0,0,0,0,0,0,0,0,0,0,0,0,0,0,0,0,0,0,0,0,0,0,0,0,0,0,0,0,0,0,0,0,0,0,0,0,0,0,0,0,0,0,0,0,0,0,0,0,0,0,0,0,0,0,0,0,0]
[null,null,null,null,null,12.5,0,0,0,0,0,0,0,0,0,0,0,0,0,0,0,0,0,0,0,0,0,0,0,0,0,0,0,0,0,0,0,0,0,0,0,0,0,0,0,0,0,0,0,0,0,0,0,0,0,0,0,0,0,0,0,0,0,0,0,0,0,0,0,0,{"$f":"BS297*$G382","v":0},0,0,0,0,0,0,0,0,0,0,0,0,0,0,0,0,0,0,0,0,0,0,0,0,0,0,0,0,0,0,0,0,0,0,0,0,0,0,0,0,0,0,0,0,0,0]
[null,null,null,null,null,12.5,0,{"$f":"H298*$G383","v":0},0,0,0,0,0,0,0,0,0,0,0,0,0,0,0,0,0,0,0,0,0,0,0,0,0,0,0,0,0,0,0,0,0,0,0,0,0,0,0,0,0,0,0,0,0,0,0,0,0,0,0,0,0,0,0,0,0,0,0,0,0,0,0,0,0,0,0,0,0,0,0,0,0,0,0,0,0,0,0,0,0,0,0,0,0,0,0,0,0,0,0,0,0,0,0,0,0,0,0,0,0,0,0,0,0,0,0,0,0]
[null,null,null,null,null,12.5,0,0,0,0,0,0,0,0,0,0,0,0,0,0,0,0,0,0,0,0,0,0,0,0,0,0,0,0,0,0,0,0,0,0,0,0,0,0,0,0,0,0,0,0,0,0,0,0,0,0,0,0,0,0,0,0,0,0,0,0,0,0,0,0,0,0,0,0,0,0,0,0,0,0,0,0,0,0,0,0,0,0,0,0,0,0,0,0,0,0,0,0,0,0,0,0,0,0,0,{"$f":"DB299*$G384","v":0},0,0,0,0,0,0,0,0,0,0,0]
[null,null,null,null,null,12.5,0,0,0,0,0,0,0,0,0,0,0,0,0,0,0,0,0,0,0,0,0,0,0,0,0,0,0,0,0,0,0,0,0,0,0,0,0,0,0,0,0,0,0,0,0,0,0,0,0,0,0,0,0,0,0,0,0,0,0,0,0,0,0,0,0,0,0,0,0,0,0,0,0,0,0,0,0,0,0,0,0,0,0,0,0,0,0,0,0,{"$f":"CR300*$G385","v":0},0,0,0,0,0,0,0,0,0,0,0,0,0,0,0,0,0,0,0,0,0]
[null,null,null,null,null,12.5,0,0,0,0,0,0,0,0,0,0,0,0,0,0,0,0,0,0,0,0,0,0,0,0,0,0,0,0,0,0,0,0,0,0,0,0,0,0,0,0,0,0,0,0,0,0,0,0,0,0,0,0,0,0,0,0,0,0,0,0,0,0,0,0,{"$f":"BS301*$G386","v":0},0,0,0,0,0,0,0,0,0,0,0,0,0,0,0,0,0,0,0,0,0,0,0,0,0,0,0,0,0,0,0,0,0,0,0,0,0,0,0,0,0,0,0,0,0,0]
[null,null,null,null,null,12.5,0,{"$f":"H302*$G387","v":0},0,0,0,0,0,0,0,0,0,0,0,0,0,0,0,0,0,0,0,0,0,0,0,0,0,0,0,0,0,0,0,0,0,0,0,0,0,0,0,0,0,0,0,0,0,0,0,0,0,0,0,0,0,0,0,0,0,0,0,0,0,0,0,0,0,0,0,0,0,0,0,0,0,0,0,0,0,0,0,0,0,0,0,0,0,0,0,0,0,0,0,0,0,0,0,0,0,0,0,0,0,0,0,0,0,0,0,0,0]
[null,null,null,null,null,12.5,0,0,0,0,0,0,0,0,0,0,0,0,0,0,0,0,0,0,0,0,0,0,0,0,0,0,0,0,0,0,0,0,0,0,0,0,0,0,0,0,0,0,0,0,0,0,0,0,0,0,0,0,0,0,0,0,0,0,0,0,0,0,0,0,0,0,0,0,0,0,0,0,0,0,0,0,0,0,0,0,0,0,0,0,0,0,0,0,0,0,0,0,0,0,0,0,0,0,0,0,0,0,0,0,0,0,0,0,0,0,0]
[null,null,null,null,null,12.5,0,0,0,0,0,0,0,0,0,0,0,0,0,0,0,0,0,0,0,0,0,0,0,0,0,0,0,0,0,0,0,0,0,0,0,0,0,0,0,0,0,0,0,0,0,0,0,0,0,0,0,0,0,0,0,0,0,0,0,0,0,0,0,0,0,0,0,0,0,0,0,0,0,0,0,0,0,0,0,0,0,0,0,0,0,0,0,0,0,0,0,0,0,0,0,0,0,0,0,0,0,0,0,0,0,0,0,0,0,0,0]
[null,null,null,null,null,12.5,0,0,0,0,0,0,0,0,0,0,0,0,0,0,0,0,0,0,0,0,0,0,0,0,0,0,0,0,0,0,0,0,0,0,0,0,0,0,0,0,0,0,0,0,0,0,0,0,0,0,0,0,0,0,0,0,0,0,0,0,0,0,0,0,{"$f":"BS305*$G390","v":0},0,0,0,0,0,0,0,0,0,0,0,0,0,0,0,0,0,0,0,0,0,0,0,0,0,0,0,0,0,0,0,0,0,0,0,0,0,0,0,0,0,0,0,0,0,0]
[null,null,null,null,null,12.5,0,{"$f":"H306*$G391","v":0},0,0,0,0,0,0,0,0,0,0,0,0,0,0,0,0,0,0,0,0,0,0,0,0,0,0,0,0,0,0,0,0,0,0,0,0,0,0,0,0,0,0,0,0,0,0,0,0,0,0,0,0,0,0,0,0,0,0,0,0,0,0,0,0,0,0,0,0,0,0,0,0,0,0,0,0,0,0,0,0,0,0,0,0,0,0,0,0,0,0,0,0,0,0,0,0,0,0,0,0,0,0,0,0,0,0,0,0,0]
[null,null,null,null,null,12.5,0,0,0,0,0,0,0,0,0,0,0,0,0,0,0,0,0,0,0,0,0,0,0,0,0,0,0,0,0,0,0,0,0,0,0,0,0,0,0,0,0,0,0,0,0,0,0,0,0,0,0,0,0,0,0,0,0,0,0,0,0,0,0,0,0,0,0,0,0,0,0,0,0,0,0,0,0,0,0,0,0,0,0,0,0,0,0,0,0,0,0,0,0,0,0,0,0,0,0,0,0,0,0,0,0,0,0,0,0,0,0]
[null,null,null,null,null,12.5,0,0,0,0,0,0,0,0,0,0,0,0,0,0,0,0,0,0,0,0,0,0,0,0,0,0,0,0,0,0,0,0,0,0,0,0,0,0,0,0,0,0,0,0,0,0,0,0,0,0,0,0,0,0,0,0,0,0,0,0,0,0,0,0,0,0,0,0,0,0,0,0,0,0,0,0,0,0,0,0,0,0,0,0,0,0,0,0,0,{"$f":"CR308*$G393","v":0},0,0,0,0,0,0,0,0,0,0,0,0,0,0,0,0,0,0,0,0,0]
[null,null,null,null,null,12.5,0,0,0,0,0,0,0,0,0,0,0,0,0,0,0,0,0,0,0,0,0,0,0,0,0,0,0,0,0,0,0,0,0,0,0,0,0,0,0,0,0,0,0,0,0,0,0,0,0,0,0,0,0,0,0,0,0,0,0,0,0,0,0,0,{"$f":"BS309*$G394","v":0},0,0,0,0,0,0,0,0,0,0,0,0,0,0,0,0,0,0,0,0,0,0,0,0,0,0,0,0,0,0,0,0,0,0,0,0,0,0,0,0,0,0,0,0,0,0]
[null,null,null,null,null,{"$f":"E$331-G68","v":12.5},0,{"$f":"H310*$G395","v":0},0,0,0,0,0,0,0,0,0,0,0,0,0,0,0,0,0,0,0,0,0,0,0,0,0,0,0,0,0,0,0,0,0,0,0,0,0,0,0,0,0,0,0,0,0,0,0,0,0,0,0,0,0,0,0,0,0,0,0,0,0,0,0,0,0,0,0,0,0,0,0,0,0,0,0,0,0,0,0,0,0,0,0,0,0,0,0,0,0,0,0,0,0,0,0,0,0,0,0,0,0,0,0,0,0,0,0,0,0]
[null,null,null,null,null,12.5,{"$f":"IF(E$331=F396,0,F396)","v":0},0,0,0,0,0,0,0,0,0,0,0,0,0,0,0,0,0,0,0,0,0,0,0,0,0,0,0,0,0,0,0,0,0,0,0,0,0,0,0,0,0,0,0,0,0,0,0,0,0,0,0,0,0,0,0,0,0,0,0,0,0,0,0,0,0,0,0,0,0,0,0,0,0,0,0,0,0,0,0,0,0,0,0,0,0,0,0,0,0,0,0,0,0,0,0,0,0,0,0,0,0,0,0,0,0,0,0,0,0,0]
[null,null,null,null,null,12.5,0,0,0,0,0,0,0,0,0,0,0,0,0,0,0,0,0,0,0,0,0,0,0,0,0,0,0,0,0,0,0,0,0,0,0,0,0,0,0,0,0,0,0,0,0,0,0,0,0,0,0,0,0,0,0,0,0,0,0,0,0,0,0,0,0,0,0,0,0,0,0,0,0,0,0,0,0,0,0,0,0,0,0,0,0,0,0,0,0,0,0,0,0,0,0,0,0,0,0,0,0,0,0,0,0,0,0,0,0,0,0]
[null,null,null,null,null,12.5,0,0,0,0,0,0,0,0,0,0,0,0,0,0,0,0,0,0,0,0,0,0,0,0,0,0,0,0,0,0,0,0,0,0,0,0,0,0,0,0,0,0,0,0,0,0,0,0,0,0,0,0,0,0,0,0,0,0,0,0,0,0,0,0,{"$f":"BS313*$G398","v":0},0,0,0,0,0,0,0,0,0,0,0,0,0,0,0,0,0,0,0,0,0,0,0,0,0,0,0,0,0,0,0,0,0,0,0,0,0,0,0,0,0,0,0,0,0,0]
[null,null,null,null,null,12.5,0,{"$f":"H314*$G399","v":0},0,0,0,0,0,0,0,0,0,0,0,0,0,0,0,0,0,0,0,0,0,0,0,0,0,0,0,0,0,0,0,0,0,0,0,0,0,0,0,0,0,0,0,0,0,0,0,0,0,0,0,0,0,0,0,0,0,0,0,0,0,0,0,0,0,0,0,0,0,0,0,0,0,0,0,0,0,0,0,0,0,0,0,0,0,0,0,0,0,0,0,0,0,0,0,0,0,0,0,0,0,0,0,0,0,0,0,0,0]
[null,null,null,null,null,12.5,0,0,0,0,0,0,0,0,0,0,0,0,0,0,0,0,0,0,0,0,0,0,0,0,0,0,0,0,0,0,0,0,0,0,0,0,0,0,0,0,0,0,0,0,0,0,0,0,0,0,0,0,0,0,0,0,0,0,0,0,0,0,0,0,0,0,0,0,0,0,0,0,0,0,0,0,0,0,0,0,0,0,0,0,0,0,0,0,0,0,0,0,0,0,0,0,0,0,0,{"$f":"DB315*$G400","v":0},0,0,0,0,0,0,0,0,0,0,0]
[null,null,null,null,null,12.5,0,0,0,0,0,0,0,0,0,0,0,0,0,0,0,0,0,0,0,0,0,0,0,0,0,0,0,0,0,0,0,0,0,0,0,0,0,0,0,0,0,0,0,0,0,0,0,0,0,0,0,0,0,0,0,0,0,0,0,0,0,0,0,0,0,0,0,0,0,0,0,0,0,0,0,0,0,0,0,0,0,0,0,0,0,0,0,0,0,{"$f":"CR316*$G401","v":0},0,0,0,0,0,0,0,0,0,0,0,0,0,0,0,0,0,0,0,0,0]
[null,null,null,null,null,12.5,0,0,0,0,0,0,0,0,0,0,0,0,0,0,0,0,0,0,0,0,0,0,0,0,0,0,0,0,0,0,0,0,0,0,0,0,0,0,0,0,0,0,0,0,0,0,0,0,0,0,0,0,0,0,0,0,0,0,0,0,0,0,0,0,{"$f":"BS317*$G402","v":0},0,0,0,0,0,0,0,0,0,0,0,0,0,0,0,0,0,0,0,0,0,0,0,0,0,0,0,0,0,0,0,0,0,0,0,0,0,0,0,0,0,0,0,0,0,0]
[null,null,null,null,null,12.5,0,{"$f":"H318*$G403","v":0},0,0,0,0,0,0,0,0,0,0,0,0,0,0,0,0,0,0,0,0,0,0,0,0,0,0,0,0,0,0,0,0,0,0,0,0,0,0,0,0,0,0,0,0,0,0,0,0,0,0,0,0,0,0,0,0,0,0,0,0,0,0,0,0,0,0,0,0,0,0,0,0,0,0,0,0,0,0,0,0,0,0,0,0,0,0,0,0,0,0,0,0,0,0,0,0,0,0,0,0,0,0,0,0,0,0,0,0,0]
[null,null,null,null,null,12.5,0,0,0,0,0,0,0,0,0,0,0,0,0,0,0,0,0,0,0,0,0,0,0,0,0,0,0,0,0,0,0,0,0,0,0,0,0,0,0,0,0,0,0,0,0,0,0,0,0,0,0,0,0,0,0,0,0,0,0,0,0,0,0,0,0,0,0,0,0,0,0,0,0,0,0,0,0,0,0,0,0,0,0,0,0,0,0,0,0,0,0,0,0,0,0,0,0,0,0,0,0,0,0,0,0,0,0,0,0,0,0]
[null,null,null,null,null,12.5,0,0,0,0,0,0,0,0,0,0,0,0,0,0,0,0,0,0,0,0,0,0,0,0,0,0,0,0,0,0,0,0,0,0,0,0,0,0,0,0,0,0,0,0,0,0,0,0,0,0,0,0,0,0,0,0,0,0,0,0,0,0,0,0,0,0,0,0,0,0,0,0,0,0,0,0,0,0,0,0,0,0,0,0,0,0,0,0,0,0,0,0,0,0,0,0,0,0,0,0,0,0,0,0,0,0,0,0,0,0,0]
[null,null,null,null,null,12.5,0,0,0,0,0,0,0,0,0,0,0,0,0,0,0,0,0,0,0,0,0,0,0,0,0,0,0,0,0,0,0,0,0,0,0,0,0,0,0,0,0,0,0,0,0,0,0,0,0,0,0,0,0,0,0,0,0,0,0,0,0,0,0,0,{"$f":"BS321*$G406","v":0},0,0,0,0,0,0,0,0,0,0,0,0,0,0,0,0,0,0,0,0,0,0,0,0,0,0,0,0,0,0,0,0,0,0,0,0,0,0,0,0,0,0,0,0,0,0]
[null,null,null,null,null,12.5,0,{"$f":"H322*$G407","v":0},0,0,0,0,0,0,0,0,0,0,0,0,0,0,0,0,0,0,0,0,0,0,0,0,0,0,0,0,0,0,0,0,0,0,0,0,0,0,0,0,0,0,0,0,0,0,0,0,0,0,0,0,0,0,0,0,0,0,0,0,0,0,0,0,0,0,0,0,0,0,0,0,0,0,0,0,0,0,0,0,0,0,0,0,0,0,0,0,0,0,0,0,0,0,0,0,0,0,0,0,0,0,0,0,0,0,0,0,0]
[null,null,null,null,null,12.5,0,0,0,0,0,0,0,0,0,0,0,0,0,0,0,0,0,0,0,0,0,0,0,0,0,0,0,0,0,0,0,0,0,0,0,0,0,0,0,0,0,0,0,0,0,0,0,0,0,0,0,0,0,0,0,0,0,0,0,0,0,0,0,0,0,0,0,0,0,0,0,0,0,0,0,0,0,0,0,0,0,0,0,0,0,0,0,0,0,0,0,0,0,0,0,0,0,0,0,0,0,0,0,0,0,0,0,0,0,0,0]
[]
[null,null,null,null,null,null,"C",{"$f":"H324*($E331-0.85*H1/2)","v":139329.51551020832},{"$f":"I324*($E331-0.85*I1/2)","v":202458.74776020832},260429.3300102083,313241.26226020837,360894.5445102083,403389.17676020833,440725.15901020833,472902.49126020836,499921.17351020832,521781.20576020837,538482.58801020833,550025.32026020833,556409.40251020831,557634.83476020838,553701.61701020831,544609.74926020834,530359.23151020834,510950.06376020832,486382.24601020844,456655.77826020838,421770.66051020828,381726.8927602084,336524.47501020832,286163.40726020845,0,0,0,0,0,0,0,0,0,0,0,0,0,0,0,0,0,0,0,0,0,0,0,0,0,0,0,0,0,0,0,0,0,0,0,0,0,0,0,0,0,{"$f":"BU324*($E331-0.85*BU1/2)","v":0},0,0,0,0,0,0,0,0,0,0,0,0,0,0,0,0,0,0,0,0,0,0,0,0,0,0,0,0,0,0,0,0,0,0,0,0,0,0,0,0,0,0,0,0]
[null,null,null,null,null,null,"Mn",{"$f":"SUM(H331:H410)","v":139329.51551020826},{"$f":"SUM(I331:I410)","v":202458.74776020827},{"$f":"SUM(J331:J410)","v":332149.45796416001},486298.42158556264,601330.50073455984,691865.36105342163,765183.78561979765,825319.22813271708,874686.63554021856,914820.25692143198,911370.46619872737,894159.47438843804,875906.81967662706,855787.36268268421,833182.65795288188,807620.04817699012,778732.09611198516,746228.84886448353,708429.69277438137,663272.68663612008,614361.82877309702,561513.63200038881,504575.2307340604,443418.24890365731,0,0,0,0,0,0,0,0,0,0,0,0,0,0,0,0,0,0,0,0,0,0,0,0,0,0,0,0,0,0,{"$f":"SUM(BJ331:BJ410)","v":0},{"$f":"SUM(BK331:BK410)","v":0},0,0,0,0,0,0,0,0,0,0,0,0,0,0,0,0,0,0,0,0,0,0,0,0,0,0,0,0,0,0,0,0,0,0,0,0,0,0,0,0,0,0,0,0,0,0,0,0,0,0,0,0,0,0]
[null,null,null,null,null,null,null,{"$f":"H411","v":139329.51551020826},{"$f":"IF(I411=0,H412,I411)","v":202458.74776020827},{"$f":"IF(J411=0,I412,J411)","v":332149.45796416001},{"$f":"IF(K411=0,J412,K411)","v":486298.42158556264},601330.50073455984,691865.36105342163,765183.78561979765,825319.22813271708,874686.63554021856,914820.25692143198,911370.46619872737,894159.47438843804,875906.81967662706,855787.36268268421,833182.65795288188,807620.04817699012,778732.09611198516,746228.84886448353,708429.69277438137,663272.68663612008,614361.82877309702,561513.63200038881,504575.2307340604,443418.24890365731,{"$f":"IF(AF411=0,AE412,AF411)","v":443418.24890365731},{"$f":"IF(AG411=0,AF412,AG411)","v":443418.24890365731},443418.24890365731,443418.24890365731,443418.24890365731,443418.24890365731,443418.24890365731,443418.24890365731,443418.24890365731,443418.24890365731,443418.24890365731,443418.24890365731,443418.24890365731,443418.24890365731,443418.24890365731,443418.24890365731,443418.24890365731,443418.24890365731,443418.24890365731,443418.24890365731,443418.24890365731,443418.24890365731,443418.24890365731,443418.24890365731,443418.24890365731,443418.24890365731,443418.24890365731,443418.24890365731,443418.24890365731,443418.24890365731,443418.24890365731,443418.24890365731,443418.24890365731,443418.24890365731,443418.24890365731,443418.24890365731,443418.24890365731,443418.24890365731,443418.24890365731,443418.24890365731,443418.24890365731,443418.24890365731,443418.24890365731,443418.24890365731,443418.24890365731,443418.24890365731,443418.24890365731,443418.24890365731,443418.24890365731,443418.24890365731,443418.24890365731,443418.24890365731,443418.24890365731,443418.24890365731,443418.24890365731,443418.24890365731,443418.24890365731,443418.24890365731,443418.24890365731,443418.24890365731,443418.24890365731,443418.24890365731,443418.24890365731,443418.24890365731,443418.24890365731,{"$f":"IF(CS411=0,CR412,CS411)","v":443418.24890365731},443418.24890365731,443418.24890365731,443418.24890365731,443418.24890365731,443418.24890365731,443418.24890365731,443418.24890365731,443418.24890365731,443418.24890365731,443418.24890365731,443418.24890365731,443418.24890365731,443418.24890365731,443418.24890365731,443418.24890365731,443418.24890365731,443418.24890365731,443418.24890365731,443418.24890365731,443418.24890365731]
[null,null,null,null,null,null,null,{"$f":"H412/100000","v":1.3932951551020827},{"$f":"I412/100000","v":2.0245874776020827},3.3214945796416,4.8629842158556267,6.0133050073455987,6.918653610534216,7.6518378561979761,8.2531922813271716,8.7468663554021848,9.1482025692143196,9.1137046619872741,8.9415947438843801,8.75906819676627,8.5578736268268418,8.3318265795288191,8.0762004817699005,7.7873209611198515,7.4622884886448357,7.0842969277438135,6.6327268663612005,6.1436182877309706,5.615136320003888,5.0457523073406039,4.4341824890365729,4.4341824890365729,4.4341824890365729,4.4341824890365729,4.4341824890365729,4.4341824890365729,4.4341824890365729,4.4341824890365729,4.4341824890365729,4.4341824890365729,4.4341824890365729,4.4341824890365729,4.4341824890365729,4.4341824890365729,4.4341824890365729,4.4341824890365729,4.4341824890365729,4.4341824890365729,4.4341824890365729,4.4341824890365729,4.4341824890365729,4.4341824890365729,4.4341824890365729,4.4341824890365729,4.4341824890365729,4.4341824890365729,4.4341824890365729,4.4341824890365729,4.4341824890365729,4.4341824890365729,4.4341824890365729,4.4341824890365729,4.4341824890365729,4.4341824890365729,4.4341824890365729,4.4341824890365729,4.4341824890365729,4.4341824890365729,4.4341824890365729,4.4341824890365729,4.4341824890365729,4.4341824890365729,{"$f":"BU412/100000","v":4.4341824890365729},4.4341824890365729,4.4341824890365729,4.4341824890365729,4.4341824890365729,4.4341824890365729,4.4341824890365729,4.4341824890365729,4.4341824890365729,4.4341824890365729,4.4341824890365729,4.4341824890365729,4.4341824890365729,4.4341824890365729,4.4341824890365729,4.4341824890365729,4.4341824890365729,4.4341824890365729,4.4341824890365729,4.4341824890365729,4.4341824890365729,4.4341824890365729,4.4341824890365729,4.4341824890365729,4.4341824890365729,4.4341824890365729,4.4341824890365729,4.4341824890365729,4.4341824890365729,4.4341824890365729,4.4341824890365729,4.4341824890365729,4.4341824890365729,4.4341824890365729,4.4341824890365729,4.4341824890365729,4.4341824890365729,4.4341824890365729,4.4341824890365729,4.4341824890365729,4.4341824890365729,4.4341824890365729,4.4341824890365729,4.4341824890365729,4.4341824890365729,0]
[null,null,null,null,null,null,null,{"$f":"H413*0.7","v":0.97530660857145779},1.4172112343214578,2.3250462057491199,3.4040889510989385,4.2093135051419184,4.8430575273739507,5.3562864993385828,5.77723459692902,6.122806448781529,6.4037417984500236,6.3795932633910919,6.2591163207190661,6.1313477377363883,5.9905115387787893,5.8322786056701732,5.6533403372389301,5.4511246727838953,5.2236019420513848,4.9590078494206695,4.6429088064528399,4.3005328014116788,3.9305954240027212,3.5320266151384225,3.1039277423256006,3.1039277423256006,3.1039277423256006,3.1039277423256006,3.1039277423256006,3.1039277423256006,3.1039277423256006,3.1039277423256006,3.1039277423256006,3.1039277423256006,3.1039277423256006,3.1039277423256006,3.1039277423256006,3.1039277423256006,3.1039277423256006,3.1039277423256006,3.1039277423256006,3.1039277423256006,3.1039277423256006,3.1039277423256006,3.1039277423256006,3.1039277423256006,3.1039277423256006,3.1039277423256006,3.1039277423256006,3.1039277423256006,3.1039277423256006,3.1039277423256006,3.1039277423256006,3.1039277423256006,3.1039277423256006,3.1039277423256006,3.1039277423256006,3.1039277423256006,3.1039277423256006,3.1039277423256006,3.1039277423256006,3.1039277423256006,3.1039277423256006,3.1039277423256006,3.1039277423256006,{"$f":"BT413*0.7","v":3.1039277423256006},3.1039277423256006,3.1039277423256006,3.1039277423256006,3.1039277423256006,3.1039277423256006,3.1039277423256006,3.1039277423256006,3.1039277423256006,3.1039277423256006,3.1039277423256006,3.1039277423256006,3.1039277423256006,3.1039277423256006,3.1039277423256006,3.1039277423256006,3.1039277423256006,3.1039277423256006,3.1039277423256006,3.1039277423256006,3.1039277423256006,3.1039277423256006,3.1039277423256006,3.1039277423256006,3.1039277423256006,3.1039277423256006,3.1039277423256006,3.1039277423256006,3.1039277423256006,3.1039277423256006,3.1039277423256006,3.1039277423256006,3.1039277423256006,3.1039277423256006,3.1039277423256006,3.1039277423256006,3.1039277423256006,3.1039277423256006,3.1039277423256006,3.1039277423256006,3.1039277423256006,3.1039277423256006,3.1039277423256006,3.1039277423256006,3.1039277423256006,3.1039277423256006,{"$f":"DN413*0.7","v":0}]
[null,null,null,null,null,null,null,{"$f":"H329","v":-41.915979113449211},{"$f":"I329","v":-37.667679113449203},-25.806931870421725,-10.802616410227373,0.59733754417718954,9.9446761564900363,18.012189139274451,25.227991365816301,31.848407758576133,38.036285073488855,47.654369279181125,57.687258898733035,66.891905165049991,75.434307191351309,83.438882014692439,91.00071744229551,98.193733417795443,105.07626181130787,111.54117853120189,117.42729155194226,123.16429785658461,128.77167296134516,134.26564217460214,139.65983146289361,139.65983146289361,139.65983146289361,139.65983146289361,139.65983146289361,139.65983146289361,139.65983146289361,139.65983146289361,139.65983146289361,139.65983146289361,139.65983146289361,139.65983146289361,139.65983146289361,139.65983146289361,139.65983146289361,139.65983146289361,139.65983146289361,139.65983146289361,139.65983146289361,139.65983146289361,139.65983146289361,139.65983146289361,139.65983146289361,139.65983146289361,139.65983146289361,139.65983146289361,139.65983146289361,139.65983146289361,139.65983146289361,139.65983146289361,139.65983146289361,139.65983146289361,139.65983146289361,139.65983146289361,139.65983146289361,139.65983146289361,139.65983146289361,139.65983146289361,139.65983146289361,139.65983146289361,139.65983146289361,139.65983146289361,{"$f":"BU329","v":139.65983146289361},139.65983146289361,139.65983146289361,139.65983146289361,139.65983146289361,139.65983146289361,139.65983146289361,139.65983146289361,139.65983146289361,139.65983146289361,139.65983146289361,139.65983146289361,139.65983146289361,139.65983146289361,139.65983146289361,139.65983146289361,139.65983146289361,139.65983146289361,139.65983146289361,139.65983146289361,139.65983146289361,139.65983146289361,139.65983146289361,139.65983146289361,139.65983146289361,139.65983146289361,139.65983146289361,139.65983146289361,139.65983146289361,139.65983146289361,139.65983146289361,139.65983146289361,139.65983146289361,139.65983146289361,139.65983146289361,139.65983146289361,139.65983146289361,139.65983146289361,139.65983146289361,139.65983146289361,139.65983146289361,139.65983146289361,139.65983146289361,139.65983146289361,139.65983146289361,175.2280496134492]